{"text_format":"1","workbook":"xlsx","n_sheets":15,"sheets":["Úvod","Start","Kontakt","Pozn.","Št.dvojic","Št.4x60m","PÚ","Št.400mCTIF","PÚ CTIF","Výsledky","POM","Beh60mS","Beh60mV","Beh60mP","TISK"],"not_rendered":{"charts":0,"images":1,"macros":1,"external_links":0,"defined_names":17,"comments":8,"pivot_tables":0},"unopened":[],"bounds":{"document_bytes":16777216,"sheet_cells":100000,"rows_first":2000,"rows_last":500,"rows_between":2000,"halvings":0,"cell_chars":16384,"cell_head_chars":4096},"cells_cut":0,"cells_raw":0,"read":"whole","date_system":"1900"}

{"sheet":"Úvod","index":0,"n_rows":28,"n_cols":4,"rows_kept":28,"cut":false,"hidden":false,"merged":[[0,1,0,9],[1,1,1,9]]}
["  ","Program pro zpracování výsledků "]
[null,"hry PLAMEN (Mladší / Starší MH)"]
[]
[]
[]
[]
[]
[]
[]
[]
[]
[]
[]
[]
[]
[]
[]
[]
[]
[]
[]
[]
[]
[]
[]
[null,"Autor programu:",null,"Ing. Milan Hoffmann"]
[null,"Oprávněný uživatel:",null,"SH ČMS"]
[null,"Verze programu:",null,"2023-02 (03.05.2023)"]

{"sheet":"Start","index":1,"n_rows":30,"n_cols":16,"rows_kept":30,"cut":false,"hidden":false,"merged":[[0,2,0,14],[1,1,1,7],[1,9,1,11],[1,13,1,15],[2,1,2,3],[2,5,2,7],[2,9,2,11],[2,13,2,15]]}
[null,null,"Startovní listina"]
[null,"Požární útoky ",null,null,null,null,null,null,null,"kategorie:",null,null,null,"starší"]
[null,"datum:",null,null,null,"18.05.2025",null,null,null,"místo:",null,null,null,"Kamenný Újezd"]
[]
[null,"st.č.","SDH","okr",null,"st.č.","SDH",{"$f":"D5","v":"okr"},null,"st.č.","SDH",{"$f":"D5","v":"okr"},null,"st.č.","SDH",{"$f":"D5","v":"okr"}]
[null,1,"Zbiroh",null,null,26,null,null,null,51,null,null,null,76]
[null,2,"Holoubkov",null,null,27,null,null,null,52,null,null,null,77]
[null,3,"Raková",null,null,28,null,null,null,53,null,null,null,78]
[null,4,"Osek",null,null,29,null,null,null,54,null,null,null,79]
[null,5,"Lhota pod Radčem",null,null,30,null,null,null,55,null,null,null,80]
[null,6,"Dobřív",null,null,31,null,null,null,56,null,null,null,81]
[null,7,"Mirošov",null,null,32,null,null,null,57,null,null,null,82]
[null,8,"Volduchy",null,null,33,null,null,null,58,null,null,null,83]
[null,9,null,null,null,34,null,null,null,59,null,null,null,84]
[null,10,null,null,null,35,null,null,null,60,null,null,null,85]
[null,11,null,null,null,36,null,null,null,61,null,null,null,86]
[null,12,null,null,null,37,null,null,null,62,null,null,null,87]
[null,13,null,null,null,38,null,null,null,63,null,null,null,88]
[null,14,null,null,null,39,null,null,null,64,null,null,null,89]
[null,15,null,null,null,40,null,null,null,65,null,null,null,90]
[null,16,null,null,null,41,null,null,null,66,null,null,null,91]
[null,17,null,null,null,42,null,null,null,67,null,null,null,92]
[null,18,null,null,null,43,null,null,null,68,null,null,null,93]
[null,19,null,null,null,44,null,null,null,69,null,null,null,94]
[null,20,null,null,null,45,null,null,null,70,null,null,null,95]
[null,21,null,null,null,46,null,null,null,71,null,null,null,96]
[null,22,null,null,null,47,null,null,null,72,null,null,null,97]
[null,23,null,null,null,48,null,null,null,73,null,null,null,98]
[null,24,null,null,null,49,null,null,null,74,null,null,null,99]
[null,25,null,null,null,50,null,null,null,75,null,null,null,100]

{"sheet":"Kontakt","index":2,"n_rows":13,"n_cols":3,"rows_kept":13,"cut":false,"hidden":false,"merged":[[0,1,0,14]]}
[null,"Kontakt"]
[]
[null,"Program na zpracování výsledků (hra PLAMEN) pro SH ČMS vytvořil:"]
[]
[null,"Ing. Milan HOFFMANN"]
[null,"Želčany 34"]
[null,"332 04 NEZVĚSTICE"]
[]
[null,"mobil:","+420 606 916 333"]
[]
[null,"mail:","milan.hoffmann@seznam.cz"]
[]
[null,"www:","www.dh.cz"]

{"sheet":"Pozn.","index":3,"n_rows":1,"n_cols":2,"rows_kept":1,"cut":false,"hidden":false,"merged":[[0,1,0,10]]}
[null,"Poznámky:"]

{"sheet":"Št.dvojic","index":4,"n_rows":310,"n_cols":24,"rows_kept":310,"cut":false,"hidden":false,"merged":[[302,23,303,23],[304,22,305,22],[304,23,305,23],[308,22,309,22],[308,23,309,23],[302,0,303,0],[302,1,303,1],[302,2,303,2],[302,21,303,21],[306,22,307,22],[306,23,307,23],[304,0,305,0],[304,1,305,1],[304,2,305,2],[304,21,305,21],[306,0,307,0],[306,1,307,1],[308,0,309,0],[308,1,309,1],[308,2,309,2],[308,21,309,21],[306,2,307,2],[306,21,307,21],[302,22,303,22],[296,22,297,22],[296,23,297,23],[300,22,301,22],[300,23,301,23],[294,0,295,0],[294,1,295,1],[294,2,295,2],[294,21,295,21],[298,22,299,22],[298,23,299,23],[296,0,297,0],[296,1,297,1],[296,2,297,2],[296,21,297,21],[298,0,299,0],[298,1,299,1],[300,0,301,0],[300,1,301,1],[300,2,301,2],[300,21,301,21],[298,2,299,2],[298,21,299,21],[294,22,295,22],[290,22,291,22],[290,23,291,23],[292,0,293,0],[292,1,293,1],[292,2,293,2],[292,21,293,21],[292,22,293,22],[292,23,293,23],[294,23,295,23],[288,2,289,2],[288,3,289,3],[290,0,291,0],[290,1,291,1],[290,2,291,2],[284,17,289,17],[284,18,289,18],[284,19,289,19],[290,21,291,21],[279,1,281,14],[279,15,282,21],[282,1,282,14],[283,1,285,3],[283,4,285,7],[283,8,283,19],[283,20,284,21],[284,8,289,8],[284,9,289,9],[284,10,289,10],[285,20,289,20],[285,21,289,21],[286,1,287,3],[286,4,289,4],[286,5,289,5],[286,6,289,6],[286,7,289,7],[284,11,289,11],[284,12,289,12],[284,13,289,13],[284,14,289,14],[284,15,289,15],[284,16,289,16],[288,1,289,1],[271,23,272,23],[273,22,274,22],[273,23,274,23],[277,22,278,22],[277,23,278,23],[271,0,272,0],[271,1,272,1],[271,2,272,2],[271,21,272,21],[275,22,276,22],[275,23,276,23],[273,0,274,0],[273,1,274,1],[273,2,274,2],[273,21,274,21],[275,0,276,0],[275,1,276,1],[277,0,278,0],[277,1,278,1],[277,2,278,2],[277,21,278,21],[275,2,276,2],[275,21,276,21],[271,22,272,22],[265,22,266,22],[265,23,266,23],[269,22,270,22],[269,23,270,23],[263,0,264,0],[263,1,264,1],[263,2,264,2],[263,21,264,21],[267,22,268,22],[267,23,268,23],[265,0,266,0],[265,1,266,1],[265,2,266,2],[265,21,266,21],[267,0,268,0],[267,1,268,1],[269,0,270,0],[269,1,270,1],[269,2,270,2],[269,21,270,21],[267,2,268,2],[267,21,268,21],[263,22,264,22],[259,22,260,22],[259,23,260,23],[261,0,262,0],[261,1,262,1],[261,2,262,2],[261,21,262,21],[261,22,262,22],[261,23,262,23],[263,23,264,23],[257,2,258,2],[257,3,258,3],[259,0,260,0],[259,1,260,1],[259,2,260,2],[253,17,258,17],[253,18,258,18],[253,19,258,19],[259,21,260,21],[248,1,250,14],[248,15,251,21],[251,1,251,14],[252,1,254,3],[252,4,254,7],[252,8,252,19],[252,20,253,21],[253,8,258,8],[253,9,258,9],[253,10,258,10],[254,20,258,20],[254,21,258,21],[255,1,256,3],[255,4,258,4],[255,5,258,5],[255,6,258,6],[255,7,258,7],[253,11,258,11],[253,12,258,12],[253,13,258,13],[253,14,258,14],[253,15,258,15],[253,16,258,16],[257,1,258,1],[240,23,241,23],[242,22,243,22],[242,23,243,23],[246,22,247,22],[246,23,247,23],[240,0,241,0],[240,1,241,1],[240,2,241,2],[240,21,241,21],[244,22,245,22],[244,23,245,23],[242,0,243,0],[242,1,243,1],[242,2,243,2],[242,21,243,21],[244,0,245,0],[244,1,245,1],[246,0,247,0],[246,1,247,1],[246,2,247,2],[246,21,247,21],[244,2,245,2],[244,21,245,21],[240,22,241,22],[234,22,235,22],[234,23,235,23],[238,22,239,22],[238,23,239,23],[232,0,233,0],[232,1,233,1],[232,2,233,2],[232,21,233,21],[236,22,237,22],[236,23,237,23],[234,0,235,0],[234,1,235,1],[234,2,235,2],[234,21,235,21],[236,0,237,0],[236,1,237,1],[238,0,239,0],[238,1,239,1],[238,2,239,2],[238,21,239,21],[236,2,237,2],[236,21,237,21],[232,22,233,22],[228,22,229,22],[228,23,229,23],[230,0,231,0],[230,1,231,1],[230,2,231,2],[230,21,231,21],[230,22,231,22],[230,23,231,23],[232,23,233,23],[226,2,227,2],[226,3,227,3],[228,0,229,0],[228,1,229,1],[228,2,229,2],[222,17,227,17],[222,18,227,18],[222,19,227,19],[228,21,229,21],[217,1,219,14],[217,15,220,21],[220,1,220,14],[221,1,223,3],[221,4,223,7],[221,8,221,19],[221,20,222,21],[222,8,227,8],[222,9,227,9],[222,10,227,10],[223,20,227,20],[223,21,227,21],[224,1,225,3],[224,4,227,4],[224,5,227,5],[224,6,227,6],[224,7,227,7],[222,11,227,11],[222,12,227,12],[222,13,227,13],[222,14,227,14],[222,15,227,15],[222,16,227,16],[226,1,227,1],[209,23,210,23],[211,22,212,22],[211,23,212,23],[215,22,216,22],[215,23,216,23],[209,0,210,0],[209,1,210,1],[209,2,210,2],[209,21,210,21],[213,22,214,22],[213,23,214,23],[211,0,212,0],[211,1,212,1],[211,2,212,2],[211,21,212,21],[213,0,214,0],[213,1,214,1],[215,0,216,0],[215,1,216,1],[215,2,216,2],[215,21,216,21],[213,2,214,2],[213,21,214,21],[209,22,210,22],[203,22,204,22],[203,23,204,23],[207,22,208,22],[207,23,208,23],[201,0,202,0],[201,1,202,1],[201,2,202,2],[201,21,202,21],[205,22,206,22],[205,23,206,23],[203,0,204,0],[203,1,204,1],[203,2,204,2],[203,21,204,21],[205,0,206,0],[205,1,206,1],[207,0,208,0],[207,1,208,1],[207,2,208,2],[207,21,208,21],[205,2,206,2],[205,21,206,21],[201,22,202,22],[197,22,198,22],[197,23,198,23],[199,0,200,0],[199,1,200,1],[199,2,200,2],[199,21,200,21],[199,22,200,22],[199,23,200,23],[201,23,202,23],[195,2,196,2],[195,3,196,3],[197,0,198,0],[197,1,198,1],[197,2,198,2],[191,17,196,17],[191,18,196,18],[191,19,196,19],[197,21,198,21],[186,1,188,14],[186,15,189,21],[189,1,189,14],[190,1,192,3],[190,4,192,7],[190,8,190,19],[190,20,191,21],[191,8,196,8],[191,9,196,9],[191,10,196,10],[192,20,196,20],[192,21,196,21],[193,1,194,3],[193,4,196,4],[193,5,196,5],[193,6,196,6],[193,7,196,7],[191,11,196,11],[191,12,196,12],[191,13,196,13],[191,14,196,14],[191,15,196,15],[191,16,196,16],[195,1,196,1],[178,23,179,23],[180,22,181,22],[180,23,181,23],[184,22,185,22],[184,23,185,23],[178,0,179,0],[178,1,179,1],[178,2,179,2],[178,21,179,21],[182,22,183,22],[182,23,183,23],[180,0,181,0],[180,1,181,1],[180,2,181,2],[180,21,181,21],[182,0,183,0],[182,1,183,1],[184,0,185,0],[184,1,185,1],[184,2,185,2],[184,21,185,21],[182,2,183,2],[182,21,183,21],[178,22,179,22],[172,22,173,22],[172,23,173,23],[176,22,177,22],[176,23,177,23],[170,0,171,0],[170,1,171,1],[170,2,171,2],[170,21,171,21],[174,22,175,22],[174,23,175,23],[172,0,173,0],[172,1,173,1],[172,2,173,2],[172,21,173,21],[174,0,175,0],[174,1,175,1],[176,0,177,0],[176,1,177,1],[176,2,177,2],[176,21,177,21],[174,2,175,2],[174,21,175,21],[170,22,171,22],[166,22,167,22],[166,23,167,23],[168,0,169,0],[168,1,169,1],[168,2,169,2],[168,21,169,21],[168,22,169,22],[168,23,169,23],[170,23,171,23],[164,2,165,2],[164,3,165,3],[166,0,167,0],[166,1,167,1],[166,2,167,2],[160,17,165,17],[160,18,165,18],[160,19,165,19],[166,21,167,21],[155,1,157,14],[155,15,158,21],[158,1,158,14],[159,1,161,3],[159,4,161,7],[159,8,159,19],[159,20,160,21],[160,8,165,8],[160,9,165,9],[160,10,165,10],[161,20,165,20],[161,21,165,21],[162,1,163,3],[162,4,165,4],[162,5,165,5],[162,6,165,6],[162,7,165,7],[160,11,165,11],[160,12,165,12],[160,13,165,13],[160,14,165,14],[160,15,165,15],[160,16,165,16],[164,1,165,1],[147,23,148,23],[149,22,150,22],[149,23,150,23],[153,22,154,22],[153,23,154,23],[147,0,148,0],[147,1,148,1],[147,2,148,2],[147,21,148,21],[151,22,152,22],[151,23,152,23],[149,0,150,0],[149,1,150,1],[149,2,150,2],[149,21,150,21],[151,0,152,0],[151,1,152,1],[153,0,154,0],[153,1,154,1],[153,2,154,2],[153,21,154,21],[151,2,152,2],[151,21,152,21],[147,22,148,22],[141,22,142,22],[141,23,142,23],[145,22,146,22],[145,23,146,23],[139,0,140,0],[139,1,140,1],[139,2,140,2],[139,21,140,21],[143,22,144,22],[143,23,144,23],[141,0,142,0],[141,1,142,1],[141,2,142,2],[141,21,142,21],[143,0,144,0],[143,1,144,1],[145,0,146,0],[145,1,146,1],[145,2,146,2],[145,21,146,21],[143,2,144,2],[143,21,144,21],[139,22,140,22],[135,22,136,22],[135,23,136,23],[137,0,138,0],[137,1,138,1],[137,2,138,2],[137,21,138,21],[137,22,138,22],[137,23,138,23],[139,23,140,23],[133,2,134,2],[133,3,134,3],[135,0,136,0],[135,1,136,1],[135,2,136,2],[129,17,134,17],[129,18,134,18],[129,19,134,19],[135,21,136,21],[124,1,126,14],[124,15,127,21],[127,1,127,14],[128,1,130,3],[128,4,130,7],[128,8,128,19],[128,20,129,21],[129,8,134,8],[129,9,134,9],[129,10,134,10],[130,20,134,20],[130,21,134,21],[131,1,132,3],[131,4,134,4],[131,5,134,5],[131,6,134,6],[131,7,134,7],[129,11,134,11],[129,12,134,12],[129,13,134,13],[129,14,134,14],[129,15,134,15],[129,16,134,16],[133,1,134,1],[120,0,121,0],[120,22,121,22],[120,23,121,23],[122,0,123,0],[122,22,123,22],[122,23,123,23],[122,1,123,1],[122,2,123,2],[122,21,123,21],[120,1,121,1],[120,2,121,2],[120,21,121,21],[116,0,117,0],[116,22,117,22],[116,23,117,23],[118,0,119,0],[118,22,119,22],[118,23,119,23],[118,1,119,1],[118,2,119,2],[118,21,119,21],[116,1,117,1],[116,2,117,2],[116,21,117,21],[112,0,113,0],[112,22,113,22],[112,23,113,23],[114,0,115,0],[114,22,115,22],[114,23,115,23],[112,1,113,1],[112,2,113,2],[112,21,113,21],[114,1,115,1],[114,2,115,2],[114,21,115,21],[108,22,109,22],[108,23,109,23],[110,0,111,0],[110,22,111,22],[110,23,111,23],[108,0,109,0],[110,1,111,1],[110,2,111,2],[110,21,111,21],[108,1,109,1],[108,2,109,2],[108,21,109,21],[104,22,105,22],[104,23,105,23],[106,0,107,0],[106,22,107,22],[106,23,107,23],[104,0,105,0],[106,1,107,1],[106,2,107,2],[106,21,107,21],[104,1,105,1],[104,2,105,2],[104,21,105,21],[89,23,90,23],[91,0,92,0],[91,22,92,22],[91,23,92,23],[89,0,90,0],[91,1,92,1],[91,2,92,2],[91,21,92,21],[89,1,90,1],[89,2,90,2],[89,21,90,21],[85,23,86,23],[87,0,88,0],[87,22,88,22],[87,23,88,23],[85,0,86,0],[85,1,86,1],[85,2,86,2],[85,21,86,21],[87,1,88,1],[81,23,82,23],[83,0,84,0],[83,22,84,22],[83,23,84,23],[81,0,82,0],[83,1,84,1],[83,2,84,2],[83,21,84,21],[81,1,82,1],[81,2,82,2],[81,21,82,21],[77,23,78,23],[79,0,80,0],[79,22,80,22],[79,23,80,23],[77,0,78,0],[77,1,78,1],[77,2,78,2],[77,21,78,21],[79,1,80,1],[79,2,80,2],[79,21,80,21],[73,23,74,23],[75,0,76,0],[75,22,76,22],[75,23,76,23],[73,0,74,0],[75,1,76,1],[75,2,76,2],[75,21,76,21],[73,1,74,1],[0,1,2,14],[0,15,3,21],[3,1,3,14],[4,1,6,3],[4,4,6,7],[4,8,4,19],[4,20,5,21],[5,8,10,8],[5,9,10,9],[5,10,10,10],[5,11,10,11],[5,12,10,12],[7,6,10,6],[6,21,10,21],[5,15,10,15],[5,16,10,16],[5,17,10,17],[5,18,10,18],[5,13,10,13],[5,14,10,14],[5,19,10,19],[6,20,10,20],[11,1,12,1],[11,2,12,2],[11,21,12,21],[7,7,10,7],[9,1,10,1],[9,2,10,2],[9,3,10,3],[7,1,8,3],[7,4,10,4],[7,5,10,5],[15,1,16,1],[15,2,16,2],[15,21,16,21],[13,1,14,1],[13,2,14,2],[13,21,14,21],[19,1,20,1],[19,2,20,2],[19,21,20,21],[17,1,18,1],[17,2,18,2],[17,21,18,21],[23,1,24,1],[23,2,24,2],[23,21,24,21],[21,1,22,1],[21,2,22,2],[21,21,22,21],[27,1,28,1],[27,2,28,2],[27,21,28,21],[25,1,26,1],[25,2,26,2],[25,21,26,21],[36,8,41,8],[36,9,41,9],[36,10,41,10],[29,1,30,1],[29,2,30,2],[29,21,30,21],[36,11,41,11],[36,12,41,12],[36,13,41,13],[36,14,41,14],[31,1,33,14],[31,15,34,21],[34,1,34,14],[35,1,37,3],[35,4,37,7],[35,8,35,19],[36,19,41,19],[37,20,41,20],[37,21,41,21],[36,15,41,15],[36,16,41,16],[36,17,41,17],[36,18,41,18],[35,20,36,21],[38,7,41,7],[40,1,41,1],[40,2,41,2],[40,3,41,3],[38,1,39,3],[38,4,41,4],[38,5,41,5],[38,6,41,6],[44,1,45,1],[44,2,45,2],[42,1,43,1],[42,2,43,2],[48,1,49,1],[48,2,49,2],[48,21,49,21],[46,1,47,1],[46,2,47,2],[46,21,47,21],[52,1,53,1],[52,2,53,2],[52,21,53,21],[50,1,51,1],[50,2,51,2],[50,21,51,21],[56,1,57,1],[56,2,57,2],[56,21,57,21],[54,1,55,1],[54,2,55,2],[54,21,55,21],[60,1,61,1],[60,2,61,2],[60,21,61,21],[58,1,59,1],[58,2,59,2],[58,21,59,21],[62,1,64,14],[62,15,65,21],[65,1,65,14],[67,17,72,17],[67,18,72,18],[67,11,72,11],[67,12,72,12],[67,13,72,13],[67,14,72,14],[69,1,70,3],[69,4,72,4],[69,5,72,5],[69,6,72,6],[69,7,72,7],[71,1,72,1],[71,2,72,2],[71,3,72,3],[11,0,12,0],[13,0,14,0],[15,0,16,0],[17,0,18,0],[87,2,88,2],[87,21,88,21],[73,2,74,2],[73,21,74,21],[67,19,72,19],[68,20,72,20],[27,0,28,0],[29,0,30,0],[42,0,43,0],[44,0,45,0],[19,0,20,0],[21,0,22,0],[23,0,24,0],[25,0,26,0],[54,0,55,0],[56,0,57,0],[58,0,59,0],[60,0,61,0],[46,0,47,0],[48,0,49,0],[50,0,51,0],[52,0,53,0],[93,1,95,14],[93,15,96,21],[96,1,96,14],[97,1,99,3],[97,4,99,7],[97,8,97,19],[97,20,98,21],[98,8,103,8],[98,9,103,9],[98,10,103,10],[98,11,103,11],[98,12,103,12],[98,13,103,13],[66,1,68,3],[66,4,68,7],[66,8,66,19],[66,20,67,21],[67,8,72,8],[67,9,72,9],[67,10,72,10],[67,15,72,15],[67,16,72,16],[11,22,12,22],[13,22,14,22],[15,22,16,22],[17,22,18,22],[19,22,20,22],[21,22,22,22],[23,22,24,22],[44,22,45,22],[46,22,47,22],[48,22,49,22],[50,22,51,22],[25,22,26,22],[27,22,28,22],[29,22,30,22],[42,22,43,22],[98,18,103,18],[98,19,103,19],[99,20,103,20],[99,21,103,21],[52,22,53,22],[54,22,55,22],[56,22,57,22],[58,22,59,22],[68,21,72,21],[73,22,74,22],[44,21,45,21],[77,22,78,22],[81,22,82,22],[85,22,86,22],[89,22,90,22],[42,21,43,21],[19,23,20,23],[21,23,22,23],[23,23,24,23],[25,23,26,23],[11,23,12,23],[13,23,14,23],[15,23,16,23],[17,23,18,23],[46,23,47,23],[48,23,49,23],[50,23,51,23],[52,23,53,23],[27,23,28,23],[29,23,30,23],[42,23,43,23],[44,23,45,23],[102,3,103,3],[54,23,55,23],[56,23,57,23],[58,23,59,23],[60,23,61,23],[60,22,61,22],[98,14,103,14],[98,15,103,15],[98,16,103,16],[98,17,103,17],[100,7,103,7],[100,1,101,3],[100,4,103,4],[100,5,103,5],[100,6,103,6],[102,1,103,1],[102,2,103,2]]}
[null,"CELOSTÁTNÍ HRA PLAMEN"]
[]
[]
[null,"Výsledková listina č: 1"]
[null,"Štafeta požárních dvojic",null,null,"Základem je čas naměřený od vydání signálu startéra do proběhnutí posledního člena cílem",null,null,null,"K úřednímu času se připočítávají trestné sekundy - za každý případ 10 sekund",null,null,null,null,null,null,null,null,null,null,null,"Výsledek soutěže"]
[null,null,null,null,null,null,null,null,"předčasné vyběhnutí","nesvinutí rozpadlého kotouče","nerozložení hadice nejméně na vyznačenou čáru","nesprávné napojení hadice na proudnici či hydr. nástavec","nesprávné rozvinutí hadice u hydr. nástavce","neoběhnutí nebo nesprávné oběhnutí mety","neúplné svinutí hadice mezi metou a nástavcem","hození hadice nebo proudnice","chození po nesprávné straně","nesprávné svinutí (dvojité přeložení)","nesprávné odpojení proudnice nebo hadice"]
[null,null,null,null,null,null,null,null,null,null,null,null,null,null,null,null,null,null,null,null,"součet trest. Sekund a úředního času","počet bodů za umístění"]
[null,{"$f":"\"KATEGORIE: \"&Start!$N$2","v":"KATEGORIE: starší"},null,null,"I. časoměřič","II. časoměřič","III. časoměřič","úřední čas"]
[]
[null,"start. číslo","SOUTĚŽNÍ DRUŽSTVO","pokus"]
[]
[{"$f":"IF(Start!E6=\"\",\"\",\"x\")","v":""},1,{"$f":"IF(Start!C6=\"\",\"\",Start!C6)","v":"Zbiroh"},"I.pokus",null,null,null,{"$f":"IF($C12=\"\",\"\",IF(OR($E12=\"DNS\",$F12=\"DNS\",$G12=\"DNS\"),\"DNS\",IF(OR($E12=\"NP\",$F12=\"NP\",$G12=\"NP\"),\"NP\",IF(ISERROR(MEDIAN($E12:$G12)),\"DNS\",IF(COUNT($E12:$G12)<3,MAX($E12:$G12),MEDIAN($E12:$G12))))))","v":"DNS"},null,null,null,null,null,null,null,null,null,null,null,null,{"$f":"IF(H12=\"\",\"\",IF(H12=\"NP\",\"NP\",IF(H12=\"DNS\",\"DNS\",SUM(I12:T12)+H12)))","v":"DNS"},{"$f":"IF(C12=\"x\",\"x\",IF(C12=\"\",\"\",IF(OR(W12=\"NP\",W12=\"DNS\"),IF(W12=\"NP\",MAX(W$12:W$309)+COUNTIF((W$12:W$309),MAX(W$12:W$309)),MAX(W$12:W$309)+COUNTIF((W$12:W$309),MAX(W$12:W$309))+COUNTIF((W$12:W$309),\"NP\")),W12)))","v":0},{"$f":"IF(A12=\"x\",\"x\",IF(C12=\"\",\"\",IF(OR(X12=\"NP\",X12=\"DNS\"),X12,RANK(X12,X$12:X$309,1))))","v":"DNS"},{"$f":"IF(A12=\"x\",\"x\",IF(C12=\"\",\"\",IF(OR(AND(U12=\"NP\",U13=\"NP\"),AND(U12=\"DNS\",U13=\"DNS\")),U12,IF(AND(U12=\"NP\",U13=\"DNS\"),U12,IF(AND(U12=\"DNS\",U13=\"NP\"),U13,MIN(U12,U13))))))","v":"DNS"}]
[null,null,null,"II.pokus",null,null,null,{"$f":"IF($C12=\"\",\"\",IF(OR($E13=\"DNS\",$F13=\"DNS\",$G13=\"DNS\"),\"DNS\",IF(OR($E13=\"NP\",$F13=\"NP\",$G13=\"NP\"),\"NP\",IF(ISERROR(MEDIAN($E13:$G13)),\"DNS\",IF(COUNT($E13:$G13)<3,MAX($E13:$G13),MEDIAN($E13:$G13))))))","v":"DNS"},null,null,null,null,null,null,null,null,null,null,null,null,"DNS"]
[{"$f":"IF(Start!E7=\"\",\"\",\"x\")","v":""},2,{"$f":"IF(Start!C7=\"\",\"\",Start!C7)","v":"Holoubkov"},"I.pokus",null,null,null,{"$f":"IF($C14=\"\",\"\",IF(OR($E14=\"DNS\",$F14=\"DNS\",$G14=\"DNS\"),\"DNS\",IF(OR($E14=\"NP\",$F14=\"NP\",$G14=\"NP\"),\"NP\",IF(ISERROR(MEDIAN($E14:$G14)),\"DNS\",IF(COUNT($E14:$G14)<3,MAX($E14:$G14),MEDIAN($E14:$G14))))))","v":"DNS"},null,null,null,null,null,null,null,null,null,null,null,null,"DNS",{"$f":"IF(C14=\"x\",\"x\",IF(C14=\"\",\"\",IF(OR(W14=\"NP\",W14=\"DNS\"),IF(W14=\"NP\",MAX(W$12:W$309)+COUNTIF((W$12:W$309),MAX(W$12:W$309)),MAX(W$12:W$309)+COUNTIF((W$12:W$309),MAX(W$12:W$309))+COUNTIF((W$12:W$309),\"NP\")),W14)))","v":0},{"$f":"IF(A14=\"x\",\"x\",IF(C14=\"\",\"\",IF(OR(X14=\"NP\",X14=\"DNS\"),X14,RANK(X14,X$12:X$309,1))))","v":"DNS"},{"$f":"IF(A14=\"x\",\"x\",IF(C14=\"\",\"\",IF(OR(AND(U14=\"NP\",U15=\"NP\"),AND(U14=\"DNS\",U15=\"DNS\")),U14,IF(AND(U14=\"NP\",U15=\"DNS\"),U14,IF(AND(U14=\"DNS\",U15=\"NP\"),U15,MIN(U14,U15))))))","v":"DNS"}]
[null,null,null,"II.pokus",null,null,null,{"$f":"IF($C14=\"\",\"\",IF(OR($E15=\"DNS\",$F15=\"DNS\",$G15=\"DNS\"),\"DNS\",IF(OR($E15=\"NP\",$F15=\"NP\",$G15=\"NP\"),\"NP\",IF(ISERROR(MEDIAN($E15:$G15)),\"DNS\",IF(COUNT($E15:$G15)<3,MAX($E15:$G15),MEDIAN($E15:$G15))))))","v":"DNS"},null,null,null,null,null,null,null,null,null,null,null,null,"DNS"]
[{"$f":"IF(Start!E8=\"\",\"\",\"x\")","v":""},3,{"$f":"IF(Start!C8=\"\",\"\",Start!C8)","v":"Raková"},"I.pokus",null,null,null,{"$f":"IF($C16=\"\",\"\",IF(OR($E16=\"DNS\",$F16=\"DNS\",$G16=\"DNS\"),\"DNS\",IF(OR($E16=\"NP\",$F16=\"NP\",$G16=\"NP\"),\"NP\",IF(ISERROR(MEDIAN($E16:$G16)),\"DNS\",IF(COUNT($E16:$G16)<3,MAX($E16:$G16),MEDIAN($E16:$G16))))))","v":"DNS"},null,null,null,null,null,null,null,null,null,null,null,null,"DNS",{"$f":"IF(C16=\"x\",\"x\",IF(C16=\"\",\"\",IF(OR(W16=\"NP\",W16=\"DNS\"),IF(W16=\"NP\",MAX(W$12:W$309)+COUNTIF((W$12:W$309),MAX(W$12:W$309)),MAX(W$12:W$309)+COUNTIF((W$12:W$309),MAX(W$12:W$309))+COUNTIF((W$12:W$309),\"NP\")),W16)))","v":0},{"$f":"IF(A16=\"x\",\"x\",IF(C16=\"\",\"\",IF(OR(X16=\"NP\",X16=\"DNS\"),X16,RANK(X16,X$12:X$309,1))))","v":"DNS"},{"$f":"IF(A16=\"x\",\"x\",IF(C16=\"\",\"\",IF(OR(AND(U16=\"NP\",U17=\"NP\"),AND(U16=\"DNS\",U17=\"DNS\")),U16,IF(AND(U16=\"NP\",U17=\"DNS\"),U16,IF(AND(U16=\"DNS\",U17=\"NP\"),U17,MIN(U16,U17))))))","v":"DNS"}]
[null,null,null,"II.pokus",null,null,null,{"$f":"IF($C16=\"\",\"\",IF(OR($E17=\"DNS\",$F17=\"DNS\",$G17=\"DNS\"),\"DNS\",IF(OR($E17=\"NP\",$F17=\"NP\",$G17=\"NP\"),\"NP\",IF(ISERROR(MEDIAN($E17:$G17)),\"DNS\",IF(COUNT($E17:$G17)<3,MAX($E17:$G17),MEDIAN($E17:$G17))))))","v":"DNS"},null,null,null,null,null,null,null,null,null,null,null,null,"DNS"]
[{"$f":"IF(Start!E9=\"\",\"\",\"x\")","v":""},4,{"$f":"IF(Start!C9=\"\",\"\",Start!C9)","v":"Osek"},"I.pokus",null,null,null,{"$f":"IF($C18=\"\",\"\",IF(OR($E18=\"DNS\",$F18=\"DNS\",$G18=\"DNS\"),\"DNS\",IF(OR($E18=\"NP\",$F18=\"NP\",$G18=\"NP\"),\"NP\",IF(ISERROR(MEDIAN($E18:$G18)),\"DNS\",IF(COUNT($E18:$G18)<3,MAX($E18:$G18),MEDIAN($E18:$G18))))))","v":"DNS"},null,null,null,null,null,null,null,null,null,null,null,null,"DNS",{"$f":"IF(C18=\"x\",\"x\",IF(C18=\"\",\"\",IF(OR(W18=\"NP\",W18=\"DNS\"),IF(W18=\"NP\",MAX(W$12:W$309)+COUNTIF((W$12:W$309),MAX(W$12:W$309)),MAX(W$12:W$309)+COUNTIF((W$12:W$309),MAX(W$12:W$309))+COUNTIF((W$12:W$309),\"NP\")),W18)))","v":0},{"$f":"IF(A18=\"x\",\"x\",IF(C18=\"\",\"\",IF(OR(X18=\"NP\",X18=\"DNS\"),X18,RANK(X18,X$12:X$309,1))))","v":"DNS"},{"$f":"IF(A18=\"x\",\"x\",IF(C18=\"\",\"\",IF(OR(AND(U18=\"NP\",U19=\"NP\"),AND(U18=\"DNS\",U19=\"DNS\")),U18,IF(AND(U18=\"NP\",U19=\"DNS\"),U18,IF(AND(U18=\"DNS\",U19=\"NP\"),U19,MIN(U18,U19))))))","v":"DNS"}]
[null,null,null,"II.pokus",null,null,null,{"$f":"IF($C18=\"\",\"\",IF(OR($E19=\"DNS\",$F19=\"DNS\",$G19=\"DNS\"),\"DNS\",IF(OR($E19=\"NP\",$F19=\"NP\",$G19=\"NP\"),\"NP\",IF(ISERROR(MEDIAN($E19:$G19)),\"DNS\",IF(COUNT($E19:$G19)<3,MAX($E19:$G19),MEDIAN($E19:$G19))))))","v":"DNS"},null,null,null,null,null,null,null,null,null,null,null,null,"DNS"]
[{"$f":"IF(Start!E10=\"\",\"\",\"x\")","v":""},5,{"$f":"IF(Start!C10=\"\",\"\",Start!C10)","v":"Lhota pod Radčem"},"I.pokus",null,null,null,{"$f":"IF($C20=\"\",\"\",IF(OR($E20=\"DNS\",$F20=\"DNS\",$G20=\"DNS\"),\"DNS\",IF(OR($E20=\"NP\",$F20=\"NP\",$G20=\"NP\"),\"NP\",IF(ISERROR(MEDIAN($E20:$G20)),\"DNS\",IF(COUNT($E20:$G20)<3,MAX($E20:$G20),MEDIAN($E20:$G20))))))","v":"DNS"},null,null,null,null,null,null,null,null,null,null,null,null,"DNS",{"$f":"IF(C20=\"x\",\"x\",IF(C20=\"\",\"\",IF(OR(W20=\"NP\",W20=\"DNS\"),IF(W20=\"NP\",MAX(W$12:W$309)+COUNTIF((W$12:W$309),MAX(W$12:W$309)),MAX(W$12:W$309)+COUNTIF((W$12:W$309),MAX(W$12:W$309))+COUNTIF((W$12:W$309),\"NP\")),W20)))","v":0},{"$f":"IF(A20=\"x\",\"x\",IF(C20=\"\",\"\",IF(OR(X20=\"NP\",X20=\"DNS\"),X20,RANK(X20,X$12:X$309,1))))","v":"DNS"},{"$f":"IF(A20=\"x\",\"x\",IF(C20=\"\",\"\",IF(OR(AND(U20=\"NP\",U21=\"NP\"),AND(U20=\"DNS\",U21=\"DNS\")),U20,IF(AND(U20=\"NP\",U21=\"DNS\"),U20,IF(AND(U20=\"DNS\",U21=\"NP\"),U21,MIN(U20,U21))))))","v":"DNS"}]
[null,null,null,"II.pokus",null,null,null,{"$f":"IF($C20=\"\",\"\",IF(OR($E21=\"DNS\",$F21=\"DNS\",$G21=\"DNS\"),\"DNS\",IF(OR($E21=\"NP\",$F21=\"NP\",$G21=\"NP\"),\"NP\",IF(ISERROR(MEDIAN($E21:$G21)),\"DNS\",IF(COUNT($E21:$G21)<3,MAX($E21:$G21),MEDIAN($E21:$G21))))))","v":"DNS"},null,null,null,null,null,null,null,null,null,null,null,null,"DNS"]
[{"$f":"IF(Start!E11=\"\",\"\",\"x\")","v":""},6,{"$f":"IF(Start!C11=\"\",\"\",Start!C11)","v":"Dobřív"},"I.pokus",null,null,null,{"$f":"IF($C22=\"\",\"\",IF(OR($E22=\"DNS\",$F22=\"DNS\",$G22=\"DNS\"),\"DNS\",IF(OR($E22=\"NP\",$F22=\"NP\",$G22=\"NP\"),\"NP\",IF(ISERROR(MEDIAN($E22:$G22)),\"DNS\",IF(COUNT($E22:$G22)<3,MAX($E22:$G22),MEDIAN($E22:$G22))))))","v":"DNS"},null,null,null,null,null,null,null,null,null,null,null,null,"DNS",{"$f":"IF(C22=\"x\",\"x\",IF(C22=\"\",\"\",IF(OR(W22=\"NP\",W22=\"DNS\"),IF(W22=\"NP\",MAX(W$12:W$309)+COUNTIF((W$12:W$309),MAX(W$12:W$309)),MAX(W$12:W$309)+COUNTIF((W$12:W$309),MAX(W$12:W$309))+COUNTIF((W$12:W$309),\"NP\")),W22)))","v":0},{"$f":"IF(A22=\"x\",\"x\",IF(C22=\"\",\"\",IF(OR(X22=\"NP\",X22=\"DNS\"),X22,RANK(X22,X$12:X$309,1))))","v":"DNS"},{"$f":"IF(A22=\"x\",\"x\",IF(C22=\"\",\"\",IF(OR(AND(U22=\"NP\",U23=\"NP\"),AND(U22=\"DNS\",U23=\"DNS\")),U22,IF(AND(U22=\"NP\",U23=\"DNS\"),U22,IF(AND(U22=\"DNS\",U23=\"NP\"),U23,MIN(U22,U23))))))","v":"DNS"}]
[null,null,null,"II.pokus",null,null,null,{"$f":"IF($C22=\"\",\"\",IF(OR($E23=\"DNS\",$F23=\"DNS\",$G23=\"DNS\"),\"DNS\",IF(OR($E23=\"NP\",$F23=\"NP\",$G23=\"NP\"),\"NP\",IF(ISERROR(MEDIAN($E23:$G23)),\"DNS\",IF(COUNT($E23:$G23)<3,MAX($E23:$G23),MEDIAN($E23:$G23))))))","v":"DNS"},null,null,null,null,null,null,null,null,null,null,null,null,"DNS"]
[{"$f":"IF(Start!E12=\"\",\"\",\"x\")","v":""},7,{"$f":"IF(Start!C12=\"\",\"\",Start!C12)","v":"Mirošov"},"I.pokus",null,null,null,{"$f":"IF($C24=\"\",\"\",IF(OR($E24=\"DNS\",$F24=\"DNS\",$G24=\"DNS\"),\"DNS\",IF(OR($E24=\"NP\",$F24=\"NP\",$G24=\"NP\"),\"NP\",IF(ISERROR(MEDIAN($E24:$G24)),\"DNS\",IF(COUNT($E24:$G24)<3,MAX($E24:$G24),MEDIAN($E24:$G24))))))","v":"DNS"},null,null,null,null,null,null,null,null,null,null,null,null,"DNS",{"$f":"IF(C24=\"x\",\"x\",IF(C24=\"\",\"\",IF(OR(W24=\"NP\",W24=\"DNS\"),IF(W24=\"NP\",MAX(W$12:W$309)+COUNTIF((W$12:W$309),MAX(W$12:W$309)),MAX(W$12:W$309)+COUNTIF((W$12:W$309),MAX(W$12:W$309))+COUNTIF((W$12:W$309),\"NP\")),W24)))","v":0},{"$f":"IF(A24=\"x\",\"x\",IF(C24=\"\",\"\",IF(OR(X24=\"NP\",X24=\"DNS\"),X24,RANK(X24,X$12:X$309,1))))","v":"DNS"},{"$f":"IF(A24=\"x\",\"x\",IF(C24=\"\",\"\",IF(OR(AND(U24=\"NP\",U25=\"NP\"),AND(U24=\"DNS\",U25=\"DNS\")),U24,IF(AND(U24=\"NP\",U25=\"DNS\"),U24,IF(AND(U24=\"DNS\",U25=\"NP\"),U25,MIN(U24,U25))))))","v":"DNS"}]
[null,null,null,"II.pokus",null,null,null,{"$f":"IF($C24=\"\",\"\",IF(OR($E25=\"DNS\",$F25=\"DNS\",$G25=\"DNS\"),\"DNS\",IF(OR($E25=\"NP\",$F25=\"NP\",$G25=\"NP\"),\"NP\",IF(ISERROR(MEDIAN($E25:$G25)),\"DNS\",IF(COUNT($E25:$G25)<3,MAX($E25:$G25),MEDIAN($E25:$G25))))))","v":"DNS"},null,null,null,null,null,null,null,null,null,null,null,null,"DNS"]
[{"$f":"IF(Start!E13=\"\",\"\",\"x\")","v":""},8,{"$f":"IF(Start!C13=\"\",\"\",Start!C13)","v":"Volduchy"},"I.pokus",null,null,null,{"$f":"IF($C26=\"\",\"\",IF(OR($E26=\"DNS\",$F26=\"DNS\",$G26=\"DNS\"),\"DNS\",IF(OR($E26=\"NP\",$F26=\"NP\",$G26=\"NP\"),\"NP\",IF(ISERROR(MEDIAN($E26:$G26)),\"DNS\",IF(COUNT($E26:$G26)<3,MAX($E26:$G26),MEDIAN($E26:$G26))))))","v":"DNS"},null,null,null,null,null,null,null,null,null,null,null,null,"DNS",{"$f":"IF(C26=\"x\",\"x\",IF(C26=\"\",\"\",IF(OR(W26=\"NP\",W26=\"DNS\"),IF(W26=\"NP\",MAX(W$12:W$309)+COUNTIF((W$12:W$309),MAX(W$12:W$309)),MAX(W$12:W$309)+COUNTIF((W$12:W$309),MAX(W$12:W$309))+COUNTIF((W$12:W$309),\"NP\")),W26)))","v":0},{"$f":"IF(A26=\"x\",\"x\",IF(C26=\"\",\"\",IF(OR(X26=\"NP\",X26=\"DNS\"),X26,RANK(X26,X$12:X$309,1))))","v":"DNS"},{"$f":"IF(A26=\"x\",\"x\",IF(C26=\"\",\"\",IF(OR(AND(U26=\"NP\",U27=\"NP\"),AND(U26=\"DNS\",U27=\"DNS\")),U26,IF(AND(U26=\"NP\",U27=\"DNS\"),U26,IF(AND(U26=\"DNS\",U27=\"NP\"),U27,MIN(U26,U27))))))","v":"DNS"}]
[null,null,null,"II.pokus",null,null,null,{"$f":"IF($C26=\"\",\"\",IF(OR($E27=\"DNS\",$F27=\"DNS\",$G27=\"DNS\"),\"DNS\",IF(OR($E27=\"NP\",$F27=\"NP\",$G27=\"NP\"),\"NP\",IF(ISERROR(MEDIAN($E27:$G27)),\"DNS\",IF(COUNT($E27:$G27)<3,MAX($E27:$G27),MEDIAN($E27:$G27))))))","v":"DNS"},null,null,null,null,null,null,null,null,null,null,null,null,"DNS"]
[{"$f":"IF(Start!E14=\"\",\"\",\"x\")","v":""},9,{"$f":"IF(Start!C14=\"\",\"\",Start!C14)","v":""},"I.pokus",null,null,null,{"$f":"IF($C28=\"\",\"\",IF(OR($E28=\"DNS\",$F28=\"DNS\",$G28=\"DNS\"),\"DNS\",IF(OR($E28=\"NP\",$F28=\"NP\",$G28=\"NP\"),\"NP\",IF(ISERROR(MEDIAN($E28:$G28)),\"DNS\",IF(COUNT($E28:$G28)<3,MAX($E28:$G28),MEDIAN($E28:$G28))))))","v":""},null,null,null,null,null,null,null,null,null,null,null,null,"",{"$f":"IF(C28=\"x\",\"x\",IF(C28=\"\",\"\",IF(OR(W28=\"NP\",W28=\"DNS\"),IF(W28=\"NP\",MAX(W$12:W$309)+COUNTIF((W$12:W$309),MAX(W$12:W$309)),MAX(W$12:W$309)+COUNTIF((W$12:W$309),MAX(W$12:W$309))+COUNTIF((W$12:W$309),\"NP\")),W28)))","v":""},{"$f":"IF(A28=\"x\",\"x\",IF(C28=\"\",\"\",IF(OR(X28=\"NP\",X28=\"DNS\"),X28,RANK(X28,X$12:X$309,1))))","v":""},{"$f":"IF(A28=\"x\",\"x\",IF(C28=\"\",\"\",IF(OR(AND(U28=\"NP\",U29=\"NP\"),AND(U28=\"DNS\",U29=\"DNS\")),U28,IF(AND(U28=\"NP\",U29=\"DNS\"),U28,IF(AND(U28=\"DNS\",U29=\"NP\"),U29,MIN(U28,U29))))))","v":""}]
[null,null,null,"II.pokus",null,null,null,{"$f":"IF($C28=\"\",\"\",IF(OR($E29=\"DNS\",$F29=\"DNS\",$G29=\"DNS\"),\"DNS\",IF(OR($E29=\"NP\",$F29=\"NP\",$G29=\"NP\"),\"NP\",IF(ISERROR(MEDIAN($E29:$G29)),\"DNS\",IF(COUNT($E29:$G29)<3,MAX($E29:$G29),MEDIAN($E29:$G29))))))","v":""},null,null,null,null,null,null,null,null,null,null,null,null,""]
[{"$f":"IF(Start!E15=\"\",\"\",\"x\")","v":""},10,{"$f":"IF(Start!C15=\"\",\"\",Start!C15)","v":""},"I.pokus",null,null,null,{"$f":"IF($C30=\"\",\"\",IF(OR($E30=\"DNS\",$F30=\"DNS\",$G30=\"DNS\"),\"DNS\",IF(OR($E30=\"NP\",$F30=\"NP\",$G30=\"NP\"),\"NP\",IF(ISERROR(MEDIAN($E30:$G30)),\"DNS\",IF(COUNT($E30:$G30)<3,MAX($E30:$G30),MEDIAN($E30:$G30))))))","v":""},null,null,null,null,null,null,null,null,null,null,null,null,"",{"$f":"IF(C30=\"x\",\"x\",IF(C30=\"\",\"\",IF(OR(W30=\"NP\",W30=\"DNS\"),IF(W30=\"NP\",MAX(W$12:W$309)+COUNTIF((W$12:W$309),MAX(W$12:W$309)),MAX(W$12:W$309)+COUNTIF((W$12:W$309),MAX(W$12:W$309))+COUNTIF((W$12:W$309),\"NP\")),W30)))","v":""},{"$f":"IF(A30=\"x\",\"x\",IF(C30=\"\",\"\",IF(OR(X30=\"NP\",X30=\"DNS\"),X30,RANK(X30,X$12:X$309,1))))","v":""},{"$f":"IF(A30=\"x\",\"x\",IF(C30=\"\",\"\",IF(OR(AND(U30=\"NP\",U31=\"NP\"),AND(U30=\"DNS\",U31=\"DNS\")),U30,IF(AND(U30=\"NP\",U31=\"DNS\"),U30,IF(AND(U30=\"DNS\",U31=\"NP\"),U31,MIN(U30,U31))))))","v":""}]
[null,null,null,"II.pokus",null,null,null,{"$f":"IF($C30=\"\",\"\",IF(OR($E31=\"DNS\",$F31=\"DNS\",$G31=\"DNS\"),\"DNS\",IF(OR($E31=\"NP\",$F31=\"NP\",$G31=\"NP\"),\"NP\",IF(ISERROR(MEDIAN($E31:$G31)),\"DNS\",IF(COUNT($E31:$G31)<3,MAX($E31:$G31),MEDIAN($E31:$G31))))))","v":""},null,null,null,null,null,null,null,null,null,null,null,null,""]
[null,"CELOSTÁTNÍ HRA PLAMEN"]
[]
[]
[null,"Výsledková listina č: 2"]
[null,"Štafeta požárních dvojic",null,null,"Základem je čas naměřený od vydání signálu startéra do proběhnutí posledního člena cílem",null,null,null,"K úřednímu času se připočítávají trestné sekundy - za každý případ 10 sekund",null,null,null,null,null,null,null,null,null,null,null,"Výsledek soutěže"]
[null,null,null,null,null,null,null,null,"předčasné vyběhnutí","nesvinutí rozpadlého kotouče","nerozložení hadice nejméně na vyznačenou čáru","nesprávné napojení hadice na proudnici či hydr. nástavec","nesprávné rozvinutí hadice u hydr. nástavce","neoběhnutí nebo nesprávné oběhnutí mety","neúplné svinutí hadice mezi metou a nástavcem","hození hadice nebo proudnice","chození po nesprávné straně","nesprávné svinutí (dvojité přeložení)","nesprávné odpojení proudnice nebo hadice"]
[null,null,null,null,null,null,null,null,null,null,null,null,null,null,null,null,null,null,null,null,"součet trest. Sekund a úředního času","počet bodů za umístění"]
[null,{"$f":"\"KATEGORIE: \"&Start!$N$2","v":"KATEGORIE: starší"},null,null,"I. časoměřič","II. časoměřič","III. časoměřič","úřední čas"]
[]
[null,"start. číslo","SOUTĚŽNÍ DRUŽSTVO","pokus"]
[]
[{"$f":"IF(Start!E16=\"\",\"\",\"x\")","v":""},11,{"$f":"IF(Start!C16=\"\",\"\",Start!C16)","v":""},"I.pokus",null,null,null,{"$f":"IF($C43=\"\",\"\",IF(OR($E43=\"DNS\",$F43=\"DNS\",$G43=\"DNS\"),\"DNS\",IF(OR($E43=\"NP\",$F43=\"NP\",$G43=\"NP\"),\"NP\",IF(ISERROR(MEDIAN($E43:$G43)),\"DNS\",IF(COUNT($E43:$G43)<3,MAX($E43:$G43),MEDIAN($E43:$G43))))))","v":""},null,null,null,null,null,null,null,null,null,null,null,null,{"$f":"IF(H43=\"\",\"\",IF(H43=\"NP\",\"NP\",IF(H43=\"DNS\",\"DNS\",SUM(I43:T43)+H43)))","v":""},{"$f":"IF(C43=\"x\",\"x\",IF(C43=\"\",\"\",IF(OR(W43=\"NP\",W43=\"DNS\"),IF(W43=\"NP\",MAX(W$12:W$309)+COUNTIF((W$12:W$309),MAX(W$12:W$309)),MAX(W$12:W$309)+COUNTIF((W$12:W$309),MAX(W$12:W$309))+COUNTIF((W$12:W$309),\"NP\")),W43)))","v":""},{"$f":"IF(A43=\"x\",\"x\",IF(C43=\"\",\"\",IF(OR(X43=\"NP\",X43=\"DNS\"),X43,RANK(X43,X$12:X$309,1))))","v":""},{"$f":"IF(A43=\"x\",\"x\",IF(C43=\"\",\"\",IF(OR(AND(U43=\"NP\",U44=\"NP\"),AND(U43=\"DNS\",U44=\"DNS\")),U43,IF(AND(U43=\"NP\",U44=\"DNS\"),U43,IF(AND(U43=\"DNS\",U44=\"NP\"),U44,MIN(U43,U44))))))","v":""}]
[null,null,null,"II.pokus",null,null,null,{"$f":"IF($C43=\"\",\"\",IF(OR($E44=\"DNS\",$F44=\"DNS\",$G44=\"DNS\"),\"DNS\",IF(OR($E44=\"NP\",$F44=\"NP\",$G44=\"NP\"),\"NP\",IF(ISERROR(MEDIAN($E44:$G44)),\"DNS\",IF(COUNT($E44:$G44)<3,MAX($E44:$G44),MEDIAN($E44:$G44))))))","v":""},null,null,null,null,null,null,null,null,null,null,null,null,""]
[{"$f":"IF(Start!E17=\"\",\"\",\"x\")","v":""},12,{"$f":"IF(Start!C17=\"\",\"\",Start!C17)","v":""},"I.pokus",null,null,null,{"$f":"IF($C45=\"\",\"\",IF(OR($E45=\"DNS\",$F45=\"DNS\",$G45=\"DNS\"),\"DNS\",IF(OR($E45=\"NP\",$F45=\"NP\",$G45=\"NP\"),\"NP\",IF(ISERROR(MEDIAN($E45:$G45)),\"DNS\",IF(COUNT($E45:$G45)<3,MAX($E45:$G45),MEDIAN($E45:$G45))))))","v":""},null,null,null,null,null,null,null,null,null,null,null,null,"",{"$f":"IF(C45=\"x\",\"x\",IF(C45=\"\",\"\",IF(OR(W45=\"NP\",W45=\"DNS\"),IF(W45=\"NP\",MAX(W$12:W$309)+COUNTIF((W$12:W$309),MAX(W$12:W$309)),MAX(W$12:W$309)+COUNTIF((W$12:W$309),MAX(W$12:W$309))+COUNTIF((W$12:W$309),\"NP\")),W45)))","v":""},{"$f":"IF(A45=\"x\",\"x\",IF(C45=\"\",\"\",IF(OR(X45=\"NP\",X45=\"DNS\"),X45,RANK(X45,X$12:X$309,1))))","v":""},{"$f":"IF(A45=\"x\",\"x\",IF(C45=\"\",\"\",IF(OR(AND(U45=\"NP\",U46=\"NP\"),AND(U45=\"DNS\",U46=\"DNS\")),U45,IF(AND(U45=\"NP\",U46=\"DNS\"),U45,IF(AND(U45=\"DNS\",U46=\"NP\"),U46,MIN(U45,U46))))))","v":""}]
[null,null,null,"II.pokus",null,null,null,{"$f":"IF($C45=\"\",\"\",IF(OR($E46=\"DNS\",$F46=\"DNS\",$G46=\"DNS\"),\"DNS\",IF(OR($E46=\"NP\",$F46=\"NP\",$G46=\"NP\"),\"NP\",IF(ISERROR(MEDIAN($E46:$G46)),\"DNS\",IF(COUNT($E46:$G46)<3,MAX($E46:$G46),MEDIAN($E46:$G46))))))","v":""},null,null,null,null,null,null,null,null,null,null,null,null,""]
[{"$f":"IF(Start!E18=\"\",\"\",\"x\")","v":""},13,{"$f":"IF(Start!C18=\"\",\"\",Start!C18)","v":""},"I.pokus",null,null,null,{"$f":"IF($C47=\"\",\"\",IF(OR($E47=\"DNS\",$F47=\"DNS\",$G47=\"DNS\"),\"DNS\",IF(OR($E47=\"NP\",$F47=\"NP\",$G47=\"NP\"),\"NP\",IF(ISERROR(MEDIAN($E47:$G47)),\"DNS\",IF(COUNT($E47:$G47)<3,MAX($E47:$G47),MEDIAN($E47:$G47))))))","v":""},null,null,null,null,null,null,null,null,null,null,null,null,"",{"$f":"IF(C47=\"x\",\"x\",IF(C47=\"\",\"\",IF(OR(W47=\"NP\",W47=\"DNS\"),IF(W47=\"NP\",MAX(W$12:W$309)+COUNTIF((W$12:W$309),MAX(W$12:W$309)),MAX(W$12:W$309)+COUNTIF((W$12:W$309),MAX(W$12:W$309))+COUNTIF((W$12:W$309),\"NP\")),W47)))","v":""},{"$f":"IF(A47=\"x\",\"x\",IF(C47=\"\",\"\",IF(OR(X47=\"NP\",X47=\"DNS\"),X47,RANK(X47,X$12:X$309,1))))","v":""},{"$f":"IF(A47=\"x\",\"x\",IF(C47=\"\",\"\",IF(OR(AND(U47=\"NP\",U48=\"NP\"),AND(U47=\"DNS\",U48=\"DNS\")),U47,IF(AND(U47=\"NP\",U48=\"DNS\"),U47,IF(AND(U47=\"DNS\",U48=\"NP\"),U48,MIN(U47,U48))))))","v":""}]
[null,null,null,"II.pokus",null,null,null,{"$f":"IF($C47=\"\",\"\",IF(OR($E48=\"DNS\",$F48=\"DNS\",$G48=\"DNS\"),\"DNS\",IF(OR($E48=\"NP\",$F48=\"NP\",$G48=\"NP\"),\"NP\",IF(ISERROR(MEDIAN($E48:$G48)),\"DNS\",IF(COUNT($E48:$G48)<3,MAX($E48:$G48),MEDIAN($E48:$G48))))))","v":""},null,null,null,null,null,null,null,null,null,null,null,null,""]
[{"$f":"IF(Start!E19=\"\",\"\",\"x\")","v":""},14,{"$f":"IF(Start!C19=\"\",\"\",Start!C19)","v":""},"I.pokus",null,null,null,{"$f":"IF($C49=\"\",\"\",IF(OR($E49=\"DNS\",$F49=\"DNS\",$G49=\"DNS\"),\"DNS\",IF(OR($E49=\"NP\",$F49=\"NP\",$G49=\"NP\"),\"NP\",IF(ISERROR(MEDIAN($E49:$G49)),\"DNS\",IF(COUNT($E49:$G49)<3,MAX($E49:$G49),MEDIAN($E49:$G49))))))","v":""},null,null,null,null,null,null,null,null,null,null,null,null,"",{"$f":"IF(C49=\"x\",\"x\",IF(C49=\"\",\"\",IF(OR(W49=\"NP\",W49=\"DNS\"),IF(W49=\"NP\",MAX(W$12:W$309)+COUNTIF((W$12:W$309),MAX(W$12:W$309)),MAX(W$12:W$309)+COUNTIF((W$12:W$309),MAX(W$12:W$309))+COUNTIF((W$12:W$309),\"NP\")),W49)))","v":""},{"$f":"IF(A49=\"x\",\"x\",IF(C49=\"\",\"\",IF(OR(X49=\"NP\",X49=\"DNS\"),X49,RANK(X49,X$12:X$309,1))))","v":""},{"$f":"IF(A49=\"x\",\"x\",IF(C49=\"\",\"\",IF(OR(AND(U49=\"NP\",U50=\"NP\"),AND(U49=\"DNS\",U50=\"DNS\")),U49,IF(AND(U49=\"NP\",U50=\"DNS\"),U49,IF(AND(U49=\"DNS\",U50=\"NP\"),U50,MIN(U49,U50))))))","v":""}]
[null,null,null,"II.pokus",null,null,null,{"$f":"IF($C49=\"\",\"\",IF(OR($E50=\"DNS\",$F50=\"DNS\",$G50=\"DNS\"),\"DNS\",IF(OR($E50=\"NP\",$F50=\"NP\",$G50=\"NP\"),\"NP\",IF(ISERROR(MEDIAN($E50:$G50)),\"DNS\",IF(COUNT($E50:$G50)<3,MAX($E50:$G50),MEDIAN($E50:$G50))))))","v":""},null,null,null,null,null,null,null,null,null,null,null,null,""]
[{"$f":"IF(Start!E20=\"\",\"\",\"x\")","v":""},15,{"$f":"IF(Start!C20=\"\",\"\",Start!C20)","v":""},"I.pokus",null,null,null,{"$f":"IF($C51=\"\",\"\",IF(OR($E51=\"DNS\",$F51=\"DNS\",$G51=\"DNS\"),\"DNS\",IF(OR($E51=\"NP\",$F51=\"NP\",$G51=\"NP\"),\"NP\",IF(ISERROR(MEDIAN($E51:$G51)),\"DNS\",IF(COUNT($E51:$G51)<3,MAX($E51:$G51),MEDIAN($E51:$G51))))))","v":""},null,null,null,null,null,null,null,null,null,null,null,null,"",{"$f":"IF(C51=\"x\",\"x\",IF(C51=\"\",\"\",IF(OR(W51=\"NP\",W51=\"DNS\"),IF(W51=\"NP\",MAX(W$12:W$309)+COUNTIF((W$12:W$309),MAX(W$12:W$309)),MAX(W$12:W$309)+COUNTIF((W$12:W$309),MAX(W$12:W$309))+COUNTIF((W$12:W$309),\"NP\")),W51)))","v":""},{"$f":"IF(A51=\"x\",\"x\",IF(C51=\"\",\"\",IF(OR(X51=\"NP\",X51=\"DNS\"),X51,RANK(X51,X$12:X$309,1))))","v":""},{"$f":"IF(A51=\"x\",\"x\",IF(C51=\"\",\"\",IF(OR(AND(U51=\"NP\",U52=\"NP\"),AND(U51=\"DNS\",U52=\"DNS\")),U51,IF(AND(U51=\"NP\",U52=\"DNS\"),U51,IF(AND(U51=\"DNS\",U52=\"NP\"),U52,MIN(U51,U52))))))","v":""}]
[null,null,null,"II.pokus",null,null,null,{"$f":"IF($C51=\"\",\"\",IF(OR($E52=\"DNS\",$F52=\"DNS\",$G52=\"DNS\"),\"DNS\",IF(OR($E52=\"NP\",$F52=\"NP\",$G52=\"NP\"),\"NP\",IF(ISERROR(MEDIAN($E52:$G52)),\"DNS\",IF(COUNT($E52:$G52)<3,MAX($E52:$G52),MEDIAN($E52:$G52))))))","v":""},null,null,null,null,null,null,null,null,null,null,null,null,""]
[{"$f":"IF(Start!E21=\"\",\"\",\"x\")","v":""},16,{"$f":"IF(Start!C21=\"\",\"\",Start!C21)","v":""},"I.pokus",null,null,null,{"$f":"IF($C53=\"\",\"\",IF(OR($E53=\"DNS\",$F53=\"DNS\",$G53=\"DNS\"),\"DNS\",IF(OR($E53=\"NP\",$F53=\"NP\",$G53=\"NP\"),\"NP\",IF(ISERROR(MEDIAN($E53:$G53)),\"DNS\",IF(COUNT($E53:$G53)<3,MAX($E53:$G53),MEDIAN($E53:$G53))))))","v":""},null,null,null,null,null,null,null,null,null,null,null,null,"",{"$f":"IF(C53=\"x\",\"x\",IF(C53=\"\",\"\",IF(OR(W53=\"NP\",W53=\"DNS\"),IF(W53=\"NP\",MAX(W$12:W$309)+COUNTIF((W$12:W$309),MAX(W$12:W$309)),MAX(W$12:W$309)+COUNTIF((W$12:W$309),MAX(W$12:W$309))+COUNTIF((W$12:W$309),\"NP\")),W53)))","v":""},{"$f":"IF(A53=\"x\",\"x\",IF(C53=\"\",\"\",IF(OR(X53=\"NP\",X53=\"DNS\"),X53,RANK(X53,X$12:X$309,1))))","v":""},{"$f":"IF(A53=\"x\",\"x\",IF(C53=\"\",\"\",IF(OR(AND(U53=\"NP\",U54=\"NP\"),AND(U53=\"DNS\",U54=\"DNS\")),U53,IF(AND(U53=\"NP\",U54=\"DNS\"),U53,IF(AND(U53=\"DNS\",U54=\"NP\"),U54,MIN(U53,U54))))))","v":""}]
[null,null,null,"II.pokus",null,null,null,{"$f":"IF($C53=\"\",\"\",IF(OR($E54=\"DNS\",$F54=\"DNS\",$G54=\"DNS\"),\"DNS\",IF(OR($E54=\"NP\",$F54=\"NP\",$G54=\"NP\"),\"NP\",IF(ISERROR(MEDIAN($E54:$G54)),\"DNS\",IF(COUNT($E54:$G54)<3,MAX($E54:$G54),MEDIAN($E54:$G54))))))","v":""},null,null,null,null,null,null,null,null,null,null,null,null,""]
[{"$f":"IF(Start!E22=\"\",\"\",\"x\")","v":""},17,{"$f":"IF(Start!C22=\"\",\"\",Start!C22)","v":""},"I.pokus",null,null,null,{"$f":"IF($C55=\"\",\"\",IF(OR($E55=\"DNS\",$F55=\"DNS\",$G55=\"DNS\"),\"DNS\",IF(OR($E55=\"NP\",$F55=\"NP\",$G55=\"NP\"),\"NP\",IF(ISERROR(MEDIAN($E55:$G55)),\"DNS\",IF(COUNT($E55:$G55)<3,MAX($E55:$G55),MEDIAN($E55:$G55))))))","v":""},null,null,null,null,null,null,null,null,null,null,null,null,"",{"$f":"IF(C55=\"x\",\"x\",IF(C55=\"\",\"\",IF(OR(W55=\"NP\",W55=\"DNS\"),IF(W55=\"NP\",MAX(W$12:W$309)+COUNTIF((W$12:W$309),MAX(W$12:W$309)),MAX(W$12:W$309)+COUNTIF((W$12:W$309),MAX(W$12:W$309))+COUNTIF((W$12:W$309),\"NP\")),W55)))","v":""},{"$f":"IF(A55=\"x\",\"x\",IF(C55=\"\",\"\",IF(OR(X55=\"NP\",X55=\"DNS\"),X55,RANK(X55,X$12:X$309,1))))","v":""},{"$f":"IF(A55=\"x\",\"x\",IF(C55=\"\",\"\",IF(OR(AND(U55=\"NP\",U56=\"NP\"),AND(U55=\"DNS\",U56=\"DNS\")),U55,IF(AND(U55=\"NP\",U56=\"DNS\"),U55,IF(AND(U55=\"DNS\",U56=\"NP\"),U56,MIN(U55,U56))))))","v":""}]
[null,null,null,"II.pokus",null,null,null,{"$f":"IF($C55=\"\",\"\",IF(OR($E56=\"DNS\",$F56=\"DNS\",$G56=\"DNS\"),\"DNS\",IF(OR($E56=\"NP\",$F56=\"NP\",$G56=\"NP\"),\"NP\",IF(ISERROR(MEDIAN($E56:$G56)),\"DNS\",IF(COUNT($E56:$G56)<3,MAX($E56:$G56),MEDIAN($E56:$G56))))))","v":""},null,null,null,null,null,null,null,null,null,null,null,null,""]
[{"$f":"IF(Start!E23=\"\",\"\",\"x\")","v":""},18,{"$f":"IF(Start!C23=\"\",\"\",Start!C23)","v":""},"I.pokus",null,null,null,{"$f":"IF($C57=\"\",\"\",IF(OR($E57=\"DNS\",$F57=\"DNS\",$G57=\"DNS\"),\"DNS\",IF(OR($E57=\"NP\",$F57=\"NP\",$G57=\"NP\"),\"NP\",IF(ISERROR(MEDIAN($E57:$G57)),\"DNS\",IF(COUNT($E57:$G57)<3,MAX($E57:$G57),MEDIAN($E57:$G57))))))","v":""},null,null,null,null,null,null,null,null,null,null,null,null,"",{"$f":"IF(C57=\"x\",\"x\",IF(C57=\"\",\"\",IF(OR(W57=\"NP\",W57=\"DNS\"),IF(W57=\"NP\",MAX(W$12:W$309)+COUNTIF((W$12:W$309),MAX(W$12:W$309)),MAX(W$12:W$309)+COUNTIF((W$12:W$309),MAX(W$12:W$309))+COUNTIF((W$12:W$309),\"NP\")),W57)))","v":""},{"$f":"IF(A57=\"x\",\"x\",IF(C57=\"\",\"\",IF(OR(X57=\"NP\",X57=\"DNS\"),X57,RANK(X57,X$12:X$309,1))))","v":""},{"$f":"IF(A57=\"x\",\"x\",IF(C57=\"\",\"\",IF(OR(AND(U57=\"NP\",U58=\"NP\"),AND(U57=\"DNS\",U58=\"DNS\")),U57,IF(AND(U57=\"NP\",U58=\"DNS\"),U57,IF(AND(U57=\"DNS\",U58=\"NP\"),U58,MIN(U57,U58))))))","v":""}]
[null,null,null,"II.pokus",null,null,null,{"$f":"IF($C57=\"\",\"\",IF(OR($E58=\"DNS\",$F58=\"DNS\",$G58=\"DNS\"),\"DNS\",IF(OR($E58=\"NP\",$F58=\"NP\",$G58=\"NP\"),\"NP\",IF(ISERROR(MEDIAN($E58:$G58)),\"DNS\",IF(COUNT($E58:$G58)<3,MAX($E58:$G58),MEDIAN($E58:$G58))))))","v":""},null,null,null,null,null,null,null,null,null,null,null,null,""]
[{"$f":"IF(Start!E24=\"\",\"\",\"x\")","v":""},19,{"$f":"IF(Start!C24=\"\",\"\",Start!C24)","v":""},"I.pokus",null,null,null,{"$f":"IF($C59=\"\",\"\",IF(OR($E59=\"DNS\",$F59=\"DNS\",$G59=\"DNS\"),\"DNS\",IF(OR($E59=\"NP\",$F59=\"NP\",$G59=\"NP\"),\"NP\",IF(ISERROR(MEDIAN($E59:$G59)),\"DNS\",IF(COUNT($E59:$G59)<3,MAX($E59:$G59),MEDIAN($E59:$G59))))))","v":""},null,null,null,null,null,null,null,null,null,null,null,null,"",{"$f":"IF(C59=\"x\",\"x\",IF(C59=\"\",\"\",IF(OR(W59=\"NP\",W59=\"DNS\"),IF(W59=\"NP\",MAX(W$12:W$309)+COUNTIF((W$12:W$309),MAX(W$12:W$309)),MAX(W$12:W$309)+COUNTIF((W$12:W$309),MAX(W$12:W$309))+COUNTIF((W$12:W$309),\"NP\")),W59)))","v":""},{"$f":"IF(A59=\"x\",\"x\",IF(C59=\"\",\"\",IF(OR(X59=\"NP\",X59=\"DNS\"),X59,RANK(X59,X$12:X$309,1))))","v":""},{"$f":"IF(A59=\"x\",\"x\",IF(C59=\"\",\"\",IF(OR(AND(U59=\"NP\",U60=\"NP\"),AND(U59=\"DNS\",U60=\"DNS\")),U59,IF(AND(U59=\"NP\",U60=\"DNS\"),U59,IF(AND(U59=\"DNS\",U60=\"NP\"),U60,MIN(U59,U60))))))","v":""}]
[null,null,null,"II.pokus",null,null,null,{"$f":"IF($C59=\"\",\"\",IF(OR($E60=\"DNS\",$F60=\"DNS\",$G60=\"DNS\"),\"DNS\",IF(OR($E60=\"NP\",$F60=\"NP\",$G60=\"NP\"),\"NP\",IF(ISERROR(MEDIAN($E60:$G60)),\"DNS\",IF(COUNT($E60:$G60)<3,MAX($E60:$G60),MEDIAN($E60:$G60))))))","v":""},null,null,null,null,null,null,null,null,null,null,null,null,""]
[{"$f":"IF(Start!E25=\"\",\"\",\"x\")","v":""},20,{"$f":"IF(Start!C25=\"\",\"\",Start!C25)","v":""},"I.pokus",null,null,null,{"$f":"IF($C61=\"\",\"\",IF(OR($E61=\"DNS\",$F61=\"DNS\",$G61=\"DNS\"),\"DNS\",IF(OR($E61=\"NP\",$F61=\"NP\",$G61=\"NP\"),\"NP\",IF(ISERROR(MEDIAN($E61:$G61)),\"DNS\",IF(COUNT($E61:$G61)<3,MAX($E61:$G61),MEDIAN($E61:$G61))))))","v":""},null,null,null,null,null,null,null,null,null,null,null,null,"",{"$f":"IF(C61=\"x\",\"x\",IF(C61=\"\",\"\",IF(OR(W61=\"NP\",W61=\"DNS\"),IF(W61=\"NP\",MAX(W$12:W$309)+COUNTIF((W$12:W$309),MAX(W$12:W$309)),MAX(W$12:W$309)+COUNTIF((W$12:W$309),MAX(W$12:W$309))+COUNTIF((W$12:W$309),\"NP\")),W61)))","v":""},{"$f":"IF(A61=\"x\",\"x\",IF(C61=\"\",\"\",IF(OR(X61=\"NP\",X61=\"DNS\"),X61,RANK(X61,X$12:X$309,1))))","v":""},{"$f":"IF(A61=\"x\",\"x\",IF(C61=\"\",\"\",IF(OR(AND(U61=\"NP\",U62=\"NP\"),AND(U61=\"DNS\",U62=\"DNS\")),U61,IF(AND(U61=\"NP\",U62=\"DNS\"),U61,IF(AND(U61=\"DNS\",U62=\"NP\"),U62,MIN(U61,U62))))))","v":""}]
[null,null,null,"II.pokus",null,null,null,{"$f":"IF($C61=\"\",\"\",IF(OR($E62=\"DNS\",$F62=\"DNS\",$G62=\"DNS\"),\"DNS\",IF(OR($E62=\"NP\",$F62=\"NP\",$G62=\"NP\"),\"NP\",IF(ISERROR(MEDIAN($E62:$G62)),\"DNS\",IF(COUNT($E62:$G62)<3,MAX($E62:$G62),MEDIAN($E62:$G62))))))","v":""},null,null,null,null,null,null,null,null,null,null,null,null,""]
[null,"CELOSTÁTNÍ HRA PLAMEN"]
[]
[]
[null,"Výsledková listina č: 3"]
[null,"Štafeta požárních dvojic",null,null,"Základem je čas naměřený od vydání signálu startéra do proběhnutí posledního člena cílem",null,null,null,"K úřednímu času se připočítávají trestné sekundy - za každý případ 10 sekund",null,null,null,null,null,null,null,null,null,null,null,"Výsledek soutěže"]
[null,null,null,null,null,null,null,null,"předčasné vyběhnutí","nesvinutí rozpadlého kotouče","nerozložení hadice nejméně na vyznačenou čáru","nesprávné napojení hadice na proudnici či hydr. nástavec","nesprávné rozvinutí hadice u hydr. nástavce","neoběhnutí nebo nesprávné oběhnutí mety","neúplné svinutí hadice mezi metou a nástavcem","hození hadice nebo proudnice","chození po nesprávné straně","nesprávné svinutí (dvojité přeložení)","nesprávné odpojení proudnice nebo hadice"]
[null,null,null,null,null,null,null,null,null,null,null,null,null,null,null,null,null,null,null,null,"součet trest. Sekund a úředního času","počet bodů za umístění"]
[null,{"$f":"\"KATEGORIE: \"&Start!$N$2","v":"KATEGORIE: starší"},null,null,"I. časoměřič","II. časoměřič","III. časoměřič","úřední čas"]
[]
[null,"start. číslo","SOUTĚŽNÍ DRUŽSTVO","pokus"]
[]
[{"$f":"IF(Start!E26=\"\",\"\",\"x\")","v":""},21,{"$f":"IF(Start!C26=\"\",\"\",Start!C26)","v":""},"I.pokus",null,null,null,{"$f":"IF($C74=\"\",\"\",IF(OR($E74=\"DNS\",$F74=\"DNS\",$G74=\"DNS\"),\"DNS\",IF(OR($E74=\"NP\",$F74=\"NP\",$G74=\"NP\"),\"NP\",IF(ISERROR(MEDIAN($E74:$G74)),\"DNS\",IF(COUNT($E74:$G74)<3,MAX($E74:$G74),MEDIAN($E74:$G74))))))","v":""},null,null,null,null,null,null,null,null,null,null,null,null,{"$f":"IF(H74=\"\",\"\",IF(H74=\"NP\",\"NP\",IF(H74=\"DNS\",\"DNS\",SUM(I74:T74)+H74)))","v":""},{"$f":"IF(C74=\"x\",\"x\",IF(C74=\"\",\"\",IF(OR(W74=\"NP\",W74=\"DNS\"),IF(W74=\"NP\",MAX(W$12:W$309)+COUNTIF((W$12:W$309),MAX(W$12:W$309)),MAX(W$12:W$309)+COUNTIF((W$12:W$309),MAX(W$12:W$309))+COUNTIF((W$12:W$309),\"NP\")),W74)))","v":""},{"$f":"IF(A74=\"x\",\"x\",IF(C74=\"\",\"\",IF(OR(X74=\"NP\",X74=\"DNS\"),X74,RANK(X74,X$12:X$309,1))))","v":""},{"$f":"IF(A74=\"x\",\"x\",IF(C74=\"\",\"\",IF(OR(AND(U74=\"NP\",U75=\"NP\"),AND(U74=\"DNS\",U75=\"DNS\")),U74,IF(AND(U74=\"NP\",U75=\"DNS\"),U74,IF(AND(U74=\"DNS\",U75=\"NP\"),U75,MIN(U74,U75))))))","v":""}]
[null,null,null,"II.pokus",null,null,null,{"$f":"IF($C74=\"\",\"\",IF(OR($E75=\"DNS\",$F75=\"DNS\",$G75=\"DNS\"),\"DNS\",IF(OR($E75=\"NP\",$F75=\"NP\",$G75=\"NP\"),\"NP\",IF(ISERROR(MEDIAN($E75:$G75)),\"DNS\",IF(COUNT($E75:$G75)<3,MAX($E75:$G75),MEDIAN($E75:$G75))))))","v":""},null,null,null,null,null,null,null,null,null,null,null,null,""]
[{"$f":"IF(Start!E27=\"\",\"\",\"x\")","v":""},22,{"$f":"IF(Start!C27=\"\",\"\",Start!C27)","v":""},"I.pokus",null,null,null,{"$f":"IF($C76=\"\",\"\",IF(OR($E76=\"DNS\",$F76=\"DNS\",$G76=\"DNS\"),\"DNS\",IF(OR($E76=\"NP\",$F76=\"NP\",$G76=\"NP\"),\"NP\",IF(ISERROR(MEDIAN($E76:$G76)),\"DNS\",IF(COUNT($E76:$G76)<3,MAX($E76:$G76),MEDIAN($E76:$G76))))))","v":""},null,null,null,null,null,null,null,null,null,null,null,null,"",{"$f":"IF(C76=\"x\",\"x\",IF(C76=\"\",\"\",IF(OR(W76=\"NP\",W76=\"DNS\"),IF(W76=\"NP\",MAX(W$12:W$309)+COUNTIF((W$12:W$309),MAX(W$12:W$309)),MAX(W$12:W$309)+COUNTIF((W$12:W$309),MAX(W$12:W$309))+COUNTIF((W$12:W$309),\"NP\")),W76)))","v":""},{"$f":"IF(A76=\"x\",\"x\",IF(C76=\"\",\"\",IF(OR(X76=\"NP\",X76=\"DNS\"),X76,RANK(X76,X$12:X$309,1))))","v":""},{"$f":"IF(A76=\"x\",\"x\",IF(C76=\"\",\"\",IF(OR(AND(U76=\"NP\",U77=\"NP\"),AND(U76=\"DNS\",U77=\"DNS\")),U76,IF(AND(U76=\"NP\",U77=\"DNS\"),U76,IF(AND(U76=\"DNS\",U77=\"NP\"),U77,MIN(U76,U77))))))","v":""}]
[null,null,null,"II.pokus",null,null,null,{"$f":"IF($C76=\"\",\"\",IF(OR($E77=\"DNS\",$F77=\"DNS\",$G77=\"DNS\"),\"DNS\",IF(OR($E77=\"NP\",$F77=\"NP\",$G77=\"NP\"),\"NP\",IF(ISERROR(MEDIAN($E77:$G77)),\"DNS\",IF(COUNT($E77:$G77)<3,MAX($E77:$G77),MEDIAN($E77:$G77))))))","v":""},null,null,null,null,null,null,null,null,null,null,null,null,""]
[{"$f":"IF(Start!E28=\"\",\"\",\"x\")","v":""},23,{"$f":"IF(Start!C28=\"\",\"\",Start!C28)","v":""},"I.pokus",null,null,null,{"$f":"IF($C78=\"\",\"\",IF(OR($E78=\"DNS\",$F78=\"DNS\",$G78=\"DNS\"),\"DNS\",IF(OR($E78=\"NP\",$F78=\"NP\",$G78=\"NP\"),\"NP\",IF(ISERROR(MEDIAN($E78:$G78)),\"DNS\",IF(COUNT($E78:$G78)<3,MAX($E78:$G78),MEDIAN($E78:$G78))))))","v":""},null,null,null,null,null,null,null,null,null,null,null,null,"",{"$f":"IF(C78=\"x\",\"x\",IF(C78=\"\",\"\",IF(OR(W78=\"NP\",W78=\"DNS\"),IF(W78=\"NP\",MAX(W$12:W$309)+COUNTIF((W$12:W$309),MAX(W$12:W$309)),MAX(W$12:W$309)+COUNTIF((W$12:W$309),MAX(W$12:W$309))+COUNTIF((W$12:W$309),\"NP\")),W78)))","v":""},{"$f":"IF(A78=\"x\",\"x\",IF(C78=\"\",\"\",IF(OR(X78=\"NP\",X78=\"DNS\"),X78,RANK(X78,X$12:X$309,1))))","v":""},{"$f":"IF(A78=\"x\",\"x\",IF(C78=\"\",\"\",IF(OR(AND(U78=\"NP\",U79=\"NP\"),AND(U78=\"DNS\",U79=\"DNS\")),U78,IF(AND(U78=\"NP\",U79=\"DNS\"),U78,IF(AND(U78=\"DNS\",U79=\"NP\"),U79,MIN(U78,U79))))))","v":""}]
[null,null,null,"II.pokus",null,null,null,{"$f":"IF($C78=\"\",\"\",IF(OR($E79=\"DNS\",$F79=\"DNS\",$G79=\"DNS\"),\"DNS\",IF(OR($E79=\"NP\",$F79=\"NP\",$G79=\"NP\"),\"NP\",IF(ISERROR(MEDIAN($E79:$G79)),\"DNS\",IF(COUNT($E79:$G79)<3,MAX($E79:$G79),MEDIAN($E79:$G79))))))","v":""},null,null,null,null,null,null,null,null,null,null,null,null,""]
[{"$f":"IF(Start!E29=\"\",\"\",\"x\")","v":""},24,{"$f":"IF(Start!C29=\"\",\"\",Start!C29)","v":""},"I.pokus",null,null,null,{"$f":"IF($C80=\"\",\"\",IF(OR($E80=\"DNS\",$F80=\"DNS\",$G80=\"DNS\"),\"DNS\",IF(OR($E80=\"NP\",$F80=\"NP\",$G80=\"NP\"),\"NP\",IF(ISERROR(MEDIAN($E80:$G80)),\"DNS\",IF(COUNT($E80:$G80)<3,MAX($E80:$G80),MEDIAN($E80:$G80))))))","v":""},null,null,null,null,null,null,null,null,null,null,null,null,"",{"$f":"IF(C80=\"x\",\"x\",IF(C80=\"\",\"\",IF(OR(W80=\"NP\",W80=\"DNS\"),IF(W80=\"NP\",MAX(W$12:W$309)+COUNTIF((W$12:W$309),MAX(W$12:W$309)),MAX(W$12:W$309)+COUNTIF((W$12:W$309),MAX(W$12:W$309))+COUNTIF((W$12:W$309),\"NP\")),W80)))","v":""},{"$f":"IF(A80=\"x\",\"x\",IF(C80=\"\",\"\",IF(OR(X80=\"NP\",X80=\"DNS\"),X80,RANK(X80,X$12:X$309,1))))","v":""},{"$f":"IF(A80=\"x\",\"x\",IF(C80=\"\",\"\",IF(OR(AND(U80=\"NP\",U81=\"NP\"),AND(U80=\"DNS\",U81=\"DNS\")),U80,IF(AND(U80=\"NP\",U81=\"DNS\"),U80,IF(AND(U80=\"DNS\",U81=\"NP\"),U81,MIN(U80,U81))))))","v":""}]
[null,null,null,"II.pokus",null,null,null,{"$f":"IF($C80=\"\",\"\",IF(OR($E81=\"DNS\",$F81=\"DNS\",$G81=\"DNS\"),\"DNS\",IF(OR($E81=\"NP\",$F81=\"NP\",$G81=\"NP\"),\"NP\",IF(ISERROR(MEDIAN($E81:$G81)),\"DNS\",IF(COUNT($E81:$G81)<3,MAX($E81:$G81),MEDIAN($E81:$G81))))))","v":""},null,null,null,null,null,null,null,null,null,null,null,null,""]
[{"$f":"IF(Start!E30=\"\",\"\",\"x\")","v":""},25,{"$f":"IF(Start!C30=\"\",\"\",Start!C30)","v":""},"I.pokus",null,null,null,{"$f":"IF($C82=\"\",\"\",IF(OR($E82=\"DNS\",$F82=\"DNS\",$G82=\"DNS\"),\"DNS\",IF(OR($E82=\"NP\",$F82=\"NP\",$G82=\"NP\"),\"NP\",IF(ISERROR(MEDIAN($E82:$G82)),\"DNS\",IF(COUNT($E82:$G82)<3,MAX($E82:$G82),MEDIAN($E82:$G82))))))","v":""},null,null,null,null,null,null,null,null,null,null,null,null,"",{"$f":"IF(C82=\"x\",\"x\",IF(C82=\"\",\"\",IF(OR(W82=\"NP\",W82=\"DNS\"),IF(W82=\"NP\",MAX(W$12:W$309)+COUNTIF((W$12:W$309),MAX(W$12:W$309)),MAX(W$12:W$309)+COUNTIF((W$12:W$309),MAX(W$12:W$309))+COUNTIF((W$12:W$309),\"NP\")),W82)))","v":""},{"$f":"IF(A82=\"x\",\"x\",IF(C82=\"\",\"\",IF(OR(X82=\"NP\",X82=\"DNS\"),X82,RANK(X82,X$12:X$309,1))))","v":""},{"$f":"IF(A82=\"x\",\"x\",IF(C82=\"\",\"\",IF(OR(AND(U82=\"NP\",U83=\"NP\"),AND(U82=\"DNS\",U83=\"DNS\")),U82,IF(AND(U82=\"NP\",U83=\"DNS\"),U82,IF(AND(U82=\"DNS\",U83=\"NP\"),U83,MIN(U82,U83))))))","v":""}]
[null,null,null,"II.pokus",null,null,null,{"$f":"IF($C82=\"\",\"\",IF(OR($E83=\"DNS\",$F83=\"DNS\",$G83=\"DNS\"),\"DNS\",IF(OR($E83=\"NP\",$F83=\"NP\",$G83=\"NP\"),\"NP\",IF(ISERROR(MEDIAN($E83:$G83)),\"DNS\",IF(COUNT($E83:$G83)<3,MAX($E83:$G83),MEDIAN($E83:$G83))))))","v":""},null,null,null,null,null,null,null,null,null,null,null,null,""]
[{"$f":"IF(Start!I6=\"\",\"\",\"x\")","v":""},26,{"$f":"IF(Start!G6=\"\",\"\",Start!G6)","v":""},"I.pokus",null,null,null,{"$f":"IF($C84=\"\",\"\",IF(OR($E84=\"DNS\",$F84=\"DNS\",$G84=\"DNS\"),\"DNS\",IF(OR($E84=\"NP\",$F84=\"NP\",$G84=\"NP\"),\"NP\",IF(ISERROR(MEDIAN($E84:$G84)),\"DNS\",IF(COUNT($E84:$G84)<3,MAX($E84:$G84),MEDIAN($E84:$G84))))))","v":""},null,null,null,null,null,null,null,null,null,null,null,null,"",{"$f":"IF(C84=\"x\",\"x\",IF(C84=\"\",\"\",IF(OR(W84=\"NP\",W84=\"DNS\"),IF(W84=\"NP\",MAX(W$12:W$309)+COUNTIF((W$12:W$309),MAX(W$12:W$309)),MAX(W$12:W$309)+COUNTIF((W$12:W$309),MAX(W$12:W$309))+COUNTIF((W$12:W$309),\"NP\")),W84)))","v":""},{"$f":"IF(A84=\"x\",\"x\",IF(C84=\"\",\"\",IF(OR(X84=\"NP\",X84=\"DNS\"),X84,RANK(X84,X$12:X$309,1))))","v":""},{"$f":"IF(A84=\"x\",\"x\",IF(C84=\"\",\"\",IF(OR(AND(U84=\"NP\",U85=\"NP\"),AND(U84=\"DNS\",U85=\"DNS\")),U84,IF(AND(U84=\"NP\",U85=\"DNS\"),U84,IF(AND(U84=\"DNS\",U85=\"NP\"),U85,MIN(U84,U85))))))","v":""}]
[null,null,null,"II.pokus",null,null,null,{"$f":"IF($C84=\"\",\"\",IF(OR($E85=\"DNS\",$F85=\"DNS\",$G85=\"DNS\"),\"DNS\",IF(OR($E85=\"NP\",$F85=\"NP\",$G85=\"NP\"),\"NP\",IF(ISERROR(MEDIAN($E85:$G85)),\"DNS\",IF(COUNT($E85:$G85)<3,MAX($E85:$G85),MEDIAN($E85:$G85))))))","v":""},null,null,null,null,null,null,null,null,null,null,null,null,""]
[{"$f":"IF(Start!I7=\"\",\"\",\"x\")","v":""},27,{"$f":"IF(Start!G7=\"\",\"\",Start!G7)","v":""},"I.pokus",null,null,null,{"$f":"IF($C86=\"\",\"\",IF(OR($E86=\"DNS\",$F86=\"DNS\",$G86=\"DNS\"),\"DNS\",IF(OR($E86=\"NP\",$F86=\"NP\",$G86=\"NP\"),\"NP\",IF(ISERROR(MEDIAN($E86:$G86)),\"DNS\",IF(COUNT($E86:$G86)<3,MAX($E86:$G86),MEDIAN($E86:$G86))))))","v":""},null,null,null,null,null,null,null,null,null,null,null,null,"",{"$f":"IF(C86=\"x\",\"x\",IF(C86=\"\",\"\",IF(OR(W86=\"NP\",W86=\"DNS\"),IF(W86=\"NP\",MAX(W$12:W$309)+COUNTIF((W$12:W$309),MAX(W$12:W$309)),MAX(W$12:W$309)+COUNTIF((W$12:W$309),MAX(W$12:W$309))+COUNTIF((W$12:W$309),\"NP\")),W86)))","v":""},{"$f":"IF(A86=\"x\",\"x\",IF(C86=\"\",\"\",IF(OR(X86=\"NP\",X86=\"DNS\"),X86,RANK(X86,X$12:X$309,1))))","v":""},{"$f":"IF(A86=\"x\",\"x\",IF(C86=\"\",\"\",IF(OR(AND(U86=\"NP\",U87=\"NP\"),AND(U86=\"DNS\",U87=\"DNS\")),U86,IF(AND(U86=\"NP\",U87=\"DNS\"),U86,IF(AND(U86=\"DNS\",U87=\"NP\"),U87,MIN(U86,U87))))))","v":""}]
[null,null,null,"II.pokus",null,null,null,{"$f":"IF($C86=\"\",\"\",IF(OR($E87=\"DNS\",$F87=\"DNS\",$G87=\"DNS\"),\"DNS\",IF(OR($E87=\"NP\",$F87=\"NP\",$G87=\"NP\"),\"NP\",IF(ISERROR(MEDIAN($E87:$G87)),\"DNS\",IF(COUNT($E87:$G87)<3,MAX($E87:$G87),MEDIAN($E87:$G87))))))","v":""},null,null,null,null,null,null,null,null,null,null,null,null,""]
[{"$f":"IF(Start!I8=\"\",\"\",\"x\")","v":""},28,{"$f":"IF(Start!G8=\"\",\"\",Start!G8)","v":""},"I.pokus",null,null,null,{"$f":"IF($C88=\"\",\"\",IF(OR($E88=\"DNS\",$F88=\"DNS\",$G88=\"DNS\"),\"DNS\",IF(OR($E88=\"NP\",$F88=\"NP\",$G88=\"NP\"),\"NP\",IF(ISERROR(MEDIAN($E88:$G88)),\"DNS\",IF(COUNT($E88:$G88)<3,MAX($E88:$G88),MEDIAN($E88:$G88))))))","v":""},null,null,null,null,null,null,null,null,null,null,null,null,"",{"$f":"IF(C88=\"x\",\"x\",IF(C88=\"\",\"\",IF(OR(W88=\"NP\",W88=\"DNS\"),IF(W88=\"NP\",MAX(W$12:W$309)+COUNTIF((W$12:W$309),MAX(W$12:W$309)),MAX(W$12:W$309)+COUNTIF((W$12:W$309),MAX(W$12:W$309))+COUNTIF((W$12:W$309),\"NP\")),W88)))","v":""},{"$f":"IF(A88=\"x\",\"x\",IF(C88=\"\",\"\",IF(OR(X88=\"NP\",X88=\"DNS\"),X88,RANK(X88,X$12:X$309,1))))","v":""},{"$f":"IF(A88=\"x\",\"x\",IF(C88=\"\",\"\",IF(OR(AND(U88=\"NP\",U89=\"NP\"),AND(U88=\"DNS\",U89=\"DNS\")),U88,IF(AND(U88=\"NP\",U89=\"DNS\"),U88,IF(AND(U88=\"DNS\",U89=\"NP\"),U89,MIN(U88,U89))))))","v":""}]
[null,null,null,"II.pokus",null,null,null,{"$f":"IF($C88=\"\",\"\",IF(OR($E89=\"DNS\",$F89=\"DNS\",$G89=\"DNS\"),\"DNS\",IF(OR($E89=\"NP\",$F89=\"NP\",$G89=\"NP\"),\"NP\",IF(ISERROR(MEDIAN($E89:$G89)),\"DNS\",IF(COUNT($E89:$G89)<3,MAX($E89:$G89),MEDIAN($E89:$G89))))))","v":""},null,null,null,null,null,null,null,null,null,null,null,null,""]
[{"$f":"IF(Start!I9=\"\",\"\",\"x\")","v":""},29,{"$f":"IF(Start!G9=\"\",\"\",Start!G9)","v":""},"I.pokus",null,null,null,{"$f":"IF($C90=\"\",\"\",IF(OR($E90=\"DNS\",$F90=\"DNS\",$G90=\"DNS\"),\"DNS\",IF(OR($E90=\"NP\",$F90=\"NP\",$G90=\"NP\"),\"NP\",IF(ISERROR(MEDIAN($E90:$G90)),\"DNS\",IF(COUNT($E90:$G90)<3,MAX($E90:$G90),MEDIAN($E90:$G90))))))","v":""},null,null,null,null,null,null,null,null,null,null,null,null,"",{"$f":"IF(C90=\"x\",\"x\",IF(C90=\"\",\"\",IF(OR(W90=\"NP\",W90=\"DNS\"),IF(W90=\"NP\",MAX(W$12:W$309)+COUNTIF((W$12:W$309),MAX(W$12:W$309)),MAX(W$12:W$309)+COUNTIF((W$12:W$309),MAX(W$12:W$309))+COUNTIF((W$12:W$309),\"NP\")),W90)))","v":""},{"$f":"IF(A90=\"x\",\"x\",IF(C90=\"\",\"\",IF(OR(X90=\"NP\",X90=\"DNS\"),X90,RANK(X90,X$12:X$309,1))))","v":""},{"$f":"IF(A90=\"x\",\"x\",IF(C90=\"\",\"\",IF(OR(AND(U90=\"NP\",U91=\"NP\"),AND(U90=\"DNS\",U91=\"DNS\")),U90,IF(AND(U90=\"NP\",U91=\"DNS\"),U90,IF(AND(U90=\"DNS\",U91=\"NP\"),U91,MIN(U90,U91))))))","v":""}]
[null,null,null,"II.pokus",null,null,null,{"$f":"IF($C90=\"\",\"\",IF(OR($E91=\"DNS\",$F91=\"DNS\",$G91=\"DNS\"),\"DNS\",IF(OR($E91=\"NP\",$F91=\"NP\",$G91=\"NP\"),\"NP\",IF(ISERROR(MEDIAN($E91:$G91)),\"DNS\",IF(COUNT($E91:$G91)<3,MAX($E91:$G91),MEDIAN($E91:$G91))))))","v":""},null,null,null,null,null,null,null,null,null,null,null,null,""]
[{"$f":"IF(Start!I10=\"\",\"\",\"x\")","v":""},30,{"$f":"IF(Start!G10=\"\",\"\",Start!G10)","v":""},"I.pokus",null,null,null,{"$f":"IF($C92=\"\",\"\",IF(OR($E92=\"DNS\",$F92=\"DNS\",$G92=\"DNS\"),\"DNS\",IF(OR($E92=\"NP\",$F92=\"NP\",$G92=\"NP\"),\"NP\",IF(ISERROR(MEDIAN($E92:$G92)),\"DNS\",IF(COUNT($E92:$G92)<3,MAX($E92:$G92),MEDIAN($E92:$G92))))))","v":""},null,null,null,null,null,null,null,null,null,null,null,null,"",{"$f":"IF(C92=\"x\",\"x\",IF(C92=\"\",\"\",IF(OR(W92=\"NP\",W92=\"DNS\"),IF(W92=\"NP\",MAX(W$12:W$309)+COUNTIF((W$12:W$309),MAX(W$12:W$309)),MAX(W$12:W$309)+COUNTIF((W$12:W$309),MAX(W$12:W$309))+COUNTIF((W$12:W$309),\"NP\")),W92)))","v":""},{"$f":"IF(A92=\"x\",\"x\",IF(C92=\"\",\"\",IF(OR(X92=\"NP\",X92=\"DNS\"),X92,RANK(X92,X$12:X$309,1))))","v":""},{"$f":"IF(A92=\"x\",\"x\",IF(C92=\"\",\"\",IF(OR(AND(U92=\"NP\",U93=\"NP\"),AND(U92=\"DNS\",U93=\"DNS\")),U92,IF(AND(U92=\"NP\",U93=\"DNS\"),U92,IF(AND(U92=\"DNS\",U93=\"NP\"),U93,MIN(U92,U93))))))","v":""}]
[null,null,null,"II.pokus",null,null,null,{"$f":"IF($C92=\"\",\"\",IF(OR($E93=\"DNS\",$F93=\"DNS\",$G93=\"DNS\"),\"DNS\",IF(OR($E93=\"NP\",$F93=\"NP\",$G93=\"NP\"),\"NP\",IF(ISERROR(MEDIAN($E93:$G93)),\"DNS\",IF(COUNT($E93:$G93)<3,MAX($E93:$G93),MEDIAN($E93:$G93))))))","v":""},null,null,null,null,null,null,null,null,null,null,null,null,""]
[null,"CELOSTÁTNÍ HRA PLAMEN"]
[]
[]
[null,"Výsledková listina č: 4"]
[null,"Štafeta požárních dvojic",null,null,"Základem je čas naměřený od vydání signálu startéra do proběhnutí posledního člena cílem",null,null,null,"K úřednímu času se připočítávají trestné sekundy - za každý případ 10 sekund",null,null,null,null,null,null,null,null,null,null,null,"Výsledek soutěže"]
[null,null,null,null,null,null,null,null,"předčasné vyběhnutí","nesvinutí rozpadlého kotouče","nerozložení hadice nejméně na vyznačenou čáru","nesprávné napojení hadice na proudnici či hydr. nástavec","nesprávné rozvinutí hadice u hydr. nástavce","neoběhnutí nebo nesprávné oběhnutí mety","neúplné svinutí hadice mezi metou a nástavcem","hození hadice nebo proudnice","chození po nesprávné straně","nesprávné svinutí (dvojité přeložení)","nesprávné odpojení proudnice nebo hadice"]
[null,null,null,null,null,null,null,null,null,null,null,null,null,null,null,null,null,null,null,null,"součet trest. Sekund a úředního času","počet bodů za umístění"]
[null,{"$f":"\"KATEGORIE: \"&Start!$N$2","v":"KATEGORIE: starší"},null,null,"I. časoměřič","II. časoměřič","III. časoměřič","úřední čas"]
[]
[null,"start. číslo","SOUTĚŽNÍ DRUŽSTVO","pokus"]
[]
[{"$f":"IF(Start!I11=\"\",\"\",\"x\")","v":""},31,{"$f":"IF(Start!G11=\"\",\"\",Start!G11)","v":""},"I.pokus",null,null,null,{"$f":"IF($C105=\"\",\"\",IF(OR($E105=\"DNS\",$F105=\"DNS\",$G105=\"DNS\"),\"DNS\",IF(OR($E105=\"NP\",$F105=\"NP\",$G105=\"NP\"),\"NP\",IF(ISERROR(MEDIAN($E105:$G105)),\"DNS\",IF(COUNT($E105:$G105)<3,MAX($E105:$G105),MEDIAN($E105:$G105))))))","v":""},null,null,null,null,null,null,null,null,null,null,null,null,{"$f":"IF(H105=\"\",\"\",IF(H105=\"NP\",\"NP\",IF(H105=\"DNS\",\"DNS\",SUM(I105:T105)+H105)))","v":""},{"$f":"IF(C105=\"x\",\"x\",IF(C105=\"\",\"\",IF(OR(W105=\"NP\",W105=\"DNS\"),IF(W105=\"NP\",MAX(W$12:W$309)+COUNTIF((W$12:W$309),MAX(W$12:W$309)),MAX(W$12:W$309)+COUNTIF((W$12:W$309),MAX(W$12:W$309))+COUNTIF((W$12:W$309),\"NP\")),W105)))","v":""},{"$f":"IF(A105=\"x\",\"x\",IF(C105=\"\",\"\",IF(OR(X105=\"NP\",X105=\"DNS\"),X105,RANK(X105,X$12:X$309,1))))","v":""},{"$f":"IF(A105=\"x\",\"x\",IF(C105=\"\",\"\",IF(OR(AND(U105=\"NP\",U106=\"NP\"),AND(U105=\"DNS\",U106=\"DNS\")),U105,IF(AND(U105=\"NP\",U106=\"DNS\"),U105,IF(AND(U105=\"DNS\",U106=\"NP\"),U106,MIN(U105,U106))))))","v":""}]
[null,null,null,"II.pokus",null,null,null,{"$f":"IF($C105=\"\",\"\",IF(OR($E106=\"DNS\",$F106=\"DNS\",$G106=\"DNS\"),\"DNS\",IF(OR($E106=\"NP\",$F106=\"NP\",$G106=\"NP\"),\"NP\",IF(ISERROR(MEDIAN($E106:$G106)),\"DNS\",IF(COUNT($E106:$G106)<3,MAX($E106:$G106),MEDIAN($E106:$G106))))))","v":""},null,null,null,null,null,null,null,null,null,null,null,null,""]
[{"$f":"IF(Start!I12=\"\",\"\",\"x\")","v":""},32,{"$f":"IF(Start!G12=\"\",\"\",Start!G12)","v":""},"I.pokus",null,null,null,{"$f":"IF($C107=\"\",\"\",IF(OR($E107=\"DNS\",$F107=\"DNS\",$G107=\"DNS\"),\"DNS\",IF(OR($E107=\"NP\",$F107=\"NP\",$G107=\"NP\"),\"NP\",IF(ISERROR(MEDIAN($E107:$G107)),\"DNS\",IF(COUNT($E107:$G107)<3,MAX($E107:$G107),MEDIAN($E107:$G107))))))","v":""},null,null,null,null,null,null,null,null,null,null,null,null,"",{"$f":"IF(C107=\"x\",\"x\",IF(C107=\"\",\"\",IF(OR(W107=\"NP\",W107=\"DNS\"),IF(W107=\"NP\",MAX(W$12:W$309)+COUNTIF((W$12:W$309),MAX(W$12:W$309)),MAX(W$12:W$309)+COUNTIF((W$12:W$309),MAX(W$12:W$309))+COUNTIF((W$12:W$309),\"NP\")),W107)))","v":""},{"$f":"IF(A107=\"x\",\"x\",IF(C107=\"\",\"\",IF(OR(X107=\"NP\",X107=\"DNS\"),X107,RANK(X107,X$12:X$309,1))))","v":""},{"$f":"IF(A107=\"x\",\"x\",IF(C107=\"\",\"\",IF(OR(AND(U107=\"NP\",U108=\"NP\"),AND(U107=\"DNS\",U108=\"DNS\")),U107,IF(AND(U107=\"NP\",U108=\"DNS\"),U107,IF(AND(U107=\"DNS\",U108=\"NP\"),U108,MIN(U107,U108))))))","v":""}]
[null,null,null,"II.pokus",null,null,null,{"$f":"IF($C107=\"\",\"\",IF(OR($E108=\"DNS\",$F108=\"DNS\",$G108=\"DNS\"),\"DNS\",IF(OR($E108=\"NP\",$F108=\"NP\",$G108=\"NP\"),\"NP\",IF(ISERROR(MEDIAN($E108:$G108)),\"DNS\",IF(COUNT($E108:$G108)<3,MAX($E108:$G108),MEDIAN($E108:$G108))))))","v":""},null,null,null,null,null,null,null,null,null,null,null,null,""]
[{"$f":"IF(Start!I13=\"\",\"\",\"x\")","v":""},33,{"$f":"IF(Start!G13=\"\",\"\",Start!G13)","v":""},"I.pokus",null,null,null,{"$f":"IF($C109=\"\",\"\",IF(OR($E109=\"DNS\",$F109=\"DNS\",$G109=\"DNS\"),\"DNS\",IF(OR($E109=\"NP\",$F109=\"NP\",$G109=\"NP\"),\"NP\",IF(ISERROR(MEDIAN($E109:$G109)),\"DNS\",IF(COUNT($E109:$G109)<3,MAX($E109:$G109),MEDIAN($E109:$G109))))))","v":""},null,null,null,null,null,null,null,null,null,null,null,null,"",{"$f":"IF(C109=\"x\",\"x\",IF(C109=\"\",\"\",IF(OR(W109=\"NP\",W109=\"DNS\"),IF(W109=\"NP\",MAX(W$12:W$309)+COUNTIF((W$12:W$309),MAX(W$12:W$309)),MAX(W$12:W$309)+COUNTIF((W$12:W$309),MAX(W$12:W$309))+COUNTIF((W$12:W$309),\"NP\")),W109)))","v":""},{"$f":"IF(A109=\"x\",\"x\",IF(C109=\"\",\"\",IF(OR(X109=\"NP\",X109=\"DNS\"),X109,RANK(X109,X$12:X$309,1))))","v":""},{"$f":"IF(A109=\"x\",\"x\",IF(C109=\"\",\"\",IF(OR(AND(U109=\"NP\",U110=\"NP\"),AND(U109=\"DNS\",U110=\"DNS\")),U109,IF(AND(U109=\"NP\",U110=\"DNS\"),U109,IF(AND(U109=\"DNS\",U110=\"NP\"),U110,MIN(U109,U110))))))","v":""}]
[null,null,null,"II.pokus",null,null,null,{"$f":"IF($C109=\"\",\"\",IF(OR($E110=\"DNS\",$F110=\"DNS\",$G110=\"DNS\"),\"DNS\",IF(OR($E110=\"NP\",$F110=\"NP\",$G110=\"NP\"),\"NP\",IF(ISERROR(MEDIAN($E110:$G110)),\"DNS\",IF(COUNT($E110:$G110)<3,MAX($E110:$G110),MEDIAN($E110:$G110))))))","v":""},null,null,null,null,null,null,null,null,null,null,null,null,""]
[{"$f":"IF(Start!I14=\"\",\"\",\"x\")","v":""},34,{"$f":"IF(Start!G14=\"\",\"\",Start!G14)","v":""},"I.pokus",null,null,null,{"$f":"IF($C111=\"\",\"\",IF(OR($E111=\"DNS\",$F111=\"DNS\",$G111=\"DNS\"),\"DNS\",IF(OR($E111=\"NP\",$F111=\"NP\",$G111=\"NP\"),\"NP\",IF(ISERROR(MEDIAN($E111:$G111)),\"DNS\",IF(COUNT($E111:$G111)<3,MAX($E111:$G111),MEDIAN($E111:$G111))))))","v":""},null,null,null,null,null,null,null,null,null,null,null,null,"",{"$f":"IF(C111=\"x\",\"x\",IF(C111=\"\",\"\",IF(OR(W111=\"NP\",W111=\"DNS\"),IF(W111=\"NP\",MAX(W$12:W$309)+COUNTIF((W$12:W$309),MAX(W$12:W$309)),MAX(W$12:W$309)+COUNTIF((W$12:W$309),MAX(W$12:W$309))+COUNTIF((W$12:W$309),\"NP\")),W111)))","v":""},{"$f":"IF(A111=\"x\",\"x\",IF(C111=\"\",\"\",IF(OR(X111=\"NP\",X111=\"DNS\"),X111,RANK(X111,X$12:X$309,1))))","v":""},{"$f":"IF(A111=\"x\",\"x\",IF(C111=\"\",\"\",IF(OR(AND(U111=\"NP\",U112=\"NP\"),AND(U111=\"DNS\",U112=\"DNS\")),U111,IF(AND(U111=\"NP\",U112=\"DNS\"),U111,IF(AND(U111=\"DNS\",U112=\"NP\"),U112,MIN(U111,U112))))))","v":""}]
[null,null,null,"II.pokus",null,null,null,{"$f":"IF($C111=\"\",\"\",IF(OR($E112=\"DNS\",$F112=\"DNS\",$G112=\"DNS\"),\"DNS\",IF(OR($E112=\"NP\",$F112=\"NP\",$G112=\"NP\"),\"NP\",IF(ISERROR(MEDIAN($E112:$G112)),\"DNS\",IF(COUNT($E112:$G112)<3,MAX($E112:$G112),MEDIAN($E112:$G112))))))","v":""},null,null,null,null,null,null,null,null,null,null,null,null,""]
[{"$f":"IF(Start!I15=\"\",\"\",\"x\")","v":""},35,{"$f":"IF(Start!G15=\"\",\"\",Start!G15)","v":""},"I.pokus",null,null,null,{"$f":"IF($C113=\"\",\"\",IF(OR($E113=\"DNS\",$F113=\"DNS\",$G113=\"DNS\"),\"DNS\",IF(OR($E113=\"NP\",$F113=\"NP\",$G113=\"NP\"),\"NP\",IF(ISERROR(MEDIAN($E113:$G113)),\"DNS\",IF(COUNT($E113:$G113)<3,MAX($E113:$G113),MEDIAN($E113:$G113))))))","v":""},null,null,null,null,null,null,null,null,null,null,null,null,"",{"$f":"IF(C113=\"x\",\"x\",IF(C113=\"\",\"\",IF(OR(W113=\"NP\",W113=\"DNS\"),IF(W113=\"NP\",MAX(W$12:W$309)+COUNTIF((W$12:W$309),MAX(W$12:W$309)),MAX(W$12:W$309)+COUNTIF((W$12:W$309),MAX(W$12:W$309))+COUNTIF((W$12:W$309),\"NP\")),W113)))","v":""},{"$f":"IF(A113=\"x\",\"x\",IF(C113=\"\",\"\",IF(OR(X113=\"NP\",X113=\"DNS\"),X113,RANK(X113,X$12:X$309,1))))","v":""},{"$f":"IF(A113=\"x\",\"x\",IF(C113=\"\",\"\",IF(OR(AND(U113=\"NP\",U114=\"NP\"),AND(U113=\"DNS\",U114=\"DNS\")),U113,IF(AND(U113=\"NP\",U114=\"DNS\"),U113,IF(AND(U113=\"DNS\",U114=\"NP\"),U114,MIN(U113,U114))))))","v":""}]
[null,null,null,"II.pokus",null,null,null,{"$f":"IF($C113=\"\",\"\",IF(OR($E114=\"DNS\",$F114=\"DNS\",$G114=\"DNS\"),\"DNS\",IF(OR($E114=\"NP\",$F114=\"NP\",$G114=\"NP\"),\"NP\",IF(ISERROR(MEDIAN($E114:$G114)),\"DNS\",IF(COUNT($E114:$G114)<3,MAX($E114:$G114),MEDIAN($E114:$G114))))))","v":""},null,null,null,null,null,null,null,null,null,null,null,null,""]
[{"$f":"IF(Start!I16=\"\",\"\",\"x\")","v":""},36,{"$f":"IF(Start!G16=\"\",\"\",Start!G16)","v":""},"I.pokus",null,null,null,{"$f":"IF($C115=\"\",\"\",IF(OR($E115=\"DNS\",$F115=\"DNS\",$G115=\"DNS\"),\"DNS\",IF(OR($E115=\"NP\",$F115=\"NP\",$G115=\"NP\"),\"NP\",IF(ISERROR(MEDIAN($E115:$G115)),\"DNS\",IF(COUNT($E115:$G115)<3,MAX($E115:$G115),MEDIAN($E115:$G115))))))","v":""},null,null,null,null,null,null,null,null,null,null,null,null,"",{"$f":"IF(C115=\"x\",\"x\",IF(C115=\"\",\"\",IF(OR(W115=\"NP\",W115=\"DNS\"),IF(W115=\"NP\",MAX(W$12:W$309)+COUNTIF((W$12:W$309),MAX(W$12:W$309)),MAX(W$12:W$309)+COUNTIF((W$12:W$309),MAX(W$12:W$309))+COUNTIF((W$12:W$309),\"NP\")),W115)))","v":""},{"$f":"IF(A115=\"x\",\"x\",IF(C115=\"\",\"\",IF(OR(X115=\"NP\",X115=\"DNS\"),X115,RANK(X115,X$12:X$309,1))))","v":""},{"$f":"IF(A115=\"x\",\"x\",IF(C115=\"\",\"\",IF(OR(AND(U115=\"NP\",U116=\"NP\"),AND(U115=\"DNS\",U116=\"DNS\")),U115,IF(AND(U115=\"NP\",U116=\"DNS\"),U115,IF(AND(U115=\"DNS\",U116=\"NP\"),U116,MIN(U115,U116))))))","v":""}]
[null,null,null,"II.pokus",null,null,null,{"$f":"IF($C115=\"\",\"\",IF(OR($E116=\"DNS\",$F116=\"DNS\",$G116=\"DNS\"),\"DNS\",IF(OR($E116=\"NP\",$F116=\"NP\",$G116=\"NP\"),\"NP\",IF(ISERROR(MEDIAN($E116:$G116)),\"DNS\",IF(COUNT($E116:$G116)<3,MAX($E116:$G116),MEDIAN($E116:$G116))))))","v":""},null,null,null,null,null,null,null,null,null,null,null,null,""]
[{"$f":"IF(Start!I17=\"\",\"\",\"x\")","v":""},37,{"$f":"IF(Start!G17=\"\",\"\",Start!G17)","v":""},"I.pokus",null,null,null,{"$f":"IF($C117=\"\",\"\",IF(OR($E117=\"DNS\",$F117=\"DNS\",$G117=\"DNS\"),\"DNS\",IF(OR($E117=\"NP\",$F117=\"NP\",$G117=\"NP\"),\"NP\",IF(ISERROR(MEDIAN($E117:$G117)),\"DNS\",IF(COUNT($E117:$G117)<3,MAX($E117:$G117),MEDIAN($E117:$G117))))))","v":""},null,null,null,null,null,null,null,null,null,null,null,null,"",{"$f":"IF(C117=\"x\",\"x\",IF(C117=\"\",\"\",IF(OR(W117=\"NP\",W117=\"DNS\"),IF(W117=\"NP\",MAX(W$12:W$309)+COUNTIF((W$12:W$309),MAX(W$12:W$309)),MAX(W$12:W$309)+COUNTIF((W$12:W$309),MAX(W$12:W$309))+COUNTIF((W$12:W$309),\"NP\")),W117)))","v":""},{"$f":"IF(A117=\"x\",\"x\",IF(C117=\"\",\"\",IF(OR(X117=\"NP\",X117=\"DNS\"),X117,RANK(X117,X$12:X$309,1))))","v":""},{"$f":"IF(A117=\"x\",\"x\",IF(C117=\"\",\"\",IF(OR(AND(U117=\"NP\",U118=\"NP\"),AND(U117=\"DNS\",U118=\"DNS\")),U117,IF(AND(U117=\"NP\",U118=\"DNS\"),U117,IF(AND(U117=\"DNS\",U118=\"NP\"),U118,MIN(U117,U118))))))","v":""}]
[null,null,null,"II.pokus",null,null,null,{"$f":"IF($C117=\"\",\"\",IF(OR($E118=\"DNS\",$F118=\"DNS\",$G118=\"DNS\"),\"DNS\",IF(OR($E118=\"NP\",$F118=\"NP\",$G118=\"NP\"),\"NP\",IF(ISERROR(MEDIAN($E118:$G118)),\"DNS\",IF(COUNT($E118:$G118)<3,MAX($E118:$G118),MEDIAN($E118:$G118))))))","v":""},null,null,null,null,null,null,null,null,null,null,null,null,""]
[{"$f":"IF(Start!I18=\"\",\"\",\"x\")","v":""},38,{"$f":"IF(Start!G18=\"\",\"\",Start!G18)","v":""},"I.pokus",null,null,null,{"$f":"IF($C119=\"\",\"\",IF(OR($E119=\"DNS\",$F119=\"DNS\",$G119=\"DNS\"),\"DNS\",IF(OR($E119=\"NP\",$F119=\"NP\",$G119=\"NP\"),\"NP\",IF(ISERROR(MEDIAN($E119:$G119)),\"DNS\",IF(COUNT($E119:$G119)<3,MAX($E119:$G119),MEDIAN($E119:$G119))))))","v":""},null,null,null,null,null,null,null,null,null,null,null,null,"",{"$f":"IF(C119=\"x\",\"x\",IF(C119=\"\",\"\",IF(OR(W119=\"NP\",W119=\"DNS\"),IF(W119=\"NP\",MAX(W$12:W$309)+COUNTIF((W$12:W$309),MAX(W$12:W$309)),MAX(W$12:W$309)+COUNTIF((W$12:W$309),MAX(W$12:W$309))+COUNTIF((W$12:W$309),\"NP\")),W119)))","v":""},{"$f":"IF(A119=\"x\",\"x\",IF(C119=\"\",\"\",IF(OR(X119=\"NP\",X119=\"DNS\"),X119,RANK(X119,X$12:X$309,1))))","v":""},{"$f":"IF(A119=\"x\",\"x\",IF(C119=\"\",\"\",IF(OR(AND(U119=\"NP\",U120=\"NP\"),AND(U119=\"DNS\",U120=\"DNS\")),U119,IF(AND(U119=\"NP\",U120=\"DNS\"),U119,IF(AND(U119=\"DNS\",U120=\"NP\"),U120,MIN(U119,U120))))))","v":""}]
[null,null,null,"II.pokus",null,null,null,{"$f":"IF($C119=\"\",\"\",IF(OR($E120=\"DNS\",$F120=\"DNS\",$G120=\"DNS\"),\"DNS\",IF(OR($E120=\"NP\",$F120=\"NP\",$G120=\"NP\"),\"NP\",IF(ISERROR(MEDIAN($E120:$G120)),\"DNS\",IF(COUNT($E120:$G120)<3,MAX($E120:$G120),MEDIAN($E120:$G120))))))","v":""},null,null,null,null,null,null,null,null,null,null,null,null,""]
[{"$f":"IF(Start!I19=\"\",\"\",\"x\")","v":""},39,{"$f":"IF(Start!G19=\"\",\"\",Start!G19)","v":""},"I.pokus",null,null,null,{"$f":"IF($C121=\"\",\"\",IF(OR($E121=\"DNS\",$F121=\"DNS\",$G121=\"DNS\"),\"DNS\",IF(OR($E121=\"NP\",$F121=\"NP\",$G121=\"NP\"),\"NP\",IF(ISERROR(MEDIAN($E121:$G121)),\"DNS\",IF(COUNT($E121:$G121)<3,MAX($E121:$G121),MEDIAN($E121:$G121))))))","v":""},null,null,null,null,null,null,null,null,null,null,null,null,"",{"$f":"IF(C121=\"x\",\"x\",IF(C121=\"\",\"\",IF(OR(W121=\"NP\",W121=\"DNS\"),IF(W121=\"NP\",MAX(W$12:W$309)+COUNTIF((W$12:W$309),MAX(W$12:W$309)),MAX(W$12:W$309)+COUNTIF((W$12:W$309),MAX(W$12:W$309))+COUNTIF((W$12:W$309),\"NP\")),W121)))","v":""},{"$f":"IF(A121=\"x\",\"x\",IF(C121=\"\",\"\",IF(OR(X121=\"NP\",X121=\"DNS\"),X121,RANK(X121,X$12:X$309,1))))","v":""},{"$f":"IF(A121=\"x\",\"x\",IF(C121=\"\",\"\",IF(OR(AND(U121=\"NP\",U122=\"NP\"),AND(U121=\"DNS\",U122=\"DNS\")),U121,IF(AND(U121=\"NP\",U122=\"DNS\"),U121,IF(AND(U121=\"DNS\",U122=\"NP\"),U122,MIN(U121,U122))))))","v":""}]
[null,null,null,"II.pokus",null,null,null,{"$f":"IF($C121=\"\",\"\",IF(OR($E122=\"DNS\",$F122=\"DNS\",$G122=\"DNS\"),\"DNS\",IF(OR($E122=\"NP\",$F122=\"NP\",$G122=\"NP\"),\"NP\",IF(ISERROR(MEDIAN($E122:$G122)),\"DNS\",IF(COUNT($E122:$G122)<3,MAX($E122:$G122),MEDIAN($E122:$G122))))))","v":""},null,null,null,null,null,null,null,null,null,null,null,null,""]
[{"$f":"IF(Start!I20=\"\",\"\",\"x\")","v":""},40,{"$f":"IF(Start!G20=\"\",\"\",Start!G20)","v":""},"I.pokus",null,null,null,{"$f":"IF($C123=\"\",\"\",IF(OR($E123=\"DNS\",$F123=\"DNS\",$G123=\"DNS\"),\"DNS\",IF(OR($E123=\"NP\",$F123=\"NP\",$G123=\"NP\"),\"NP\",IF(ISERROR(MEDIAN($E123:$G123)),\"DNS\",IF(COUNT($E123:$G123)<3,MAX($E123:$G123),MEDIAN($E123:$G123))))))","v":""},null,null,null,null,null,null,null,null,null,null,null,null,"",{"$f":"IF(C123=\"x\",\"x\",IF(C123=\"\",\"\",IF(OR(W123=\"NP\",W123=\"DNS\"),IF(W123=\"NP\",MAX(W$12:W$309)+COUNTIF((W$12:W$309),MAX(W$12:W$309)),MAX(W$12:W$309)+COUNTIF((W$12:W$309),MAX(W$12:W$309))+COUNTIF((W$12:W$309),\"NP\")),W123)))","v":""},{"$f":"IF(A123=\"x\",\"x\",IF(C123=\"\",\"\",IF(OR(X123=\"NP\",X123=\"DNS\"),X123,RANK(X123,X$12:X$309,1))))","v":""},{"$f":"IF(A123=\"x\",\"x\",IF(C123=\"\",\"\",IF(OR(AND(U123=\"NP\",U124=\"NP\"),AND(U123=\"DNS\",U124=\"DNS\")),U123,IF(AND(U123=\"NP\",U124=\"DNS\"),U123,IF(AND(U123=\"DNS\",U124=\"NP\"),U124,MIN(U123,U124))))))","v":""}]
[null,null,null,"II.pokus",null,null,null,{"$f":"IF($C123=\"\",\"\",IF(OR($E124=\"DNS\",$F124=\"DNS\",$G124=\"DNS\"),\"DNS\",IF(OR($E124=\"NP\",$F124=\"NP\",$G124=\"NP\"),\"NP\",IF(ISERROR(MEDIAN($E124:$G124)),\"DNS\",IF(COUNT($E124:$G124)<3,MAX($E124:$G124),MEDIAN($E124:$G124))))))","v":""},null,null,null,null,null,null,null,null,null,null,null,null,""]
[null,"CELOSTÁTNÍ HRA PLAMEN"]
[]
[]
[null,"Výsledková listina č: 5"]
[null,"Štafeta požárních dvojic",null,null,"Základem je čas naměřený od vydání signálu startéra do proběhnutí posledního člena cílem",null,null,null,"K úřednímu času se připočítávají trestné sekundy - za každý případ 10 sekund",null,null,null,null,null,null,null,null,null,null,null,"Výsledek soutěže"]
[null,null,null,null,null,null,null,null,"předčasné vyběhnutí","nesvinutí rozpadlého kotouče","nerozložení hadice nejméně na vyznačenou čáru","nesprávné napojení hadice na proudnici či hydr. nástavec","nesprávné rozvinutí hadice u hydr. nástavce","neoběhnutí nebo nesprávné oběhnutí mety","neúplné svinutí hadice mezi metou a nástavcem","hození hadice nebo proudnice","chození po nesprávné straně","nesprávné svinutí (dvojité přeložení)","nesprávné odpojení proudnice nebo hadice"]
[null,null,null,null,null,null,null,null,null,null,null,null,null,null,null,null,null,null,null,null,"součet trest. Sekund a úředního času","počet bodů za umístění"]
[null,{"$f":"\"KATEGORIE: \"&Start!$N$2","v":"KATEGORIE: starší"},null,null,"I. časoměřič","II. časoměřič","III. časoměřič","úřední čas"]
[]
[null,"start. číslo","SOUTĚŽNÍ DRUŽSTVO","pokus"]
[]
[{"$f":"IF(Start!I21=\"\",\"\",\"x\")","v":""},41,{"$f":"IF(Start!G21=\"\",\"\",Start!G21)","v":""},"I.pokus",null,null,null,{"$f":"IF($C136=\"\",\"\",IF(OR($E136=\"DNS\",$F136=\"DNS\",$G136=\"DNS\"),\"DNS\",IF(OR($E136=\"NP\",$F136=\"NP\",$G136=\"NP\"),\"NP\",IF(ISERROR(MEDIAN($E136:$G136)),\"DNS\",IF(COUNT($E136:$G136)<3,MAX($E136:$G136),MEDIAN($E136:$G136))))))","v":""},null,null,null,null,null,null,null,null,null,null,null,null,{"$f":"IF(H136=\"\",\"\",IF(H136=\"NP\",\"NP\",IF(H136=\"DNS\",\"DNS\",SUM(I136:T136)+H136)))","v":""},{"$f":"IF(C136=\"x\",\"x\",IF(C136=\"\",\"\",IF(OR(W136=\"NP\",W136=\"DNS\"),IF(W136=\"NP\",MAX(W$12:W$309)+COUNTIF((W$12:W$309),MAX(W$12:W$309)),MAX(W$12:W$309)+COUNTIF((W$12:W$309),MAX(W$12:W$309))+COUNTIF((W$12:W$309),\"NP\")),W136)))","v":""},{"$f":"IF(A136=\"x\",\"x\",IF(C136=\"\",\"\",IF(OR(X136=\"NP\",X136=\"DNS\"),X136,RANK(X136,X$12:X$309,1))))","v":""},{"$f":"IF(A136=\"x\",\"x\",IF(C136=\"\",\"\",IF(OR(AND(U136=\"NP\",U137=\"NP\"),AND(U136=\"DNS\",U137=\"DNS\")),U136,IF(AND(U136=\"NP\",U137=\"DNS\"),U136,IF(AND(U136=\"DNS\",U137=\"NP\"),U137,MIN(U136,U137))))))","v":""}]
[null,null,null,"II.pokus",null,null,null,{"$f":"IF($C136=\"\",\"\",IF(OR($E137=\"DNS\",$F137=\"DNS\",$G137=\"DNS\"),\"DNS\",IF(OR($E137=\"NP\",$F137=\"NP\",$G137=\"NP\"),\"NP\",IF(ISERROR(MEDIAN($E137:$G137)),\"DNS\",IF(COUNT($E137:$G137)<3,MAX($E137:$G137),MEDIAN($E137:$G137))))))","v":""},null,null,null,null,null,null,null,null,null,null,null,null,""]
[{"$f":"IF(Start!I22=\"\",\"\",\"x\")","v":""},42,{"$f":"IF(Start!G22=\"\",\"\",Start!G22)","v":""},"I.pokus",null,null,null,{"$f":"IF($C138=\"\",\"\",IF(OR($E138=\"DNS\",$F138=\"DNS\",$G138=\"DNS\"),\"DNS\",IF(OR($E138=\"NP\",$F138=\"NP\",$G138=\"NP\"),\"NP\",IF(ISERROR(MEDIAN($E138:$G138)),\"DNS\",IF(COUNT($E138:$G138)<3,MAX($E138:$G138),MEDIAN($E138:$G138))))))","v":""},null,null,null,null,null,null,null,null,null,null,null,null,"",{"$f":"IF(C138=\"x\",\"x\",IF(C138=\"\",\"\",IF(OR(W138=\"NP\",W138=\"DNS\"),IF(W138=\"NP\",MAX(W$12:W$309)+COUNTIF((W$12:W$309),MAX(W$12:W$309)),MAX(W$12:W$309)+COUNTIF((W$12:W$309),MAX(W$12:W$309))+COUNTIF((W$12:W$309),\"NP\")),W138)))","v":""},{"$f":"IF(A138=\"x\",\"x\",IF(C138=\"\",\"\",IF(OR(X138=\"NP\",X138=\"DNS\"),X138,RANK(X138,X$12:X$309,1))))","v":""},{"$f":"IF(A138=\"x\",\"x\",IF(C138=\"\",\"\",IF(OR(AND(U138=\"NP\",U139=\"NP\"),AND(U138=\"DNS\",U139=\"DNS\")),U138,IF(AND(U138=\"NP\",U139=\"DNS\"),U138,IF(AND(U138=\"DNS\",U139=\"NP\"),U139,MIN(U138,U139))))))","v":""}]
[null,null,null,"II.pokus",null,null,null,{"$f":"IF($C138=\"\",\"\",IF(OR($E139=\"DNS\",$F139=\"DNS\",$G139=\"DNS\"),\"DNS\",IF(OR($E139=\"NP\",$F139=\"NP\",$G139=\"NP\"),\"NP\",IF(ISERROR(MEDIAN($E139:$G139)),\"DNS\",IF(COUNT($E139:$G139)<3,MAX($E139:$G139),MEDIAN($E139:$G139))))))","v":""},null,null,null,null,null,null,null,null,null,null,null,null,""]
[{"$f":"IF(Start!I23=\"\",\"\",\"x\")","v":""},43,{"$f":"IF(Start!G23=\"\",\"\",Start!G23)","v":""},"I.pokus",null,null,null,{"$f":"IF($C140=\"\",\"\",IF(OR($E140=\"DNS\",$F140=\"DNS\",$G140=\"DNS\"),\"DNS\",IF(OR($E140=\"NP\",$F140=\"NP\",$G140=\"NP\"),\"NP\",IF(ISERROR(MEDIAN($E140:$G140)),\"DNS\",IF(COUNT($E140:$G140)<3,MAX($E140:$G140),MEDIAN($E140:$G140))))))","v":""},null,null,null,null,null,null,null,null,null,null,null,null,"",{"$f":"IF(C140=\"x\",\"x\",IF(C140=\"\",\"\",IF(OR(W140=\"NP\",W140=\"DNS\"),IF(W140=\"NP\",MAX(W$12:W$309)+COUNTIF((W$12:W$309),MAX(W$12:W$309)),MAX(W$12:W$309)+COUNTIF((W$12:W$309),MAX(W$12:W$309))+COUNTIF((W$12:W$309),\"NP\")),W140)))","v":""},{"$f":"IF(A140=\"x\",\"x\",IF(C140=\"\",\"\",IF(OR(X140=\"NP\",X140=\"DNS\"),X140,RANK(X140,X$12:X$309,1))))","v":""},{"$f":"IF(A140=\"x\",\"x\",IF(C140=\"\",\"\",IF(OR(AND(U140=\"NP\",U141=\"NP\"),AND(U140=\"DNS\",U141=\"DNS\")),U140,IF(AND(U140=\"NP\",U141=\"DNS\"),U140,IF(AND(U140=\"DNS\",U141=\"NP\"),U141,MIN(U140,U141))))))","v":""}]
[null,null,null,"II.pokus",null,null,null,{"$f":"IF($C140=\"\",\"\",IF(OR($E141=\"DNS\",$F141=\"DNS\",$G141=\"DNS\"),\"DNS\",IF(OR($E141=\"NP\",$F141=\"NP\",$G141=\"NP\"),\"NP\",IF(ISERROR(MEDIAN($E141:$G141)),\"DNS\",IF(COUNT($E141:$G141)<3,MAX($E141:$G141),MEDIAN($E141:$G141))))))","v":""},null,null,null,null,null,null,null,null,null,null,null,null,""]
[{"$f":"IF(Start!I24=\"\",\"\",\"x\")","v":""},44,{"$f":"IF(Start!G24=\"\",\"\",Start!G24)","v":""},"I.pokus",null,null,null,{"$f":"IF($C142=\"\",\"\",IF(OR($E142=\"DNS\",$F142=\"DNS\",$G142=\"DNS\"),\"DNS\",IF(OR($E142=\"NP\",$F142=\"NP\",$G142=\"NP\"),\"NP\",IF(ISERROR(MEDIAN($E142:$G142)),\"DNS\",IF(COUNT($E142:$G142)<3,MAX($E142:$G142),MEDIAN($E142:$G142))))))","v":""},null,null,null,null,null,null,null,null,null,null,null,null,"",{"$f":"IF(C142=\"x\",\"x\",IF(C142=\"\",\"\",IF(OR(W142=\"NP\",W142=\"DNS\"),IF(W142=\"NP\",MAX(W$12:W$309)+COUNTIF((W$12:W$309),MAX(W$12:W$309)),MAX(W$12:W$309)+COUNTIF((W$12:W$309),MAX(W$12:W$309))+COUNTIF((W$12:W$309),\"NP\")),W142)))","v":""},{"$f":"IF(A142=\"x\",\"x\",IF(C142=\"\",\"\",IF(OR(X142=\"NP\",X142=\"DNS\"),X142,RANK(X142,X$12:X$309,1))))","v":""},{"$f":"IF(A142=\"x\",\"x\",IF(C142=\"\",\"\",IF(OR(AND(U142=\"NP\",U143=\"NP\"),AND(U142=\"DNS\",U143=\"DNS\")),U142,IF(AND(U142=\"NP\",U143=\"DNS\"),U142,IF(AND(U142=\"DNS\",U143=\"NP\"),U143,MIN(U142,U143))))))","v":""}]
[null,null,null,"II.pokus",null,null,null,{"$f":"IF($C142=\"\",\"\",IF(OR($E143=\"DNS\",$F143=\"DNS\",$G143=\"DNS\"),\"DNS\",IF(OR($E143=\"NP\",$F143=\"NP\",$G143=\"NP\"),\"NP\",IF(ISERROR(MEDIAN($E143:$G143)),\"DNS\",IF(COUNT($E143:$G143)<3,MAX($E143:$G143),MEDIAN($E143:$G143))))))","v":""},null,null,null,null,null,null,null,null,null,null,null,null,""]
[{"$f":"IF(Start!I25=\"\",\"\",\"x\")","v":""},45,{"$f":"IF(Start!G25=\"\",\"\",Start!G25)","v":""},"I.pokus",null,null,null,{"$f":"IF($C144=\"\",\"\",IF(OR($E144=\"DNS\",$F144=\"DNS\",$G144=\"DNS\"),\"DNS\",IF(OR($E144=\"NP\",$F144=\"NP\",$G144=\"NP\"),\"NP\",IF(ISERROR(MEDIAN($E144:$G144)),\"DNS\",IF(COUNT($E144:$G144)<3,MAX($E144:$G144),MEDIAN($E144:$G144))))))","v":""},null,null,null,null,null,null,null,null,null,null,null,null,"",{"$f":"IF(C144=\"x\",\"x\",IF(C144=\"\",\"\",IF(OR(W144=\"NP\",W144=\"DNS\"),IF(W144=\"NP\",MAX(W$12:W$309)+COUNTIF((W$12:W$309),MAX(W$12:W$309)),MAX(W$12:W$309)+COUNTIF((W$12:W$309),MAX(W$12:W$309))+COUNTIF((W$12:W$309),\"NP\")),W144)))","v":""},{"$f":"IF(A144=\"x\",\"x\",IF(C144=\"\",\"\",IF(OR(X144=\"NP\",X144=\"DNS\"),X144,RANK(X144,X$12:X$309,1))))","v":""},{"$f":"IF(A144=\"x\",\"x\",IF(C144=\"\",\"\",IF(OR(AND(U144=\"NP\",U145=\"NP\"),AND(U144=\"DNS\",U145=\"DNS\")),U144,IF(AND(U144=\"NP\",U145=\"DNS\"),U144,IF(AND(U144=\"DNS\",U145=\"NP\"),U145,MIN(U144,U145))))))","v":""}]
[null,null,null,"II.pokus",null,null,null,{"$f":"IF($C144=\"\",\"\",IF(OR($E145=\"DNS\",$F145=\"DNS\",$G145=\"DNS\"),\"DNS\",IF(OR($E145=\"NP\",$F145=\"NP\",$G145=\"NP\"),\"NP\",IF(ISERROR(MEDIAN($E145:$G145)),\"DNS\",IF(COUNT($E145:$G145)<3,MAX($E145:$G145),MEDIAN($E145:$G145))))))","v":""},null,null,null,null,null,null,null,null,null,null,null,null,""]
[{"$f":"IF(Start!I26=\"\",\"\",\"x\")","v":""},46,{"$f":"IF(Start!G26=\"\",\"\",Start!G26)","v":""},"I.pokus",null,null,null,{"$f":"IF($C146=\"\",\"\",IF(OR($E146=\"DNS\",$F146=\"DNS\",$G146=\"DNS\"),\"DNS\",IF(OR($E146=\"NP\",$F146=\"NP\",$G146=\"NP\"),\"NP\",IF(ISERROR(MEDIAN($E146:$G146)),\"DNS\",IF(COUNT($E146:$G146)<3,MAX($E146:$G146),MEDIAN($E146:$G146))))))","v":""},null,null,null,null,null,null,null,null,null,null,null,null,"",{"$f":"IF(C146=\"x\",\"x\",IF(C146=\"\",\"\",IF(OR(W146=\"NP\",W146=\"DNS\"),IF(W146=\"NP\",MAX(W$12:W$309)+COUNTIF((W$12:W$309),MAX(W$12:W$309)),MAX(W$12:W$309)+COUNTIF((W$12:W$309),MAX(W$12:W$309))+COUNTIF((W$12:W$309),\"NP\")),W146)))","v":""},{"$f":"IF(A146=\"x\",\"x\",IF(C146=\"\",\"\",IF(OR(X146=\"NP\",X146=\"DNS\"),X146,RANK(X146,X$12:X$309,1))))","v":""},{"$f":"IF(A146=\"x\",\"x\",IF(C146=\"\",\"\",IF(OR(AND(U146=\"NP\",U147=\"NP\"),AND(U146=\"DNS\",U147=\"DNS\")),U146,IF(AND(U146=\"NP\",U147=\"DNS\"),U146,IF(AND(U146=\"DNS\",U147=\"NP\"),U147,MIN(U146,U147))))))","v":""}]
[null,null,null,"II.pokus",null,null,null,{"$f":"IF($C146=\"\",\"\",IF(OR($E147=\"DNS\",$F147=\"DNS\",$G147=\"DNS\"),\"DNS\",IF(OR($E147=\"NP\",$F147=\"NP\",$G147=\"NP\"),\"NP\",IF(ISERROR(MEDIAN($E147:$G147)),\"DNS\",IF(COUNT($E147:$G147)<3,MAX($E147:$G147),MEDIAN($E147:$G147))))))","v":""},null,null,null,null,null,null,null,null,null,null,null,null,""]
[{"$f":"IF(Start!I27=\"\",\"\",\"x\")","v":""},47,{"$f":"IF(Start!G27=\"\",\"\",Start!G27)","v":""},"I.pokus",null,null,null,{"$f":"IF($C148=\"\",\"\",IF(OR($E148=\"DNS\",$F148=\"DNS\",$G148=\"DNS\"),\"DNS\",IF(OR($E148=\"NP\",$F148=\"NP\",$G148=\"NP\"),\"NP\",IF(ISERROR(MEDIAN($E148:$G148)),\"DNS\",IF(COUNT($E148:$G148)<3,MAX($E148:$G148),MEDIAN($E148:$G148))))))","v":""},null,null,null,null,null,null,null,null,null,null,null,null,"",{"$f":"IF(C148=\"x\",\"x\",IF(C148=\"\",\"\",IF(OR(W148=\"NP\",W148=\"DNS\"),IF(W148=\"NP\",MAX(W$12:W$309)+COUNTIF((W$12:W$309),MAX(W$12:W$309)),MAX(W$12:W$309)+COUNTIF((W$12:W$309),MAX(W$12:W$309))+COUNTIF((W$12:W$309),\"NP\")),W148)))","v":""},{"$f":"IF(A148=\"x\",\"x\",IF(C148=\"\",\"\",IF(OR(X148=\"NP\",X148=\"DNS\"),X148,RANK(X148,X$12:X$309,1))))","v":""},{"$f":"IF(A148=\"x\",\"x\",IF(C148=\"\",\"\",IF(OR(AND(U148=\"NP\",U149=\"NP\"),AND(U148=\"DNS\",U149=\"DNS\")),U148,IF(AND(U148=\"NP\",U149=\"DNS\"),U148,IF(AND(U148=\"DNS\",U149=\"NP\"),U149,MIN(U148,U149))))))","v":""}]
[null,null,null,"II.pokus",null,null,null,{"$f":"IF($C148=\"\",\"\",IF(OR($E149=\"DNS\",$F149=\"DNS\",$G149=\"DNS\"),\"DNS\",IF(OR($E149=\"NP\",$F149=\"NP\",$G149=\"NP\"),\"NP\",IF(ISERROR(MEDIAN($E149:$G149)),\"DNS\",IF(COUNT($E149:$G149)<3,MAX($E149:$G149),MEDIAN($E149:$G149))))))","v":""},null,null,null,null,null,null,null,null,null,null,null,null,""]
[{"$f":"IF(Start!I28=\"\",\"\",\"x\")","v":""},48,{"$f":"IF(Start!G28=\"\",\"\",Start!G28)","v":""},"I.pokus",null,null,null,{"$f":"IF($C150=\"\",\"\",IF(OR($E150=\"DNS\",$F150=\"DNS\",$G150=\"DNS\"),\"DNS\",IF(OR($E150=\"NP\",$F150=\"NP\",$G150=\"NP\"),\"NP\",IF(ISERROR(MEDIAN($E150:$G150)),\"DNS\",IF(COUNT($E150:$G150)<3,MAX($E150:$G150),MEDIAN($E150:$G150))))))","v":""},null,null,null,null,null,null,null,null,null,null,null,null,"",{"$f":"IF(C150=\"x\",\"x\",IF(C150=\"\",\"\",IF(OR(W150=\"NP\",W150=\"DNS\"),IF(W150=\"NP\",MAX(W$12:W$309)+COUNTIF((W$12:W$309),MAX(W$12:W$309)),MAX(W$12:W$309)+COUNTIF((W$12:W$309),MAX(W$12:W$309))+COUNTIF((W$12:W$309),\"NP\")),W150)))","v":""},{"$f":"IF(A150=\"x\",\"x\",IF(C150=\"\",\"\",IF(OR(X150=\"NP\",X150=\"DNS\"),X150,RANK(X150,X$12:X$309,1))))","v":""},{"$f":"IF(A150=\"x\",\"x\",IF(C150=\"\",\"\",IF(OR(AND(U150=\"NP\",U151=\"NP\"),AND(U150=\"DNS\",U151=\"DNS\")),U150,IF(AND(U150=\"NP\",U151=\"DNS\"),U150,IF(AND(U150=\"DNS\",U151=\"NP\"),U151,MIN(U150,U151))))))","v":""}]
[null,null,null,"II.pokus",null,null,null,{"$f":"IF($C150=\"\",\"\",IF(OR($E151=\"DNS\",$F151=\"DNS\",$G151=\"DNS\"),\"DNS\",IF(OR($E151=\"NP\",$F151=\"NP\",$G151=\"NP\"),\"NP\",IF(ISERROR(MEDIAN($E151:$G151)),\"DNS\",IF(COUNT($E151:$G151)<3,MAX($E151:$G151),MEDIAN($E151:$G151))))))","v":""},null,null,null,null,null,null,null,null,null,null,null,null,""]
[{"$f":"IF(Start!I29=\"\",\"\",\"x\")","v":""},49,{"$f":"IF(Start!G29=\"\",\"\",Start!G29)","v":""},"I.pokus",null,null,null,{"$f":"IF($C152=\"\",\"\",IF(OR($E152=\"DNS\",$F152=\"DNS\",$G152=\"DNS\"),\"DNS\",IF(OR($E152=\"NP\",$F152=\"NP\",$G152=\"NP\"),\"NP\",IF(ISERROR(MEDIAN($E152:$G152)),\"DNS\",IF(COUNT($E152:$G152)<3,MAX($E152:$G152),MEDIAN($E152:$G152))))))","v":""},null,null,null,null,null,null,null,null,null,null,null,null,"",{"$f":"IF(C152=\"x\",\"x\",IF(C152=\"\",\"\",IF(OR(W152=\"NP\",W152=\"DNS\"),IF(W152=\"NP\",MAX(W$12:W$309)+COUNTIF((W$12:W$309),MAX(W$12:W$309)),MAX(W$12:W$309)+COUNTIF((W$12:W$309),MAX(W$12:W$309))+COUNTIF((W$12:W$309),\"NP\")),W152)))","v":""},{"$f":"IF(A152=\"x\",\"x\",IF(C152=\"\",\"\",IF(OR(X152=\"NP\",X152=\"DNS\"),X152,RANK(X152,X$12:X$309,1))))","v":""},{"$f":"IF(A152=\"x\",\"x\",IF(C152=\"\",\"\",IF(OR(AND(U152=\"NP\",U153=\"NP\"),AND(U152=\"DNS\",U153=\"DNS\")),U152,IF(AND(U152=\"NP\",U153=\"DNS\"),U152,IF(AND(U152=\"DNS\",U153=\"NP\"),U153,MIN(U152,U153))))))","v":""}]
[null,null,null,"II.pokus",null,null,null,{"$f":"IF($C152=\"\",\"\",IF(OR($E153=\"DNS\",$F153=\"DNS\",$G153=\"DNS\"),\"DNS\",IF(OR($E153=\"NP\",$F153=\"NP\",$G153=\"NP\"),\"NP\",IF(ISERROR(MEDIAN($E153:$G153)),\"DNS\",IF(COUNT($E153:$G153)<3,MAX($E153:$G153),MEDIAN($E153:$G153))))))","v":""},null,null,null,null,null,null,null,null,null,null,null,null,""]
[{"$f":"IF(Start!I30=\"\",\"\",\"x\")","v":""},50,{"$f":"IF(Start!G30=\"\",\"\",Start!G30)","v":""},"I.pokus",null,null,null,{"$f":"IF($C154=\"\",\"\",IF(OR($E154=\"DNS\",$F154=\"DNS\",$G154=\"DNS\"),\"DNS\",IF(OR($E154=\"NP\",$F154=\"NP\",$G154=\"NP\"),\"NP\",IF(ISERROR(MEDIAN($E154:$G154)),\"DNS\",IF(COUNT($E154:$G154)<3,MAX($E154:$G154),MEDIAN($E154:$G154))))))","v":""},null,null,null,null,null,null,null,null,null,null,null,null,"",{"$f":"IF(C154=\"x\",\"x\",IF(C154=\"\",\"\",IF(OR(W154=\"NP\",W154=\"DNS\"),IF(W154=\"NP\",MAX(W$12:W$309)+COUNTIF((W$12:W$309),MAX(W$12:W$309)),MAX(W$12:W$309)+COUNTIF((W$12:W$309),MAX(W$12:W$309))+COUNTIF((W$12:W$309),\"NP\")),W154)))","v":""},{"$f":"IF(A154=\"x\",\"x\",IF(C154=\"\",\"\",IF(OR(X154=\"NP\",X154=\"DNS\"),X154,RANK(X154,X$12:X$309,1))))","v":""},{"$f":"IF(A154=\"x\",\"x\",IF(C154=\"\",\"\",IF(OR(AND(U154=\"NP\",U155=\"NP\"),AND(U154=\"DNS\",U155=\"DNS\")),U154,IF(AND(U154=\"NP\",U155=\"DNS\"),U154,IF(AND(U154=\"DNS\",U155=\"NP\"),U155,MIN(U154,U155))))))","v":""}]
[null,null,null,"II.pokus",null,null,null,{"$f":"IF($C154=\"\",\"\",IF(OR($E155=\"DNS\",$F155=\"DNS\",$G155=\"DNS\"),\"DNS\",IF(OR($E155=\"NP\",$F155=\"NP\",$G155=\"NP\"),\"NP\",IF(ISERROR(MEDIAN($E155:$G155)),\"DNS\",IF(COUNT($E155:$G155)<3,MAX($E155:$G155),MEDIAN($E155:$G155))))))","v":""},null,null,null,null,null,null,null,null,null,null,null,null,""]
[null,"CELOSTÁTNÍ HRA PLAMEN"]
[]
[]
[null,"Výsledková listina č: 6"]
[null,"Štafeta požárních dvojic",null,null,"Základem je čas naměřený od vydání signálu startéra do proběhnutí posledního člena cílem",null,null,null,"K úřednímu času se připočítávají trestné sekundy - za každý případ 10 sekund",null,null,null,null,null,null,null,null,null,null,null,"Výsledek soutěže"]
[null,null,null,null,null,null,null,null,"předčasné vyběhnutí","nesvinutí rozpadlého kotouče","nerozložení hadice nejméně na vyznačenou čáru","nesprávné napojení hadice na proudnici či hydr. nástavec","nesprávné rozvinutí hadice u hydr. nástavce","neoběhnutí nebo nesprávné oběhnutí mety","neúplné svinutí hadice mezi metou a nástavcem","hození hadice nebo proudnice","chození po nesprávné straně","nesprávné svinutí (dvojité přeložení)","nesprávné odpojení proudnice nebo hadice"]
[null,null,null,null,null,null,null,null,null,null,null,null,null,null,null,null,null,null,null,null,"součet trest. Sekund a úředního času","počet bodů za umístění"]
[null,{"$f":"\"KATEGORIE: \"&Start!$N$2","v":"KATEGORIE: starší"},null,null,"I. časoměřič","II. časoměřič","III. časoměřič","úřední čas"]
[]
[null,"start. číslo","SOUTĚŽNÍ DRUŽSTVO","pokus"]
[]
[{"$f":"IF(Start!M6=\"\",\"\",\"x\")","v":""},51,{"$f":"IF(Start!K6=\"\",\"\",Start!K6)","v":""},"I.pokus",null,null,null,{"$f":"IF($C167=\"\",\"\",IF(OR($E167=\"DNS\",$F167=\"DNS\",$G167=\"DNS\"),\"DNS\",IF(OR($E167=\"NP\",$F167=\"NP\",$G167=\"NP\"),\"NP\",IF(ISERROR(MEDIAN($E167:$G167)),\"DNS\",IF(COUNT($E167:$G167)<3,MAX($E167:$G167),MEDIAN($E167:$G167))))))","v":""},null,null,null,null,null,null,null,null,null,null,null,null,{"$f":"IF(H167=\"\",\"\",IF(H167=\"NP\",\"NP\",IF(H167=\"DNS\",\"DNS\",SUM(I167:T167)+H167)))","v":""},{"$f":"IF(C167=\"x\",\"x\",IF(C167=\"\",\"\",IF(OR(W167=\"NP\",W167=\"DNS\"),IF(W167=\"NP\",MAX(W$12:W$309)+COUNTIF((W$12:W$309),MAX(W$12:W$309)),MAX(W$12:W$309)+COUNTIF((W$12:W$309),MAX(W$12:W$309))+COUNTIF((W$12:W$309),\"NP\")),W167)))","v":""},{"$f":"IF(A167=\"x\",\"x\",IF(C167=\"\",\"\",IF(OR(X167=\"NP\",X167=\"DNS\"),X167,RANK(X167,X$12:X$309,1))))","v":""},{"$f":"IF(A167=\"x\",\"x\",IF(C167=\"\",\"\",IF(OR(AND(U167=\"NP\",U168=\"NP\"),AND(U167=\"DNS\",U168=\"DNS\")),U167,IF(AND(U167=\"NP\",U168=\"DNS\"),U167,IF(AND(U167=\"DNS\",U168=\"NP\"),U168,MIN(U167,U168))))))","v":""}]
[null,null,null,"II.pokus",null,null,null,{"$f":"IF($C167=\"\",\"\",IF(OR($E168=\"DNS\",$F168=\"DNS\",$G168=\"DNS\"),\"DNS\",IF(OR($E168=\"NP\",$F168=\"NP\",$G168=\"NP\"),\"NP\",IF(ISERROR(MEDIAN($E168:$G168)),\"DNS\",IF(COUNT($E168:$G168)<3,MAX($E168:$G168),MEDIAN($E168:$G168))))))","v":""},null,null,null,null,null,null,null,null,null,null,null,null,""]
[{"$f":"IF(Start!M7=\"\",\"\",\"x\")","v":""},52,{"$f":"IF(Start!K7=\"\",\"\",Start!K7)","v":""},"I.pokus",null,null,null,{"$f":"IF($C169=\"\",\"\",IF(OR($E169=\"DNS\",$F169=\"DNS\",$G169=\"DNS\"),\"DNS\",IF(OR($E169=\"NP\",$F169=\"NP\",$G169=\"NP\"),\"NP\",IF(ISERROR(MEDIAN($E169:$G169)),\"DNS\",IF(COUNT($E169:$G169)<3,MAX($E169:$G169),MEDIAN($E169:$G169))))))","v":""},null,null,null,null,null,null,null,null,null,null,null,null,"",{"$f":"IF(C169=\"x\",\"x\",IF(C169=\"\",\"\",IF(OR(W169=\"NP\",W169=\"DNS\"),IF(W169=\"NP\",MAX(W$12:W$309)+COUNTIF((W$12:W$309),MAX(W$12:W$309)),MAX(W$12:W$309)+COUNTIF((W$12:W$309),MAX(W$12:W$309))+COUNTIF((W$12:W$309),\"NP\")),W169)))","v":""},{"$f":"IF(A169=\"x\",\"x\",IF(C169=\"\",\"\",IF(OR(X169=\"NP\",X169=\"DNS\"),X169,RANK(X169,X$12:X$309,1))))","v":""},{"$f":"IF(A169=\"x\",\"x\",IF(C169=\"\",\"\",IF(OR(AND(U169=\"NP\",U170=\"NP\"),AND(U169=\"DNS\",U170=\"DNS\")),U169,IF(AND(U169=\"NP\",U170=\"DNS\"),U169,IF(AND(U169=\"DNS\",U170=\"NP\"),U170,MIN(U169,U170))))))","v":""}]
[null,null,null,"II.pokus",null,null,null,{"$f":"IF($C169=\"\",\"\",IF(OR($E170=\"DNS\",$F170=\"DNS\",$G170=\"DNS\"),\"DNS\",IF(OR($E170=\"NP\",$F170=\"NP\",$G170=\"NP\"),\"NP\",IF(ISERROR(MEDIAN($E170:$G170)),\"DNS\",IF(COUNT($E170:$G170)<3,MAX($E170:$G170),MEDIAN($E170:$G170))))))","v":""},null,null,null,null,null,null,null,null,null,null,null,null,""]
[{"$f":"IF(Start!M8=\"\",\"\",\"x\")","v":""},53,{"$f":"IF(Start!K8=\"\",\"\",Start!K8)","v":""},"I.pokus",null,null,null,{"$f":"IF($C171=\"\",\"\",IF(OR($E171=\"DNS\",$F171=\"DNS\",$G171=\"DNS\"),\"DNS\",IF(OR($E171=\"NP\",$F171=\"NP\",$G171=\"NP\"),\"NP\",IF(ISERROR(MEDIAN($E171:$G171)),\"DNS\",IF(COUNT($E171:$G171)<3,MAX($E171:$G171),MEDIAN($E171:$G171))))))","v":""},null,null,null,null,null,null,null,null,null,null,null,null,"",{"$f":"IF(C171=\"x\",\"x\",IF(C171=\"\",\"\",IF(OR(W171=\"NP\",W171=\"DNS\"),IF(W171=\"NP\",MAX(W$12:W$309)+COUNTIF((W$12:W$309),MAX(W$12:W$309)),MAX(W$12:W$309)+COUNTIF((W$12:W$309),MAX(W$12:W$309))+COUNTIF((W$12:W$309),\"NP\")),W171)))","v":""},{"$f":"IF(A171=\"x\",\"x\",IF(C171=\"\",\"\",IF(OR(X171=\"NP\",X171=\"DNS\"),X171,RANK(X171,X$12:X$309,1))))","v":""},{"$f":"IF(A171=\"x\",\"x\",IF(C171=\"\",\"\",IF(OR(AND(U171=\"NP\",U172=\"NP\"),AND(U171=\"DNS\",U172=\"DNS\")),U171,IF(AND(U171=\"NP\",U172=\"DNS\"),U171,IF(AND(U171=\"DNS\",U172=\"NP\"),U172,MIN(U171,U172))))))","v":""}]
[null,null,null,"II.pokus",null,null,null,{"$f":"IF($C171=\"\",\"\",IF(OR($E172=\"DNS\",$F172=\"DNS\",$G172=\"DNS\"),\"DNS\",IF(OR($E172=\"NP\",$F172=\"NP\",$G172=\"NP\"),\"NP\",IF(ISERROR(MEDIAN($E172:$G172)),\"DNS\",IF(COUNT($E172:$G172)<3,MAX($E172:$G172),MEDIAN($E172:$G172))))))","v":""},null,null,null,null,null,null,null,null,null,null,null,null,""]
[{"$f":"IF(Start!M9=\"\",\"\",\"x\")","v":""},54,{"$f":"IF(Start!K9=\"\",\"\",Start!K9)","v":""},"I.pokus",null,null,null,{"$f":"IF($C173=\"\",\"\",IF(OR($E173=\"DNS\",$F173=\"DNS\",$G173=\"DNS\"),\"DNS\",IF(OR($E173=\"NP\",$F173=\"NP\",$G173=\"NP\"),\"NP\",IF(ISERROR(MEDIAN($E173:$G173)),\"DNS\",IF(COUNT($E173:$G173)<3,MAX($E173:$G173),MEDIAN($E173:$G173))))))","v":""},null,null,null,null,null,null,null,null,null,null,null,null,"",{"$f":"IF(C173=\"x\",\"x\",IF(C173=\"\",\"\",IF(OR(W173=\"NP\",W173=\"DNS\"),IF(W173=\"NP\",MAX(W$12:W$309)+COUNTIF((W$12:W$309),MAX(W$12:W$309)),MAX(W$12:W$309)+COUNTIF((W$12:W$309),MAX(W$12:W$309))+COUNTIF((W$12:W$309),\"NP\")),W173)))","v":""},{"$f":"IF(A173=\"x\",\"x\",IF(C173=\"\",\"\",IF(OR(X173=\"NP\",X173=\"DNS\"),X173,RANK(X173,X$12:X$309,1))))","v":""},{"$f":"IF(A173=\"x\",\"x\",IF(C173=\"\",\"\",IF(OR(AND(U173=\"NP\",U174=\"NP\"),AND(U173=\"DNS\",U174=\"DNS\")),U173,IF(AND(U173=\"NP\",U174=\"DNS\"),U173,IF(AND(U173=\"DNS\",U174=\"NP\"),U174,MIN(U173,U174))))))","v":""}]
[null,null,null,"II.pokus",null,null,null,{"$f":"IF($C173=\"\",\"\",IF(OR($E174=\"DNS\",$F174=\"DNS\",$G174=\"DNS\"),\"DNS\",IF(OR($E174=\"NP\",$F174=\"NP\",$G174=\"NP\"),\"NP\",IF(ISERROR(MEDIAN($E174:$G174)),\"DNS\",IF(COUNT($E174:$G174)<3,MAX($E174:$G174),MEDIAN($E174:$G174))))))","v":""},null,null,null,null,null,null,null,null,null,null,null,null,""]
[{"$f":"IF(Start!M10=\"\",\"\",\"x\")","v":""},55,{"$f":"IF(Start!K10=\"\",\"\",Start!K10)","v":""},"I.pokus",null,null,null,{"$f":"IF($C175=\"\",\"\",IF(OR($E175=\"DNS\",$F175=\"DNS\",$G175=\"DNS\"),\"DNS\",IF(OR($E175=\"NP\",$F175=\"NP\",$G175=\"NP\"),\"NP\",IF(ISERROR(MEDIAN($E175:$G175)),\"DNS\",IF(COUNT($E175:$G175)<3,MAX($E175:$G175),MEDIAN($E175:$G175))))))","v":""},null,null,null,null,null,null,null,null,null,null,null,null,"",{"$f":"IF(C175=\"x\",\"x\",IF(C175=\"\",\"\",IF(OR(W175=\"NP\",W175=\"DNS\"),IF(W175=\"NP\",MAX(W$12:W$309)+COUNTIF((W$12:W$309),MAX(W$12:W$309)),MAX(W$12:W$309)+COUNTIF((W$12:W$309),MAX(W$12:W$309))+COUNTIF((W$12:W$309),\"NP\")),W175)))","v":""},{"$f":"IF(A175=\"x\",\"x\",IF(C175=\"\",\"\",IF(OR(X175=\"NP\",X175=\"DNS\"),X175,RANK(X175,X$12:X$309,1))))","v":""},{"$f":"IF(A175=\"x\",\"x\",IF(C175=\"\",\"\",IF(OR(AND(U175=\"NP\",U176=\"NP\"),AND(U175=\"DNS\",U176=\"DNS\")),U175,IF(AND(U175=\"NP\",U176=\"DNS\"),U175,IF(AND(U175=\"DNS\",U176=\"NP\"),U176,MIN(U175,U176))))))","v":""}]
[null,null,null,"II.pokus",null,null,null,{"$f":"IF($C175=\"\",\"\",IF(OR($E176=\"DNS\",$F176=\"DNS\",$G176=\"DNS\"),\"DNS\",IF(OR($E176=\"NP\",$F176=\"NP\",$G176=\"NP\"),\"NP\",IF(ISERROR(MEDIAN($E176:$G176)),\"DNS\",IF(COUNT($E176:$G176)<3,MAX($E176:$G176),MEDIAN($E176:$G176))))))","v":""},null,null,null,null,null,null,null,null,null,null,null,null,""]
[{"$f":"IF(Start!M11=\"\",\"\",\"x\")","v":""},56,{"$f":"IF(Start!K11=\"\",\"\",Start!K11)","v":""},"I.pokus",null,null,null,{"$f":"IF($C177=\"\",\"\",IF(OR($E177=\"DNS\",$F177=\"DNS\",$G177=\"DNS\"),\"DNS\",IF(OR($E177=\"NP\",$F177=\"NP\",$G177=\"NP\"),\"NP\",IF(ISERROR(MEDIAN($E177:$G177)),\"DNS\",IF(COUNT($E177:$G177)<3,MAX($E177:$G177),MEDIAN($E177:$G177))))))","v":""},null,null,null,null,null,null,null,null,null,null,null,null,"",{"$f":"IF(C177=\"x\",\"x\",IF(C177=\"\",\"\",IF(OR(W177=\"NP\",W177=\"DNS\"),IF(W177=\"NP\",MAX(W$12:W$309)+COUNTIF((W$12:W$309),MAX(W$12:W$309)),MAX(W$12:W$309)+COUNTIF((W$12:W$309),MAX(W$12:W$309))+COUNTIF((W$12:W$309),\"NP\")),W177)))","v":""},{"$f":"IF(A177=\"x\",\"x\",IF(C177=\"\",\"\",IF(OR(X177=\"NP\",X177=\"DNS\"),X177,RANK(X177,X$12:X$309,1))))","v":""},{"$f":"IF(A177=\"x\",\"x\",IF(C177=\"\",\"\",IF(OR(AND(U177=\"NP\",U178=\"NP\"),AND(U177=\"DNS\",U178=\"DNS\")),U177,IF(AND(U177=\"NP\",U178=\"DNS\"),U177,IF(AND(U177=\"DNS\",U178=\"NP\"),U178,MIN(U177,U178))))))","v":""}]
[null,null,null,"II.pokus",null,null,null,{"$f":"IF($C177=\"\",\"\",IF(OR($E178=\"DNS\",$F178=\"DNS\",$G178=\"DNS\"),\"DNS\",IF(OR($E178=\"NP\",$F178=\"NP\",$G178=\"NP\"),\"NP\",IF(ISERROR(MEDIAN($E178:$G178)),\"DNS\",IF(COUNT($E178:$G178)<3,MAX($E178:$G178),MEDIAN($E178:$G178))))))","v":""},null,null,null,null,null,null,null,null,null,null,null,null,""]
[{"$f":"IF(Start!M12=\"\",\"\",\"x\")","v":""},57,{"$f":"IF(Start!K12=\"\",\"\",Start!K12)","v":""},"I.pokus",null,null,null,{"$f":"IF($C179=\"\",\"\",IF(OR($E179=\"DNS\",$F179=\"DNS\",$G179=\"DNS\"),\"DNS\",IF(OR($E179=\"NP\",$F179=\"NP\",$G179=\"NP\"),\"NP\",IF(ISERROR(MEDIAN($E179:$G179)),\"DNS\",IF(COUNT($E179:$G179)<3,MAX($E179:$G179),MEDIAN($E179:$G179))))))","v":""},null,null,null,null,null,null,null,null,null,null,null,null,"",{"$f":"IF(C179=\"x\",\"x\",IF(C179=\"\",\"\",IF(OR(W179=\"NP\",W179=\"DNS\"),IF(W179=\"NP\",MAX(W$12:W$309)+COUNTIF((W$12:W$309),MAX(W$12:W$309)),MAX(W$12:W$309)+COUNTIF((W$12:W$309),MAX(W$12:W$309))+COUNTIF((W$12:W$309),\"NP\")),W179)))","v":""},{"$f":"IF(A179=\"x\",\"x\",IF(C179=\"\",\"\",IF(OR(X179=\"NP\",X179=\"DNS\"),X179,RANK(X179,X$12:X$309,1))))","v":""},{"$f":"IF(A179=\"x\",\"x\",IF(C179=\"\",\"\",IF(OR(AND(U179=\"NP\",U180=\"NP\"),AND(U179=\"DNS\",U180=\"DNS\")),U179,IF(AND(U179=\"NP\",U180=\"DNS\"),U179,IF(AND(U179=\"DNS\",U180=\"NP\"),U180,MIN(U179,U180))))))","v":""}]
[null,null,null,"II.pokus",null,null,null,{"$f":"IF($C179=\"\",\"\",IF(OR($E180=\"DNS\",$F180=\"DNS\",$G180=\"DNS\"),\"DNS\",IF(OR($E180=\"NP\",$F180=\"NP\",$G180=\"NP\"),\"NP\",IF(ISERROR(MEDIAN($E180:$G180)),\"DNS\",IF(COUNT($E180:$G180)<3,MAX($E180:$G180),MEDIAN($E180:$G180))))))","v":""},null,null,null,null,null,null,null,null,null,null,null,null,""]
[{"$f":"IF(Start!M13=\"\",\"\",\"x\")","v":""},58,{"$f":"IF(Start!K13=\"\",\"\",Start!K13)","v":""},"I.pokus",null,null,null,{"$f":"IF($C181=\"\",\"\",IF(OR($E181=\"DNS\",$F181=\"DNS\",$G181=\"DNS\"),\"DNS\",IF(OR($E181=\"NP\",$F181=\"NP\",$G181=\"NP\"),\"NP\",IF(ISERROR(MEDIAN($E181:$G181)),\"DNS\",IF(COUNT($E181:$G181)<3,MAX($E181:$G181),MEDIAN($E181:$G181))))))","v":""},null,null,null,null,null,null,null,null,null,null,null,null,"",{"$f":"IF(C181=\"x\",\"x\",IF(C181=\"\",\"\",IF(OR(W181=\"NP\",W181=\"DNS\"),IF(W181=\"NP\",MAX(W$12:W$309)+COUNTIF((W$12:W$309),MAX(W$12:W$309)),MAX(W$12:W$309)+COUNTIF((W$12:W$309),MAX(W$12:W$309))+COUNTIF((W$12:W$309),\"NP\")),W181)))","v":""},{"$f":"IF(A181=\"x\",\"x\",IF(C181=\"\",\"\",IF(OR(X181=\"NP\",X181=\"DNS\"),X181,RANK(X181,X$12:X$309,1))))","v":""},{"$f":"IF(A181=\"x\",\"x\",IF(C181=\"\",\"\",IF(OR(AND(U181=\"NP\",U182=\"NP\"),AND(U181=\"DNS\",U182=\"DNS\")),U181,IF(AND(U181=\"NP\",U182=\"DNS\"),U181,IF(AND(U181=\"DNS\",U182=\"NP\"),U182,MIN(U181,U182))))))","v":""}]
[null,null,null,"II.pokus",null,null,null,{"$f":"IF($C181=\"\",\"\",IF(OR($E182=\"DNS\",$F182=\"DNS\",$G182=\"DNS\"),\"DNS\",IF(OR($E182=\"NP\",$F182=\"NP\",$G182=\"NP\"),\"NP\",IF(ISERROR(MEDIAN($E182:$G182)),\"DNS\",IF(COUNT($E182:$G182)<3,MAX($E182:$G182),MEDIAN($E182:$G182))))))","v":""},null,null,null,null,null,null,null,null,null,null,null,null,""]
[{"$f":"IF(Start!M14=\"\",\"\",\"x\")","v":""},59,{"$f":"IF(Start!K14=\"\",\"\",Start!K14)","v":""},"I.pokus",null,null,null,{"$f":"IF($C183=\"\",\"\",IF(OR($E183=\"DNS\",$F183=\"DNS\",$G183=\"DNS\"),\"DNS\",IF(OR($E183=\"NP\",$F183=\"NP\",$G183=\"NP\"),\"NP\",IF(ISERROR(MEDIAN($E183:$G183)),\"DNS\",IF(COUNT($E183:$G183)<3,MAX($E183:$G183),MEDIAN($E183:$G183))))))","v":""},null,null,null,null,null,null,null,null,null,null,null,null,"",{"$f":"IF(C183=\"x\",\"x\",IF(C183=\"\",\"\",IF(OR(W183=\"NP\",W183=\"DNS\"),IF(W183=\"NP\",MAX(W$12:W$309)+COUNTIF((W$12:W$309),MAX(W$12:W$309)),MAX(W$12:W$309)+COUNTIF((W$12:W$309),MAX(W$12:W$309))+COUNTIF((W$12:W$309),\"NP\")),W183)))","v":""},{"$f":"IF(A183=\"x\",\"x\",IF(C183=\"\",\"\",IF(OR(X183=\"NP\",X183=\"DNS\"),X183,RANK(X183,X$12:X$309,1))))","v":""},{"$f":"IF(A183=\"x\",\"x\",IF(C183=\"\",\"\",IF(OR(AND(U183=\"NP\",U184=\"NP\"),AND(U183=\"DNS\",U184=\"DNS\")),U183,IF(AND(U183=\"NP\",U184=\"DNS\"),U183,IF(AND(U183=\"DNS\",U184=\"NP\"),U184,MIN(U183,U184))))))","v":""}]
[null,null,null,"II.pokus",null,null,null,{"$f":"IF($C183=\"\",\"\",IF(OR($E184=\"DNS\",$F184=\"DNS\",$G184=\"DNS\"),\"DNS\",IF(OR($E184=\"NP\",$F184=\"NP\",$G184=\"NP\"),\"NP\",IF(ISERROR(MEDIAN($E184:$G184)),\"DNS\",IF(COUNT($E184:$G184)<3,MAX($E184:$G184),MEDIAN($E184:$G184))))))","v":""},null,null,null,null,null,null,null,null,null,null,null,null,""]
[{"$f":"IF(Start!M15=\"\",\"\",\"x\")","v":""},60,{"$f":"IF(Start!K15=\"\",\"\",Start!K15)","v":""},"I.pokus",null,null,null,{"$f":"IF($C185=\"\",\"\",IF(OR($E185=\"DNS\",$F185=\"DNS\",$G185=\"DNS\"),\"DNS\",IF(OR($E185=\"NP\",$F185=\"NP\",$G185=\"NP\"),\"NP\",IF(ISERROR(MEDIAN($E185:$G185)),\"DNS\",IF(COUNT($E185:$G185)<3,MAX($E185:$G185),MEDIAN($E185:$G185))))))","v":""},null,null,null,null,null,null,null,null,null,null,null,null,"",{"$f":"IF(C185=\"x\",\"x\",IF(C185=\"\",\"\",IF(OR(W185=\"NP\",W185=\"DNS\"),IF(W185=\"NP\",MAX(W$12:W$309)+COUNTIF((W$12:W$309),MAX(W$12:W$309)),MAX(W$12:W$309)+COUNTIF((W$12:W$309),MAX(W$12:W$309))+COUNTIF((W$12:W$309),\"NP\")),W185)))","v":""},{"$f":"IF(A185=\"x\",\"x\",IF(C185=\"\",\"\",IF(OR(X185=\"NP\",X185=\"DNS\"),X185,RANK(X185,X$12:X$309,1))))","v":""},{"$f":"IF(A185=\"x\",\"x\",IF(C185=\"\",\"\",IF(OR(AND(U185=\"NP\",U186=\"NP\"),AND(U185=\"DNS\",U186=\"DNS\")),U185,IF(AND(U185=\"NP\",U186=\"DNS\"),U185,IF(AND(U185=\"DNS\",U186=\"NP\"),U186,MIN(U185,U186))))))","v":""}]
[null,null,null,"II.pokus",null,null,null,{"$f":"IF($C185=\"\",\"\",IF(OR($E186=\"DNS\",$F186=\"DNS\",$G186=\"DNS\"),\"DNS\",IF(OR($E186=\"NP\",$F186=\"NP\",$G186=\"NP\"),\"NP\",IF(ISERROR(MEDIAN($E186:$G186)),\"DNS\",IF(COUNT($E186:$G186)<3,MAX($E186:$G186),MEDIAN($E186:$G186))))))","v":""},null,null,null,null,null,null,null,null,null,null,null,null,""]
[null,"CELOSTÁTNÍ HRA PLAMEN"]
[]
[]
[null,"Výsledková listina č: 7"]
[null,"Štafeta požárních dvojic",null,null,"Základem je čas naměřený od vydání signálu startéra do proběhnutí posledního člena cílem",null,null,null,"K úřednímu času se připočítávají trestné sekundy - za každý případ 10 sekund",null,null,null,null,null,null,null,null,null,null,null,"Výsledek soutěže"]
[null,null,null,null,null,null,null,null,"předčasné vyběhnutí","nesvinutí rozpadlého kotouče","nerozložení hadice nejméně na vyznačenou čáru","nesprávné napojení hadice na proudnici či hydr. nástavec","nesprávné rozvinutí hadice u hydr. nástavce","neoběhnutí nebo nesprávné oběhnutí mety","neúplné svinutí hadice mezi metou a nástavcem","hození hadice nebo proudnice","chození po nesprávné straně","nesprávné svinutí (dvojité přeložení)","nesprávné odpojení proudnice nebo hadice"]
[null,null,null,null,null,null,null,null,null,null,null,null,null,null,null,null,null,null,null,null,"součet trest. Sekund a úředního času","počet bodů za umístění"]
[null,{"$f":"\"KATEGORIE: \"&Start!$N$2","v":"KATEGORIE: starší"},null,null,"I. časoměřič","II. časoměřič","III. časoměřič","úřední čas"]
[]
[null,"start. číslo","SOUTĚŽNÍ DRUŽSTVO","pokus"]
[]
[{"$f":"IF(Start!M16=\"\",\"\",\"x\")","v":""},61,{"$f":"IF(Start!K16=\"\",\"\",Start!K16)","v":""},"I.pokus",null,null,null,{"$f":"IF($C198=\"\",\"\",IF(OR($E198=\"DNS\",$F198=\"DNS\",$G198=\"DNS\"),\"DNS\",IF(OR($E198=\"NP\",$F198=\"NP\",$G198=\"NP\"),\"NP\",IF(ISERROR(MEDIAN($E198:$G198)),\"DNS\",IF(COUNT($E198:$G198)<3,MAX($E198:$G198),MEDIAN($E198:$G198))))))","v":""},null,null,null,null,null,null,null,null,null,null,null,null,{"$f":"IF(H198=\"\",\"\",IF(H198=\"NP\",\"NP\",IF(H198=\"DNS\",\"DNS\",SUM(I198:T198)+H198)))","v":""},{"$f":"IF(C198=\"x\",\"x\",IF(C198=\"\",\"\",IF(OR(W198=\"NP\",W198=\"DNS\"),IF(W198=\"NP\",MAX(W$12:W$309)+COUNTIF((W$12:W$309),MAX(W$12:W$309)),MAX(W$12:W$309)+COUNTIF((W$12:W$309),MAX(W$12:W$309))+COUNTIF((W$12:W$309),\"NP\")),W198)))","v":""},{"$f":"IF(A198=\"x\",\"x\",IF(C198=\"\",\"\",IF(OR(X198=\"NP\",X198=\"DNS\"),X198,RANK(X198,X$12:X$309,1))))","v":""},{"$f":"IF(A198=\"x\",\"x\",IF(C198=\"\",\"\",IF(OR(AND(U198=\"NP\",U199=\"NP\"),AND(U198=\"DNS\",U199=\"DNS\")),U198,IF(AND(U198=\"NP\",U199=\"DNS\"),U198,IF(AND(U198=\"DNS\",U199=\"NP\"),U199,MIN(U198,U199))))))","v":""}]
[null,null,null,"II.pokus",null,null,null,{"$f":"IF($C198=\"\",\"\",IF(OR($E199=\"DNS\",$F199=\"DNS\",$G199=\"DNS\"),\"DNS\",IF(OR($E199=\"NP\",$F199=\"NP\",$G199=\"NP\"),\"NP\",IF(ISERROR(MEDIAN($E199:$G199)),\"DNS\",IF(COUNT($E199:$G199)<3,MAX($E199:$G199),MEDIAN($E199:$G199))))))","v":""},null,null,null,null,null,null,null,null,null,null,null,null,""]
[{"$f":"IF(Start!M17=\"\",\"\",\"x\")","v":""},62,{"$f":"IF(Start!K17=\"\",\"\",Start!K17)","v":""},"I.pokus",null,null,null,{"$f":"IF($C200=\"\",\"\",IF(OR($E200=\"DNS\",$F200=\"DNS\",$G200=\"DNS\"),\"DNS\",IF(OR($E200=\"NP\",$F200=\"NP\",$G200=\"NP\"),\"NP\",IF(ISERROR(MEDIAN($E200:$G200)),\"DNS\",IF(COUNT($E200:$G200)<3,MAX($E200:$G200),MEDIAN($E200:$G200))))))","v":""},null,null,null,null,null,null,null,null,null,null,null,null,"",{"$f":"IF(C200=\"x\",\"x\",IF(C200=\"\",\"\",IF(OR(W200=\"NP\",W200=\"DNS\"),IF(W200=\"NP\",MAX(W$12:W$309)+COUNTIF((W$12:W$309),MAX(W$12:W$309)),MAX(W$12:W$309)+COUNTIF((W$12:W$309),MAX(W$12:W$309))+COUNTIF((W$12:W$309),\"NP\")),W200)))","v":""},{"$f":"IF(A200=\"x\",\"x\",IF(C200=\"\",\"\",IF(OR(X200=\"NP\",X200=\"DNS\"),X200,RANK(X200,X$12:X$309,1))))","v":""},{"$f":"IF(A200=\"x\",\"x\",IF(C200=\"\",\"\",IF(OR(AND(U200=\"NP\",U201=\"NP\"),AND(U200=\"DNS\",U201=\"DNS\")),U200,IF(AND(U200=\"NP\",U201=\"DNS\"),U200,IF(AND(U200=\"DNS\",U201=\"NP\"),U201,MIN(U200,U201))))))","v":""}]
[null,null,null,"II.pokus",null,null,null,{"$f":"IF($C200=\"\",\"\",IF(OR($E201=\"DNS\",$F201=\"DNS\",$G201=\"DNS\"),\"DNS\",IF(OR($E201=\"NP\",$F201=\"NP\",$G201=\"NP\"),\"NP\",IF(ISERROR(MEDIAN($E201:$G201)),\"DNS\",IF(COUNT($E201:$G201)<3,MAX($E201:$G201),MEDIAN($E201:$G201))))))","v":""},null,null,null,null,null,null,null,null,null,null,null,null,""]
[{"$f":"IF(Start!M18=\"\",\"\",\"x\")","v":""},63,{"$f":"IF(Start!K18=\"\",\"\",Start!K18)","v":""},"I.pokus",null,null,null,{"$f":"IF($C202=\"\",\"\",IF(OR($E202=\"DNS\",$F202=\"DNS\",$G202=\"DNS\"),\"DNS\",IF(OR($E202=\"NP\",$F202=\"NP\",$G202=\"NP\"),\"NP\",IF(ISERROR(MEDIAN($E202:$G202)),\"DNS\",IF(COUNT($E202:$G202)<3,MAX($E202:$G202),MEDIAN($E202:$G202))))))","v":""},null,null,null,null,null,null,null,null,null,null,null,null,"",{"$f":"IF(C202=\"x\",\"x\",IF(C202=\"\",\"\",IF(OR(W202=\"NP\",W202=\"DNS\"),IF(W202=\"NP\",MAX(W$12:W$309)+COUNTIF((W$12:W$309),MAX(W$12:W$309)),MAX(W$12:W$309)+COUNTIF((W$12:W$309),MAX(W$12:W$309))+COUNTIF((W$12:W$309),\"NP\")),W202)))","v":""},{"$f":"IF(A202=\"x\",\"x\",IF(C202=\"\",\"\",IF(OR(X202=\"NP\",X202=\"DNS\"),X202,RANK(X202,X$12:X$309,1))))","v":""},{"$f":"IF(A202=\"x\",\"x\",IF(C202=\"\",\"\",IF(OR(AND(U202=\"NP\",U203=\"NP\"),AND(U202=\"DNS\",U203=\"DNS\")),U202,IF(AND(U202=\"NP\",U203=\"DNS\"),U202,IF(AND(U202=\"DNS\",U203=\"NP\"),U203,MIN(U202,U203))))))","v":""}]
[null,null,null,"II.pokus",null,null,null,{"$f":"IF($C202=\"\",\"\",IF(OR($E203=\"DNS\",$F203=\"DNS\",$G203=\"DNS\"),\"DNS\",IF(OR($E203=\"NP\",$F203=\"NP\",$G203=\"NP\"),\"NP\",IF(ISERROR(MEDIAN($E203:$G203)),\"DNS\",IF(COUNT($E203:$G203)<3,MAX($E203:$G203),MEDIAN($E203:$G203))))))","v":""},null,null,null,null,null,null,null,null,null,null,null,null,""]
[{"$f":"IF(Start!M19=\"\",\"\",\"x\")","v":""},64,{"$f":"IF(Start!K19=\"\",\"\",Start!K19)","v":""},"I.pokus",null,null,null,{"$f":"IF($C204=\"\",\"\",IF(OR($E204=\"DNS\",$F204=\"DNS\",$G204=\"DNS\"),\"DNS\",IF(OR($E204=\"NP\",$F204=\"NP\",$G204=\"NP\"),\"NP\",IF(ISERROR(MEDIAN($E204:$G204)),\"DNS\",IF(COUNT($E204:$G204)<3,MAX($E204:$G204),MEDIAN($E204:$G204))))))","v":""},null,null,null,null,null,null,null,null,null,null,null,null,"",{"$f":"IF(C204=\"x\",\"x\",IF(C204=\"\",\"\",IF(OR(W204=\"NP\",W204=\"DNS\"),IF(W204=\"NP\",MAX(W$12:W$309)+COUNTIF((W$12:W$309),MAX(W$12:W$309)),MAX(W$12:W$309)+COUNTIF((W$12:W$309),MAX(W$12:W$309))+COUNTIF((W$12:W$309),\"NP\")),W204)))","v":""},{"$f":"IF(A204=\"x\",\"x\",IF(C204=\"\",\"\",IF(OR(X204=\"NP\",X204=\"DNS\"),X204,RANK(X204,X$12:X$309,1))))","v":""},{"$f":"IF(A204=\"x\",\"x\",IF(C204=\"\",\"\",IF(OR(AND(U204=\"NP\",U205=\"NP\"),AND(U204=\"DNS\",U205=\"DNS\")),U204,IF(AND(U204=\"NP\",U205=\"DNS\"),U204,IF(AND(U204=\"DNS\",U205=\"NP\"),U205,MIN(U204,U205))))))","v":""}]
[null,null,null,"II.pokus",null,null,null,{"$f":"IF($C204=\"\",\"\",IF(OR($E205=\"DNS\",$F205=\"DNS\",$G205=\"DNS\"),\"DNS\",IF(OR($E205=\"NP\",$F205=\"NP\",$G205=\"NP\"),\"NP\",IF(ISERROR(MEDIAN($E205:$G205)),\"DNS\",IF(COUNT($E205:$G205)<3,MAX($E205:$G205),MEDIAN($E205:$G205))))))","v":""},null,null,null,null,null,null,null,null,null,null,null,null,""]
[{"$f":"IF(Start!M20=\"\",\"\",\"x\")","v":""},65,{"$f":"IF(Start!K20=\"\",\"\",Start!K20)","v":""},"I.pokus",null,null,null,{"$f":"IF($C206=\"\",\"\",IF(OR($E206=\"DNS\",$F206=\"DNS\",$G206=\"DNS\"),\"DNS\",IF(OR($E206=\"NP\",$F206=\"NP\",$G206=\"NP\"),\"NP\",IF(ISERROR(MEDIAN($E206:$G206)),\"DNS\",IF(COUNT($E206:$G206)<3,MAX($E206:$G206),MEDIAN($E206:$G206))))))","v":""},null,null,null,null,null,null,null,null,null,null,null,null,"",{"$f":"IF(C206=\"x\",\"x\",IF(C206=\"\",\"\",IF(OR(W206=\"NP\",W206=\"DNS\"),IF(W206=\"NP\",MAX(W$12:W$309)+COUNTIF((W$12:W$309),MAX(W$12:W$309)),MAX(W$12:W$309)+COUNTIF((W$12:W$309),MAX(W$12:W$309))+COUNTIF((W$12:W$309),\"NP\")),W206)))","v":""},{"$f":"IF(A206=\"x\",\"x\",IF(C206=\"\",\"\",IF(OR(X206=\"NP\",X206=\"DNS\"),X206,RANK(X206,X$12:X$309,1))))","v":""},{"$f":"IF(A206=\"x\",\"x\",IF(C206=\"\",\"\",IF(OR(AND(U206=\"NP\",U207=\"NP\"),AND(U206=\"DNS\",U207=\"DNS\")),U206,IF(AND(U206=\"NP\",U207=\"DNS\"),U206,IF(AND(U206=\"DNS\",U207=\"NP\"),U207,MIN(U206,U207))))))","v":""}]
[null,null,null,"II.pokus",null,null,null,{"$f":"IF($C206=\"\",\"\",IF(OR($E207=\"DNS\",$F207=\"DNS\",$G207=\"DNS\"),\"DNS\",IF(OR($E207=\"NP\",$F207=\"NP\",$G207=\"NP\"),\"NP\",IF(ISERROR(MEDIAN($E207:$G207)),\"DNS\",IF(COUNT($E207:$G207)<3,MAX($E207:$G207),MEDIAN($E207:$G207))))))","v":""},null,null,null,null,null,null,null,null,null,null,null,null,""]
[{"$f":"IF(Start!M21=\"\",\"\",\"x\")","v":""},66,{"$f":"IF(Start!K21=\"\",\"\",Start!K21)","v":""},"I.pokus",null,null,null,{"$f":"IF($C208=\"\",\"\",IF(OR($E208=\"DNS\",$F208=\"DNS\",$G208=\"DNS\"),\"DNS\",IF(OR($E208=\"NP\",$F208=\"NP\",$G208=\"NP\"),\"NP\",IF(ISERROR(MEDIAN($E208:$G208)),\"DNS\",IF(COUNT($E208:$G208)<3,MAX($E208:$G208),MEDIAN($E208:$G208))))))","v":""},null,null,null,null,null,null,null,null,null,null,null,null,"",{"$f":"IF(C208=\"x\",\"x\",IF(C208=\"\",\"\",IF(OR(W208=\"NP\",W208=\"DNS\"),IF(W208=\"NP\",MAX(W$12:W$309)+COUNTIF((W$12:W$309),MAX(W$12:W$309)),MAX(W$12:W$309)+COUNTIF((W$12:W$309),MAX(W$12:W$309))+COUNTIF((W$12:W$309),\"NP\")),W208)))","v":""},{"$f":"IF(A208=\"x\",\"x\",IF(C208=\"\",\"\",IF(OR(X208=\"NP\",X208=\"DNS\"),X208,RANK(X208,X$12:X$309,1))))","v":""},{"$f":"IF(A208=\"x\",\"x\",IF(C208=\"\",\"\",IF(OR(AND(U208=\"NP\",U209=\"NP\"),AND(U208=\"DNS\",U209=\"DNS\")),U208,IF(AND(U208=\"NP\",U209=\"DNS\"),U208,IF(AND(U208=\"DNS\",U209=\"NP\"),U209,MIN(U208,U209))))))","v":""}]
[null,null,null,"II.pokus",null,null,null,{"$f":"IF($C208=\"\",\"\",IF(OR($E209=\"DNS\",$F209=\"DNS\",$G209=\"DNS\"),\"DNS\",IF(OR($E209=\"NP\",$F209=\"NP\",$G209=\"NP\"),\"NP\",IF(ISERROR(MEDIAN($E209:$G209)),\"DNS\",IF(COUNT($E209:$G209)<3,MAX($E209:$G209),MEDIAN($E209:$G209))))))","v":""},null,null,null,null,null,null,null,null,null,null,null,null,""]
[{"$f":"IF(Start!M22=\"\",\"\",\"x\")","v":""},67,{"$f":"IF(Start!K22=\"\",\"\",Start!K22)","v":""},"I.pokus",null,null,null,{"$f":"IF($C210=\"\",\"\",IF(OR($E210=\"DNS\",$F210=\"DNS\",$G210=\"DNS\"),\"DNS\",IF(OR($E210=\"NP\",$F210=\"NP\",$G210=\"NP\"),\"NP\",IF(ISERROR(MEDIAN($E210:$G210)),\"DNS\",IF(COUNT($E210:$G210)<3,MAX($E210:$G210),MEDIAN($E210:$G210))))))","v":""},null,null,null,null,null,null,null,null,null,null,null,null,"",{"$f":"IF(C210=\"x\",\"x\",IF(C210=\"\",\"\",IF(OR(W210=\"NP\",W210=\"DNS\"),IF(W210=\"NP\",MAX(W$12:W$309)+COUNTIF((W$12:W$309),MAX(W$12:W$309)),MAX(W$12:W$309)+COUNTIF((W$12:W$309),MAX(W$12:W$309))+COUNTIF((W$12:W$309),\"NP\")),W210)))","v":""},{"$f":"IF(A210=\"x\",\"x\",IF(C210=\"\",\"\",IF(OR(X210=\"NP\",X210=\"DNS\"),X210,RANK(X210,X$12:X$309,1))))","v":""},{"$f":"IF(A210=\"x\",\"x\",IF(C210=\"\",\"\",IF(OR(AND(U210=\"NP\",U211=\"NP\"),AND(U210=\"DNS\",U211=\"DNS\")),U210,IF(AND(U210=\"NP\",U211=\"DNS\"),U210,IF(AND(U210=\"DNS\",U211=\"NP\"),U211,MIN(U210,U211))))))","v":""}]
[null,null,null,"II.pokus",null,null,null,{"$f":"IF($C210=\"\",\"\",IF(OR($E211=\"DNS\",$F211=\"DNS\",$G211=\"DNS\"),\"DNS\",IF(OR($E211=\"NP\",$F211=\"NP\",$G211=\"NP\"),\"NP\",IF(ISERROR(MEDIAN($E211:$G211)),\"DNS\",IF(COUNT($E211:$G211)<3,MAX($E211:$G211),MEDIAN($E211:$G211))))))","v":""},null,null,null,null,null,null,null,null,null,null,null,null,""]
[{"$f":"IF(Start!M23=\"\",\"\",\"x\")","v":""},68,{"$f":"IF(Start!K23=\"\",\"\",Start!K23)","v":""},"I.pokus",null,null,null,{"$f":"IF($C212=\"\",\"\",IF(OR($E212=\"DNS\",$F212=\"DNS\",$G212=\"DNS\"),\"DNS\",IF(OR($E212=\"NP\",$F212=\"NP\",$G212=\"NP\"),\"NP\",IF(ISERROR(MEDIAN($E212:$G212)),\"DNS\",IF(COUNT($E212:$G212)<3,MAX($E212:$G212),MEDIAN($E212:$G212))))))","v":""},null,null,null,null,null,null,null,null,null,null,null,null,"",{"$f":"IF(C212=\"x\",\"x\",IF(C212=\"\",\"\",IF(OR(W212=\"NP\",W212=\"DNS\"),IF(W212=\"NP\",MAX(W$12:W$309)+COUNTIF((W$12:W$309),MAX(W$12:W$309)),MAX(W$12:W$309)+COUNTIF((W$12:W$309),MAX(W$12:W$309))+COUNTIF((W$12:W$309),\"NP\")),W212)))","v":""},{"$f":"IF(A212=\"x\",\"x\",IF(C212=\"\",\"\",IF(OR(X212=\"NP\",X212=\"DNS\"),X212,RANK(X212,X$12:X$309,1))))","v":""},{"$f":"IF(A212=\"x\",\"x\",IF(C212=\"\",\"\",IF(OR(AND(U212=\"NP\",U213=\"NP\"),AND(U212=\"DNS\",U213=\"DNS\")),U212,IF(AND(U212=\"NP\",U213=\"DNS\"),U212,IF(AND(U212=\"DNS\",U213=\"NP\"),U213,MIN(U212,U213))))))","v":""}]
[null,null,null,"II.pokus",null,null,null,{"$f":"IF($C212=\"\",\"\",IF(OR($E213=\"DNS\",$F213=\"DNS\",$G213=\"DNS\"),\"DNS\",IF(OR($E213=\"NP\",$F213=\"NP\",$G213=\"NP\"),\"NP\",IF(ISERROR(MEDIAN($E213:$G213)),\"DNS\",IF(COUNT($E213:$G213)<3,MAX($E213:$G213),MEDIAN($E213:$G213))))))","v":""},null,null,null,null,null,null,null,null,null,null,null,null,""]
[{"$f":"IF(Start!M24=\"\",\"\",\"x\")","v":""},69,{"$f":"IF(Start!K24=\"\",\"\",Start!K24)","v":""},"I.pokus",null,null,null,{"$f":"IF($C214=\"\",\"\",IF(OR($E214=\"DNS\",$F214=\"DNS\",$G214=\"DNS\"),\"DNS\",IF(OR($E214=\"NP\",$F214=\"NP\",$G214=\"NP\"),\"NP\",IF(ISERROR(MEDIAN($E214:$G214)),\"DNS\",IF(COUNT($E214:$G214)<3,MAX($E214:$G214),MEDIAN($E214:$G214))))))","v":""},null,null,null,null,null,null,null,null,null,null,null,null,"",{"$f":"IF(C214=\"x\",\"x\",IF(C214=\"\",\"\",IF(OR(W214=\"NP\",W214=\"DNS\"),IF(W214=\"NP\",MAX(W$12:W$309)+COUNTIF((W$12:W$309),MAX(W$12:W$309)),MAX(W$12:W$309)+COUNTIF((W$12:W$309),MAX(W$12:W$309))+COUNTIF((W$12:W$309),\"NP\")),W214)))","v":""},{"$f":"IF(A214=\"x\",\"x\",IF(C214=\"\",\"\",IF(OR(X214=\"NP\",X214=\"DNS\"),X214,RANK(X214,X$12:X$309,1))))","v":""},{"$f":"IF(A214=\"x\",\"x\",IF(C214=\"\",\"\",IF(OR(AND(U214=\"NP\",U215=\"NP\"),AND(U214=\"DNS\",U215=\"DNS\")),U214,IF(AND(U214=\"NP\",U215=\"DNS\"),U214,IF(AND(U214=\"DNS\",U215=\"NP\"),U215,MIN(U214,U215))))))","v":""}]
[null,null,null,"II.pokus",null,null,null,{"$f":"IF($C214=\"\",\"\",IF(OR($E215=\"DNS\",$F215=\"DNS\",$G215=\"DNS\"),\"DNS\",IF(OR($E215=\"NP\",$F215=\"NP\",$G215=\"NP\"),\"NP\",IF(ISERROR(MEDIAN($E215:$G215)),\"DNS\",IF(COUNT($E215:$G215)<3,MAX($E215:$G215),MEDIAN($E215:$G215))))))","v":""},null,null,null,null,null,null,null,null,null,null,null,null,""]
[{"$f":"IF(Start!M25=\"\",\"\",\"x\")","v":""},70,{"$f":"IF(Start!K25=\"\",\"\",Start!K25)","v":""},"I.pokus",null,null,null,{"$f":"IF($C216=\"\",\"\",IF(OR($E216=\"DNS\",$F216=\"DNS\",$G216=\"DNS\"),\"DNS\",IF(OR($E216=\"NP\",$F216=\"NP\",$G216=\"NP\"),\"NP\",IF(ISERROR(MEDIAN($E216:$G216)),\"DNS\",IF(COUNT($E216:$G216)<3,MAX($E216:$G216),MEDIAN($E216:$G216))))))","v":""},null,null,null,null,null,null,null,null,null,null,null,null,"",{"$f":"IF(C216=\"x\",\"x\",IF(C216=\"\",\"\",IF(OR(W216=\"NP\",W216=\"DNS\"),IF(W216=\"NP\",MAX(W$12:W$309)+COUNTIF((W$12:W$309),MAX(W$12:W$309)),MAX(W$12:W$309)+COUNTIF((W$12:W$309),MAX(W$12:W$309))+COUNTIF((W$12:W$309),\"NP\")),W216)))","v":""},{"$f":"IF(A216=\"x\",\"x\",IF(C216=\"\",\"\",IF(OR(X216=\"NP\",X216=\"DNS\"),X216,RANK(X216,X$12:X$309,1))))","v":""},{"$f":"IF(A216=\"x\",\"x\",IF(C216=\"\",\"\",IF(OR(AND(U216=\"NP\",U217=\"NP\"),AND(U216=\"DNS\",U217=\"DNS\")),U216,IF(AND(U216=\"NP\",U217=\"DNS\"),U216,IF(AND(U216=\"DNS\",U217=\"NP\"),U217,MIN(U216,U217))))))","v":""}]
[null,null,null,"II.pokus",null,null,null,{"$f":"IF($C216=\"\",\"\",IF(OR($E217=\"DNS\",$F217=\"DNS\",$G217=\"DNS\"),\"DNS\",IF(OR($E217=\"NP\",$F217=\"NP\",$G217=\"NP\"),\"NP\",IF(ISERROR(MEDIAN($E217:$G217)),\"DNS\",IF(COUNT($E217:$G217)<3,MAX($E217:$G217),MEDIAN($E217:$G217))))))","v":""},null,null,null,null,null,null,null,null,null,null,null,null,""]
[null,"CELOSTÁTNÍ HRA PLAMEN"]
[]
[]
[null,"Výsledková listina č: 8"]
[null,"Štafeta požárních dvojic",null,null,"Základem je čas naměřený od vydání signálu startéra do proběhnutí posledního člena cílem",null,null,null,"K úřednímu času se připočítávají trestné sekundy - za každý případ 10 sekund",null,null,null,null,null,null,null,null,null,null,null,"Výsledek soutěže"]
[null,null,null,null,null,null,null,null,"předčasné vyběhnutí","nesvinutí rozpadlého kotouče","nerozložení hadice nejméně na vyznačenou čáru","nesprávné napojení hadice na proudnici či hydr. nástavec","nesprávné rozvinutí hadice u hydr. nástavce","neoběhnutí nebo nesprávné oběhnutí mety","neúplné svinutí hadice mezi metou a nástavcem","hození hadice nebo proudnice","chození po nesprávné straně","nesprávné svinutí (dvojité přeložení)","nesprávné odpojení proudnice nebo hadice"]
[null,null,null,null,null,null,null,null,null,null,null,null,null,null,null,null,null,null,null,null,"součet trest. Sekund a úředního času","počet bodů za umístění"]
[null,{"$f":"\"KATEGORIE: \"&Start!$N$2","v":"KATEGORIE: starší"},null,null,"I. časoměřič","II. časoměřič","III. časoměřič","úřední čas"]
[]
[null,"start. číslo","SOUTĚŽNÍ DRUŽSTVO","pokus"]
[]
[{"$f":"IF(Start!M26=\"\",\"\",\"x\")","v":""},71,{"$f":"IF(Start!K26=\"\",\"\",Start!K26)","v":""},"I.pokus",null,null,null,{"$f":"IF($C229=\"\",\"\",IF(OR($E229=\"DNS\",$F229=\"DNS\",$G229=\"DNS\"),\"DNS\",IF(OR($E229=\"NP\",$F229=\"NP\",$G229=\"NP\"),\"NP\",IF(ISERROR(MEDIAN($E229:$G229)),\"DNS\",IF(COUNT($E229:$G229)<3,MAX($E229:$G229),MEDIAN($E229:$G229))))))","v":""},null,null,null,null,null,null,null,null,null,null,null,null,{"$f":"IF(H229=\"\",\"\",IF(H229=\"NP\",\"NP\",IF(H229=\"DNS\",\"DNS\",SUM(I229:T229)+H229)))","v":""},{"$f":"IF(C229=\"x\",\"x\",IF(C229=\"\",\"\",IF(OR(W229=\"NP\",W229=\"DNS\"),IF(W229=\"NP\",MAX(W$12:W$309)+COUNTIF((W$12:W$309),MAX(W$12:W$309)),MAX(W$12:W$309)+COUNTIF((W$12:W$309),MAX(W$12:W$309))+COUNTIF((W$12:W$309),\"NP\")),W229)))","v":""},{"$f":"IF(A229=\"x\",\"x\",IF(C229=\"\",\"\",IF(OR(X229=\"NP\",X229=\"DNS\"),X229,RANK(X229,X$12:X$309,1))))","v":""},{"$f":"IF(A229=\"x\",\"x\",IF(C229=\"\",\"\",IF(OR(AND(U229=\"NP\",U230=\"NP\"),AND(U229=\"DNS\",U230=\"DNS\")),U229,IF(AND(U229=\"NP\",U230=\"DNS\"),U229,IF(AND(U229=\"DNS\",U230=\"NP\"),U230,MIN(U229,U230))))))","v":""}]
[null,null,null,"II.pokus",null,null,null,{"$f":"IF($C229=\"\",\"\",IF(OR($E230=\"DNS\",$F230=\"DNS\",$G230=\"DNS\"),\"DNS\",IF(OR($E230=\"NP\",$F230=\"NP\",$G230=\"NP\"),\"NP\",IF(ISERROR(MEDIAN($E230:$G230)),\"DNS\",IF(COUNT($E230:$G230)<3,MAX($E230:$G230),MEDIAN($E230:$G230))))))","v":""},null,null,null,null,null,null,null,null,null,null,null,null,""]
[{"$f":"IF(Start!M27=\"\",\"\",\"x\")","v":""},72,{"$f":"IF(Start!K27=\"\",\"\",Start!K27)","v":""},"I.pokus",null,null,null,{"$f":"IF($C231=\"\",\"\",IF(OR($E231=\"DNS\",$F231=\"DNS\",$G231=\"DNS\"),\"DNS\",IF(OR($E231=\"NP\",$F231=\"NP\",$G231=\"NP\"),\"NP\",IF(ISERROR(MEDIAN($E231:$G231)),\"DNS\",IF(COUNT($E231:$G231)<3,MAX($E231:$G231),MEDIAN($E231:$G231))))))","v":""},null,null,null,null,null,null,null,null,null,null,null,null,"",{"$f":"IF(C231=\"x\",\"x\",IF(C231=\"\",\"\",IF(OR(W231=\"NP\",W231=\"DNS\"),IF(W231=\"NP\",MAX(W$12:W$309)+COUNTIF((W$12:W$309),MAX(W$12:W$309)),MAX(W$12:W$309)+COUNTIF((W$12:W$309),MAX(W$12:W$309))+COUNTIF((W$12:W$309),\"NP\")),W231)))","v":""},{"$f":"IF(A231=\"x\",\"x\",IF(C231=\"\",\"\",IF(OR(X231=\"NP\",X231=\"DNS\"),X231,RANK(X231,X$12:X$309,1))))","v":""},{"$f":"IF(A231=\"x\",\"x\",IF(C231=\"\",\"\",IF(OR(AND(U231=\"NP\",U232=\"NP\"),AND(U231=\"DNS\",U232=\"DNS\")),U231,IF(AND(U231=\"NP\",U232=\"DNS\"),U231,IF(AND(U231=\"DNS\",U232=\"NP\"),U232,MIN(U231,U232))))))","v":""}]
[null,null,null,"II.pokus",null,null,null,{"$f":"IF($C231=\"\",\"\",IF(OR($E232=\"DNS\",$F232=\"DNS\",$G232=\"DNS\"),\"DNS\",IF(OR($E232=\"NP\",$F232=\"NP\",$G232=\"NP\"),\"NP\",IF(ISERROR(MEDIAN($E232:$G232)),\"DNS\",IF(COUNT($E232:$G232)<3,MAX($E232:$G232),MEDIAN($E232:$G232))))))","v":""},null,null,null,null,null,null,null,null,null,null,null,null,""]
[{"$f":"IF(Start!M28=\"\",\"\",\"x\")","v":""},73,{"$f":"IF(Start!K28=\"\",\"\",Start!K28)","v":""},"I.pokus",null,null,null,{"$f":"IF($C233=\"\",\"\",IF(OR($E233=\"DNS\",$F233=\"DNS\",$G233=\"DNS\"),\"DNS\",IF(OR($E233=\"NP\",$F233=\"NP\",$G233=\"NP\"),\"NP\",IF(ISERROR(MEDIAN($E233:$G233)),\"DNS\",IF(COUNT($E233:$G233)<3,MAX($E233:$G233),MEDIAN($E233:$G233))))))","v":""},null,null,null,null,null,null,null,null,null,null,null,null,"",{"$f":"IF(C233=\"x\",\"x\",IF(C233=\"\",\"\",IF(OR(W233=\"NP\",W233=\"DNS\"),IF(W233=\"NP\",MAX(W$12:W$309)+COUNTIF((W$12:W$309),MAX(W$12:W$309)),MAX(W$12:W$309)+COUNTIF((W$12:W$309),MAX(W$12:W$309))+COUNTIF((W$12:W$309),\"NP\")),W233)))","v":""},{"$f":"IF(A233=\"x\",\"x\",IF(C233=\"\",\"\",IF(OR(X233=\"NP\",X233=\"DNS\"),X233,RANK(X233,X$12:X$309,1))))","v":""},{"$f":"IF(A233=\"x\",\"x\",IF(C233=\"\",\"\",IF(OR(AND(U233=\"NP\",U234=\"NP\"),AND(U233=\"DNS\",U234=\"DNS\")),U233,IF(AND(U233=\"NP\",U234=\"DNS\"),U233,IF(AND(U233=\"DNS\",U234=\"NP\"),U234,MIN(U233,U234))))))","v":""}]
[null,null,null,"II.pokus",null,null,null,{"$f":"IF($C233=\"\",\"\",IF(OR($E234=\"DNS\",$F234=\"DNS\",$G234=\"DNS\"),\"DNS\",IF(OR($E234=\"NP\",$F234=\"NP\",$G234=\"NP\"),\"NP\",IF(ISERROR(MEDIAN($E234:$G234)),\"DNS\",IF(COUNT($E234:$G234)<3,MAX($E234:$G234),MEDIAN($E234:$G234))))))","v":""},null,null,null,null,null,null,null,null,null,null,null,null,""]
[{"$f":"IF(Start!M29=\"\",\"\",\"x\")","v":""},74,{"$f":"IF(Start!K29=\"\",\"\",Start!K29)","v":""},"I.pokus",null,null,null,{"$f":"IF($C235=\"\",\"\",IF(OR($E235=\"DNS\",$F235=\"DNS\",$G235=\"DNS\"),\"DNS\",IF(OR($E235=\"NP\",$F235=\"NP\",$G235=\"NP\"),\"NP\",IF(ISERROR(MEDIAN($E235:$G235)),\"DNS\",IF(COUNT($E235:$G235)<3,MAX($E235:$G235),MEDIAN($E235:$G235))))))","v":""},null,null,null,null,null,null,null,null,null,null,null,null,"",{"$f":"IF(C235=\"x\",\"x\",IF(C235=\"\",\"\",IF(OR(W235=\"NP\",W235=\"DNS\"),IF(W235=\"NP\",MAX(W$12:W$309)+COUNTIF((W$12:W$309),MAX(W$12:W$309)),MAX(W$12:W$309)+COUNTIF((W$12:W$309),MAX(W$12:W$309))+COUNTIF((W$12:W$309),\"NP\")),W235)))","v":""},{"$f":"IF(A235=\"x\",\"x\",IF(C235=\"\",\"\",IF(OR(X235=\"NP\",X235=\"DNS\"),X235,RANK(X235,X$12:X$309,1))))","v":""},{"$f":"IF(A235=\"x\",\"x\",IF(C235=\"\",\"\",IF(OR(AND(U235=\"NP\",U236=\"NP\"),AND(U235=\"DNS\",U236=\"DNS\")),U235,IF(AND(U235=\"NP\",U236=\"DNS\"),U235,IF(AND(U235=\"DNS\",U236=\"NP\"),U236,MIN(U235,U236))))))","v":""}]
[null,null,null,"II.pokus",null,null,null,{"$f":"IF($C235=\"\",\"\",IF(OR($E236=\"DNS\",$F236=\"DNS\",$G236=\"DNS\"),\"DNS\",IF(OR($E236=\"NP\",$F236=\"NP\",$G236=\"NP\"),\"NP\",IF(ISERROR(MEDIAN($E236:$G236)),\"DNS\",IF(COUNT($E236:$G236)<3,MAX($E236:$G236),MEDIAN($E236:$G236))))))","v":""},null,null,null,null,null,null,null,null,null,null,null,null,""]
[{"$f":"IF(Start!M30=\"\",\"\",\"x\")","v":""},75,{"$f":"IF(Start!K30=\"\",\"\",Start!K30)","v":""},"I.pokus",null,null,null,{"$f":"IF($C237=\"\",\"\",IF(OR($E237=\"DNS\",$F237=\"DNS\",$G237=\"DNS\"),\"DNS\",IF(OR($E237=\"NP\",$F237=\"NP\",$G237=\"NP\"),\"NP\",IF(ISERROR(MEDIAN($E237:$G237)),\"DNS\",IF(COUNT($E237:$G237)<3,MAX($E237:$G237),MEDIAN($E237:$G237))))))","v":""},null,null,null,null,null,null,null,null,null,null,null,null,"",{"$f":"IF(C237=\"x\",\"x\",IF(C237=\"\",\"\",IF(OR(W237=\"NP\",W237=\"DNS\"),IF(W237=\"NP\",MAX(W$12:W$309)+COUNTIF((W$12:W$309),MAX(W$12:W$309)),MAX(W$12:W$309)+COUNTIF((W$12:W$309),MAX(W$12:W$309))+COUNTIF((W$12:W$309),\"NP\")),W237)))","v":""},{"$f":"IF(A237=\"x\",\"x\",IF(C237=\"\",\"\",IF(OR(X237=\"NP\",X237=\"DNS\"),X237,RANK(X237,X$12:X$309,1))))","v":""},{"$f":"IF(A237=\"x\",\"x\",IF(C237=\"\",\"\",IF(OR(AND(U237=\"NP\",U238=\"NP\"),AND(U237=\"DNS\",U238=\"DNS\")),U237,IF(AND(U237=\"NP\",U238=\"DNS\"),U237,IF(AND(U237=\"DNS\",U238=\"NP\"),U238,MIN(U237,U238))))))","v":""}]
[null,null,null,"II.pokus",null,null,null,{"$f":"IF($C237=\"\",\"\",IF(OR($E238=\"DNS\",$F238=\"DNS\",$G238=\"DNS\"),\"DNS\",IF(OR($E238=\"NP\",$F238=\"NP\",$G238=\"NP\"),\"NP\",IF(ISERROR(MEDIAN($E238:$G238)),\"DNS\",IF(COUNT($E238:$G238)<3,MAX($E238:$G238),MEDIAN($E238:$G238))))))","v":""},null,null,null,null,null,null,null,null,null,null,null,null,""]
[{"$f":"IF(Start!Q6=\"\",\"\",\"x\")","v":""},76,{"$f":"IF(Start!O6=\"\",\"\",Start!O6)","v":""},"I.pokus",null,null,null,{"$f":"IF($C239=\"\",\"\",IF(OR($E239=\"DNS\",$F239=\"DNS\",$G239=\"DNS\"),\"DNS\",IF(OR($E239=\"NP\",$F239=\"NP\",$G239=\"NP\"),\"NP\",IF(ISERROR(MEDIAN($E239:$G239)),\"DNS\",IF(COUNT($E239:$G239)<3,MAX($E239:$G239),MEDIAN($E239:$G239))))))","v":""},null,null,null,null,null,null,null,null,null,null,null,null,"",{"$f":"IF(C239=\"x\",\"x\",IF(C239=\"\",\"\",IF(OR(W239=\"NP\",W239=\"DNS\"),IF(W239=\"NP\",MAX(W$12:W$309)+COUNTIF((W$12:W$309),MAX(W$12:W$309)),MAX(W$12:W$309)+COUNTIF((W$12:W$309),MAX(W$12:W$309))+COUNTIF((W$12:W$309),\"NP\")),W239)))","v":""},{"$f":"IF(A239=\"x\",\"x\",IF(C239=\"\",\"\",IF(OR(X239=\"NP\",X239=\"DNS\"),X239,RANK(X239,X$12:X$309,1))))","v":""},{"$f":"IF(A239=\"x\",\"x\",IF(C239=\"\",\"\",IF(OR(AND(U239=\"NP\",U240=\"NP\"),AND(U239=\"DNS\",U240=\"DNS\")),U239,IF(AND(U239=\"NP\",U240=\"DNS\"),U239,IF(AND(U239=\"DNS\",U240=\"NP\"),U240,MIN(U239,U240))))))","v":""}]
[null,null,null,"II.pokus",null,null,null,{"$f":"IF($C239=\"\",\"\",IF(OR($E240=\"DNS\",$F240=\"DNS\",$G240=\"DNS\"),\"DNS\",IF(OR($E240=\"NP\",$F240=\"NP\",$G240=\"NP\"),\"NP\",IF(ISERROR(MEDIAN($E240:$G240)),\"DNS\",IF(COUNT($E240:$G240)<3,MAX($E240:$G240),MEDIAN($E240:$G240))))))","v":""},null,null,null,null,null,null,null,null,null,null,null,null,""]
[{"$f":"IF(Start!Q7=\"\",\"\",\"x\")","v":""},77,{"$f":"IF(Start!O7=\"\",\"\",Start!O7)","v":""},"I.pokus",null,null,null,{"$f":"IF($C241=\"\",\"\",IF(OR($E241=\"DNS\",$F241=\"DNS\",$G241=\"DNS\"),\"DNS\",IF(OR($E241=\"NP\",$F241=\"NP\",$G241=\"NP\"),\"NP\",IF(ISERROR(MEDIAN($E241:$G241)),\"DNS\",IF(COUNT($E241:$G241)<3,MAX($E241:$G241),MEDIAN($E241:$G241))))))","v":""},null,null,null,null,null,null,null,null,null,null,null,null,"",{"$f":"IF(C241=\"x\",\"x\",IF(C241=\"\",\"\",IF(OR(W241=\"NP\",W241=\"DNS\"),IF(W241=\"NP\",MAX(W$12:W$309)+COUNTIF((W$12:W$309),MAX(W$12:W$309)),MAX(W$12:W$309)+COUNTIF((W$12:W$309),MAX(W$12:W$309))+COUNTIF((W$12:W$309),\"NP\")),W241)))","v":""},{"$f":"IF(A241=\"x\",\"x\",IF(C241=\"\",\"\",IF(OR(X241=\"NP\",X241=\"DNS\"),X241,RANK(X241,X$12:X$309,1))))","v":""},{"$f":"IF(A241=\"x\",\"x\",IF(C241=\"\",\"\",IF(OR(AND(U241=\"NP\",U242=\"NP\"),AND(U241=\"DNS\",U242=\"DNS\")),U241,IF(AND(U241=\"NP\",U242=\"DNS\"),U241,IF(AND(U241=\"DNS\",U242=\"NP\"),U242,MIN(U241,U242))))))","v":""}]
[null,null,null,"II.pokus",null,null,null,{"$f":"IF($C241=\"\",\"\",IF(OR($E242=\"DNS\",$F242=\"DNS\",$G242=\"DNS\"),\"DNS\",IF(OR($E242=\"NP\",$F242=\"NP\",$G242=\"NP\"),\"NP\",IF(ISERROR(MEDIAN($E242:$G242)),\"DNS\",IF(COUNT($E242:$G242)<3,MAX($E242:$G242),MEDIAN($E242:$G242))))))","v":""},null,null,null,null,null,null,null,null,null,null,null,null,""]
[{"$f":"IF(Start!Q8=\"\",\"\",\"x\")","v":""},78,{"$f":"IF(Start!O8=\"\",\"\",Start!O8)","v":""},"I.pokus",null,null,null,{"$f":"IF($C243=\"\",\"\",IF(OR($E243=\"DNS\",$F243=\"DNS\",$G243=\"DNS\"),\"DNS\",IF(OR($E243=\"NP\",$F243=\"NP\",$G243=\"NP\"),\"NP\",IF(ISERROR(MEDIAN($E243:$G243)),\"DNS\",IF(COUNT($E243:$G243)<3,MAX($E243:$G243),MEDIAN($E243:$G243))))))","v":""},null,null,null,null,null,null,null,null,null,null,null,null,"",{"$f":"IF(C243=\"x\",\"x\",IF(C243=\"\",\"\",IF(OR(W243=\"NP\",W243=\"DNS\"),IF(W243=\"NP\",MAX(W$12:W$309)+COUNTIF((W$12:W$309),MAX(W$12:W$309)),MAX(W$12:W$309)+COUNTIF((W$12:W$309),MAX(W$12:W$309))+COUNTIF((W$12:W$309),\"NP\")),W243)))","v":""},{"$f":"IF(A243=\"x\",\"x\",IF(C243=\"\",\"\",IF(OR(X243=\"NP\",X243=\"DNS\"),X243,RANK(X243,X$12:X$309,1))))","v":""},{"$f":"IF(A243=\"x\",\"x\",IF(C243=\"\",\"\",IF(OR(AND(U243=\"NP\",U244=\"NP\"),AND(U243=\"DNS\",U244=\"DNS\")),U243,IF(AND(U243=\"NP\",U244=\"DNS\"),U243,IF(AND(U243=\"DNS\",U244=\"NP\"),U244,MIN(U243,U244))))))","v":""}]
[null,null,null,"II.pokus",null,null,null,{"$f":"IF($C243=\"\",\"\",IF(OR($E244=\"DNS\",$F244=\"DNS\",$G244=\"DNS\"),\"DNS\",IF(OR($E244=\"NP\",$F244=\"NP\",$G244=\"NP\"),\"NP\",IF(ISERROR(MEDIAN($E244:$G244)),\"DNS\",IF(COUNT($E244:$G244)<3,MAX($E244:$G244),MEDIAN($E244:$G244))))))","v":""},null,null,null,null,null,null,null,null,null,null,null,null,""]
[{"$f":"IF(Start!Q9=\"\",\"\",\"x\")","v":""},79,{"$f":"IF(Start!O9=\"\",\"\",Start!O9)","v":""},"I.pokus",null,null,null,{"$f":"IF($C245=\"\",\"\",IF(OR($E245=\"DNS\",$F245=\"DNS\",$G245=\"DNS\"),\"DNS\",IF(OR($E245=\"NP\",$F245=\"NP\",$G245=\"NP\"),\"NP\",IF(ISERROR(MEDIAN($E245:$G245)),\"DNS\",IF(COUNT($E245:$G245)<3,MAX($E245:$G245),MEDIAN($E245:$G245))))))","v":""},null,null,null,null,null,null,null,null,null,null,null,null,"",{"$f":"IF(C245=\"x\",\"x\",IF(C245=\"\",\"\",IF(OR(W245=\"NP\",W245=\"DNS\"),IF(W245=\"NP\",MAX(W$12:W$309)+COUNTIF((W$12:W$309),MAX(W$12:W$309)),MAX(W$12:W$309)+COUNTIF((W$12:W$309),MAX(W$12:W$309))+COUNTIF((W$12:W$309),\"NP\")),W245)))","v":""},{"$f":"IF(A245=\"x\",\"x\",IF(C245=\"\",\"\",IF(OR(X245=\"NP\",X245=\"DNS\"),X245,RANK(X245,X$12:X$309,1))))","v":""},{"$f":"IF(A245=\"x\",\"x\",IF(C245=\"\",\"\",IF(OR(AND(U245=\"NP\",U246=\"NP\"),AND(U245=\"DNS\",U246=\"DNS\")),U245,IF(AND(U245=\"NP\",U246=\"DNS\"),U245,IF(AND(U245=\"DNS\",U246=\"NP\"),U246,MIN(U245,U246))))))","v":""}]
[null,null,null,"II.pokus",null,null,null,{"$f":"IF($C245=\"\",\"\",IF(OR($E246=\"DNS\",$F246=\"DNS\",$G246=\"DNS\"),\"DNS\",IF(OR($E246=\"NP\",$F246=\"NP\",$G246=\"NP\"),\"NP\",IF(ISERROR(MEDIAN($E246:$G246)),\"DNS\",IF(COUNT($E246:$G246)<3,MAX($E246:$G246),MEDIAN($E246:$G246))))))","v":""},null,null,null,null,null,null,null,null,null,null,null,null,""]
[{"$f":"IF(Start!Q10=\"\",\"\",\"x\")","v":""},80,{"$f":"IF(Start!O10=\"\",\"\",Start!O10)","v":""},"I.pokus",null,null,null,{"$f":"IF($C247=\"\",\"\",IF(OR($E247=\"DNS\",$F247=\"DNS\",$G247=\"DNS\"),\"DNS\",IF(OR($E247=\"NP\",$F247=\"NP\",$G247=\"NP\"),\"NP\",IF(ISERROR(MEDIAN($E247:$G247)),\"DNS\",IF(COUNT($E247:$G247)<3,MAX($E247:$G247),MEDIAN($E247:$G247))))))","v":""},null,null,null,null,null,null,null,null,null,null,null,null,"",{"$f":"IF(C247=\"x\",\"x\",IF(C247=\"\",\"\",IF(OR(W247=\"NP\",W247=\"DNS\"),IF(W247=\"NP\",MAX(W$12:W$309)+COUNTIF((W$12:W$309),MAX(W$12:W$309)),MAX(W$12:W$309)+COUNTIF((W$12:W$309),MAX(W$12:W$309))+COUNTIF((W$12:W$309),\"NP\")),W247)))","v":""},{"$f":"IF(A247=\"x\",\"x\",IF(C247=\"\",\"\",IF(OR(X247=\"NP\",X247=\"DNS\"),X247,RANK(X247,X$12:X$309,1))))","v":""},{"$f":"IF(A247=\"x\",\"x\",IF(C247=\"\",\"\",IF(OR(AND(U247=\"NP\",U248=\"NP\"),AND(U247=\"DNS\",U248=\"DNS\")),U247,IF(AND(U247=\"NP\",U248=\"DNS\"),U247,IF(AND(U247=\"DNS\",U248=\"NP\"),U248,MIN(U247,U248))))))","v":""}]
[null,null,null,"II.pokus",null,null,null,{"$f":"IF($C247=\"\",\"\",IF(OR($E248=\"DNS\",$F248=\"DNS\",$G248=\"DNS\"),\"DNS\",IF(OR($E248=\"NP\",$F248=\"NP\",$G248=\"NP\"),\"NP\",IF(ISERROR(MEDIAN($E248:$G248)),\"DNS\",IF(COUNT($E248:$G248)<3,MAX($E248:$G248),MEDIAN($E248:$G248))))))","v":""},null,null,null,null,null,null,null,null,null,null,null,null,""]
[null,"CELOSTÁTNÍ HRA PLAMEN"]
[]
[]
[null,"Výsledková listina č: 9"]
[null,"Štafeta požárních dvojic",null,null,"Základem je čas naměřený od vydání signálu startéra do proběhnutí posledního člena cílem",null,null,null,"K úřednímu času se připočítávají trestné sekundy - za každý případ 10 sekund",null,null,null,null,null,null,null,null,null,null,null,"Výsledek soutěže"]
[null,null,null,null,null,null,null,null,"předčasné vyběhnutí","nesvinutí rozpadlého kotouče","nerozložení hadice nejméně na vyznačenou čáru","nesprávné napojení hadice na proudnici či hydr. nástavec","nesprávné rozvinutí hadice u hydr. nástavce","neoběhnutí nebo nesprávné oběhnutí mety","neúplné svinutí hadice mezi metou a nástavcem","hození hadice nebo proudnice","chození po nesprávné straně","nesprávné svinutí (dvojité přeložení)","nesprávné odpojení proudnice nebo hadice"]
[null,null,null,null,null,null,null,null,null,null,null,null,null,null,null,null,null,null,null,null,"součet trest. Sekund a úředního času","počet bodů za umístění"]
[null,{"$f":"\"KATEGORIE: \"&Start!$N$2","v":"KATEGORIE: starší"},null,null,"I. časoměřič","II. časoměřič","III. časoměřič","úřední čas"]
[]
[null,"start. číslo","SOUTĚŽNÍ DRUŽSTVO","pokus"]
[]
[{"$f":"IF(Start!Q11=\"\",\"\",\"x\")","v":""},81,{"$f":"IF(Start!O11=\"\",\"\",Start!O11)","v":""},"I.pokus",null,null,null,{"$f":"IF($C260=\"\",\"\",IF(OR($E260=\"DNS\",$F260=\"DNS\",$G260=\"DNS\"),\"DNS\",IF(OR($E260=\"NP\",$F260=\"NP\",$G260=\"NP\"),\"NP\",IF(ISERROR(MEDIAN($E260:$G260)),\"DNS\",IF(COUNT($E260:$G260)<3,MAX($E260:$G260),MEDIAN($E260:$G260))))))","v":""},null,null,null,null,null,null,null,null,null,null,null,null,{"$f":"IF(H260=\"\",\"\",IF(H260=\"NP\",\"NP\",IF(H260=\"DNS\",\"DNS\",SUM(I260:T260)+H260)))","v":""},{"$f":"IF(C260=\"x\",\"x\",IF(C260=\"\",\"\",IF(OR(W260=\"NP\",W260=\"DNS\"),IF(W260=\"NP\",MAX(W$12:W$309)+COUNTIF((W$12:W$309),MAX(W$12:W$309)),MAX(W$12:W$309)+COUNTIF((W$12:W$309),MAX(W$12:W$309))+COUNTIF((W$12:W$309),\"NP\")),W260)))","v":""},{"$f":"IF(A260=\"x\",\"x\",IF(C260=\"\",\"\",IF(OR(X260=\"NP\",X260=\"DNS\"),X260,RANK(X260,X$12:X$309,1))))","v":""},{"$f":"IF(A260=\"x\",\"x\",IF(C260=\"\",\"\",IF(OR(AND(U260=\"NP\",U261=\"NP\"),AND(U260=\"DNS\",U261=\"DNS\")),U260,IF(AND(U260=\"NP\",U261=\"DNS\"),U260,IF(AND(U260=\"DNS\",U261=\"NP\"),U261,MIN(U260,U261))))))","v":""}]
[null,null,null,"II.pokus",null,null,null,{"$f":"IF($C260=\"\",\"\",IF(OR($E261=\"DNS\",$F261=\"DNS\",$G261=\"DNS\"),\"DNS\",IF(OR($E261=\"NP\",$F261=\"NP\",$G261=\"NP\"),\"NP\",IF(ISERROR(MEDIAN($E261:$G261)),\"DNS\",IF(COUNT($E261:$G261)<3,MAX($E261:$G261),MEDIAN($E261:$G261))))))","v":""},null,null,null,null,null,null,null,null,null,null,null,null,""]
[{"$f":"IF(Start!Q12=\"\",\"\",\"x\")","v":""},82,{"$f":"IF(Start!O12=\"\",\"\",Start!O12)","v":""},"I.pokus",null,null,null,{"$f":"IF($C262=\"\",\"\",IF(OR($E262=\"DNS\",$F262=\"DNS\",$G262=\"DNS\"),\"DNS\",IF(OR($E262=\"NP\",$F262=\"NP\",$G262=\"NP\"),\"NP\",IF(ISERROR(MEDIAN($E262:$G262)),\"DNS\",IF(COUNT($E262:$G262)<3,MAX($E262:$G262),MEDIAN($E262:$G262))))))","v":""},null,null,null,null,null,null,null,null,null,null,null,null,"",{"$f":"IF(C262=\"x\",\"x\",IF(C262=\"\",\"\",IF(OR(W262=\"NP\",W262=\"DNS\"),IF(W262=\"NP\",MAX(W$12:W$309)+COUNTIF((W$12:W$309),MAX(W$12:W$309)),MAX(W$12:W$309)+COUNTIF((W$12:W$309),MAX(W$12:W$309))+COUNTIF((W$12:W$309),\"NP\")),W262)))","v":""},{"$f":"IF(A262=\"x\",\"x\",IF(C262=\"\",\"\",IF(OR(X262=\"NP\",X262=\"DNS\"),X262,RANK(X262,X$12:X$309,1))))","v":""},{"$f":"IF(A262=\"x\",\"x\",IF(C262=\"\",\"\",IF(OR(AND(U262=\"NP\",U263=\"NP\"),AND(U262=\"DNS\",U263=\"DNS\")),U262,IF(AND(U262=\"NP\",U263=\"DNS\"),U262,IF(AND(U262=\"DNS\",U263=\"NP\"),U263,MIN(U262,U263))))))","v":""}]
[null,null,null,"II.pokus",null,null,null,{"$f":"IF($C262=\"\",\"\",IF(OR($E263=\"DNS\",$F263=\"DNS\",$G263=\"DNS\"),\"DNS\",IF(OR($E263=\"NP\",$F263=\"NP\",$G263=\"NP\"),\"NP\",IF(ISERROR(MEDIAN($E263:$G263)),\"DNS\",IF(COUNT($E263:$G263)<3,MAX($E263:$G263),MEDIAN($E263:$G263))))))","v":""},null,null,null,null,null,null,null,null,null,null,null,null,""]
[{"$f":"IF(Start!Q13=\"\",\"\",\"x\")","v":""},83,{"$f":"IF(Start!O13=\"\",\"\",Start!O13)","v":""},"I.pokus",null,null,null,{"$f":"IF($C264=\"\",\"\",IF(OR($E264=\"DNS\",$F264=\"DNS\",$G264=\"DNS\"),\"DNS\",IF(OR($E264=\"NP\",$F264=\"NP\",$G264=\"NP\"),\"NP\",IF(ISERROR(MEDIAN($E264:$G264)),\"DNS\",IF(COUNT($E264:$G264)<3,MAX($E264:$G264),MEDIAN($E264:$G264))))))","v":""},null,null,null,null,null,null,null,null,null,null,null,null,"",{"$f":"IF(C264=\"x\",\"x\",IF(C264=\"\",\"\",IF(OR(W264=\"NP\",W264=\"DNS\"),IF(W264=\"NP\",MAX(W$12:W$309)+COUNTIF((W$12:W$309),MAX(W$12:W$309)),MAX(W$12:W$309)+COUNTIF((W$12:W$309),MAX(W$12:W$309))+COUNTIF((W$12:W$309),\"NP\")),W264)))","v":""},{"$f":"IF(A264=\"x\",\"x\",IF(C264=\"\",\"\",IF(OR(X264=\"NP\",X264=\"DNS\"),X264,RANK(X264,X$12:X$309,1))))","v":""},{"$f":"IF(A264=\"x\",\"x\",IF(C264=\"\",\"\",IF(OR(AND(U264=\"NP\",U265=\"NP\"),AND(U264=\"DNS\",U265=\"DNS\")),U264,IF(AND(U264=\"NP\",U265=\"DNS\"),U264,IF(AND(U264=\"DNS\",U265=\"NP\"),U265,MIN(U264,U265))))))","v":""}]
[null,null,null,"II.pokus",null,null,null,{"$f":"IF($C264=\"\",\"\",IF(OR($E265=\"DNS\",$F265=\"DNS\",$G265=\"DNS\"),\"DNS\",IF(OR($E265=\"NP\",$F265=\"NP\",$G265=\"NP\"),\"NP\",IF(ISERROR(MEDIAN($E265:$G265)),\"DNS\",IF(COUNT($E265:$G265)<3,MAX($E265:$G265),MEDIAN($E265:$G265))))))","v":""},null,null,null,null,null,null,null,null,null,null,null,null,""]
[{"$f":"IF(Start!Q14=\"\",\"\",\"x\")","v":""},84,{"$f":"IF(Start!O14=\"\",\"\",Start!O14)","v":""},"I.pokus",null,null,null,{"$f":"IF($C266=\"\",\"\",IF(OR($E266=\"DNS\",$F266=\"DNS\",$G266=\"DNS\"),\"DNS\",IF(OR($E266=\"NP\",$F266=\"NP\",$G266=\"NP\"),\"NP\",IF(ISERROR(MEDIAN($E266:$G266)),\"DNS\",IF(COUNT($E266:$G266)<3,MAX($E266:$G266),MEDIAN($E266:$G266))))))","v":""},null,null,null,null,null,null,null,null,null,null,null,null,"",{"$f":"IF(C266=\"x\",\"x\",IF(C266=\"\",\"\",IF(OR(W266=\"NP\",W266=\"DNS\"),IF(W266=\"NP\",MAX(W$12:W$309)+COUNTIF((W$12:W$309),MAX(W$12:W$309)),MAX(W$12:W$309)+COUNTIF((W$12:W$309),MAX(W$12:W$309))+COUNTIF((W$12:W$309),\"NP\")),W266)))","v":""},{"$f":"IF(A266=\"x\",\"x\",IF(C266=\"\",\"\",IF(OR(X266=\"NP\",X266=\"DNS\"),X266,RANK(X266,X$12:X$309,1))))","v":""},{"$f":"IF(A266=\"x\",\"x\",IF(C266=\"\",\"\",IF(OR(AND(U266=\"NP\",U267=\"NP\"),AND(U266=\"DNS\",U267=\"DNS\")),U266,IF(AND(U266=\"NP\",U267=\"DNS\"),U266,IF(AND(U266=\"DNS\",U267=\"NP\"),U267,MIN(U266,U267))))))","v":""}]
[null,null,null,"II.pokus",null,null,null,{"$f":"IF($C266=\"\",\"\",IF(OR($E267=\"DNS\",$F267=\"DNS\",$G267=\"DNS\"),\"DNS\",IF(OR($E267=\"NP\",$F267=\"NP\",$G267=\"NP\"),\"NP\",IF(ISERROR(MEDIAN($E267:$G267)),\"DNS\",IF(COUNT($E267:$G267)<3,MAX($E267:$G267),MEDIAN($E267:$G267))))))","v":""},null,null,null,null,null,null,null,null,null,null,null,null,""]
[{"$f":"IF(Start!Q15=\"\",\"\",\"x\")","v":""},85,{"$f":"IF(Start!O15=\"\",\"\",Start!O15)","v":""},"I.pokus",null,null,null,{"$f":"IF($C268=\"\",\"\",IF(OR($E268=\"DNS\",$F268=\"DNS\",$G268=\"DNS\"),\"DNS\",IF(OR($E268=\"NP\",$F268=\"NP\",$G268=\"NP\"),\"NP\",IF(ISERROR(MEDIAN($E268:$G268)),\"DNS\",IF(COUNT($E268:$G268)<3,MAX($E268:$G268),MEDIAN($E268:$G268))))))","v":""},null,null,null,null,null,null,null,null,null,null,null,null,"",{"$f":"IF(C268=\"x\",\"x\",IF(C268=\"\",\"\",IF(OR(W268=\"NP\",W268=\"DNS\"),IF(W268=\"NP\",MAX(W$12:W$309)+COUNTIF((W$12:W$309),MAX(W$12:W$309)),MAX(W$12:W$309)+COUNTIF((W$12:W$309),MAX(W$12:W$309))+COUNTIF((W$12:W$309),\"NP\")),W268)))","v":""},{"$f":"IF(A268=\"x\",\"x\",IF(C268=\"\",\"\",IF(OR(X268=\"NP\",X268=\"DNS\"),X268,RANK(X268,X$12:X$309,1))))","v":""},{"$f":"IF(A268=\"x\",\"x\",IF(C268=\"\",\"\",IF(OR(AND(U268=\"NP\",U269=\"NP\"),AND(U268=\"DNS\",U269=\"DNS\")),U268,IF(AND(U268=\"NP\",U269=\"DNS\"),U268,IF(AND(U268=\"DNS\",U269=\"NP\"),U269,MIN(U268,U269))))))","v":""}]
[null,null,null,"II.pokus",null,null,null,{"$f":"IF($C268=\"\",\"\",IF(OR($E269=\"DNS\",$F269=\"DNS\",$G269=\"DNS\"),\"DNS\",IF(OR($E269=\"NP\",$F269=\"NP\",$G269=\"NP\"),\"NP\",IF(ISERROR(MEDIAN($E269:$G269)),\"DNS\",IF(COUNT($E269:$G269)<3,MAX($E269:$G269),MEDIAN($E269:$G269))))))","v":""},null,null,null,null,null,null,null,null,null,null,null,null,""]
[{"$f":"IF(Start!Q16=\"\",\"\",\"x\")","v":""},86,{"$f":"IF(Start!O16=\"\",\"\",Start!O16)","v":""},"I.pokus",null,null,null,{"$f":"IF($C270=\"\",\"\",IF(OR($E270=\"DNS\",$F270=\"DNS\",$G270=\"DNS\"),\"DNS\",IF(OR($E270=\"NP\",$F270=\"NP\",$G270=\"NP\"),\"NP\",IF(ISERROR(MEDIAN($E270:$G270)),\"DNS\",IF(COUNT($E270:$G270)<3,MAX($E270:$G270),MEDIAN($E270:$G270))))))","v":""},null,null,null,null,null,null,null,null,null,null,null,null,"",{"$f":"IF(C270=\"x\",\"x\",IF(C270=\"\",\"\",IF(OR(W270=\"NP\",W270=\"DNS\"),IF(W270=\"NP\",MAX(W$12:W$309)+COUNTIF((W$12:W$309),MAX(W$12:W$309)),MAX(W$12:W$309)+COUNTIF((W$12:W$309),MAX(W$12:W$309))+COUNTIF((W$12:W$309),\"NP\")),W270)))","v":""},{"$f":"IF(A270=\"x\",\"x\",IF(C270=\"\",\"\",IF(OR(X270=\"NP\",X270=\"DNS\"),X270,RANK(X270,X$12:X$309,1))))","v":""},{"$f":"IF(A270=\"x\",\"x\",IF(C270=\"\",\"\",IF(OR(AND(U270=\"NP\",U271=\"NP\"),AND(U270=\"DNS\",U271=\"DNS\")),U270,IF(AND(U270=\"NP\",U271=\"DNS\"),U270,IF(AND(U270=\"DNS\",U271=\"NP\"),U271,MIN(U270,U271))))))","v":""}]
[null,null,null,"II.pokus",null,null,null,{"$f":"IF($C270=\"\",\"\",IF(OR($E271=\"DNS\",$F271=\"DNS\",$G271=\"DNS\"),\"DNS\",IF(OR($E271=\"NP\",$F271=\"NP\",$G271=\"NP\"),\"NP\",IF(ISERROR(MEDIAN($E271:$G271)),\"DNS\",IF(COUNT($E271:$G271)<3,MAX($E271:$G271),MEDIAN($E271:$G271))))))","v":""},null,null,null,null,null,null,null,null,null,null,null,null,""]
[{"$f":"IF(Start!Q17=\"\",\"\",\"x\")","v":""},87,{"$f":"IF(Start!O17=\"\",\"\",Start!O17)","v":""},"I.pokus",null,null,null,{"$f":"IF($C272=\"\",\"\",IF(OR($E272=\"DNS\",$F272=\"DNS\",$G272=\"DNS\"),\"DNS\",IF(OR($E272=\"NP\",$F272=\"NP\",$G272=\"NP\"),\"NP\",IF(ISERROR(MEDIAN($E272:$G272)),\"DNS\",IF(COUNT($E272:$G272)<3,MAX($E272:$G272),MEDIAN($E272:$G272))))))","v":""},null,null,null,null,null,null,null,null,null,null,null,null,"",{"$f":"IF(C272=\"x\",\"x\",IF(C272=\"\",\"\",IF(OR(W272=\"NP\",W272=\"DNS\"),IF(W272=\"NP\",MAX(W$12:W$309)+COUNTIF((W$12:W$309),MAX(W$12:W$309)),MAX(W$12:W$309)+COUNTIF((W$12:W$309),MAX(W$12:W$309))+COUNTIF((W$12:W$309),\"NP\")),W272)))","v":""},{"$f":"IF(A272=\"x\",\"x\",IF(C272=\"\",\"\",IF(OR(X272=\"NP\",X272=\"DNS\"),X272,RANK(X272,X$12:X$309,1))))","v":""},{"$f":"IF(A272=\"x\",\"x\",IF(C272=\"\",\"\",IF(OR(AND(U272=\"NP\",U273=\"NP\"),AND(U272=\"DNS\",U273=\"DNS\")),U272,IF(AND(U272=\"NP\",U273=\"DNS\"),U272,IF(AND(U272=\"DNS\",U273=\"NP\"),U273,MIN(U272,U273))))))","v":""}]
[null,null,null,"II.pokus",null,null,null,{"$f":"IF($C272=\"\",\"\",IF(OR($E273=\"DNS\",$F273=\"DNS\",$G273=\"DNS\"),\"DNS\",IF(OR($E273=\"NP\",$F273=\"NP\",$G273=\"NP\"),\"NP\",IF(ISERROR(MEDIAN($E273:$G273)),\"DNS\",IF(COUNT($E273:$G273)<3,MAX($E273:$G273),MEDIAN($E273:$G273))))))","v":""},null,null,null,null,null,null,null,null,null,null,null,null,""]
[{"$f":"IF(Start!Q18=\"\",\"\",\"x\")","v":""},88,{"$f":"IF(Start!O18=\"\",\"\",Start!O18)","v":""},"I.pokus",null,null,null,{"$f":"IF($C274=\"\",\"\",IF(OR($E274=\"DNS\",$F274=\"DNS\",$G274=\"DNS\"),\"DNS\",IF(OR($E274=\"NP\",$F274=\"NP\",$G274=\"NP\"),\"NP\",IF(ISERROR(MEDIAN($E274:$G274)),\"DNS\",IF(COUNT($E274:$G274)<3,MAX($E274:$G274),MEDIAN($E274:$G274))))))","v":""},null,null,null,null,null,null,null,null,null,null,null,null,"",{"$f":"IF(C274=\"x\",\"x\",IF(C274=\"\",\"\",IF(OR(W274=\"NP\",W274=\"DNS\"),IF(W274=\"NP\",MAX(W$12:W$309)+COUNTIF((W$12:W$309),MAX(W$12:W$309)),MAX(W$12:W$309)+COUNTIF((W$12:W$309),MAX(W$12:W$309))+COUNTIF((W$12:W$309),\"NP\")),W274)))","v":""},{"$f":"IF(A274=\"x\",\"x\",IF(C274=\"\",\"\",IF(OR(X274=\"NP\",X274=\"DNS\"),X274,RANK(X274,X$12:X$309,1))))","v":""},{"$f":"IF(A274=\"x\",\"x\",IF(C274=\"\",\"\",IF(OR(AND(U274=\"NP\",U275=\"NP\"),AND(U274=\"DNS\",U275=\"DNS\")),U274,IF(AND(U274=\"NP\",U275=\"DNS\"),U274,IF(AND(U274=\"DNS\",U275=\"NP\"),U275,MIN(U274,U275))))))","v":""}]
[null,null,null,"II.pokus",null,null,null,{"$f":"IF($C274=\"\",\"\",IF(OR($E275=\"DNS\",$F275=\"DNS\",$G275=\"DNS\"),\"DNS\",IF(OR($E275=\"NP\",$F275=\"NP\",$G275=\"NP\"),\"NP\",IF(ISERROR(MEDIAN($E275:$G275)),\"DNS\",IF(COUNT($E275:$G275)<3,MAX($E275:$G275),MEDIAN($E275:$G275))))))","v":""},null,null,null,null,null,null,null,null,null,null,null,null,""]
[{"$f":"IF(Start!Q19=\"\",\"\",\"x\")","v":""},89,{"$f":"IF(Start!O19=\"\",\"\",Start!O19)","v":""},"I.pokus",null,null,null,{"$f":"IF($C276=\"\",\"\",IF(OR($E276=\"DNS\",$F276=\"DNS\",$G276=\"DNS\"),\"DNS\",IF(OR($E276=\"NP\",$F276=\"NP\",$G276=\"NP\"),\"NP\",IF(ISERROR(MEDIAN($E276:$G276)),\"DNS\",IF(COUNT($E276:$G276)<3,MAX($E276:$G276),MEDIAN($E276:$G276))))))","v":""},null,null,null,null,null,null,null,null,null,null,null,null,"",{"$f":"IF(C276=\"x\",\"x\",IF(C276=\"\",\"\",IF(OR(W276=\"NP\",W276=\"DNS\"),IF(W276=\"NP\",MAX(W$12:W$309)+COUNTIF((W$12:W$309),MAX(W$12:W$309)),MAX(W$12:W$309)+COUNTIF((W$12:W$309),MAX(W$12:W$309))+COUNTIF((W$12:W$309),\"NP\")),W276)))","v":""},{"$f":"IF(A276=\"x\",\"x\",IF(C276=\"\",\"\",IF(OR(X276=\"NP\",X276=\"DNS\"),X276,RANK(X276,X$12:X$309,1))))","v":""},{"$f":"IF(A276=\"x\",\"x\",IF(C276=\"\",\"\",IF(OR(AND(U276=\"NP\",U277=\"NP\"),AND(U276=\"DNS\",U277=\"DNS\")),U276,IF(AND(U276=\"NP\",U277=\"DNS\"),U276,IF(AND(U276=\"DNS\",U277=\"NP\"),U277,MIN(U276,U277))))))","v":""}]
[null,null,null,"II.pokus",null,null,null,{"$f":"IF($C276=\"\",\"\",IF(OR($E277=\"DNS\",$F277=\"DNS\",$G277=\"DNS\"),\"DNS\",IF(OR($E277=\"NP\",$F277=\"NP\",$G277=\"NP\"),\"NP\",IF(ISERROR(MEDIAN($E277:$G277)),\"DNS\",IF(COUNT($E277:$G277)<3,MAX($E277:$G277),MEDIAN($E277:$G277))))))","v":""},null,null,null,null,null,null,null,null,null,null,null,null,""]
[{"$f":"IF(Start!Q20=\"\",\"\",\"x\")","v":""},90,{"$f":"IF(Start!O20=\"\",\"\",Start!O20)","v":""},"I.pokus",null,null,null,{"$f":"IF($C278=\"\",\"\",IF(OR($E278=\"DNS\",$F278=\"DNS\",$G278=\"DNS\"),\"DNS\",IF(OR($E278=\"NP\",$F278=\"NP\",$G278=\"NP\"),\"NP\",IF(ISERROR(MEDIAN($E278:$G278)),\"DNS\",IF(COUNT($E278:$G278)<3,MAX($E278:$G278),MEDIAN($E278:$G278))))))","v":""},null,null,null,null,null,null,null,null,null,null,null,null,"",{"$f":"IF(C278=\"x\",\"x\",IF(C278=\"\",\"\",IF(OR(W278=\"NP\",W278=\"DNS\"),IF(W278=\"NP\",MAX(W$12:W$309)+COUNTIF((W$12:W$309),MAX(W$12:W$309)),MAX(W$12:W$309)+COUNTIF((W$12:W$309),MAX(W$12:W$309))+COUNTIF((W$12:W$309),\"NP\")),W278)))","v":""},{"$f":"IF(A278=\"x\",\"x\",IF(C278=\"\",\"\",IF(OR(X278=\"NP\",X278=\"DNS\"),X278,RANK(X278,X$12:X$309,1))))","v":""},{"$f":"IF(A278=\"x\",\"x\",IF(C278=\"\",\"\",IF(OR(AND(U278=\"NP\",U279=\"NP\"),AND(U278=\"DNS\",U279=\"DNS\")),U278,IF(AND(U278=\"NP\",U279=\"DNS\"),U278,IF(AND(U278=\"DNS\",U279=\"NP\"),U279,MIN(U278,U279))))))","v":""}]
[null,null,null,"II.pokus",null,null,null,{"$f":"IF($C278=\"\",\"\",IF(OR($E279=\"DNS\",$F279=\"DNS\",$G279=\"DNS\"),\"DNS\",IF(OR($E279=\"NP\",$F279=\"NP\",$G279=\"NP\"),\"NP\",IF(ISERROR(MEDIAN($E279:$G279)),\"DNS\",IF(COUNT($E279:$G279)<3,MAX($E279:$G279),MEDIAN($E279:$G279))))))","v":""},null,null,null,null,null,null,null,null,null,null,null,null,""]
[null,"CELOSTÁTNÍ HRA PLAMEN"]
[]
[]
[null,"Výsledková listina č: 10"]
[null,"Štafeta požárních dvojic",null,null,"Základem je čas naměřený od vydání signálu startéra do proběhnutí posledního člena cílem",null,null,null,"K úřednímu času se připočítávají trestné sekundy - za každý případ 10 sekund",null,null,null,null,null,null,null,null,null,null,null,"Výsledek soutěže"]
[null,null,null,null,null,null,null,null,"předčasné vyběhnutí","nesvinutí rozpadlého kotouče","nerozložení hadice nejméně na vyznačenou čáru","nesprávné napojení hadice na proudnici či hydr. nástavec","nesprávné rozvinutí hadice u hydr. nástavce","neoběhnutí nebo nesprávné oběhnutí mety","neúplné svinutí hadice mezi metou a nástavcem","hození hadice nebo proudnice","chození po nesprávné straně","nesprávné svinutí (dvojité přeložení)","nesprávné odpojení proudnice nebo hadice"]
[null,null,null,null,null,null,null,null,null,null,null,null,null,null,null,null,null,null,null,null,"součet trest. Sekund a úředního času","počet bodů za umístění"]
[null,{"$f":"\"KATEGORIE: \"&Start!$N$2","v":"KATEGORIE: starší"},null,null,"I. časoměřič","II. časoměřič","III. časoměřič","úřední čas"]
[]
[null,"start. číslo","SOUTĚŽNÍ DRUŽSTVO","pokus"]
[]
[{"$f":"IF(Start!Q21=\"\",\"\",\"x\")","v":""},91,{"$f":"IF(Start!O21=\"\",\"\",Start!O21)","v":""},"I.pokus",null,null,null,{"$f":"IF($C291=\"\",\"\",IF(OR($E291=\"DNS\",$F291=\"DNS\",$G291=\"DNS\"),\"DNS\",IF(OR($E291=\"NP\",$F291=\"NP\",$G291=\"NP\"),\"NP\",IF(ISERROR(MEDIAN($E291:$G291)),\"DNS\",IF(COUNT($E291:$G291)<3,MAX($E291:$G291),MEDIAN($E291:$G291))))))","v":""},null,null,null,null,null,null,null,null,null,null,null,null,{"$f":"IF(H291=\"\",\"\",IF(H291=\"NP\",\"NP\",IF(H291=\"DNS\",\"DNS\",SUM(I291:T291)+H291)))","v":""},{"$f":"IF(C291=\"x\",\"x\",IF(C291=\"\",\"\",IF(OR(W291=\"NP\",W291=\"DNS\"),IF(W291=\"NP\",MAX(W$12:W$309)+COUNTIF((W$12:W$309),MAX(W$12:W$309)),MAX(W$12:W$309)+COUNTIF((W$12:W$309),MAX(W$12:W$309))+COUNTIF((W$12:W$309),\"NP\")),W291)))","v":""},{"$f":"IF(A291=\"x\",\"x\",IF(C291=\"\",\"\",IF(OR(X291=\"NP\",X291=\"DNS\"),X291,RANK(X291,X$12:X$61,1))))","v":""},{"$f":"IF(A291=\"x\",\"x\",IF(C291=\"\",\"\",IF(OR(AND(U291=\"NP\",U292=\"NP\"),AND(U291=\"DNS\",U292=\"DNS\")),U291,IF(AND(U291=\"NP\",U292=\"DNS\"),U291,IF(AND(U291=\"DNS\",U292=\"NP\"),U292,MIN(U291,U292))))))","v":""}]
[null,null,null,"II.pokus",null,null,null,{"$f":"IF($C291=\"\",\"\",IF(OR($E292=\"DNS\",$F292=\"DNS\",$G292=\"DNS\"),\"DNS\",IF(OR($E292=\"NP\",$F292=\"NP\",$G292=\"NP\"),\"NP\",IF(ISERROR(MEDIAN($E292:$G292)),\"DNS\",IF(COUNT($E292:$G292)<3,MAX($E292:$G292),MEDIAN($E292:$G292))))))","v":""},null,null,null,null,null,null,null,null,null,null,null,null,""]
[{"$f":"IF(Start!Q22=\"\",\"\",\"x\")","v":""},92,{"$f":"IF(Start!O22=\"\",\"\",Start!O22)","v":""},"I.pokus",null,null,null,{"$f":"IF($C293=\"\",\"\",IF(OR($E293=\"DNS\",$F293=\"DNS\",$G293=\"DNS\"),\"DNS\",IF(OR($E293=\"NP\",$F293=\"NP\",$G293=\"NP\"),\"NP\",IF(ISERROR(MEDIAN($E293:$G293)),\"DNS\",IF(COUNT($E293:$G293)<3,MAX($E293:$G293),MEDIAN($E293:$G293))))))","v":""},null,null,null,null,null,null,null,null,null,null,null,null,"",{"$f":"IF(C293=\"x\",\"x\",IF(C293=\"\",\"\",IF(OR(W293=\"NP\",W293=\"DNS\"),IF(W293=\"NP\",MAX(W$12:W$309)+COUNTIF((W$12:W$309),MAX(W$12:W$309)),MAX(W$12:W$309)+COUNTIF((W$12:W$309),MAX(W$12:W$309))+COUNTIF((W$12:W$309),\"NP\")),W293)))","v":""},{"$f":"IF(A293=\"x\",\"x\",IF(C293=\"\",\"\",IF(OR(X293=\"NP\",X293=\"DNS\"),X293,RANK(X293,X$12:X$61,1))))","v":""},{"$f":"IF(A293=\"x\",\"x\",IF(C293=\"\",\"\",IF(OR(AND(U293=\"NP\",U294=\"NP\"),AND(U293=\"DNS\",U294=\"DNS\")),U293,IF(AND(U293=\"NP\",U294=\"DNS\"),U293,IF(AND(U293=\"DNS\",U294=\"NP\"),U294,MIN(U293,U294))))))","v":""}]
[null,null,null,"II.pokus",null,null,null,{"$f":"IF($C293=\"\",\"\",IF(OR($E294=\"DNS\",$F294=\"DNS\",$G294=\"DNS\"),\"DNS\",IF(OR($E294=\"NP\",$F294=\"NP\",$G294=\"NP\"),\"NP\",IF(ISERROR(MEDIAN($E294:$G294)),\"DNS\",IF(COUNT($E294:$G294)<3,MAX($E294:$G294),MEDIAN($E294:$G294))))))","v":""},null,null,null,null,null,null,null,null,null,null,null,null,""]
[{"$f":"IF(Start!Q23=\"\",\"\",\"x\")","v":""},93,{"$f":"IF(Start!O23=\"\",\"\",Start!O23)","v":""},"I.pokus",null,null,null,{"$f":"IF($C295=\"\",\"\",IF(OR($E295=\"DNS\",$F295=\"DNS\",$G295=\"DNS\"),\"DNS\",IF(OR($E295=\"NP\",$F295=\"NP\",$G295=\"NP\"),\"NP\",IF(ISERROR(MEDIAN($E295:$G295)),\"DNS\",IF(COUNT($E295:$G295)<3,MAX($E295:$G295),MEDIAN($E295:$G295))))))","v":""},null,null,null,null,null,null,null,null,null,null,null,null,"",{"$f":"IF(C295=\"x\",\"x\",IF(C295=\"\",\"\",IF(OR(W295=\"NP\",W295=\"DNS\"),IF(W295=\"NP\",MAX(W$12:W$309)+COUNTIF((W$12:W$309),MAX(W$12:W$309)),MAX(W$12:W$309)+COUNTIF((W$12:W$309),MAX(W$12:W$309))+COUNTIF((W$12:W$309),\"NP\")),W295)))","v":""},{"$f":"IF(A295=\"x\",\"x\",IF(C295=\"\",\"\",IF(OR(X295=\"NP\",X295=\"DNS\"),X295,RANK(X295,X$12:X$61,1))))","v":""},{"$f":"IF(A295=\"x\",\"x\",IF(C295=\"\",\"\",IF(OR(AND(U295=\"NP\",U296=\"NP\"),AND(U295=\"DNS\",U296=\"DNS\")),U295,IF(AND(U295=\"NP\",U296=\"DNS\"),U295,IF(AND(U295=\"DNS\",U296=\"NP\"),U296,MIN(U295,U296))))))","v":""}]
[null,null,null,"II.pokus",null,null,null,{"$f":"IF($C295=\"\",\"\",IF(OR($E296=\"DNS\",$F296=\"DNS\",$G296=\"DNS\"),\"DNS\",IF(OR($E296=\"NP\",$F296=\"NP\",$G296=\"NP\"),\"NP\",IF(ISERROR(MEDIAN($E296:$G296)),\"DNS\",IF(COUNT($E296:$G296)<3,MAX($E296:$G296),MEDIAN($E296:$G296))))))","v":""},null,null,null,null,null,null,null,null,null,null,null,null,""]
[{"$f":"IF(Start!Q24=\"\",\"\",\"x\")","v":""},94,{"$f":"IF(Start!O24=\"\",\"\",Start!O24)","v":""},"I.pokus",null,null,null,{"$f":"IF($C297=\"\",\"\",IF(OR($E297=\"DNS\",$F297=\"DNS\",$G297=\"DNS\"),\"DNS\",IF(OR($E297=\"NP\",$F297=\"NP\",$G297=\"NP\"),\"NP\",IF(ISERROR(MEDIAN($E297:$G297)),\"DNS\",IF(COUNT($E297:$G297)<3,MAX($E297:$G297),MEDIAN($E297:$G297))))))","v":""},null,null,null,null,null,null,null,null,null,null,null,null,"",{"$f":"IF(C297=\"x\",\"x\",IF(C297=\"\",\"\",IF(OR(W297=\"NP\",W297=\"DNS\"),IF(W297=\"NP\",MAX(W$12:W$309)+COUNTIF((W$12:W$309),MAX(W$12:W$309)),MAX(W$12:W$309)+COUNTIF((W$12:W$309),MAX(W$12:W$309))+COUNTIF((W$12:W$309),\"NP\")),W297)))","v":""},{"$f":"IF(A297=\"x\",\"x\",IF(C297=\"\",\"\",IF(OR(X297=\"NP\",X297=\"DNS\"),X297,RANK(X297,X$12:X$61,1))))","v":""},{"$f":"IF(A297=\"x\",\"x\",IF(C297=\"\",\"\",IF(OR(AND(U297=\"NP\",U298=\"NP\"),AND(U297=\"DNS\",U298=\"DNS\")),U297,IF(AND(U297=\"NP\",U298=\"DNS\"),U297,IF(AND(U297=\"DNS\",U298=\"NP\"),U298,MIN(U297,U298))))))","v":""}]
[null,null,null,"II.pokus",null,null,null,{"$f":"IF($C297=\"\",\"\",IF(OR($E298=\"DNS\",$F298=\"DNS\",$G298=\"DNS\"),\"DNS\",IF(OR($E298=\"NP\",$F298=\"NP\",$G298=\"NP\"),\"NP\",IF(ISERROR(MEDIAN($E298:$G298)),\"DNS\",IF(COUNT($E298:$G298)<3,MAX($E298:$G298),MEDIAN($E298:$G298))))))","v":""},null,null,null,null,null,null,null,null,null,null,null,null,""]
[{"$f":"IF(Start!Q25=\"\",\"\",\"x\")","v":""},95,{"$f":"IF(Start!O25=\"\",\"\",Start!O25)","v":""},"I.pokus",null,null,null,{"$f":"IF($C299=\"\",\"\",IF(OR($E299=\"DNS\",$F299=\"DNS\",$G299=\"DNS\"),\"DNS\",IF(OR($E299=\"NP\",$F299=\"NP\",$G299=\"NP\"),\"NP\",IF(ISERROR(MEDIAN($E299:$G299)),\"DNS\",IF(COUNT($E299:$G299)<3,MAX($E299:$G299),MEDIAN($E299:$G299))))))","v":""},null,null,null,null,null,null,null,null,null,null,null,null,"",{"$f":"IF(C299=\"x\",\"x\",IF(C299=\"\",\"\",IF(OR(W299=\"NP\",W299=\"DNS\"),IF(W299=\"NP\",MAX(W$12:W$309)+COUNTIF((W$12:W$309),MAX(W$12:W$309)),MAX(W$12:W$309)+COUNTIF((W$12:W$309),MAX(W$12:W$309))+COUNTIF((W$12:W$309),\"NP\")),W299)))","v":""},{"$f":"IF(A299=\"x\",\"x\",IF(C299=\"\",\"\",IF(OR(X299=\"NP\",X299=\"DNS\"),X299,RANK(X299,X$12:X$61,1))))","v":""},{"$f":"IF(A299=\"x\",\"x\",IF(C299=\"\",\"\",IF(OR(AND(U299=\"NP\",U300=\"NP\"),AND(U299=\"DNS\",U300=\"DNS\")),U299,IF(AND(U299=\"NP\",U300=\"DNS\"),U299,IF(AND(U299=\"DNS\",U300=\"NP\"),U300,MIN(U299,U300))))))","v":""}]
[null,null,null,"II.pokus",null,null,null,{"$f":"IF($C299=\"\",\"\",IF(OR($E300=\"DNS\",$F300=\"DNS\",$G300=\"DNS\"),\"DNS\",IF(OR($E300=\"NP\",$F300=\"NP\",$G300=\"NP\"),\"NP\",IF(ISERROR(MEDIAN($E300:$G300)),\"DNS\",IF(COUNT($E300:$G300)<3,MAX($E300:$G300),MEDIAN($E300:$G300))))))","v":""},null,null,null,null,null,null,null,null,null,null,null,null,""]
[{"$f":"IF(Start!Q26=\"\",\"\",\"x\")","v":""},96,{"$f":"IF(Start!O26=\"\",\"\",Start!O26)","v":""},"I.pokus",null,null,null,{"$f":"IF($C301=\"\",\"\",IF(OR($E301=\"DNS\",$F301=\"DNS\",$G301=\"DNS\"),\"DNS\",IF(OR($E301=\"NP\",$F301=\"NP\",$G301=\"NP\"),\"NP\",IF(ISERROR(MEDIAN($E301:$G301)),\"DNS\",IF(COUNT($E301:$G301)<3,MAX($E301:$G301),MEDIAN($E301:$G301))))))","v":""},null,null,null,null,null,null,null,null,null,null,null,null,"",{"$f":"IF(C301=\"x\",\"x\",IF(C301=\"\",\"\",IF(OR(W301=\"NP\",W301=\"DNS\"),IF(W301=\"NP\",MAX(W$12:W$309)+COUNTIF((W$12:W$309),MAX(W$12:W$309)),MAX(W$12:W$309)+COUNTIF((W$12:W$309),MAX(W$12:W$309))+COUNTIF((W$12:W$309),\"NP\")),W301)))","v":""},{"$f":"IF(A301=\"x\",\"x\",IF(C301=\"\",\"\",IF(OR(X301=\"NP\",X301=\"DNS\"),X301,RANK(X301,X$12:X$61,1))))","v":""},{"$f":"IF(A301=\"x\",\"x\",IF(C301=\"\",\"\",IF(OR(AND(U301=\"NP\",U302=\"NP\"),AND(U301=\"DNS\",U302=\"DNS\")),U301,IF(AND(U301=\"NP\",U302=\"DNS\"),U301,IF(AND(U301=\"DNS\",U302=\"NP\"),U302,MIN(U301,U302))))))","v":""}]
[null,null,null,"II.pokus",null,null,null,{"$f":"IF($C301=\"\",\"\",IF(OR($E302=\"DNS\",$F302=\"DNS\",$G302=\"DNS\"),\"DNS\",IF(OR($E302=\"NP\",$F302=\"NP\",$G302=\"NP\"),\"NP\",IF(ISERROR(MEDIAN($E302:$G302)),\"DNS\",IF(COUNT($E302:$G302)<3,MAX($E302:$G302),MEDIAN($E302:$G302))))))","v":""},null,null,null,null,null,null,null,null,null,null,null,null,""]
[{"$f":"IF(Start!Q27=\"\",\"\",\"x\")","v":""},97,{"$f":"IF(Start!O27=\"\",\"\",Start!O27)","v":""},"I.pokus",null,null,null,{"$f":"IF($C303=\"\",\"\",IF(OR($E303=\"DNS\",$F303=\"DNS\",$G303=\"DNS\"),\"DNS\",IF(OR($E303=\"NP\",$F303=\"NP\",$G303=\"NP\"),\"NP\",IF(ISERROR(MEDIAN($E303:$G303)),\"DNS\",IF(COUNT($E303:$G303)<3,MAX($E303:$G303),MEDIAN($E303:$G303))))))","v":""},null,null,null,null,null,null,null,null,null,null,null,null,"",{"$f":"IF(C303=\"x\",\"x\",IF(C303=\"\",\"\",IF(OR(W303=\"NP\",W303=\"DNS\"),IF(W303=\"NP\",MAX(W$12:W$309)+COUNTIF((W$12:W$309),MAX(W$12:W$309)),MAX(W$12:W$309)+COUNTIF((W$12:W$309),MAX(W$12:W$309))+COUNTIF((W$12:W$309),\"NP\")),W303)))","v":""},{"$f":"IF(A303=\"x\",\"x\",IF(C303=\"\",\"\",IF(OR(X303=\"NP\",X303=\"DNS\"),X303,RANK(X303,X$12:X$61,1))))","v":""},{"$f":"IF(A303=\"x\",\"x\",IF(C303=\"\",\"\",IF(OR(AND(U303=\"NP\",U304=\"NP\"),AND(U303=\"DNS\",U304=\"DNS\")),U303,IF(AND(U303=\"NP\",U304=\"DNS\"),U303,IF(AND(U303=\"DNS\",U304=\"NP\"),U304,MIN(U303,U304))))))","v":""}]
[null,null,null,"II.pokus",null,null,null,{"$f":"IF($C303=\"\",\"\",IF(OR($E304=\"DNS\",$F304=\"DNS\",$G304=\"DNS\"),\"DNS\",IF(OR($E304=\"NP\",$F304=\"NP\",$G304=\"NP\"),\"NP\",IF(ISERROR(MEDIAN($E304:$G304)),\"DNS\",IF(COUNT($E304:$G304)<3,MAX($E304:$G304),MEDIAN($E304:$G304))))))","v":""},null,null,null,null,null,null,null,null,null,null,null,null,""]
[{"$f":"IF(Start!Q28=\"\",\"\",\"x\")","v":""},98,{"$f":"IF(Start!O28=\"\",\"\",Start!O28)","v":""},"I.pokus",null,null,null,{"$f":"IF($C305=\"\",\"\",IF(OR($E305=\"DNS\",$F305=\"DNS\",$G305=\"DNS\"),\"DNS\",IF(OR($E305=\"NP\",$F305=\"NP\",$G305=\"NP\"),\"NP\",IF(ISERROR(MEDIAN($E305:$G305)),\"DNS\",IF(COUNT($E305:$G305)<3,MAX($E305:$G305),MEDIAN($E305:$G305))))))","v":""},null,null,null,null,null,null,null,null,null,null,null,null,"",{"$f":"IF(C305=\"x\",\"x\",IF(C305=\"\",\"\",IF(OR(W305=\"NP\",W305=\"DNS\"),IF(W305=\"NP\",MAX(W$12:W$309)+COUNTIF((W$12:W$309),MAX(W$12:W$309)),MAX(W$12:W$309)+COUNTIF((W$12:W$309),MAX(W$12:W$309))+COUNTIF((W$12:W$309),\"NP\")),W305)))","v":""},{"$f":"IF(A305=\"x\",\"x\",IF(C305=\"\",\"\",IF(OR(X305=\"NP\",X305=\"DNS\"),X305,RANK(X305,X$12:X$61,1))))","v":""},{"$f":"IF(A305=\"x\",\"x\",IF(C305=\"\",\"\",IF(OR(AND(U305=\"NP\",U306=\"NP\"),AND(U305=\"DNS\",U306=\"DNS\")),U305,IF(AND(U305=\"NP\",U306=\"DNS\"),U305,IF(AND(U305=\"DNS\",U306=\"NP\"),U306,MIN(U305,U306))))))","v":""}]
[null,null,null,"II.pokus",null,null,null,{"$f":"IF($C305=\"\",\"\",IF(OR($E306=\"DNS\",$F306=\"DNS\",$G306=\"DNS\"),\"DNS\",IF(OR($E306=\"NP\",$F306=\"NP\",$G306=\"NP\"),\"NP\",IF(ISERROR(MEDIAN($E306:$G306)),\"DNS\",IF(COUNT($E306:$G306)<3,MAX($E306:$G306),MEDIAN($E306:$G306))))))","v":""},null,null,null,null,null,null,null,null,null,null,null,null,""]
[{"$f":"IF(Start!Q29=\"\",\"\",\"x\")","v":""},99,{"$f":"IF(Start!O29=\"\",\"\",Start!O29)","v":""},"I.pokus",null,null,null,{"$f":"IF($C307=\"\",\"\",IF(OR($E307=\"DNS\",$F307=\"DNS\",$G307=\"DNS\"),\"DNS\",IF(OR($E307=\"NP\",$F307=\"NP\",$G307=\"NP\"),\"NP\",IF(ISERROR(MEDIAN($E307:$G307)),\"DNS\",IF(COUNT($E307:$G307)<3,MAX($E307:$G307),MEDIAN($E307:$G307))))))","v":""},null,null,null,null,null,null,null,null,null,null,null,null,"",{"$f":"IF(C307=\"x\",\"x\",IF(C307=\"\",\"\",IF(OR(W307=\"NP\",W307=\"DNS\"),IF(W307=\"NP\",MAX(W$12:W$309)+COUNTIF((W$12:W$309),MAX(W$12:W$309)),MAX(W$12:W$309)+COUNTIF((W$12:W$309),MAX(W$12:W$309))+COUNTIF((W$12:W$309),\"NP\")),W307)))","v":""},{"$f":"IF(A307=\"x\",\"x\",IF(C307=\"\",\"\",IF(OR(X307=\"NP\",X307=\"DNS\"),X307,RANK(X307,X$12:X$61,1))))","v":""},{"$f":"IF(A307=\"x\",\"x\",IF(C307=\"\",\"\",IF(OR(AND(U307=\"NP\",U308=\"NP\"),AND(U307=\"DNS\",U308=\"DNS\")),U307,IF(AND(U307=\"NP\",U308=\"DNS\"),U307,IF(AND(U307=\"DNS\",U308=\"NP\"),U308,MIN(U307,U308))))))","v":""}]
[null,null,null,"II.pokus",null,null,null,{"$f":"IF($C307=\"\",\"\",IF(OR($E308=\"DNS\",$F308=\"DNS\",$G308=\"DNS\"),\"DNS\",IF(OR($E308=\"NP\",$F308=\"NP\",$G308=\"NP\"),\"NP\",IF(ISERROR(MEDIAN($E308:$G308)),\"DNS\",IF(COUNT($E308:$G308)<3,MAX($E308:$G308),MEDIAN($E308:$G308))))))","v":""},null,null,null,null,null,null,null,null,null,null,null,null,""]
[{"$f":"IF(Start!Q30=\"\",\"\",\"x\")","v":""},100,{"$f":"IF(Start!O30=\"\",\"\",Start!O30)","v":""},"I.pokus",null,null,null,{"$f":"IF($C309=\"\",\"\",IF(OR($E309=\"DNS\",$F309=\"DNS\",$G309=\"DNS\"),\"DNS\",IF(OR($E309=\"NP\",$F309=\"NP\",$G309=\"NP\"),\"NP\",IF(ISERROR(MEDIAN($E309:$G309)),\"DNS\",IF(COUNT($E309:$G309)<3,MAX($E309:$G309),MEDIAN($E309:$G309))))))","v":""},null,null,null,null,null,null,null,null,null,null,null,null,"",{"$f":"IF(C309=\"x\",\"x\",IF(C309=\"\",\"\",IF(OR(W309=\"NP\",W309=\"DNS\"),IF(W309=\"NP\",MAX(W$12:W$309)+COUNTIF((W$12:W$309),MAX(W$12:W$309)),MAX(W$12:W$309)+COUNTIF((W$12:W$309),MAX(W$12:W$309))+COUNTIF((W$12:W$309),\"NP\")),W309)))","v":""},{"$f":"IF(A309=\"x\",\"x\",IF(C309=\"\",\"\",IF(OR(X309=\"NP\",X309=\"DNS\"),X309,RANK(X309,X$12:X$61,1))))","v":""},{"$f":"IF(A309=\"x\",\"x\",IF(C309=\"\",\"\",IF(OR(AND(U309=\"NP\",U310=\"NP\"),AND(U309=\"DNS\",U310=\"DNS\")),U309,IF(AND(U309=\"NP\",U310=\"DNS\"),U309,IF(AND(U309=\"DNS\",U310=\"NP\"),U310,MIN(U309,U310))))))","v":""}]
[null,null,null,"II.pokus",null,null,null,{"$f":"IF($C309=\"\",\"\",IF(OR($E310=\"DNS\",$F310=\"DNS\",$G310=\"DNS\"),\"DNS\",IF(OR($E310=\"NP\",$F310=\"NP\",$G310=\"NP\"),\"NP\",IF(ISERROR(MEDIAN($E310:$G310)),\"DNS\",IF(COUNT($E310:$G310)<3,MAX($E310:$G310),MEDIAN($E310:$G310))))))","v":""},null,null,null,null,null,null,null,null,null,null,null,null,""]

{"sheet":"Št.4x60m","index":5,"n_rows":155,"n_cols":22,"rows_kept":155,"cut":false,"hidden":false,"merged":[[0,1,2,8],[3,1,3,8],[31,1,33,8],[34,1,34,8],[15,1,16,1],[15,2,16,2],[15,8,16,8],[9,3,10,3],[11,1,12,1],[11,2,12,2],[4,1,6,3],[7,1,8,3],[7,4,10,4],[7,5,10,5],[7,6,10,6],[9,1,10,1],[9,2,10,2],[17,1,18,1],[17,2,18,2],[13,1,14,1],[13,2,14,2],[19,1,20,1],[19,2,20,2],[21,1,22,1],[153,11,154,11],[153,12,154,12],[153,13,154,13],[153,19,154,19],[153,20,154,20],[153,21,154,21],[153,0,154,0],[153,1,154,1],[153,2,154,2],[153,8,154,8],[153,9,154,9],[153,10,154,10],[151,11,152,11],[151,12,152,12],[151,13,152,13],[151,19,152,19],[151,20,152,20],[151,21,152,21],[151,0,152,0],[151,1,152,1],[151,2,152,2],[151,8,152,8],[151,9,152,9],[151,10,152,10],[149,11,150,11],[149,12,150,12],[149,13,150,13],[149,19,150,19],[149,20,150,20],[149,21,150,21],[149,0,150,0],[149,1,150,1],[149,2,150,2],[149,8,150,8],[149,9,150,9],[149,10,150,10],[147,11,148,11],[147,12,148,12],[147,13,148,13],[147,19,148,19],[147,20,148,20],[147,21,148,21],[147,0,148,0],[147,1,148,1],[147,2,148,2],[147,8,148,8],[147,9,148,9],[147,10,148,10],[145,11,146,11],[145,12,146,12],[145,13,146,13],[145,19,146,19],[145,20,146,20],[145,21,146,21],[145,0,146,0],[145,1,146,1],[145,2,146,2],[145,8,146,8],[145,9,146,9],[145,10,146,10],[143,11,144,11],[143,12,144,12],[143,13,144,13],[143,19,144,19],[143,20,144,20],[143,21,144,21],[143,0,144,0],[143,1,144,1],[143,2,144,2],[143,8,144,8],[143,9,144,9],[143,10,144,10],[141,11,142,11],[141,12,142,12],[141,13,142,13],[141,19,142,19],[141,20,142,20],[141,21,142,21],[141,0,142,0],[141,1,142,1],[141,2,142,2],[141,8,142,8],[141,9,142,9],[141,10,142,10],[139,19,140,19],[139,20,140,20],[139,21,140,21],[139,0,140,0],[139,1,140,1],[139,2,140,2],[139,8,140,8],[139,9,140,9],[139,10,140,10],[137,0,138,0],[137,1,138,1],[137,2,138,2],[137,8,138,8],[137,9,138,9],[137,10,138,10],[139,11,140,11],[139,12,140,12],[139,13,140,13],[135,19,136,19],[135,20,136,20],[135,21,136,21],[131,16,134,16],[131,17,134,17],[131,18,134,18],[131,19,134,19],[131,15,134,15],[137,11,138,11],[137,12,138,12],[137,13,138,13],[137,19,138,19],[137,20,138,20],[137,21,138,21],[135,0,136,0],[135,1,136,1],[135,2,136,2],[135,8,136,8],[135,9,136,9],[135,10,136,10],[131,7,134,7],[131,8,134,8],[131,12,132,14],[133,12,134,12],[133,13,134,13],[133,14,134,14],[131,1,132,3],[131,4,134,4],[131,5,134,5],[131,6,134,6],[133,1,134,1],[133,2,134,2],[133,3,134,3],[135,11,136,11],[135,12,136,12],[135,13,136,13],[124,13,127,19],[128,1,130,3],[128,4,130,8],[128,12,130,14],[128,15,130,19],[124,1,126,8],[127,1,127,8],[122,11,123,11],[122,12,123,12],[122,13,123,13],[122,19,123,19],[122,20,123,20],[122,21,123,21],[122,0,123,0],[122,1,123,1],[122,2,123,2],[122,8,123,8],[122,9,123,9],[122,10,123,10],[120,11,121,11],[120,12,121,12],[120,13,121,13],[120,19,121,19],[120,20,121,20],[120,21,121,21],[120,0,121,0],[120,1,121,1],[120,2,121,2],[120,8,121,8],[120,9,121,9],[120,10,121,10],[118,11,119,11],[118,12,119,12],[118,13,119,13],[118,19,119,19],[118,20,119,20],[118,21,119,21],[118,0,119,0],[118,1,119,1],[118,2,119,2],[118,8,119,8],[118,9,119,9],[118,10,119,10],[116,11,117,11],[116,12,117,12],[116,13,117,13],[116,19,117,19],[116,20,117,20],[116,21,117,21],[116,0,117,0],[116,1,117,1],[116,2,117,2],[116,8,117,8],[116,9,117,9],[116,10,117,10],[114,11,115,11],[114,12,115,12],[114,13,115,13],[114,19,115,19],[114,20,115,20],[114,21,115,21],[114,0,115,0],[114,1,115,1],[114,2,115,2],[114,8,115,8],[114,9,115,9],[114,10,115,10],[112,11,113,11],[112,12,113,12],[112,13,113,13],[112,19,113,19],[112,20,113,20],[112,21,113,21],[112,0,113,0],[112,1,113,1],[112,2,113,2],[112,8,113,8],[112,9,113,9],[112,10,113,10],[110,11,111,11],[110,12,111,12],[110,13,111,13],[110,19,111,19],[110,20,111,20],[110,21,111,21],[110,0,111,0],[110,1,111,1],[110,2,111,2],[110,8,111,8],[110,9,111,9],[110,10,111,10],[108,19,109,19],[108,20,109,20],[108,21,109,21],[108,0,109,0],[108,1,109,1],[108,2,109,2],[108,8,109,8],[108,9,109,9],[108,10,109,10],[106,0,107,0],[106,1,107,1],[106,2,107,2],[106,8,107,8],[106,9,107,9],[106,10,107,10],[108,11,109,11],[108,12,109,12],[108,13,109,13],[104,19,105,19],[104,20,105,20],[104,21,105,21],[100,16,103,16],[100,17,103,17],[100,18,103,18],[100,19,103,19],[100,15,103,15],[106,11,107,11],[106,12,107,12],[106,13,107,13],[106,19,107,19],[106,20,107,20],[106,21,107,21],[104,0,105,0],[104,1,105,1],[104,2,105,2],[104,8,105,8],[104,9,105,9],[104,10,105,10],[100,7,103,7],[100,8,103,8],[100,12,101,14],[102,12,103,12],[102,13,103,13],[102,14,103,14],[100,1,101,3],[100,4,103,4],[100,5,103,5],[100,6,103,6],[102,1,103,1],[102,2,103,2],[102,3,103,3],[104,11,105,11],[104,12,105,12],[104,13,105,13],[93,13,96,19],[97,1,99,3],[97,4,99,8],[97,12,99,14],[97,15,99,19],[93,1,95,8],[96,1,96,8],[91,11,92,11],[91,12,92,12],[91,13,92,13],[91,19,92,19],[91,20,92,20],[91,21,92,21],[91,0,92,0],[91,1,92,1],[91,2,92,2],[91,8,92,8],[91,9,92,9],[91,10,92,10],[89,11,90,11],[89,12,90,12],[89,13,90,13],[89,19,90,19],[89,20,90,20],[89,21,90,21],[89,0,90,0],[89,1,90,1],[89,2,90,2],[89,8,90,8],[89,9,90,9],[89,10,90,10],[87,11,88,11],[87,12,88,12],[87,13,88,13],[87,19,88,19],[87,20,88,20],[87,21,88,21],[87,0,88,0],[87,1,88,1],[87,2,88,2],[87,8,88,8],[87,9,88,9],[87,10,88,10],[85,11,86,11],[85,12,86,12],[85,13,86,13],[85,19,86,19],[85,20,86,20],[85,21,86,21],[85,0,86,0],[85,1,86,1],[85,2,86,2],[85,8,86,8],[85,9,86,9],[85,10,86,10],[83,11,84,11],[83,12,84,12],[83,13,84,13],[83,19,84,19],[83,20,84,20],[83,21,84,21],[83,0,84,0],[83,1,84,1],[83,2,84,2],[83,8,84,8],[83,9,84,9],[83,10,84,10],[81,11,82,11],[81,12,82,12],[81,13,82,13],[81,19,82,19],[81,20,82,20],[81,21,82,21],[81,0,82,0],[81,1,82,1],[81,2,82,2],[81,8,82,8],[81,9,82,9],[81,10,82,10],[79,11,80,11],[79,12,80,12],[79,13,80,13],[79,19,80,19],[79,20,80,20],[79,21,80,21],[79,0,80,0],[79,1,80,1],[79,2,80,2],[79,8,80,8],[79,9,80,9],[79,10,80,10],[77,11,78,11],[77,12,78,12],[77,13,78,13],[77,19,78,19],[77,20,78,20],[77,21,78,21],[77,0,78,0],[77,1,78,1],[77,2,78,2],[77,8,78,8],[77,9,78,9],[77,10,78,10],[75,11,76,11],[75,12,76,12],[75,13,76,13],[75,19,76,19],[75,20,76,20],[75,21,76,21],[75,0,76,0],[75,1,76,1],[75,2,76,2],[75,8,76,8],[75,9,76,9],[75,10,76,10],[73,11,74,11],[73,12,74,12],[73,13,74,13],[73,19,74,19],[73,20,74,20],[73,21,74,21],[69,16,72,16],[69,17,72,17],[69,18,72,18],[69,19,72,19],[69,12,70,14],[69,15,72,15],[71,12,72,12],[71,13,72,13],[71,14,72,14],[73,0,74,0],[73,1,74,1],[73,2,74,2],[73,8,74,8],[73,9,74,9],[73,10,74,10],[71,3,72,3],[69,7,72,7],[69,8,72,8],[66,1,68,3],[66,4,68,8],[66,12,68,14],[66,15,68,19],[69,1,70,3],[69,4,72,4],[69,5,72,5],[69,6,72,6],[71,1,72,1],[71,2,72,2],[60,20,61,20],[60,21,61,21],[62,13,65,19],[60,1,61,1],[60,2,61,2],[62,1,64,8],[65,1,65,8],[60,8,61,8],[60,12,61,12],[60,11,61,11],[60,9,61,9],[60,10,61,10],[60,13,61,13],[60,19,61,19],[56,1,57,1],[56,20,57,20],[56,21,57,21],[58,1,59,1],[58,2,59,2],[58,13,59,13],[58,19,59,19],[58,20,59,20],[58,21,59,21],[56,2,57,2],[56,9,57,9],[56,10,57,10],[58,8,59,8],[58,12,59,12],[58,11,59,11],[58,9,59,9],[58,10,59,10],[56,8,57,8],[56,12,57,12],[56,11,57,11],[56,13,57,13],[56,19,57,19],[54,1,55,1],[54,2,55,2],[54,20,55,20],[54,21,55,21],[54,8,55,8],[54,12,55,12],[54,13,55,13],[54,9,55,9],[54,10,55,10],[54,11,55,11],[54,19,55,19],[48,20,49,20],[48,21,49,21],[50,20,51,20],[50,21,51,21],[52,20,53,20],[52,21,53,21],[44,20,45,20],[44,21,45,21],[44,12,45,12],[44,13,45,13],[44,19,45,19],[46,20,47,20],[46,21,47,21],[46,12,47,12],[46,13,47,13],[48,12,49,12],[50,12,51,12],[50,13,51,13],[50,19,51,19],[52,12,53,12],[52,13,53,13],[52,19,53,19],[48,19,49,19],[42,20,43,20],[42,21,43,21],[38,8,41,8],[38,17,41,17],[42,8,43,8],[42,12,43,12],[42,13,43,13],[42,19,43,19],[0,13,3,19],[9,14,10,14],[4,4,6,8],[11,8,12,8],[7,7,10,7],[7,8,10,8],[17,8,18,8],[13,8,14,8],[19,8,20,8],[7,19,10,19],[7,16,10,16],[7,17,10,17],[11,19,12,19],[13,12,14,12],[13,19,14,19],[11,12,12,12],[38,18,41,18],[38,5,41,5],[38,6,41,6],[4,12,6,14],[7,12,8,14],[4,15,6,19],[7,15,10,15],[7,18,10,18],[31,13,34,19],[40,14,41,14],[35,12,37,14],[35,15,37,19],[38,19,41,19],[19,19,20,19],[21,12,22,12],[21,13,22,13],[21,19,22,19],[9,12,10,12],[9,13,10,13],[27,12,28,12],[38,7,41,7],[29,12,30,12],[29,13,30,13],[38,12,39,14],[48,2,49,2],[46,8,47,8],[50,8,51,8],[29,1,30,1],[29,2,30,2],[29,8,30,8],[38,15,41,15],[38,16,41,16],[40,12,41,12],[40,13,41,13],[38,1,39,3],[38,4,41,4],[40,1,41,1],[40,2,41,2],[40,3,41,3],[48,11,49,11],[48,8,49,8],[46,10,47,10],[48,9,49,9],[48,10,49,10],[50,11,51,11],[27,19,28,19],[11,13,12,13],[15,19,16,19],[17,12,18,12],[17,13,18,13],[17,19,18,19],[11,0,12,0],[13,0,14,0],[15,0,16,0],[17,0,18,0],[21,2,22,2],[21,8,22,8],[23,1,24,1],[23,2,24,2],[23,8,24,8],[25,1,26,1],[25,2,26,2],[25,8,26,8],[27,1,28,1],[27,2,28,2],[27,8,28,8],[52,11,53,11],[48,13,49,13],[52,0,53,0],[44,10,45,10],[52,8,53,8],[19,12,20,12],[19,13,20,13],[52,1,53,1],[52,9,53,9],[52,10,53,10],[42,1,43,1],[42,2,43,2],[44,1,45,1],[44,2,45,2],[44,8,45,8],[35,1,37,3],[35,4,37,8],[52,2,53,2],[27,13,28,13],[50,1,51,1],[50,2,51,2],[46,1,47,1],[46,2,47,2],[48,1,49,1],[29,19,30,19],[23,12,24,12],[23,13,24,13],[46,9,47,9],[46,19,47,19],[44,11,45,11],[13,13,14,13],[15,13,16,13],[15,12,16,12],[23,19,24,19],[25,12,26,12],[25,13,26,13],[25,19,26,19],[46,11,47,11],[42,11,43,11],[17,9,18,9],[17,10,18,10],[27,9,28,9],[27,10,28,10],[29,9,30,9],[29,10,30,10],[42,9,43,9],[42,10,43,10],[44,9,45,9],[54,0,55,0],[56,0,57,0],[27,0,28,0],[29,0,30,0],[46,0,47,0],[48,0,49,0],[42,0,43,0],[44,0,45,0],[19,0,20,0],[21,0,22,0],[23,0,24,0],[25,0,26,0],[50,0,51,0],[23,20,24,20],[23,21,24,21],[58,0,59,0],[60,0,61,0],[11,11,12,11],[13,11,14,11],[15,11,16,11],[17,11,18,11],[19,11,20,11],[11,9,12,9],[11,10,12,10],[13,9,14,9],[13,10,14,10],[27,11,28,11],[29,11,30,11],[21,11,22,11],[23,11,24,11],[25,11,26,11],[19,9,20,9],[19,10,20,10],[21,9,22,9],[21,10,22,10],[15,9,16,9],[15,10,16,10],[25,20,26,20],[25,21,26,21],[11,20,12,20],[11,21,12,21],[13,20,14,20],[13,21,14,21],[50,9,51,9],[50,10,51,10],[23,9,24,9],[23,10,24,10],[25,9,26,9],[25,10,26,10],[19,20,20,20],[19,21,20,21],[21,20,22,20],[21,21,22,21],[15,20,16,20],[15,21,16,21],[17,20,18,20],[17,21,18,21],[27,20,28,20],[27,21,28,21],[29,20,30,20],[29,21,30,21]]}
[null," CELOSTÁTNÍ HRA PLAMEN"]
[]
[]
[null," Výsledková listina č: 1"]
[null,"Štafeta 4 x 60 m",null,null,"Základem je čas naměřený od vydání signálu startéra do proběhnutí posledního člena cílem",null,null,null,null,null,null,null,"Štafeta 4 x 60 m",null,null,"Základem je čas naměřený od vydání signálu startéra do proběhnutí posledního člena cílem"]
[]
[]
[null,{"$f":"\"KATEGORIE: \"&Start!$N$2","v":"KATEGORIE: starší"},null,null,"I. časoměřič","II. časoměřič","III. časoměřič","úřední čas","počet bodů za umístění",null,null,null,{"$f":"\"KATEGORIE: \"&Start!$N$2","v":"KATEGORIE: starší"},null,null,"I. časoměřič","II. časoměřič","III. časoměřič","úřední čas","počet bodů za umístění"]
[]
[null,"start. číslo","SOUTĚŽNÍ DRUŽSTVO","pokus",null,null,null,null,null,null,null,null,"start. číslo","SOUTĚŽNÍ DRUŽSTVO","pokus"]
[]
[{"$f":"IF(Start!E6=\"\",\"\",\"x\")","v":""},1,{"$f":"IF(Start!C6=\"\",\"\",Start!C6)","v":"Zbiroh"},"I.pokus",null,null,null,{"$f":"IF($C12=\"\",\"\",IF(OR($E12=\"DNS\",$F12=\"DNS\",$G12=\"DNS\"),\"DNS\",IF(OR($E12=\"NP\",$F12=\"NP\",$G12=\"NP\"),\"NP\",IF(ISERROR(MEDIAN($E12:$G12)),\"DNS\",IF(COUNT($E12:$G12)<3,MAX($E12:$G12),MEDIAN($E12:$G12))))))","v":"DNS"},{"$f":"IF($A12=\"x\",\"x\",IF($C12=\"\",\"\",IF(OR(J12=\"NP\",J12=\"DNS\"),IF(J12=\"NP\",MAX(Oblast2)+COUNTIF(($J$12:$J$154),MAX(Oblast2))+COUNTIF(($U$12:$U$154),MAX(Oblast2)),MAX(Oblast2)+COUNTIF(($J$12:$J$154),MAX(Oblast2))+COUNTIF(($U$12:$U$154),MAX(Oblast2))+COUNTIF(($J$12:$J$154),\"NP\")+COUNTIF(($U$12:$U$154),\"NP\")),J12)))","v":0},{"$f":"IF($A12=\"x\",\"x\",IF($C12=\"\",\"\",IF(OR(K12=\"NP\",K12=\"DNS\"),K12,RANK(K12,Oblast,1))))","v":"DNS"},{"$f":"IF($A12=\"x\",\"x\",IF($C12=\"\",\"\",IF(OR(AND(H12=\"NP\",H13=\"NP\"),AND(H12=\"DNS\",H13=\"DNS\")),H12,IF(AND(H12=\"NP\",H13=\"DNS\"),H12,IF(AND(H12=\"DNS\",H13=\"NP\"),H13,MIN(H12,H13))))))","v":"DNS"},{"$f":"IF(Start!E16=\"\",\"\",\"x\")","v":""},11,{"$f":"IF(Start!C16=\"\",\"\",Start!C16)","v":""},"I.pokus",null,null,null,{"$f":"IF($N12=\"\",\"\",IF(OR($P12=\"DNS\",$Q12=\"DNS\",$R12=\"DNS\"),\"DNS\",IF(OR($P12=\"NP\",$Q12=\"NP\",$R12=\"NP\"),\"NP\",IF(ISERROR(MEDIAN($P12:$R12)),\"DNS\",IF(COUNT($P12:$R12)<3,MAX($P12:$R12),MEDIAN($P12:$R12))))))","v":""},{"$f":"IF($L12=\"x\",\"x\",IF($N12=\"\",\"\",IF(OR(U12=\"NP\",U12=\"DNS\"),IF(U12=\"NP\",MAX(Oblast2)+COUNTIF(($J$12:$J$154),MAX(Oblast2))+COUNTIF(($U$12:$U$154),MAX(Oblast2)),MAX(Oblast2)+COUNTIF(($J$12:$J$154),MAX(Oblast2))+COUNTIF(($U$12:$U$154),MAX(Oblast2))+COUNTIF(($J$12:$J$154),\"NP\")+COUNTIF(($U$12:$U$154),\"NP\")),U12)))","v":""},{"$f":"IF($L12=\"x\",\"x\",IF($N12=\"\",\"\",IF(OR(V12=\"NP\",V12=\"DNS\"),V12,RANK(V12,Oblast,1))))","v":""},{"$f":"IF($L12=\"x\",\"x\",IF($N12=\"\",\"\",IF(OR(AND(S12=\"NP\",S13=\"NP\"),AND(S12=\"DNS\",S13=\"DNS\")),S12,IF(AND(S12=\"NP\",S13=\"DNS\"),S12,IF(AND(S12=\"DNS\",S13=\"NP\"),S13,MIN(S12,S13))))))","v":""}]
[null,null,null,"II.pokus",null,null,null,{"$f":"IF($C12=\"\",\"\",IF(OR($E13=\"DNS\",$F13=\"DNS\",$G13=\"DNS\"),\"DNS\",IF(OR($E13=\"NP\",$F13=\"NP\",$G13=\"NP\"),\"NP\",IF(ISERROR(MEDIAN($E13:$G13)),\"DNS\",IF(COUNT($E13:$G13)<3,MAX($E13:$G13),MEDIAN($E13:$G13))))))","v":"DNS"},null,null,null,null,null,null,"II.pokus",null,null,null,{"$f":"IF($N12=\"\",\"\",IF(OR($P13=\"DNS\",$Q13=\"DNS\",$R13=\"DNS\"),\"DNS\",IF(OR($P13=\"NP\",$Q13=\"NP\",$R13=\"NP\"),\"NP\",IF(ISERROR(MEDIAN($P13:$R13)),\"DNS\",IF(COUNT($P13:$R13)<3,MAX($P13:$R13),MEDIAN($P13:$R13))))))","v":""}]
[{"$f":"IF(Start!E7=\"\",\"\",\"x\")","v":""},2,{"$f":"IF(Start!C7=\"\",\"\",Start!C7)","v":"Holoubkov"},"I.pokus",null,null,null,{"$f":"IF($C14=\"\",\"\",IF(OR($E14=\"DNS\",$F14=\"DNS\",$G14=\"DNS\"),\"DNS\",IF(OR($E14=\"NP\",$F14=\"NP\",$G14=\"NP\"),\"NP\",IF(ISERROR(MEDIAN($E14:$G14)),\"DNS\",IF(COUNT($E14:$G14)<3,MAX($E14:$G14),MEDIAN($E14:$G14))))))","v":"DNS"},{"$f":"IF($A14=\"x\",\"x\",IF($C14=\"\",\"\",IF(OR(J14=\"NP\",J14=\"DNS\"),IF(J14=\"NP\",MAX(Oblast2)+COUNTIF(($J$12:$J$154),MAX(Oblast2))+COUNTIF(($U$12:$U$154),MAX(Oblast2)),MAX(Oblast2)+COUNTIF(($J$12:$J$154),MAX(Oblast2))+COUNTIF(($U$12:$U$154),MAX(Oblast2))+COUNTIF(($J$12:$J$154),\"NP\")+COUNTIF(($U$12:$U$154),\"NP\")),J14)))","v":0},{"$f":"IF($A14=\"x\",\"x\",IF($C14=\"\",\"\",IF(OR(K14=\"NP\",K14=\"DNS\"),K14,RANK(K14,Oblast,1))))","v":"DNS"},{"$f":"IF($A14=\"x\",\"x\",IF($C14=\"\",\"\",IF(OR(AND(H14=\"NP\",H15=\"NP\"),AND(H14=\"DNS\",H15=\"DNS\")),H14,IF(AND(H14=\"NP\",H15=\"DNS\"),H14,IF(AND(H14=\"DNS\",H15=\"NP\"),H15,MIN(H14,H15))))))","v":"DNS"},{"$f":"IF(Start!E17=\"\",\"\",\"x\")","v":""},12,{"$f":"IF(Start!C17=\"\",\"\",Start!C17)","v":""},"I.pokus",null,null,null,{"$f":"IF($N14=\"\",\"\",IF(OR($P14=\"DNS\",$Q14=\"DNS\",$R14=\"DNS\"),\"DNS\",IF(OR($P14=\"NP\",$Q14=\"NP\",$R14=\"NP\"),\"NP\",IF(ISERROR(MEDIAN($P14:$R14)),\"DNS\",IF(COUNT($P14:$R14)<3,MAX($P14:$R14),MEDIAN($P14:$R14))))))","v":""},{"$f":"IF($L14=\"x\",\"x\",IF($N14=\"\",\"\",IF(OR(U14=\"NP\",U14=\"DNS\"),IF(U14=\"NP\",MAX(Oblast2)+COUNTIF(($J$12:$J$154),MAX(Oblast2))+COUNTIF(($U$12:$U$154),MAX(Oblast2)),MAX(Oblast2)+COUNTIF(($J$12:$J$154),MAX(Oblast2))+COUNTIF(($U$12:$U$154),MAX(Oblast2))+COUNTIF(($J$12:$J$154),\"NP\")+COUNTIF(($U$12:$U$154),\"NP\")),U14)))","v":""},{"$f":"IF($L14=\"x\",\"x\",IF($N14=\"\",\"\",IF(OR(V14=\"NP\",V14=\"DNS\"),V14,RANK(V14,Oblast,1))))","v":""},{"$f":"IF($L14=\"x\",\"x\",IF($N14=\"\",\"\",IF(OR(AND(S14=\"NP\",S15=\"NP\"),AND(S14=\"DNS\",S15=\"DNS\")),S14,IF(AND(S14=\"NP\",S15=\"DNS\"),S14,IF(AND(S14=\"DNS\",S15=\"NP\"),S15,MIN(S14,S15))))))","v":""}]
[null,null,null,"II.pokus",null,null,null,{"$f":"IF($C14=\"\",\"\",IF(OR($E15=\"DNS\",$F15=\"DNS\",$G15=\"DNS\"),\"DNS\",IF(OR($E15=\"NP\",$F15=\"NP\",$G15=\"NP\"),\"NP\",IF(ISERROR(MEDIAN($E15:$G15)),\"DNS\",IF(COUNT($E15:$G15)<3,MAX($E15:$G15),MEDIAN($E15:$G15))))))","v":"DNS"},null,null,null,null,null,null,"II.pokus",null,null,null,{"$f":"IF($N14=\"\",\"\",IF(OR($P15=\"DNS\",$Q15=\"DNS\",$R15=\"DNS\"),\"DNS\",IF(OR($P15=\"NP\",$Q15=\"NP\",$R15=\"NP\"),\"NP\",IF(ISERROR(MEDIAN($P15:$R15)),\"DNS\",IF(COUNT($P15:$R15)<3,MAX($P15:$R15),MEDIAN($P15:$R15))))))","v":""}]
[{"$f":"IF(Start!E8=\"\",\"\",\"x\")","v":""},3,{"$f":"IF(Start!C8=\"\",\"\",Start!C8)","v":"Raková"},"I.pokus",null,null,null,{"$f":"IF($C16=\"\",\"\",IF(OR($E16=\"DNS\",$F16=\"DNS\",$G16=\"DNS\"),\"DNS\",IF(OR($E16=\"NP\",$F16=\"NP\",$G16=\"NP\"),\"NP\",IF(ISERROR(MEDIAN($E16:$G16)),\"DNS\",IF(COUNT($E16:$G16)<3,MAX($E16:$G16),MEDIAN($E16:$G16))))))","v":"DNS"},{"$f":"IF($A16=\"x\",\"x\",IF($C16=\"\",\"\",IF(OR(J16=\"NP\",J16=\"DNS\"),IF(J16=\"NP\",MAX(Oblast2)+COUNTIF(($J$12:$J$154),MAX(Oblast2))+COUNTIF(($U$12:$U$154),MAX(Oblast2)),MAX(Oblast2)+COUNTIF(($J$12:$J$154),MAX(Oblast2))+COUNTIF(($U$12:$U$154),MAX(Oblast2))+COUNTIF(($J$12:$J$154),\"NP\")+COUNTIF(($U$12:$U$154),\"NP\")),J16)))","v":0},{"$f":"IF($A16=\"x\",\"x\",IF($C16=\"\",\"\",IF(OR(K16=\"NP\",K16=\"DNS\"),K16,RANK(K16,Oblast,1))))","v":"DNS"},{"$f":"IF($A16=\"x\",\"x\",IF($C16=\"\",\"\",IF(OR(AND(H16=\"NP\",H17=\"NP\"),AND(H16=\"DNS\",H17=\"DNS\")),H16,IF(AND(H16=\"NP\",H17=\"DNS\"),H16,IF(AND(H16=\"DNS\",H17=\"NP\"),H17,MIN(H16,H17))))))","v":"DNS"},{"$f":"IF(Start!E18=\"\",\"\",\"x\")","v":""},13,{"$f":"IF(Start!C18=\"\",\"\",Start!C18)","v":""},"I.pokus",null,null,null,{"$f":"IF($N16=\"\",\"\",IF(OR($P16=\"DNS\",$Q16=\"DNS\",$R16=\"DNS\"),\"DNS\",IF(OR($P16=\"NP\",$Q16=\"NP\",$R16=\"NP\"),\"NP\",IF(ISERROR(MEDIAN($P16:$R16)),\"DNS\",IF(COUNT($P16:$R16)<3,MAX($P16:$R16),MEDIAN($P16:$R16))))))","v":""},{"$f":"IF($L16=\"x\",\"x\",IF($N16=\"\",\"\",IF(OR(U16=\"NP\",U16=\"DNS\"),IF(U16=\"NP\",MAX(Oblast2)+COUNTIF(($J$12:$J$154),MAX(Oblast2))+COUNTIF(($U$12:$U$154),MAX(Oblast2)),MAX(Oblast2)+COUNTIF(($J$12:$J$154),MAX(Oblast2))+COUNTIF(($U$12:$U$154),MAX(Oblast2))+COUNTIF(($J$12:$J$154),\"NP\")+COUNTIF(($U$12:$U$154),\"NP\")),U16)))","v":""},{"$f":"IF($L16=\"x\",\"x\",IF($N16=\"\",\"\",IF(OR(V16=\"NP\",V16=\"DNS\"),V16,RANK(V16,Oblast,1))))","v":""},{"$f":"IF($L16=\"x\",\"x\",IF($N16=\"\",\"\",IF(OR(AND(S16=\"NP\",S17=\"NP\"),AND(S16=\"DNS\",S17=\"DNS\")),S16,IF(AND(S16=\"NP\",S17=\"DNS\"),S16,IF(AND(S16=\"DNS\",S17=\"NP\"),S17,MIN(S16,S17))))))","v":""}]
[null,null,null,"II.pokus",null,null,null,{"$f":"IF($C16=\"\",\"\",IF(OR($E17=\"DNS\",$F17=\"DNS\",$G17=\"DNS\"),\"DNS\",IF(OR($E17=\"NP\",$F17=\"NP\",$G17=\"NP\"),\"NP\",IF(ISERROR(MEDIAN($E17:$G17)),\"DNS\",IF(COUNT($E17:$G17)<3,MAX($E17:$G17),MEDIAN($E17:$G17))))))","v":"DNS"},null,null,null,null,null,null,"II.pokus",null,null,null,{"$f":"IF($N16=\"\",\"\",IF(OR($P17=\"DNS\",$Q17=\"DNS\",$R17=\"DNS\"),\"DNS\",IF(OR($P17=\"NP\",$Q17=\"NP\",$R17=\"NP\"),\"NP\",IF(ISERROR(MEDIAN($P17:$R17)),\"DNS\",IF(COUNT($P17:$R17)<3,MAX($P17:$R17),MEDIAN($P17:$R17))))))","v":""}]
[{"$f":"IF(Start!E9=\"\",\"\",\"x\")","v":""},4,{"$f":"IF(Start!C9=\"\",\"\",Start!C9)","v":"Osek"},"I.pokus",null,null,null,{"$f":"IF($C18=\"\",\"\",IF(OR($E18=\"DNS\",$F18=\"DNS\",$G18=\"DNS\"),\"DNS\",IF(OR($E18=\"NP\",$F18=\"NP\",$G18=\"NP\"),\"NP\",IF(ISERROR(MEDIAN($E18:$G18)),\"DNS\",IF(COUNT($E18:$G18)<3,MAX($E18:$G18),MEDIAN($E18:$G18))))))","v":"DNS"},{"$f":"IF($A18=\"x\",\"x\",IF($C18=\"\",\"\",IF(OR(J18=\"NP\",J18=\"DNS\"),IF(J18=\"NP\",MAX(Oblast2)+COUNTIF(($J$12:$J$154),MAX(Oblast2))+COUNTIF(($U$12:$U$154),MAX(Oblast2)),MAX(Oblast2)+COUNTIF(($J$12:$J$154),MAX(Oblast2))+COUNTIF(($U$12:$U$154),MAX(Oblast2))+COUNTIF(($J$12:$J$154),\"NP\")+COUNTIF(($U$12:$U$154),\"NP\")),J18)))","v":0},{"$f":"IF($A18=\"x\",\"x\",IF($C18=\"\",\"\",IF(OR(K18=\"NP\",K18=\"DNS\"),K18,RANK(K18,Oblast,1))))","v":"DNS"},{"$f":"IF($A18=\"x\",\"x\",IF($C18=\"\",\"\",IF(OR(AND(H18=\"NP\",H19=\"NP\"),AND(H18=\"DNS\",H19=\"DNS\")),H18,IF(AND(H18=\"NP\",H19=\"DNS\"),H18,IF(AND(H18=\"DNS\",H19=\"NP\"),H19,MIN(H18,H19))))))","v":"DNS"},{"$f":"IF(Start!E19=\"\",\"\",\"x\")","v":""},14,{"$f":"IF(Start!C19=\"\",\"\",Start!C19)","v":""},"I.pokus",null,null,null,{"$f":"IF($N18=\"\",\"\",IF(OR($P18=\"DNS\",$Q18=\"DNS\",$R18=\"DNS\"),\"DNS\",IF(OR($P18=\"NP\",$Q18=\"NP\",$R18=\"NP\"),\"NP\",IF(ISERROR(MEDIAN($P18:$R18)),\"DNS\",IF(COUNT($P18:$R18)<3,MAX($P18:$R18),MEDIAN($P18:$R18))))))","v":""},{"$f":"IF($L18=\"x\",\"x\",IF($N18=\"\",\"\",IF(OR(U18=\"NP\",U18=\"DNS\"),IF(U18=\"NP\",MAX(Oblast2)+COUNTIF(($J$12:$J$154),MAX(Oblast2))+COUNTIF(($U$12:$U$154),MAX(Oblast2)),MAX(Oblast2)+COUNTIF(($J$12:$J$154),MAX(Oblast2))+COUNTIF(($U$12:$U$154),MAX(Oblast2))+COUNTIF(($J$12:$J$154),\"NP\")+COUNTIF(($U$12:$U$154),\"NP\")),U18)))","v":""},{"$f":"IF($L18=\"x\",\"x\",IF($N18=\"\",\"\",IF(OR(V18=\"NP\",V18=\"DNS\"),V18,RANK(V18,Oblast,1))))","v":""},{"$f":"IF($L18=\"x\",\"x\",IF($N18=\"\",\"\",IF(OR(AND(S18=\"NP\",S19=\"NP\"),AND(S18=\"DNS\",S19=\"DNS\")),S18,IF(AND(S18=\"NP\",S19=\"DNS\"),S18,IF(AND(S18=\"DNS\",S19=\"NP\"),S19,MIN(S18,S19))))))","v":""}]
[null,null,null,"II.pokus",null,null,null,{"$f":"IF($C18=\"\",\"\",IF(OR($E19=\"DNS\",$F19=\"DNS\",$G19=\"DNS\"),\"DNS\",IF(OR($E19=\"NP\",$F19=\"NP\",$G19=\"NP\"),\"NP\",IF(ISERROR(MEDIAN($E19:$G19)),\"DNS\",IF(COUNT($E19:$G19)<3,MAX($E19:$G19),MEDIAN($E19:$G19))))))","v":"DNS"},null,null,null,null,null,null,"II.pokus",null,null,null,{"$f":"IF($N18=\"\",\"\",IF(OR($P19=\"DNS\",$Q19=\"DNS\",$R19=\"DNS\"),\"DNS\",IF(OR($P19=\"NP\",$Q19=\"NP\",$R19=\"NP\"),\"NP\",IF(ISERROR(MEDIAN($P19:$R19)),\"DNS\",IF(COUNT($P19:$R19)<3,MAX($P19:$R19),MEDIAN($P19:$R19))))))","v":""}]
[{"$f":"IF(Start!E10=\"\",\"\",\"x\")","v":""},5,{"$f":"IF(Start!C10=\"\",\"\",Start!C10)","v":"Lhota pod Radčem"},"I.pokus",null,null,null,{"$f":"IF($C20=\"\",\"\",IF(OR($E20=\"DNS\",$F20=\"DNS\",$G20=\"DNS\"),\"DNS\",IF(OR($E20=\"NP\",$F20=\"NP\",$G20=\"NP\"),\"NP\",IF(ISERROR(MEDIAN($E20:$G20)),\"DNS\",IF(COUNT($E20:$G20)<3,MAX($E20:$G20),MEDIAN($E20:$G20))))))","v":"DNS"},{"$f":"IF($A20=\"x\",\"x\",IF($C20=\"\",\"\",IF(OR(J20=\"NP\",J20=\"DNS\"),IF(J20=\"NP\",MAX(Oblast2)+COUNTIF(($J$12:$J$154),MAX(Oblast2))+COUNTIF(($U$12:$U$154),MAX(Oblast2)),MAX(Oblast2)+COUNTIF(($J$12:$J$154),MAX(Oblast2))+COUNTIF(($U$12:$U$154),MAX(Oblast2))+COUNTIF(($J$12:$J$154),\"NP\")+COUNTIF(($U$12:$U$154),\"NP\")),J20)))","v":0},{"$f":"IF($A20=\"x\",\"x\",IF($C20=\"\",\"\",IF(OR(K20=\"NP\",K20=\"DNS\"),K20,RANK(K20,Oblast,1))))","v":"DNS"},{"$f":"IF($A20=\"x\",\"x\",IF($C20=\"\",\"\",IF(OR(AND(H20=\"NP\",H21=\"NP\"),AND(H20=\"DNS\",H21=\"DNS\")),H20,IF(AND(H20=\"NP\",H21=\"DNS\"),H20,IF(AND(H20=\"DNS\",H21=\"NP\"),H21,MIN(H20,H21))))))","v":"DNS"},{"$f":"IF(Start!E20=\"\",\"\",\"x\")","v":""},15,{"$f":"IF(Start!C20=\"\",\"\",Start!C20)","v":""},"I.pokus",null,null,null,{"$f":"IF($N20=\"\",\"\",IF(OR($P20=\"DNS\",$Q20=\"DNS\",$R20=\"DNS\"),\"DNS\",IF(OR($P20=\"NP\",$Q20=\"NP\",$R20=\"NP\"),\"NP\",IF(ISERROR(MEDIAN($P20:$R20)),\"DNS\",IF(COUNT($P20:$R20)<3,MAX($P20:$R20),MEDIAN($P20:$R20))))))","v":""},{"$f":"IF($L20=\"x\",\"x\",IF($N20=\"\",\"\",IF(OR(U20=\"NP\",U20=\"DNS\"),IF(U20=\"NP\",MAX(Oblast2)+COUNTIF(($J$12:$J$154),MAX(Oblast2))+COUNTIF(($U$12:$U$154),MAX(Oblast2)),MAX(Oblast2)+COUNTIF(($J$12:$J$154),MAX(Oblast2))+COUNTIF(($U$12:$U$154),MAX(Oblast2))+COUNTIF(($J$12:$J$154),\"NP\")+COUNTIF(($U$12:$U$154),\"NP\")),U20)))","v":""},{"$f":"IF($L20=\"x\",\"x\",IF($N20=\"\",\"\",IF(OR(V20=\"NP\",V20=\"DNS\"),V20,RANK(V20,Oblast,1))))","v":""},{"$f":"IF($L20=\"x\",\"x\",IF($N20=\"\",\"\",IF(OR(AND(S20=\"NP\",S21=\"NP\"),AND(S20=\"DNS\",S21=\"DNS\")),S20,IF(AND(S20=\"NP\",S21=\"DNS\"),S20,IF(AND(S20=\"DNS\",S21=\"NP\"),S21,MIN(S20,S21))))))","v":""}]
[null,null,null,"II.pokus",null,null,null,{"$f":"IF($C20=\"\",\"\",IF(OR($E21=\"DNS\",$F21=\"DNS\",$G21=\"DNS\"),\"DNS\",IF(OR($E21=\"NP\",$F21=\"NP\",$G21=\"NP\"),\"NP\",IF(ISERROR(MEDIAN($E21:$G21)),\"DNS\",IF(COUNT($E21:$G21)<3,MAX($E21:$G21),MEDIAN($E21:$G21))))))","v":"DNS"},null,null,null,null,null,null,"II.pokus",null,null,null,{"$f":"IF($N20=\"\",\"\",IF(OR($P21=\"DNS\",$Q21=\"DNS\",$R21=\"DNS\"),\"DNS\",IF(OR($P21=\"NP\",$Q21=\"NP\",$R21=\"NP\"),\"NP\",IF(ISERROR(MEDIAN($P21:$R21)),\"DNS\",IF(COUNT($P21:$R21)<3,MAX($P21:$R21),MEDIAN($P21:$R21))))))","v":""}]
[{"$f":"IF(Start!E11=\"\",\"\",\"x\")","v":""},6,{"$f":"IF(Start!C11=\"\",\"\",Start!C11)","v":"Dobřív"},"I.pokus",null,null,null,{"$f":"IF($C22=\"\",\"\",IF(OR($E22=\"DNS\",$F22=\"DNS\",$G22=\"DNS\"),\"DNS\",IF(OR($E22=\"NP\",$F22=\"NP\",$G22=\"NP\"),\"NP\",IF(ISERROR(MEDIAN($E22:$G22)),\"DNS\",IF(COUNT($E22:$G22)<3,MAX($E22:$G22),MEDIAN($E22:$G22))))))","v":"DNS"},{"$f":"IF($A22=\"x\",\"x\",IF($C22=\"\",\"\",IF(OR(J22=\"NP\",J22=\"DNS\"),IF(J22=\"NP\",MAX(Oblast2)+COUNTIF(($J$12:$J$154),MAX(Oblast2))+COUNTIF(($U$12:$U$154),MAX(Oblast2)),MAX(Oblast2)+COUNTIF(($J$12:$J$154),MAX(Oblast2))+COUNTIF(($U$12:$U$154),MAX(Oblast2))+COUNTIF(($J$12:$J$154),\"NP\")+COUNTIF(($U$12:$U$154),\"NP\")),J22)))","v":0},{"$f":"IF($A22=\"x\",\"x\",IF($C22=\"\",\"\",IF(OR(K22=\"NP\",K22=\"DNS\"),K22,RANK(K22,Oblast,1))))","v":"DNS"},{"$f":"IF($A22=\"x\",\"x\",IF($C22=\"\",\"\",IF(OR(AND(H22=\"NP\",H23=\"NP\"),AND(H22=\"DNS\",H23=\"DNS\")),H22,IF(AND(H22=\"NP\",H23=\"DNS\"),H22,IF(AND(H22=\"DNS\",H23=\"NP\"),H23,MIN(H22,H23))))))","v":"DNS"},{"$f":"IF(Start!E21=\"\",\"\",\"x\")","v":""},16,{"$f":"IF(Start!C21=\"\",\"\",Start!C21)","v":""},"I.pokus",null,null,null,{"$f":"IF($N22=\"\",\"\",IF(OR($P22=\"DNS\",$Q22=\"DNS\",$R22=\"DNS\"),\"DNS\",IF(OR($P22=\"NP\",$Q22=\"NP\",$R22=\"NP\"),\"NP\",IF(ISERROR(MEDIAN($P22:$R22)),\"DNS\",IF(COUNT($P22:$R22)<3,MAX($P22:$R22),MEDIAN($P22:$R22))))))","v":""},{"$f":"IF($L22=\"x\",\"x\",IF($N22=\"\",\"\",IF(OR(U22=\"NP\",U22=\"DNS\"),IF(U22=\"NP\",MAX(Oblast2)+COUNTIF(($J$12:$J$154),MAX(Oblast2))+COUNTIF(($U$12:$U$154),MAX(Oblast2)),MAX(Oblast2)+COUNTIF(($J$12:$J$154),MAX(Oblast2))+COUNTIF(($U$12:$U$154),MAX(Oblast2))+COUNTIF(($J$12:$J$154),\"NP\")+COUNTIF(($U$12:$U$154),\"NP\")),U22)))","v":""},{"$f":"IF($L22=\"x\",\"x\",IF($N22=\"\",\"\",IF(OR(V22=\"NP\",V22=\"DNS\"),V22,RANK(V22,Oblast,1))))","v":""},{"$f":"IF($L22=\"x\",\"x\",IF($N22=\"\",\"\",IF(OR(AND(S22=\"NP\",S23=\"NP\"),AND(S22=\"DNS\",S23=\"DNS\")),S22,IF(AND(S22=\"NP\",S23=\"DNS\"),S22,IF(AND(S22=\"DNS\",S23=\"NP\"),S23,MIN(S22,S23))))))","v":""}]
[null,null,null,"II.pokus",null,null,null,{"$f":"IF($C22=\"\",\"\",IF(OR($E23=\"DNS\",$F23=\"DNS\",$G23=\"DNS\"),\"DNS\",IF(OR($E23=\"NP\",$F23=\"NP\",$G23=\"NP\"),\"NP\",IF(ISERROR(MEDIAN($E23:$G23)),\"DNS\",IF(COUNT($E23:$G23)<3,MAX($E23:$G23),MEDIAN($E23:$G23))))))","v":"DNS"},null,null,null,null,null,null,"II.pokus",null,null,null,{"$f":"IF($N22=\"\",\"\",IF(OR($P23=\"DNS\",$Q23=\"DNS\",$R23=\"DNS\"),\"DNS\",IF(OR($P23=\"NP\",$Q23=\"NP\",$R23=\"NP\"),\"NP\",IF(ISERROR(MEDIAN($P23:$R23)),\"DNS\",IF(COUNT($P23:$R23)<3,MAX($P23:$R23),MEDIAN($P23:$R23))))))","v":""}]
[{"$f":"IF(Start!E12=\"\",\"\",\"x\")","v":""},7,{"$f":"IF(Start!C12=\"\",\"\",Start!C12)","v":"Mirošov"},"I.pokus",null,null,null,{"$f":"IF($C24=\"\",\"\",IF(OR($E24=\"DNS\",$F24=\"DNS\",$G24=\"DNS\"),\"DNS\",IF(OR($E24=\"NP\",$F24=\"NP\",$G24=\"NP\"),\"NP\",IF(ISERROR(MEDIAN($E24:$G24)),\"DNS\",IF(COUNT($E24:$G24)<3,MAX($E24:$G24),MEDIAN($E24:$G24))))))","v":"DNS"},{"$f":"IF($A24=\"x\",\"x\",IF($C24=\"\",\"\",IF(OR(J24=\"NP\",J24=\"DNS\"),IF(J24=\"NP\",MAX(Oblast2)+COUNTIF(($J$12:$J$154),MAX(Oblast2))+COUNTIF(($U$12:$U$154),MAX(Oblast2)),MAX(Oblast2)+COUNTIF(($J$12:$J$154),MAX(Oblast2))+COUNTIF(($U$12:$U$154),MAX(Oblast2))+COUNTIF(($J$12:$J$154),\"NP\")+COUNTIF(($U$12:$U$154),\"NP\")),J24)))","v":0},{"$f":"IF($A24=\"x\",\"x\",IF($C24=\"\",\"\",IF(OR(K24=\"NP\",K24=\"DNS\"),K24,RANK(K24,Oblast,1))))","v":"DNS"},{"$f":"IF($A24=\"x\",\"x\",IF($C24=\"\",\"\",IF(OR(AND(H24=\"NP\",H25=\"NP\"),AND(H24=\"DNS\",H25=\"DNS\")),H24,IF(AND(H24=\"NP\",H25=\"DNS\"),H24,IF(AND(H24=\"DNS\",H25=\"NP\"),H25,MIN(H24,H25))))))","v":"DNS"},{"$f":"IF(Start!E22=\"\",\"\",\"x\")","v":""},17,{"$f":"IF(Start!C22=\"\",\"\",Start!C22)","v":""},"I.pokus",null,null,null,{"$f":"IF($N24=\"\",\"\",IF(OR($P24=\"DNS\",$Q24=\"DNS\",$R24=\"DNS\"),\"DNS\",IF(OR($P24=\"NP\",$Q24=\"NP\",$R24=\"NP\"),\"NP\",IF(ISERROR(MEDIAN($P24:$R24)),\"DNS\",IF(COUNT($P24:$R24)<3,MAX($P24:$R24),MEDIAN($P24:$R24))))))","v":""},{"$f":"IF($L24=\"x\",\"x\",IF($N24=\"\",\"\",IF(OR(U24=\"NP\",U24=\"DNS\"),IF(U24=\"NP\",MAX(Oblast2)+COUNTIF(($J$12:$J$154),MAX(Oblast2))+COUNTIF(($U$12:$U$154),MAX(Oblast2)),MAX(Oblast2)+COUNTIF(($J$12:$J$154),MAX(Oblast2))+COUNTIF(($U$12:$U$154),MAX(Oblast2))+COUNTIF(($J$12:$J$154),\"NP\")+COUNTIF(($U$12:$U$154),\"NP\")),U24)))","v":""},{"$f":"IF($L24=\"x\",\"x\",IF($N24=\"\",\"\",IF(OR(V24=\"NP\",V24=\"DNS\"),V24,RANK(V24,Oblast,1))))","v":""},{"$f":"IF($L24=\"x\",\"x\",IF($N24=\"\",\"\",IF(OR(AND(S24=\"NP\",S25=\"NP\"),AND(S24=\"DNS\",S25=\"DNS\")),S24,IF(AND(S24=\"NP\",S25=\"DNS\"),S24,IF(AND(S24=\"DNS\",S25=\"NP\"),S25,MIN(S24,S25))))))","v":""}]
[null,null,null,"II.pokus",null,null,null,{"$f":"IF($C24=\"\",\"\",IF(OR($E25=\"DNS\",$F25=\"DNS\",$G25=\"DNS\"),\"DNS\",IF(OR($E25=\"NP\",$F25=\"NP\",$G25=\"NP\"),\"NP\",IF(ISERROR(MEDIAN($E25:$G25)),\"DNS\",IF(COUNT($E25:$G25)<3,MAX($E25:$G25),MEDIAN($E25:$G25))))))","v":"DNS"},null,null,null,null,null,null,"II.pokus",null,null,null,{"$f":"IF($N24=\"\",\"\",IF(OR($P25=\"DNS\",$Q25=\"DNS\",$R25=\"DNS\"),\"DNS\",IF(OR($P25=\"NP\",$Q25=\"NP\",$R25=\"NP\"),\"NP\",IF(ISERROR(MEDIAN($P25:$R25)),\"DNS\",IF(COUNT($P25:$R25)<3,MAX($P25:$R25),MEDIAN($P25:$R25))))))","v":""}]
[{"$f":"IF(Start!E13=\"\",\"\",\"x\")","v":""},8,{"$f":"IF(Start!C13=\"\",\"\",Start!C13)","v":"Volduchy"},"I.pokus",null,null,null,{"$f":"IF($C26=\"\",\"\",IF(OR($E26=\"DNS\",$F26=\"DNS\",$G26=\"DNS\"),\"DNS\",IF(OR($E26=\"NP\",$F26=\"NP\",$G26=\"NP\"),\"NP\",IF(ISERROR(MEDIAN($E26:$G26)),\"DNS\",IF(COUNT($E26:$G26)<3,MAX($E26:$G26),MEDIAN($E26:$G26))))))","v":"DNS"},{"$f":"IF($A26=\"x\",\"x\",IF($C26=\"\",\"\",IF(OR(J26=\"NP\",J26=\"DNS\"),IF(J26=\"NP\",MAX(Oblast2)+COUNTIF(($J$12:$J$154),MAX(Oblast2))+COUNTIF(($U$12:$U$154),MAX(Oblast2)),MAX(Oblast2)+COUNTIF(($J$12:$J$154),MAX(Oblast2))+COUNTIF(($U$12:$U$154),MAX(Oblast2))+COUNTIF(($J$12:$J$154),\"NP\")+COUNTIF(($U$12:$U$154),\"NP\")),J26)))","v":0},{"$f":"IF($A26=\"x\",\"x\",IF($C26=\"\",\"\",IF(OR(K26=\"NP\",K26=\"DNS\"),K26,RANK(K26,Oblast,1))))","v":"DNS"},{"$f":"IF($A26=\"x\",\"x\",IF($C26=\"\",\"\",IF(OR(AND(H26=\"NP\",H27=\"NP\"),AND(H26=\"DNS\",H27=\"DNS\")),H26,IF(AND(H26=\"NP\",H27=\"DNS\"),H26,IF(AND(H26=\"DNS\",H27=\"NP\"),H27,MIN(H26,H27))))))","v":"DNS"},{"$f":"IF(Start!E23=\"\",\"\",\"x\")","v":""},18,{"$f":"IF(Start!C23=\"\",\"\",Start!C23)","v":""},"I.pokus",null,null,null,{"$f":"IF($N26=\"\",\"\",IF(OR($P26=\"DNS\",$Q26=\"DNS\",$R26=\"DNS\"),\"DNS\",IF(OR($P26=\"NP\",$Q26=\"NP\",$R26=\"NP\"),\"NP\",IF(ISERROR(MEDIAN($P26:$R26)),\"DNS\",IF(COUNT($P26:$R26)<3,MAX($P26:$R26),MEDIAN($P26:$R26))))))","v":""},{"$f":"IF($L26=\"x\",\"x\",IF($N26=\"\",\"\",IF(OR(U26=\"NP\",U26=\"DNS\"),IF(U26=\"NP\",MAX(Oblast2)+COUNTIF(($J$12:$J$154),MAX(Oblast2))+COUNTIF(($U$12:$U$154),MAX(Oblast2)),MAX(Oblast2)+COUNTIF(($J$12:$J$154),MAX(Oblast2))+COUNTIF(($U$12:$U$154),MAX(Oblast2))+COUNTIF(($J$12:$J$154),\"NP\")+COUNTIF(($U$12:$U$154),\"NP\")),U26)))","v":""},{"$f":"IF($L26=\"x\",\"x\",IF($N26=\"\",\"\",IF(OR(V26=\"NP\",V26=\"DNS\"),V26,RANK(V26,Oblast,1))))","v":""},{"$f":"IF($L26=\"x\",\"x\",IF($N26=\"\",\"\",IF(OR(AND(S26=\"NP\",S27=\"NP\"),AND(S26=\"DNS\",S27=\"DNS\")),S26,IF(AND(S26=\"NP\",S27=\"DNS\"),S26,IF(AND(S26=\"DNS\",S27=\"NP\"),S27,MIN(S26,S27))))))","v":""}]
[null,null,null,"II.pokus",null,null,null,{"$f":"IF($C26=\"\",\"\",IF(OR($E27=\"DNS\",$F27=\"DNS\",$G27=\"DNS\"),\"DNS\",IF(OR($E27=\"NP\",$F27=\"NP\",$G27=\"NP\"),\"NP\",IF(ISERROR(MEDIAN($E27:$G27)),\"DNS\",IF(COUNT($E27:$G27)<3,MAX($E27:$G27),MEDIAN($E27:$G27))))))","v":"DNS"},null,null,null,null,null,null,"II.pokus",null,null,null,{"$f":"IF($N26=\"\",\"\",IF(OR($P27=\"DNS\",$Q27=\"DNS\",$R27=\"DNS\"),\"DNS\",IF(OR($P27=\"NP\",$Q27=\"NP\",$R27=\"NP\"),\"NP\",IF(ISERROR(MEDIAN($P27:$R27)),\"DNS\",IF(COUNT($P27:$R27)<3,MAX($P27:$R27),MEDIAN($P27:$R27))))))","v":""}]
[{"$f":"IF(Start!E14=\"\",\"\",\"x\")","v":""},9,{"$f":"IF(Start!C14=\"\",\"\",Start!C14)","v":""},"I.pokus",null,null,null,{"$f":"IF($C28=\"\",\"\",IF(OR($E28=\"DNS\",$F28=\"DNS\",$G28=\"DNS\"),\"DNS\",IF(OR($E28=\"NP\",$F28=\"NP\",$G28=\"NP\"),\"NP\",IF(ISERROR(MEDIAN($E28:$G28)),\"DNS\",IF(COUNT($E28:$G28)<3,MAX($E28:$G28),MEDIAN($E28:$G28))))))","v":""},{"$f":"IF($A28=\"x\",\"x\",IF($C28=\"\",\"\",IF(OR(J28=\"NP\",J28=\"DNS\"),IF(J28=\"NP\",MAX(Oblast2)+COUNTIF(($J$12:$J$154),MAX(Oblast2))+COUNTIF(($U$12:$U$154),MAX(Oblast2)),MAX(Oblast2)+COUNTIF(($J$12:$J$154),MAX(Oblast2))+COUNTIF(($U$12:$U$154),MAX(Oblast2))+COUNTIF(($J$12:$J$154),\"NP\")+COUNTIF(($U$12:$U$154),\"NP\")),J28)))","v":""},{"$f":"IF($A28=\"x\",\"x\",IF($C28=\"\",\"\",IF(OR(K28=\"NP\",K28=\"DNS\"),K28,RANK(K28,Oblast,1))))","v":""},{"$f":"IF($A28=\"x\",\"x\",IF($C28=\"\",\"\",IF(OR(AND(H28=\"NP\",H29=\"NP\"),AND(H28=\"DNS\",H29=\"DNS\")),H28,IF(AND(H28=\"NP\",H29=\"DNS\"),H28,IF(AND(H28=\"DNS\",H29=\"NP\"),H29,MIN(H28,H29))))))","v":""},{"$f":"IF(Start!E24=\"\",\"\",\"x\")","v":""},19,{"$f":"IF(Start!C24=\"\",\"\",Start!C24)","v":""},"I.pokus",null,null,null,{"$f":"IF($N28=\"\",\"\",IF(OR($P28=\"DNS\",$Q28=\"DNS\",$R28=\"DNS\"),\"DNS\",IF(OR($P28=\"NP\",$Q28=\"NP\",$R28=\"NP\"),\"NP\",IF(ISERROR(MEDIAN($P28:$R28)),\"DNS\",IF(COUNT($P28:$R28)<3,MAX($P28:$R28),MEDIAN($P28:$R28))))))","v":""},{"$f":"IF($L28=\"x\",\"x\",IF($N28=\"\",\"\",IF(OR(U28=\"NP\",U28=\"DNS\"),IF(U28=\"NP\",MAX(Oblast2)+COUNTIF(($J$12:$J$154),MAX(Oblast2))+COUNTIF(($U$12:$U$154),MAX(Oblast2)),MAX(Oblast2)+COUNTIF(($J$12:$J$154),MAX(Oblast2))+COUNTIF(($U$12:$U$154),MAX(Oblast2))+COUNTIF(($J$12:$J$154),\"NP\")+COUNTIF(($U$12:$U$154),\"NP\")),U28)))","v":""},{"$f":"IF($L28=\"x\",\"x\",IF($N28=\"\",\"\",IF(OR(V28=\"NP\",V28=\"DNS\"),V28,RANK(V28,Oblast,1))))","v":""},{"$f":"IF($L28=\"x\",\"x\",IF($N28=\"\",\"\",IF(OR(AND(S28=\"NP\",S29=\"NP\"),AND(S28=\"DNS\",S29=\"DNS\")),S28,IF(AND(S28=\"NP\",S29=\"DNS\"),S28,IF(AND(S28=\"DNS\",S29=\"NP\"),S29,MIN(S28,S29))))))","v":""}]
[null,null,null,"II.pokus",null,null,null,{"$f":"IF($C28=\"\",\"\",IF(OR($E29=\"DNS\",$F29=\"DNS\",$G29=\"DNS\"),\"DNS\",IF(OR($E29=\"NP\",$F29=\"NP\",$G29=\"NP\"),\"NP\",IF(ISERROR(MEDIAN($E29:$G29)),\"DNS\",IF(COUNT($E29:$G29)<3,MAX($E29:$G29),MEDIAN($E29:$G29))))))","v":""},null,null,null,null,null,null,"II.pokus",null,null,null,{"$f":"IF($N28=\"\",\"\",IF(OR($P29=\"DNS\",$Q29=\"DNS\",$R29=\"DNS\"),\"DNS\",IF(OR($P29=\"NP\",$Q29=\"NP\",$R29=\"NP\"),\"NP\",IF(ISERROR(MEDIAN($P29:$R29)),\"DNS\",IF(COUNT($P29:$R29)<3,MAX($P29:$R29),MEDIAN($P29:$R29))))))","v":""}]
[{"$f":"IF(Start!E15=\"\",\"\",\"x\")","v":""},10,{"$f":"IF(Start!C15=\"\",\"\",Start!C15)","v":""},"I.pokus",null,null,null,{"$f":"IF($C30=\"\",\"\",IF(OR($E30=\"DNS\",$F30=\"DNS\",$G30=\"DNS\"),\"DNS\",IF(OR($E30=\"NP\",$F30=\"NP\",$G30=\"NP\"),\"NP\",IF(ISERROR(MEDIAN($E30:$G30)),\"DNS\",IF(COUNT($E30:$G30)<3,MAX($E30:$G30),MEDIAN($E30:$G30))))))","v":""},{"$f":"IF($A30=\"x\",\"x\",IF($C30=\"\",\"\",IF(OR(J30=\"NP\",J30=\"DNS\"),IF(J30=\"NP\",MAX(Oblast2)+COUNTIF(($J$12:$J$154),MAX(Oblast2))+COUNTIF(($U$12:$U$154),MAX(Oblast2)),MAX(Oblast2)+COUNTIF(($J$12:$J$154),MAX(Oblast2))+COUNTIF(($U$12:$U$154),MAX(Oblast2))+COUNTIF(($J$12:$J$154),\"NP\")+COUNTIF(($U$12:$U$154),\"NP\")),J30)))","v":""},{"$f":"IF($A30=\"x\",\"x\",IF($C30=\"\",\"\",IF(OR(K30=\"NP\",K30=\"DNS\"),K30,RANK(K30,Oblast,1))))","v":""},{"$f":"IF($A30=\"x\",\"x\",IF($C30=\"\",\"\",IF(OR(AND(H30=\"NP\",H31=\"NP\"),AND(H30=\"DNS\",H31=\"DNS\")),H30,IF(AND(H30=\"NP\",H31=\"DNS\"),H30,IF(AND(H30=\"DNS\",H31=\"NP\"),H31,MIN(H30,H31))))))","v":""},{"$f":"IF(Start!E25=\"\",\"\",\"x\")","v":""},20,{"$f":"IF(Start!C25=\"\",\"\",Start!C25)","v":""},"I.pokus",null,null,null,{"$f":"IF($N30=\"\",\"\",IF(OR($P30=\"DNS\",$Q30=\"DNS\",$R30=\"DNS\"),\"DNS\",IF(OR($P30=\"NP\",$Q30=\"NP\",$R30=\"NP\"),\"NP\",IF(ISERROR(MEDIAN($P30:$R30)),\"DNS\",IF(COUNT($P30:$R30)<3,MAX($P30:$R30),MEDIAN($P30:$R30))))))","v":""},{"$f":"IF($L30=\"x\",\"x\",IF($N30=\"\",\"\",IF(OR(U30=\"NP\",U30=\"DNS\"),IF(U30=\"NP\",MAX(Oblast2)+COUNTIF(($J$12:$J$154),MAX(Oblast2))+COUNTIF(($U$12:$U$154),MAX(Oblast2)),MAX(Oblast2)+COUNTIF(($J$12:$J$154),MAX(Oblast2))+COUNTIF(($U$12:$U$154),MAX(Oblast2))+COUNTIF(($J$12:$J$154),\"NP\")+COUNTIF(($U$12:$U$154),\"NP\")),U30)))","v":""},{"$f":"IF($L30=\"x\",\"x\",IF($N30=\"\",\"\",IF(OR(V30=\"NP\",V30=\"DNS\"),V30,RANK(V30,Oblast,1))))","v":""},{"$f":"IF($L30=\"x\",\"x\",IF($N30=\"\",\"\",IF(OR(AND(S30=\"NP\",S31=\"NP\"),AND(S30=\"DNS\",S31=\"DNS\")),S30,IF(AND(S30=\"NP\",S31=\"DNS\"),S30,IF(AND(S30=\"DNS\",S31=\"NP\"),S31,MIN(S30,S31))))))","v":""}]
[null,null,null,"II.pokus",null,null,null,{"$f":"IF($C30=\"\",\"\",IF(OR($E31=\"DNS\",$F31=\"DNS\",$G31=\"DNS\"),\"DNS\",IF(OR($E31=\"NP\",$F31=\"NP\",$G31=\"NP\"),\"NP\",IF(ISERROR(MEDIAN($E31:$G31)),\"DNS\",IF(COUNT($E31:$G31)<3,MAX($E31:$G31),MEDIAN($E31:$G31))))))","v":""},null,null,null,null,null,null,"II.pokus",null,null,null,{"$f":"IF($N30=\"\",\"\",IF(OR($P31=\"DNS\",$Q31=\"DNS\",$R31=\"DNS\"),\"DNS\",IF(OR($P31=\"NP\",$Q31=\"NP\",$R31=\"NP\"),\"NP\",IF(ISERROR(MEDIAN($P31:$R31)),\"DNS\",IF(COUNT($P31:$R31)<3,MAX($P31:$R31),MEDIAN($P31:$R31))))))","v":""}]
[null," CELOSTÁTNÍ HRA PLAMEN"]
[]
[]
[null," Výsledková listina č: 2"]
[null,"Štafeta 4 x 60 m",null,null,"Základem je čas naměřený od vydání signálu startéra do proběhnutí posledního člena cílem",null,null,null,null,null,null,null,"Štafeta 4 x 60 m",null,null,"Základem je čas naměřený od vydání signálu startéra do proběhnutí posledního člena cílem"]
[]
[]
[null,{"$f":"\"KATEGORIE: \"&Start!$N$2","v":"KATEGORIE: starší"},null,null,"I. časoměřič","II. časoměřič","III. časoměřič","úřední čas","počet bodů za umístění",null,null,null,{"$f":"\"KATEGORIE: \"&Start!$N$2","v":"KATEGORIE: starší"},null,null,"I. časoměřič","II. časoměřič","III. časoměřič","úřední čas","počet bodů za umístění"]
[]
[null,"start. číslo","SOUTĚŽNÍ DRUŽSTVO","pokus",null,null,null,null,null,null,null,null,"start. číslo","SOUTĚŽNÍ DRUŽSTVO","pokus"]
[]
[{"$f":"IF(Start!E26=\"\",\"\",\"x\")","v":""},21,{"$f":"IF(Start!C26=\"\",\"\",Start!C26)","v":""},"I.pokus",null,null,null,{"$f":"IF($C43=\"\",\"\",IF(OR($E43=\"DNS\",$F43=\"DNS\",$G43=\"DNS\"),\"DNS\",IF(OR($E43=\"NP\",$F43=\"NP\",$G43=\"NP\"),\"NP\",IF(ISERROR(MEDIAN($E43:$G43)),\"DNS\",IF(COUNT($E43:$G43)<3,MAX($E43:$G43),MEDIAN($E43:$G43))))))","v":""},{"$f":"IF($A43=\"x\",\"x\",IF($C43=\"\",\"\",IF(OR(J43=\"NP\",J43=\"DNS\"),IF(J43=\"NP\",MAX(Oblast2)+COUNTIF(($J$12:$J$154),MAX(Oblast2))+COUNTIF(($U$12:$U$154),MAX(Oblast2)),MAX(Oblast2)+COUNTIF(($J$12:$J$154),MAX(Oblast2))+COUNTIF(($U$12:$U$154),MAX(Oblast2))+COUNTIF(($J$12:$J$154),\"NP\")+COUNTIF(($U$12:$U$154),\"NP\")),J43)))","v":""},{"$f":"IF($A43=\"x\",\"x\",IF($C43=\"\",\"\",IF(OR(K43=\"NP\",K43=\"DNS\"),K43,RANK(K43,Oblast,1))))","v":""},{"$f":"IF($A43=\"x\",\"x\",IF($C43=\"\",\"\",IF(OR(AND(H43=\"NP\",H44=\"NP\"),AND(H43=\"DNS\",H44=\"DNS\")),H43,IF(AND(H43=\"NP\",H44=\"DNS\"),H43,IF(AND(H43=\"DNS\",H44=\"NP\"),H44,MIN(H43,H44))))))","v":""},{"$f":"IF(Start!I11=\"\",\"\",\"x\")","v":""},31,{"$f":"IF(Start!G11=\"\",\"\",Start!G11)","v":""},"I.pokus",null,null,null,{"$f":"IF($N43=\"\",\"\",IF(OR($P43=\"DNS\",$Q43=\"DNS\",$R43=\"DNS\"),\"DNS\",IF(OR($P43=\"NP\",$Q43=\"NP\",$R43=\"NP\"),\"NP\",IF(ISERROR(MEDIAN($P43:$R43)),\"DNS\",IF(COUNT($P43:$R43)<3,MAX($P43:$R43),MEDIAN($P43:$R43))))))","v":""},{"$f":"IF($L43=\"x\",\"x\",IF($N43=\"\",\"\",IF(OR(U43=\"NP\",U43=\"DNS\"),IF(U43=\"NP\",MAX(Oblast2)+COUNTIF(($J$12:$J$154),MAX(Oblast2))+COUNTIF(($U$12:$U$154),MAX(Oblast2)),MAX(Oblast2)+COUNTIF(($J$12:$J$154),MAX(Oblast2))+COUNTIF(($U$12:$U$154),MAX(Oblast2))+COUNTIF(($J$12:$J$154),\"NP\")+COUNTIF(($U$12:$U$154),\"NP\")),U43)))","v":""},{"$f":"IF($L43=\"x\",\"x\",IF($N43=\"\",\"\",IF(OR(V43=\"NP\",V43=\"DNS\"),V43,RANK(V43,Oblast,1))))","v":""},{"$f":"IF($L43=\"x\",\"x\",IF($N43=\"\",\"\",IF(OR(AND(S43=\"NP\",S44=\"NP\"),AND(S43=\"DNS\",S44=\"DNS\")),S43,IF(AND(S43=\"NP\",S44=\"DNS\"),S43,IF(AND(S43=\"DNS\",S44=\"NP\"),S44,MIN(S43,S44))))))","v":""}]
[null,null,null,"II.pokus",null,null,null,{"$f":"IF($C43=\"\",\"\",IF(OR($E44=\"DNS\",$F44=\"DNS\",$G44=\"DNS\"),\"DNS\",IF(OR($E44=\"NP\",$F44=\"NP\",$G44=\"NP\"),\"NP\",IF(ISERROR(MEDIAN($E44:$G44)),\"DNS\",IF(COUNT($E44:$G44)<3,MAX($E44:$G44),MEDIAN($E44:$G44))))))","v":""},null,null,null,null,null,null,"II.pokus",null,null,null,{"$f":"IF($N43=\"\",\"\",IF(OR($P44=\"DNS\",$Q44=\"DNS\",$R44=\"DNS\"),\"DNS\",IF(OR($P44=\"NP\",$Q44=\"NP\",$R44=\"NP\"),\"NP\",IF(ISERROR(MEDIAN($P44:$R44)),\"DNS\",IF(COUNT($P44:$R44)<3,MAX($P44:$R44),MEDIAN($P44:$R44))))))","v":""}]
[{"$f":"IF(Start!E27=\"\",\"\",\"x\")","v":""},22,{"$f":"IF(Start!C27=\"\",\"\",Start!C27)","v":""},"I.pokus",null,null,null,{"$f":"IF($C45=\"\",\"\",IF(OR($E45=\"DNS\",$F45=\"DNS\",$G45=\"DNS\"),\"DNS\",IF(OR($E45=\"NP\",$F45=\"NP\",$G45=\"NP\"),\"NP\",IF(ISERROR(MEDIAN($E45:$G45)),\"DNS\",IF(COUNT($E45:$G45)<3,MAX($E45:$G45),MEDIAN($E45:$G45))))))","v":""},{"$f":"IF($A45=\"x\",\"x\",IF($C45=\"\",\"\",IF(OR(J45=\"NP\",J45=\"DNS\"),IF(J45=\"NP\",MAX(Oblast2)+COUNTIF(($J$12:$J$154),MAX(Oblast2))+COUNTIF(($U$12:$U$154),MAX(Oblast2)),MAX(Oblast2)+COUNTIF(($J$12:$J$154),MAX(Oblast2))+COUNTIF(($U$12:$U$154),MAX(Oblast2))+COUNTIF(($J$12:$J$154),\"NP\")+COUNTIF(($U$12:$U$154),\"NP\")),J45)))","v":""},{"$f":"IF($A45=\"x\",\"x\",IF($C45=\"\",\"\",IF(OR(K45=\"NP\",K45=\"DNS\"),K45,RANK(K45,Oblast,1))))","v":""},{"$f":"IF($A45=\"x\",\"x\",IF($C45=\"\",\"\",IF(OR(AND(H45=\"NP\",H46=\"NP\"),AND(H45=\"DNS\",H46=\"DNS\")),H45,IF(AND(H45=\"NP\",H46=\"DNS\"),H45,IF(AND(H45=\"DNS\",H46=\"NP\"),H46,MIN(H45,H46))))))","v":""},{"$f":"IF(Start!I12=\"\",\"\",\"x\")","v":""},32,{"$f":"IF(Start!G12=\"\",\"\",Start!G12)","v":""},"I.pokus",null,null,null,{"$f":"IF($N45=\"\",\"\",IF(OR($P45=\"DNS\",$Q45=\"DNS\",$R45=\"DNS\"),\"DNS\",IF(OR($P45=\"NP\",$Q45=\"NP\",$R45=\"NP\"),\"NP\",IF(ISERROR(MEDIAN($P45:$R45)),\"DNS\",IF(COUNT($P45:$R45)<3,MAX($P45:$R45),MEDIAN($P45:$R45))))))","v":""},{"$f":"IF($L45=\"x\",\"x\",IF($N45=\"\",\"\",IF(OR(U45=\"NP\",U45=\"DNS\"),IF(U45=\"NP\",MAX(Oblast2)+COUNTIF(($J$12:$J$154),MAX(Oblast2))+COUNTIF(($U$12:$U$154),MAX(Oblast2)),MAX(Oblast2)+COUNTIF(($J$12:$J$154),MAX(Oblast2))+COUNTIF(($U$12:$U$154),MAX(Oblast2))+COUNTIF(($J$12:$J$154),\"NP\")+COUNTIF(($U$12:$U$154),\"NP\")),U45)))","v":""},{"$f":"IF($L45=\"x\",\"x\",IF($N45=\"\",\"\",IF(OR(V45=\"NP\",V45=\"DNS\"),V45,RANK(V45,Oblast,1))))","v":""},{"$f":"IF($L45=\"x\",\"x\",IF($N45=\"\",\"\",IF(OR(AND(S45=\"NP\",S46=\"NP\"),AND(S45=\"DNS\",S46=\"DNS\")),S45,IF(AND(S45=\"NP\",S46=\"DNS\"),S45,IF(AND(S45=\"DNS\",S46=\"NP\"),S46,MIN(S45,S46))))))","v":""}]
[null,null,null,"II.pokus",null,null,null,{"$f":"IF($C45=\"\",\"\",IF(OR($E46=\"DNS\",$F46=\"DNS\",$G46=\"DNS\"),\"DNS\",IF(OR($E46=\"NP\",$F46=\"NP\",$G46=\"NP\"),\"NP\",IF(ISERROR(MEDIAN($E46:$G46)),\"DNS\",IF(COUNT($E46:$G46)<3,MAX($E46:$G46),MEDIAN($E46:$G46))))))","v":""},null,null,null,null,null,null,"II.pokus",null,null,null,{"$f":"IF($N45=\"\",\"\",IF(OR($P46=\"DNS\",$Q46=\"DNS\",$R46=\"DNS\"),\"DNS\",IF(OR($P46=\"NP\",$Q46=\"NP\",$R46=\"NP\"),\"NP\",IF(ISERROR(MEDIAN($P46:$R46)),\"DNS\",IF(COUNT($P46:$R46)<3,MAX($P46:$R46),MEDIAN($P46:$R46))))))","v":""}]
[{"$f":"IF(Start!E28=\"\",\"\",\"x\")","v":""},23,{"$f":"IF(Start!C28=\"\",\"\",Start!C28)","v":""},"I.pokus",null,null,null,{"$f":"IF($C47=\"\",\"\",IF(OR($E47=\"DNS\",$F47=\"DNS\",$G47=\"DNS\"),\"DNS\",IF(OR($E47=\"NP\",$F47=\"NP\",$G47=\"NP\"),\"NP\",IF(ISERROR(MEDIAN($E47:$G47)),\"DNS\",IF(COUNT($E47:$G47)<3,MAX($E47:$G47),MEDIAN($E47:$G47))))))","v":""},{"$f":"IF($A47=\"x\",\"x\",IF($C47=\"\",\"\",IF(OR(J47=\"NP\",J47=\"DNS\"),IF(J47=\"NP\",MAX(Oblast2)+COUNTIF(($J$12:$J$154),MAX(Oblast2))+COUNTIF(($U$12:$U$154),MAX(Oblast2)),MAX(Oblast2)+COUNTIF(($J$12:$J$154),MAX(Oblast2))+COUNTIF(($U$12:$U$154),MAX(Oblast2))+COUNTIF(($J$12:$J$154),\"NP\")+COUNTIF(($U$12:$U$154),\"NP\")),J47)))","v":""},{"$f":"IF($A47=\"x\",\"x\",IF($C47=\"\",\"\",IF(OR(K47=\"NP\",K47=\"DNS\"),K47,RANK(K47,Oblast,1))))","v":""},{"$f":"IF($A47=\"x\",\"x\",IF($C47=\"\",\"\",IF(OR(AND(H47=\"NP\",H48=\"NP\"),AND(H47=\"DNS\",H48=\"DNS\")),H47,IF(AND(H47=\"NP\",H48=\"DNS\"),H47,IF(AND(H47=\"DNS\",H48=\"NP\"),H48,MIN(H47,H48))))))","v":""},{"$f":"IF(Start!I13=\"\",\"\",\"x\")","v":""},33,{"$f":"IF(Start!G13=\"\",\"\",Start!G13)","v":""},"I.pokus",null,null,null,{"$f":"IF($N47=\"\",\"\",IF(OR($P47=\"DNS\",$Q47=\"DNS\",$R47=\"DNS\"),\"DNS\",IF(OR($P47=\"NP\",$Q47=\"NP\",$R47=\"NP\"),\"NP\",IF(ISERROR(MEDIAN($P47:$R47)),\"DNS\",IF(COUNT($P47:$R47)<3,MAX($P47:$R47),MEDIAN($P47:$R47))))))","v":""},{"$f":"IF($L47=\"x\",\"x\",IF($N47=\"\",\"\",IF(OR(U47=\"NP\",U47=\"DNS\"),IF(U47=\"NP\",MAX(Oblast2)+COUNTIF(($J$12:$J$154),MAX(Oblast2))+COUNTIF(($U$12:$U$154),MAX(Oblast2)),MAX(Oblast2)+COUNTIF(($J$12:$J$154),MAX(Oblast2))+COUNTIF(($U$12:$U$154),MAX(Oblast2))+COUNTIF(($J$12:$J$154),\"NP\")+COUNTIF(($U$12:$U$154),\"NP\")),U47)))","v":""},{"$f":"IF($L47=\"x\",\"x\",IF($N47=\"\",\"\",IF(OR(V47=\"NP\",V47=\"DNS\"),V47,RANK(V47,Oblast,1))))","v":""},{"$f":"IF($L47=\"x\",\"x\",IF($N47=\"\",\"\",IF(OR(AND(S47=\"NP\",S48=\"NP\"),AND(S47=\"DNS\",S48=\"DNS\")),S47,IF(AND(S47=\"NP\",S48=\"DNS\"),S47,IF(AND(S47=\"DNS\",S48=\"NP\"),S48,MIN(S47,S48))))))","v":""}]
[null,null,null,"II.pokus",null,null,null,{"$f":"IF($C47=\"\",\"\",IF(OR($E48=\"DNS\",$F48=\"DNS\",$G48=\"DNS\"),\"DNS\",IF(OR($E48=\"NP\",$F48=\"NP\",$G48=\"NP\"),\"NP\",IF(ISERROR(MEDIAN($E48:$G48)),\"DNS\",IF(COUNT($E48:$G48)<3,MAX($E48:$G48),MEDIAN($E48:$G48))))))","v":""},null,null,null,null,null,null,"II.pokus",null,null,null,{"$f":"IF($N47=\"\",\"\",IF(OR($P48=\"DNS\",$Q48=\"DNS\",$R48=\"DNS\"),\"DNS\",IF(OR($P48=\"NP\",$Q48=\"NP\",$R48=\"NP\"),\"NP\",IF(ISERROR(MEDIAN($P48:$R48)),\"DNS\",IF(COUNT($P48:$R48)<3,MAX($P48:$R48),MEDIAN($P48:$R48))))))","v":""}]
[{"$f":"IF(Start!E29=\"\",\"\",\"x\")","v":""},24,{"$f":"IF(Start!C29=\"\",\"\",Start!C29)","v":""},"I.pokus",null,null,null,{"$f":"IF($C49=\"\",\"\",IF(OR($E49=\"DNS\",$F49=\"DNS\",$G49=\"DNS\"),\"DNS\",IF(OR($E49=\"NP\",$F49=\"NP\",$G49=\"NP\"),\"NP\",IF(ISERROR(MEDIAN($E49:$G49)),\"DNS\",IF(COUNT($E49:$G49)<3,MAX($E49:$G49),MEDIAN($E49:$G49))))))","v":""},{"$f":"IF($A49=\"x\",\"x\",IF($C49=\"\",\"\",IF(OR(J49=\"NP\",J49=\"DNS\"),IF(J49=\"NP\",MAX(Oblast2)+COUNTIF(($J$12:$J$154),MAX(Oblast2))+COUNTIF(($U$12:$U$154),MAX(Oblast2)),MAX(Oblast2)+COUNTIF(($J$12:$J$154),MAX(Oblast2))+COUNTIF(($U$12:$U$154),MAX(Oblast2))+COUNTIF(($J$12:$J$154),\"NP\")+COUNTIF(($U$12:$U$154),\"NP\")),J49)))","v":""},{"$f":"IF($A49=\"x\",\"x\",IF($C49=\"\",\"\",IF(OR(K49=\"NP\",K49=\"DNS\"),K49,RANK(K49,Oblast,1))))","v":""},{"$f":"IF($A49=\"x\",\"x\",IF($C49=\"\",\"\",IF(OR(AND(H49=\"NP\",H50=\"NP\"),AND(H49=\"DNS\",H50=\"DNS\")),H49,IF(AND(H49=\"NP\",H50=\"DNS\"),H49,IF(AND(H49=\"DNS\",H50=\"NP\"),H50,MIN(H49,H50))))))","v":""},{"$f":"IF(Start!I14=\"\",\"\",\"x\")","v":""},34,{"$f":"IF(Start!G14=\"\",\"\",Start!G14)","v":""},"I.pokus",null,null,null,{"$f":"IF($N49=\"\",\"\",IF(OR($P49=\"DNS\",$Q49=\"DNS\",$R49=\"DNS\"),\"DNS\",IF(OR($P49=\"NP\",$Q49=\"NP\",$R49=\"NP\"),\"NP\",IF(ISERROR(MEDIAN($P49:$R49)),\"DNS\",IF(COUNT($P49:$R49)<3,MAX($P49:$R49),MEDIAN($P49:$R49))))))","v":""},{"$f":"IF($L49=\"x\",\"x\",IF($N49=\"\",\"\",IF(OR(U49=\"NP\",U49=\"DNS\"),IF(U49=\"NP\",MAX(Oblast2)+COUNTIF(($J$12:$J$154),MAX(Oblast2))+COUNTIF(($U$12:$U$154),MAX(Oblast2)),MAX(Oblast2)+COUNTIF(($J$12:$J$154),MAX(Oblast2))+COUNTIF(($U$12:$U$154),MAX(Oblast2))+COUNTIF(($J$12:$J$154),\"NP\")+COUNTIF(($U$12:$U$154),\"NP\")),U49)))","v":""},{"$f":"IF($L49=\"x\",\"x\",IF($N49=\"\",\"\",IF(OR(V49=\"NP\",V49=\"DNS\"),V49,RANK(V49,Oblast,1))))","v":""},{"$f":"IF($L49=\"x\",\"x\",IF($N49=\"\",\"\",IF(OR(AND(S49=\"NP\",S50=\"NP\"),AND(S49=\"DNS\",S50=\"DNS\")),S49,IF(AND(S49=\"NP\",S50=\"DNS\"),S49,IF(AND(S49=\"DNS\",S50=\"NP\"),S50,MIN(S49,S50))))))","v":""}]
[null,null,null,"II.pokus",null,null,null,{"$f":"IF($C49=\"\",\"\",IF(OR($E50=\"DNS\",$F50=\"DNS\",$G50=\"DNS\"),\"DNS\",IF(OR($E50=\"NP\",$F50=\"NP\",$G50=\"NP\"),\"NP\",IF(ISERROR(MEDIAN($E50:$G50)),\"DNS\",IF(COUNT($E50:$G50)<3,MAX($E50:$G50),MEDIAN($E50:$G50))))))","v":""},null,null,null,null,null,null,"II.pokus",null,null,null,{"$f":"IF($N49=\"\",\"\",IF(OR($P50=\"DNS\",$Q50=\"DNS\",$R50=\"DNS\"),\"DNS\",IF(OR($P50=\"NP\",$Q50=\"NP\",$R50=\"NP\"),\"NP\",IF(ISERROR(MEDIAN($P50:$R50)),\"DNS\",IF(COUNT($P50:$R50)<3,MAX($P50:$R50),MEDIAN($P50:$R50))))))","v":""}]
[{"$f":"IF(Start!E30=\"\",\"\",\"x\")","v":""},25,{"$f":"IF(Start!C30=\"\",\"\",Start!C30)","v":""},"I.pokus",null,null,null,{"$f":"IF($C51=\"\",\"\",IF(OR($E51=\"DNS\",$F51=\"DNS\",$G51=\"DNS\"),\"DNS\",IF(OR($E51=\"NP\",$F51=\"NP\",$G51=\"NP\"),\"NP\",IF(ISERROR(MEDIAN($E51:$G51)),\"DNS\",IF(COUNT($E51:$G51)<3,MAX($E51:$G51),MEDIAN($E51:$G51))))))","v":""},{"$f":"IF($A51=\"x\",\"x\",IF($C51=\"\",\"\",IF(OR(J51=\"NP\",J51=\"DNS\"),IF(J51=\"NP\",MAX(Oblast2)+COUNTIF(($J$12:$J$154),MAX(Oblast2))+COUNTIF(($U$12:$U$154),MAX(Oblast2)),MAX(Oblast2)+COUNTIF(($J$12:$J$154),MAX(Oblast2))+COUNTIF(($U$12:$U$154),MAX(Oblast2))+COUNTIF(($J$12:$J$154),\"NP\")+COUNTIF(($U$12:$U$154),\"NP\")),J51)))","v":""},{"$f":"IF($A51=\"x\",\"x\",IF($C51=\"\",\"\",IF(OR(K51=\"NP\",K51=\"DNS\"),K51,RANK(K51,Oblast,1))))","v":""},{"$f":"IF($A51=\"x\",\"x\",IF($C51=\"\",\"\",IF(OR(AND(H51=\"NP\",H52=\"NP\"),AND(H51=\"DNS\",H52=\"DNS\")),H51,IF(AND(H51=\"NP\",H52=\"DNS\"),H51,IF(AND(H51=\"DNS\",H52=\"NP\"),H52,MIN(H51,H52))))))","v":""},{"$f":"IF(Start!I15=\"\",\"\",\"x\")","v":""},35,{"$f":"IF(Start!G15=\"\",\"\",Start!G15)","v":""},"I.pokus",null,null,null,{"$f":"IF($N51=\"\",\"\",IF(OR($P51=\"DNS\",$Q51=\"DNS\",$R51=\"DNS\"),\"DNS\",IF(OR($P51=\"NP\",$Q51=\"NP\",$R51=\"NP\"),\"NP\",IF(ISERROR(MEDIAN($P51:$R51)),\"DNS\",IF(COUNT($P51:$R51)<3,MAX($P51:$R51),MEDIAN($P51:$R51))))))","v":""},{"$f":"IF($L51=\"x\",\"x\",IF($N51=\"\",\"\",IF(OR(U51=\"NP\",U51=\"DNS\"),IF(U51=\"NP\",MAX(Oblast2)+COUNTIF(($J$12:$J$154),MAX(Oblast2))+COUNTIF(($U$12:$U$154),MAX(Oblast2)),MAX(Oblast2)+COUNTIF(($J$12:$J$154),MAX(Oblast2))+COUNTIF(($U$12:$U$154),MAX(Oblast2))+COUNTIF(($J$12:$J$154),\"NP\")+COUNTIF(($U$12:$U$154),\"NP\")),U51)))","v":""},{"$f":"IF($L51=\"x\",\"x\",IF($N51=\"\",\"\",IF(OR(V51=\"NP\",V51=\"DNS\"),V51,RANK(V51,Oblast,1))))","v":""},{"$f":"IF($L51=\"x\",\"x\",IF($N51=\"\",\"\",IF(OR(AND(S51=\"NP\",S52=\"NP\"),AND(S51=\"DNS\",S52=\"DNS\")),S51,IF(AND(S51=\"NP\",S52=\"DNS\"),S51,IF(AND(S51=\"DNS\",S52=\"NP\"),S52,MIN(S51,S52))))))","v":""}]
[null,null,null,"II.pokus",null,null,null,{"$f":"IF($C51=\"\",\"\",IF(OR($E52=\"DNS\",$F52=\"DNS\",$G52=\"DNS\"),\"DNS\",IF(OR($E52=\"NP\",$F52=\"NP\",$G52=\"NP\"),\"NP\",IF(ISERROR(MEDIAN($E52:$G52)),\"DNS\",IF(COUNT($E52:$G52)<3,MAX($E52:$G52),MEDIAN($E52:$G52))))))","v":""},null,null,null,null,null,null,"II.pokus",null,null,null,{"$f":"IF($N51=\"\",\"\",IF(OR($P52=\"DNS\",$Q52=\"DNS\",$R52=\"DNS\"),\"DNS\",IF(OR($P52=\"NP\",$Q52=\"NP\",$R52=\"NP\"),\"NP\",IF(ISERROR(MEDIAN($P52:$R52)),\"DNS\",IF(COUNT($P52:$R52)<3,MAX($P52:$R52),MEDIAN($P52:$R52))))))","v":""}]
[{"$f":"IF(Start!I6=\"\",\"\",\"x\")","v":""},26,{"$f":"IF(Start!G6=\"\",\"\",Start!G6)","v":""},"I.pokus",null,null,null,{"$f":"IF($C53=\"\",\"\",IF(OR($E53=\"DNS\",$F53=\"DNS\",$G53=\"DNS\"),\"DNS\",IF(OR($E53=\"NP\",$F53=\"NP\",$G53=\"NP\"),\"NP\",IF(ISERROR(MEDIAN($E53:$G53)),\"DNS\",IF(COUNT($E53:$G53)<3,MAX($E53:$G53),MEDIAN($E53:$G53))))))","v":""},{"$f":"IF($A53=\"x\",\"x\",IF($C53=\"\",\"\",IF(OR(J53=\"NP\",J53=\"DNS\"),IF(J53=\"NP\",MAX(Oblast2)+COUNTIF(($J$12:$J$154),MAX(Oblast2))+COUNTIF(($U$12:$U$154),MAX(Oblast2)),MAX(Oblast2)+COUNTIF(($J$12:$J$154),MAX(Oblast2))+COUNTIF(($U$12:$U$154),MAX(Oblast2))+COUNTIF(($J$12:$J$154),\"NP\")+COUNTIF(($U$12:$U$154),\"NP\")),J53)))","v":""},{"$f":"IF($A53=\"x\",\"x\",IF($C53=\"\",\"\",IF(OR(K53=\"NP\",K53=\"DNS\"),K53,RANK(K53,Oblast,1))))","v":""},{"$f":"IF($A53=\"x\",\"x\",IF($C53=\"\",\"\",IF(OR(AND(H53=\"NP\",H54=\"NP\"),AND(H53=\"DNS\",H54=\"DNS\")),H53,IF(AND(H53=\"NP\",H54=\"DNS\"),H53,IF(AND(H53=\"DNS\",H54=\"NP\"),H54,MIN(H53,H54))))))","v":""},{"$f":"IF(Start!I16=\"\",\"\",\"x\")","v":""},36,{"$f":"IF(Start!G16=\"\",\"\",Start!G16)","v":""},"I.pokus",null,null,null,{"$f":"IF($N53=\"\",\"\",IF(OR($P53=\"DNS\",$Q53=\"DNS\",$R53=\"DNS\"),\"DNS\",IF(OR($P53=\"NP\",$Q53=\"NP\",$R53=\"NP\"),\"NP\",IF(ISERROR(MEDIAN($P53:$R53)),\"DNS\",IF(COUNT($P53:$R53)<3,MAX($P53:$R53),MEDIAN($P53:$R53))))))","v":""},{"$f":"IF($L53=\"x\",\"x\",IF($N53=\"\",\"\",IF(OR(U53=\"NP\",U53=\"DNS\"),IF(U53=\"NP\",MAX(Oblast2)+COUNTIF(($J$12:$J$154),MAX(Oblast2))+COUNTIF(($U$12:$U$154),MAX(Oblast2)),MAX(Oblast2)+COUNTIF(($J$12:$J$154),MAX(Oblast2))+COUNTIF(($U$12:$U$154),MAX(Oblast2))+COUNTIF(($J$12:$J$154),\"NP\")+COUNTIF(($U$12:$U$154),\"NP\")),U53)))","v":""},{"$f":"IF($L53=\"x\",\"x\",IF($N53=\"\",\"\",IF(OR(V53=\"NP\",V53=\"DNS\"),V53,RANK(V53,Oblast,1))))","v":""},{"$f":"IF($L53=\"x\",\"x\",IF($N53=\"\",\"\",IF(OR(AND(S53=\"NP\",S54=\"NP\"),AND(S53=\"DNS\",S54=\"DNS\")),S53,IF(AND(S53=\"NP\",S54=\"DNS\"),S53,IF(AND(S53=\"DNS\",S54=\"NP\"),S54,MIN(S53,S54))))))","v":""}]
[null,null,null,"II.pokus",null,null,null,{"$f":"IF($C53=\"\",\"\",IF(OR($E54=\"DNS\",$F54=\"DNS\",$G54=\"DNS\"),\"DNS\",IF(OR($E54=\"NP\",$F54=\"NP\",$G54=\"NP\"),\"NP\",IF(ISERROR(MEDIAN($E54:$G54)),\"DNS\",IF(COUNT($E54:$G54)<3,MAX($E54:$G54),MEDIAN($E54:$G54))))))","v":""},null,null,null,null,null,null,"II.pokus",null,null,null,{"$f":"IF($N53=\"\",\"\",IF(OR($P54=\"DNS\",$Q54=\"DNS\",$R54=\"DNS\"),\"DNS\",IF(OR($P54=\"NP\",$Q54=\"NP\",$R54=\"NP\"),\"NP\",IF(ISERROR(MEDIAN($P54:$R54)),\"DNS\",IF(COUNT($P54:$R54)<3,MAX($P54:$R54),MEDIAN($P54:$R54))))))","v":""}]
[{"$f":"IF(Start!I7=\"\",\"\",\"x\")","v":""},27,{"$f":"IF(Start!G7=\"\",\"\",Start!G7)","v":""},"I.pokus",null,null,null,{"$f":"IF($C55=\"\",\"\",IF(OR($E55=\"DNS\",$F55=\"DNS\",$G55=\"DNS\"),\"DNS\",IF(OR($E55=\"NP\",$F55=\"NP\",$G55=\"NP\"),\"NP\",IF(ISERROR(MEDIAN($E55:$G55)),\"DNS\",IF(COUNT($E55:$G55)<3,MAX($E55:$G55),MEDIAN($E55:$G55))))))","v":""},{"$f":"IF($A55=\"x\",\"x\",IF($C55=\"\",\"\",IF(OR(J55=\"NP\",J55=\"DNS\"),IF(J55=\"NP\",MAX(Oblast2)+COUNTIF(($J$12:$J$154),MAX(Oblast2))+COUNTIF(($U$12:$U$154),MAX(Oblast2)),MAX(Oblast2)+COUNTIF(($J$12:$J$154),MAX(Oblast2))+COUNTIF(($U$12:$U$154),MAX(Oblast2))+COUNTIF(($J$12:$J$154),\"NP\")+COUNTIF(($U$12:$U$154),\"NP\")),J55)))","v":""},{"$f":"IF($A55=\"x\",\"x\",IF($C55=\"\",\"\",IF(OR(K55=\"NP\",K55=\"DNS\"),K55,RANK(K55,Oblast,1))))","v":""},{"$f":"IF($A55=\"x\",\"x\",IF($C55=\"\",\"\",IF(OR(AND(H55=\"NP\",H56=\"NP\"),AND(H55=\"DNS\",H56=\"DNS\")),H55,IF(AND(H55=\"NP\",H56=\"DNS\"),H55,IF(AND(H55=\"DNS\",H56=\"NP\"),H56,MIN(H55,H56))))))","v":""},{"$f":"IF(Start!I17=\"\",\"\",\"x\")","v":""},37,{"$f":"IF(Start!G17=\"\",\"\",Start!G17)","v":""},"I.pokus",null,null,null,{"$f":"IF($N55=\"\",\"\",IF(OR($P55=\"DNS\",$Q55=\"DNS\",$R55=\"DNS\"),\"DNS\",IF(OR($P55=\"NP\",$Q55=\"NP\",$R55=\"NP\"),\"NP\",IF(ISERROR(MEDIAN($P55:$R55)),\"DNS\",IF(COUNT($P55:$R55)<3,MAX($P55:$R55),MEDIAN($P55:$R55))))))","v":""},{"$f":"IF($L55=\"x\",\"x\",IF($N55=\"\",\"\",IF(OR(U55=\"NP\",U55=\"DNS\"),IF(U55=\"NP\",MAX(Oblast2)+COUNTIF(($J$12:$J$154),MAX(Oblast2))+COUNTIF(($U$12:$U$154),MAX(Oblast2)),MAX(Oblast2)+COUNTIF(($J$12:$J$154),MAX(Oblast2))+COUNTIF(($U$12:$U$154),MAX(Oblast2))+COUNTIF(($J$12:$J$154),\"NP\")+COUNTIF(($U$12:$U$154),\"NP\")),U55)))","v":""},{"$f":"IF($L55=\"x\",\"x\",IF($N55=\"\",\"\",IF(OR(V55=\"NP\",V55=\"DNS\"),V55,RANK(V55,Oblast,1))))","v":""},{"$f":"IF($L55=\"x\",\"x\",IF($N55=\"\",\"\",IF(OR(AND(S55=\"NP\",S56=\"NP\"),AND(S55=\"DNS\",S56=\"DNS\")),S55,IF(AND(S55=\"NP\",S56=\"DNS\"),S55,IF(AND(S55=\"DNS\",S56=\"NP\"),S56,MIN(S55,S56))))))","v":""}]
[null,null,null,"II.pokus",null,null,null,{"$f":"IF($C55=\"\",\"\",IF(OR($E56=\"DNS\",$F56=\"DNS\",$G56=\"DNS\"),\"DNS\",IF(OR($E56=\"NP\",$F56=\"NP\",$G56=\"NP\"),\"NP\",IF(ISERROR(MEDIAN($E56:$G56)),\"DNS\",IF(COUNT($E56:$G56)<3,MAX($E56:$G56),MEDIAN($E56:$G56))))))","v":""},null,null,null,null,null,null,"II.pokus",null,null,null,{"$f":"IF($N55=\"\",\"\",IF(OR($P56=\"DNS\",$Q56=\"DNS\",$R56=\"DNS\"),\"DNS\",IF(OR($P56=\"NP\",$Q56=\"NP\",$R56=\"NP\"),\"NP\",IF(ISERROR(MEDIAN($P56:$R56)),\"DNS\",IF(COUNT($P56:$R56)<3,MAX($P56:$R56),MEDIAN($P56:$R56))))))","v":""}]
[{"$f":"IF(Start!I8=\"\",\"\",\"x\")","v":""},28,{"$f":"IF(Start!G8=\"\",\"\",Start!G8)","v":""},"I.pokus",null,null,null,{"$f":"IF($C57=\"\",\"\",IF(OR($E57=\"DNS\",$F57=\"DNS\",$G57=\"DNS\"),\"DNS\",IF(OR($E57=\"NP\",$F57=\"NP\",$G57=\"NP\"),\"NP\",IF(ISERROR(MEDIAN($E57:$G57)),\"DNS\",IF(COUNT($E57:$G57)<3,MAX($E57:$G57),MEDIAN($E57:$G57))))))","v":""},{"$f":"IF($A57=\"x\",\"x\",IF($C57=\"\",\"\",IF(OR(J57=\"NP\",J57=\"DNS\"),IF(J57=\"NP\",MAX(Oblast2)+COUNTIF(($J$12:$J$154),MAX(Oblast2))+COUNTIF(($U$12:$U$154),MAX(Oblast2)),MAX(Oblast2)+COUNTIF(($J$12:$J$154),MAX(Oblast2))+COUNTIF(($U$12:$U$154),MAX(Oblast2))+COUNTIF(($J$12:$J$154),\"NP\")+COUNTIF(($U$12:$U$154),\"NP\")),J57)))","v":""},{"$f":"IF($A57=\"x\",\"x\",IF($C57=\"\",\"\",IF(OR(K57=\"NP\",K57=\"DNS\"),K57,RANK(K57,Oblast,1))))","v":""},{"$f":"IF($A57=\"x\",\"x\",IF($C57=\"\",\"\",IF(OR(AND(H57=\"NP\",H58=\"NP\"),AND(H57=\"DNS\",H58=\"DNS\")),H57,IF(AND(H57=\"NP\",H58=\"DNS\"),H57,IF(AND(H57=\"DNS\",H58=\"NP\"),H58,MIN(H57,H58))))))","v":""},{"$f":"IF(Start!I18=\"\",\"\",\"x\")","v":""},38,{"$f":"IF(Start!G18=\"\",\"\",Start!G18)","v":""},"I.pokus",null,null,null,{"$f":"IF($N57=\"\",\"\",IF(OR($P57=\"DNS\",$Q57=\"DNS\",$R57=\"DNS\"),\"DNS\",IF(OR($P57=\"NP\",$Q57=\"NP\",$R57=\"NP\"),\"NP\",IF(ISERROR(MEDIAN($P57:$R57)),\"DNS\",IF(COUNT($P57:$R57)<3,MAX($P57:$R57),MEDIAN($P57:$R57))))))","v":""},{"$f":"IF($L57=\"x\",\"x\",IF($N57=\"\",\"\",IF(OR(U57=\"NP\",U57=\"DNS\"),IF(U57=\"NP\",MAX(Oblast2)+COUNTIF(($J$12:$J$154),MAX(Oblast2))+COUNTIF(($U$12:$U$154),MAX(Oblast2)),MAX(Oblast2)+COUNTIF(($J$12:$J$154),MAX(Oblast2))+COUNTIF(($U$12:$U$154),MAX(Oblast2))+COUNTIF(($J$12:$J$154),\"NP\")+COUNTIF(($U$12:$U$154),\"NP\")),U57)))","v":""},{"$f":"IF($L57=\"x\",\"x\",IF($N57=\"\",\"\",IF(OR(V57=\"NP\",V57=\"DNS\"),V57,RANK(V57,Oblast,1))))","v":""},{"$f":"IF($L57=\"x\",\"x\",IF($N57=\"\",\"\",IF(OR(AND(S57=\"NP\",S58=\"NP\"),AND(S57=\"DNS\",S58=\"DNS\")),S57,IF(AND(S57=\"NP\",S58=\"DNS\"),S57,IF(AND(S57=\"DNS\",S58=\"NP\"),S58,MIN(S57,S58))))))","v":""}]
[null,null,null,"II.pokus",null,null,null,{"$f":"IF($C57=\"\",\"\",IF(OR($E58=\"DNS\",$F58=\"DNS\",$G58=\"DNS\"),\"DNS\",IF(OR($E58=\"NP\",$F58=\"NP\",$G58=\"NP\"),\"NP\",IF(ISERROR(MEDIAN($E58:$G58)),\"DNS\",IF(COUNT($E58:$G58)<3,MAX($E58:$G58),MEDIAN($E58:$G58))))))","v":""},null,null,null,null,null,null,"II.pokus",null,null,null,{"$f":"IF($N57=\"\",\"\",IF(OR($P58=\"DNS\",$Q58=\"DNS\",$R58=\"DNS\"),\"DNS\",IF(OR($P58=\"NP\",$Q58=\"NP\",$R58=\"NP\"),\"NP\",IF(ISERROR(MEDIAN($P58:$R58)),\"DNS\",IF(COUNT($P58:$R58)<3,MAX($P58:$R58),MEDIAN($P58:$R58))))))","v":""}]
[{"$f":"IF(Start!I9=\"\",\"\",\"x\")","v":""},29,{"$f":"IF(Start!G9=\"\",\"\",Start!G9)","v":""},"I.pokus",null,null,null,{"$f":"IF($C59=\"\",\"\",IF(OR($E59=\"DNS\",$F59=\"DNS\",$G59=\"DNS\"),\"DNS\",IF(OR($E59=\"NP\",$F59=\"NP\",$G59=\"NP\"),\"NP\",IF(ISERROR(MEDIAN($E59:$G59)),\"DNS\",IF(COUNT($E59:$G59)<3,MAX($E59:$G59),MEDIAN($E59:$G59))))))","v":""},{"$f":"IF($A59=\"x\",\"x\",IF($C59=\"\",\"\",IF(OR(J59=\"NP\",J59=\"DNS\"),IF(J59=\"NP\",MAX(Oblast2)+COUNTIF(($J$12:$J$154),MAX(Oblast2))+COUNTIF(($U$12:$U$154),MAX(Oblast2)),MAX(Oblast2)+COUNTIF(($J$12:$J$154),MAX(Oblast2))+COUNTIF(($U$12:$U$154),MAX(Oblast2))+COUNTIF(($J$12:$J$154),\"NP\")+COUNTIF(($U$12:$U$154),\"NP\")),J59)))","v":""},{"$f":"IF($A59=\"x\",\"x\",IF($C59=\"\",\"\",IF(OR(K59=\"NP\",K59=\"DNS\"),K59,RANK(K59,Oblast,1))))","v":""},{"$f":"IF($A59=\"x\",\"x\",IF($C59=\"\",\"\",IF(OR(AND(H59=\"NP\",H60=\"NP\"),AND(H59=\"DNS\",H60=\"DNS\")),H59,IF(AND(H59=\"NP\",H60=\"DNS\"),H59,IF(AND(H59=\"DNS\",H60=\"NP\"),H60,MIN(H59,H60))))))","v":""},{"$f":"IF(Start!I19=\"\",\"\",\"x\")","v":""},39,{"$f":"IF(Start!G19=\"\",\"\",Start!G19)","v":""},"I.pokus",null,null,null,{"$f":"IF($N59=\"\",\"\",IF(OR($P59=\"DNS\",$Q59=\"DNS\",$R59=\"DNS\"),\"DNS\",IF(OR($P59=\"NP\",$Q59=\"NP\",$R59=\"NP\"),\"NP\",IF(ISERROR(MEDIAN($P59:$R59)),\"DNS\",IF(COUNT($P59:$R59)<3,MAX($P59:$R59),MEDIAN($P59:$R59))))))","v":""},{"$f":"IF($L59=\"x\",\"x\",IF($N59=\"\",\"\",IF(OR(U59=\"NP\",U59=\"DNS\"),IF(U59=\"NP\",MAX(Oblast2)+COUNTIF(($J$12:$J$154),MAX(Oblast2))+COUNTIF(($U$12:$U$154),MAX(Oblast2)),MAX(Oblast2)+COUNTIF(($J$12:$J$154),MAX(Oblast2))+COUNTIF(($U$12:$U$154),MAX(Oblast2))+COUNTIF(($J$12:$J$154),\"NP\")+COUNTIF(($U$12:$U$154),\"NP\")),U59)))","v":""},{"$f":"IF($L59=\"x\",\"x\",IF($N59=\"\",\"\",IF(OR(V59=\"NP\",V59=\"DNS\"),V59,RANK(V59,Oblast,1))))","v":""},{"$f":"IF($L59=\"x\",\"x\",IF($N59=\"\",\"\",IF(OR(AND(S59=\"NP\",S60=\"NP\"),AND(S59=\"DNS\",S60=\"DNS\")),S59,IF(AND(S59=\"NP\",S60=\"DNS\"),S59,IF(AND(S59=\"DNS\",S60=\"NP\"),S60,MIN(S59,S60))))))","v":""}]
[null,null,null,"II.pokus",null,null,null,{"$f":"IF($C59=\"\",\"\",IF(OR($E60=\"DNS\",$F60=\"DNS\",$G60=\"DNS\"),\"DNS\",IF(OR($E60=\"NP\",$F60=\"NP\",$G60=\"NP\"),\"NP\",IF(ISERROR(MEDIAN($E60:$G60)),\"DNS\",IF(COUNT($E60:$G60)<3,MAX($E60:$G60),MEDIAN($E60:$G60))))))","v":""},null,null,null,null,null,null,"II.pokus",null,null,null,{"$f":"IF($N59=\"\",\"\",IF(OR($P60=\"DNS\",$Q60=\"DNS\",$R60=\"DNS\"),\"DNS\",IF(OR($P60=\"NP\",$Q60=\"NP\",$R60=\"NP\"),\"NP\",IF(ISERROR(MEDIAN($P60:$R60)),\"DNS\",IF(COUNT($P60:$R60)<3,MAX($P60:$R60),MEDIAN($P60:$R60))))))","v":""}]
[{"$f":"IF(Start!I10=\"\",\"\",\"x\")","v":""},30,{"$f":"IF(Start!G10=\"\",\"\",Start!G10)","v":""},"I.pokus",null,null,null,{"$f":"IF($C61=\"\",\"\",IF(OR($E61=\"DNS\",$F61=\"DNS\",$G61=\"DNS\"),\"DNS\",IF(OR($E61=\"NP\",$F61=\"NP\",$G61=\"NP\"),\"NP\",IF(ISERROR(MEDIAN($E61:$G61)),\"DNS\",IF(COUNT($E61:$G61)<3,MAX($E61:$G61),MEDIAN($E61:$G61))))))","v":""},{"$f":"IF($A61=\"x\",\"x\",IF($C61=\"\",\"\",IF(OR(J61=\"NP\",J61=\"DNS\"),IF(J61=\"NP\",MAX(Oblast2)+COUNTIF(($J$12:$J$154),MAX(Oblast2))+COUNTIF(($U$12:$U$154),MAX(Oblast2)),MAX(Oblast2)+COUNTIF(($J$12:$J$154),MAX(Oblast2))+COUNTIF(($U$12:$U$154),MAX(Oblast2))+COUNTIF(($J$12:$J$154),\"NP\")+COUNTIF(($U$12:$U$154),\"NP\")),J61)))","v":""},{"$f":"IF($A61=\"x\",\"x\",IF($C61=\"\",\"\",IF(OR(K61=\"NP\",K61=\"DNS\"),K61,RANK(K61,Oblast,1))))","v":""},{"$f":"IF($A61=\"x\",\"x\",IF($C61=\"\",\"\",IF(OR(AND(H61=\"NP\",H62=\"NP\"),AND(H61=\"DNS\",H62=\"DNS\")),H61,IF(AND(H61=\"NP\",H62=\"DNS\"),H61,IF(AND(H61=\"DNS\",H62=\"NP\"),H62,MIN(H61,H62))))))","v":""},{"$f":"IF(Start!I20=\"\",\"\",\"x\")","v":""},40,{"$f":"IF(Start!G20=\"\",\"\",Start!G20)","v":""},"I.pokus",null,null,null,{"$f":"IF($N61=\"\",\"\",IF(OR($P61=\"DNS\",$Q61=\"DNS\",$R61=\"DNS\"),\"DNS\",IF(OR($P61=\"NP\",$Q61=\"NP\",$R61=\"NP\"),\"NP\",IF(ISERROR(MEDIAN($P61:$R61)),\"DNS\",IF(COUNT($P61:$R61)<3,MAX($P61:$R61),MEDIAN($P61:$R61))))))","v":""},{"$f":"IF($L61=\"x\",\"x\",IF($N61=\"\",\"\",IF(OR(U61=\"NP\",U61=\"DNS\"),IF(U61=\"NP\",MAX(Oblast2)+COUNTIF(($J$12:$J$154),MAX(Oblast2))+COUNTIF(($U$12:$U$154),MAX(Oblast2)),MAX(Oblast2)+COUNTIF(($J$12:$J$154),MAX(Oblast2))+COUNTIF(($U$12:$U$154),MAX(Oblast2))+COUNTIF(($J$12:$J$154),\"NP\")+COUNTIF(($U$12:$U$154),\"NP\")),U61)))","v":""},{"$f":"IF($L61=\"x\",\"x\",IF($N61=\"\",\"\",IF(OR(V61=\"NP\",V61=\"DNS\"),V61,RANK(V61,Oblast,1))))","v":""},{"$f":"IF($L61=\"x\",\"x\",IF($N61=\"\",\"\",IF(OR(AND(S61=\"NP\",S62=\"NP\"),AND(S61=\"DNS\",S62=\"DNS\")),S61,IF(AND(S61=\"NP\",S62=\"DNS\"),S61,IF(AND(S61=\"DNS\",S62=\"NP\"),S62,MIN(S61,S62))))))","v":""}]
[null,null,null,"II.pokus",null,null,null,{"$f":"IF($C61=\"\",\"\",IF(OR($E62=\"DNS\",$F62=\"DNS\",$G62=\"DNS\"),\"DNS\",IF(OR($E62=\"NP\",$F62=\"NP\",$G62=\"NP\"),\"NP\",IF(ISERROR(MEDIAN($E62:$G62)),\"DNS\",IF(COUNT($E62:$G62)<3,MAX($E62:$G62),MEDIAN($E62:$G62))))))","v":""},null,null,null,null,null,null,"II.pokus",null,null,null,{"$f":"IF($N61=\"\",\"\",IF(OR($P62=\"DNS\",$Q62=\"DNS\",$R62=\"DNS\"),\"DNS\",IF(OR($P62=\"NP\",$Q62=\"NP\",$R62=\"NP\"),\"NP\",IF(ISERROR(MEDIAN($P62:$R62)),\"DNS\",IF(COUNT($P62:$R62)<3,MAX($P62:$R62),MEDIAN($P62:$R62))))))","v":""}]
[null," CELOSTÁTNÍ HRA PLAMEN"]
[]
[]
[null," Výsledková listina č: 3"]
[null,"Štafeta 4 x 60 m",null,null,"Základem je čas naměřený od vydání signálu startéra do proběhnutí posledního člena cílem",null,null,null,null,null,null,null,"Štafeta 4 x 60 m",null,null,"Základem je čas naměřený od vydání signálu startéra do proběhnutí posledního člena cílem"]
[]
[]
[null,{"$f":"\"KATEGORIE: \"&Start!$N$2","v":"KATEGORIE: starší"},null,null,"I. časoměřič","II. časoměřič","III. časoměřič","úřední čas","počet bodů za umístění",null,null,null,{"$f":"\"KATEGORIE: \"&Start!$N$2","v":"KATEGORIE: starší"},null,null,"I. časoměřič","II. časoměřič","III. časoměřič","úřední čas","počet bodů za umístění"]
[]
[null,"start. číslo","SOUTĚŽNÍ DRUŽSTVO","pokus",null,null,null,null,null,null,null,null,"start. číslo","SOUTĚŽNÍ DRUŽSTVO","pokus"]
[]
[{"$f":"IF(Start!I21=\"\",\"\",\"x\")","v":""},41,{"$f":"IF(Start!G21=\"\",\"\",Start!G21)","v":""},"I.pokus",null,null,null,{"$f":"IF($C74=\"\",\"\",IF(OR($E74=\"DNS\",$F74=\"DNS\",$G74=\"DNS\"),\"DNS\",IF(OR($E74=\"NP\",$F74=\"NP\",$G74=\"NP\"),\"NP\",IF(ISERROR(MEDIAN($E74:$G74)),\"DNS\",IF(COUNT($E74:$G74)<3,MAX($E74:$G74),MEDIAN($E74:$G74))))))","v":""},{"$f":"IF($A74=\"x\",\"x\",IF($C74=\"\",\"\",IF(OR(J74=\"NP\",J74=\"DNS\"),IF(J74=\"NP\",MAX(Oblast2)+COUNTIF(($J$12:$J$154),MAX(Oblast2))+COUNTIF(($U$12:$U$154),MAX(Oblast2)),MAX(Oblast2)+COUNTIF(($J$12:$J$154),MAX(Oblast2))+COUNTIF(($U$12:$U$154),MAX(Oblast2))+COUNTIF(($J$12:$J$154),\"NP\")+COUNTIF(($U$12:$U$154),\"NP\")),J74)))","v":""},{"$f":"IF($A74=\"x\",\"x\",IF($C74=\"\",\"\",IF(OR(K74=\"NP\",K74=\"DNS\"),K74,RANK(K74,Oblast,1))))","v":""},{"$f":"IF($A74=\"x\",\"x\",IF($C74=\"\",\"\",IF(OR(AND(H74=\"NP\",H75=\"NP\"),AND(H74=\"DNS\",H75=\"DNS\")),H74,IF(AND(H74=\"NP\",H75=\"DNS\"),H74,IF(AND(H74=\"DNS\",H75=\"NP\"),H75,MIN(H74,H75))))))","v":""},{"$f":"IF(Start!M6=\"\",\"\",\"x\")","v":""},51,{"$f":"IF(Start!K6=\"\",\"\",Start!K6)","v":""},"I.pokus",null,null,null,{"$f":"IF($N74=\"\",\"\",IF(OR($P74=\"DNS\",$Q74=\"DNS\",$R74=\"DNS\"),\"DNS\",IF(OR($P74=\"NP\",$Q74=\"NP\",$R74=\"NP\"),\"NP\",IF(ISERROR(MEDIAN($P74:$R74)),\"DNS\",IF(COUNT($P74:$R74)<3,MAX($P74:$R74),MEDIAN($P74:$R74))))))","v":""},{"$f":"IF($L74=\"x\",\"x\",IF($N74=\"\",\"\",IF(OR(U74=\"NP\",U74=\"DNS\"),IF(U74=\"NP\",MAX(Oblast2)+COUNTIF(($J$12:$J$154),MAX(Oblast2))+COUNTIF(($U$12:$U$154),MAX(Oblast2)),MAX(Oblast2)+COUNTIF(($J$12:$J$154),MAX(Oblast2))+COUNTIF(($U$12:$U$154),MAX(Oblast2))+COUNTIF(($J$12:$J$154),\"NP\")+COUNTIF(($U$12:$U$154),\"NP\")),U74)))","v":""},{"$f":"IF($L74=\"x\",\"x\",IF($N74=\"\",\"\",IF(OR(V74=\"NP\",V74=\"DNS\"),V74,RANK(V74,Oblast,1))))","v":""},{"$f":"IF($L74=\"x\",\"x\",IF($N74=\"\",\"\",IF(OR(AND(S74=\"NP\",S75=\"NP\"),AND(S74=\"DNS\",S75=\"DNS\")),S74,IF(AND(S74=\"NP\",S75=\"DNS\"),S74,IF(AND(S74=\"DNS\",S75=\"NP\"),S75,MIN(S74,S75))))))","v":""}]
[null,null,null,"II.pokus",null,null,null,{"$f":"IF($C74=\"\",\"\",IF(OR($E75=\"DNS\",$F75=\"DNS\",$G75=\"DNS\"),\"DNS\",IF(OR($E75=\"NP\",$F75=\"NP\",$G75=\"NP\"),\"NP\",IF(ISERROR(MEDIAN($E75:$G75)),\"DNS\",IF(COUNT($E75:$G75)<3,MAX($E75:$G75),MEDIAN($E75:$G75))))))","v":""},null,null,null,null,null,null,"II.pokus",null,null,null,{"$f":"IF($N74=\"\",\"\",IF(OR($P75=\"DNS\",$Q75=\"DNS\",$R75=\"DNS\"),\"DNS\",IF(OR($P75=\"NP\",$Q75=\"NP\",$R75=\"NP\"),\"NP\",IF(ISERROR(MEDIAN($P75:$R75)),\"DNS\",IF(COUNT($P75:$R75)<3,MAX($P75:$R75),MEDIAN($P75:$R75))))))","v":""}]
[{"$f":"IF(Start!I22=\"\",\"\",\"x\")","v":""},42,{"$f":"IF(Start!G22=\"\",\"\",Start!G22)","v":""},"I.pokus",null,null,null,{"$f":"IF($C76=\"\",\"\",IF(OR($E76=\"DNS\",$F76=\"DNS\",$G76=\"DNS\"),\"DNS\",IF(OR($E76=\"NP\",$F76=\"NP\",$G76=\"NP\"),\"NP\",IF(ISERROR(MEDIAN($E76:$G76)),\"DNS\",IF(COUNT($E76:$G76)<3,MAX($E76:$G76),MEDIAN($E76:$G76))))))","v":""},{"$f":"IF($A76=\"x\",\"x\",IF($C76=\"\",\"\",IF(OR(J76=\"NP\",J76=\"DNS\"),IF(J76=\"NP\",MAX(Oblast2)+COUNTIF(($J$12:$J$154),MAX(Oblast2))+COUNTIF(($U$12:$U$154),MAX(Oblast2)),MAX(Oblast2)+COUNTIF(($J$12:$J$154),MAX(Oblast2))+COUNTIF(($U$12:$U$154),MAX(Oblast2))+COUNTIF(($J$12:$J$154),\"NP\")+COUNTIF(($U$12:$U$154),\"NP\")),J76)))","v":""},{"$f":"IF($A76=\"x\",\"x\",IF($C76=\"\",\"\",IF(OR(K76=\"NP\",K76=\"DNS\"),K76,RANK(K76,Oblast,1))))","v":""},{"$f":"IF($A76=\"x\",\"x\",IF($C76=\"\",\"\",IF(OR(AND(H76=\"NP\",H77=\"NP\"),AND(H76=\"DNS\",H77=\"DNS\")),H76,IF(AND(H76=\"NP\",H77=\"DNS\"),H76,IF(AND(H76=\"DNS\",H77=\"NP\"),H77,MIN(H76,H77))))))","v":""},{"$f":"IF(Start!M7=\"\",\"\",\"x\")","v":""},52,{"$f":"IF(Start!K7=\"\",\"\",Start!K7)","v":""},"I.pokus",null,null,null,{"$f":"IF($N76=\"\",\"\",IF(OR($P76=\"DNS\",$Q76=\"DNS\",$R76=\"DNS\"),\"DNS\",IF(OR($P76=\"NP\",$Q76=\"NP\",$R76=\"NP\"),\"NP\",IF(ISERROR(MEDIAN($P76:$R76)),\"DNS\",IF(COUNT($P76:$R76)<3,MAX($P76:$R76),MEDIAN($P76:$R76))))))","v":""},{"$f":"IF($L76=\"x\",\"x\",IF($N76=\"\",\"\",IF(OR(U76=\"NP\",U76=\"DNS\"),IF(U76=\"NP\",MAX(Oblast2)+COUNTIF(($J$12:$J$154),MAX(Oblast2))+COUNTIF(($U$12:$U$154),MAX(Oblast2)),MAX(Oblast2)+COUNTIF(($J$12:$J$154),MAX(Oblast2))+COUNTIF(($U$12:$U$154),MAX(Oblast2))+COUNTIF(($J$12:$J$154),\"NP\")+COUNTIF(($U$12:$U$154),\"NP\")),U76)))","v":""},{"$f":"IF($L76=\"x\",\"x\",IF($N76=\"\",\"\",IF(OR(V76=\"NP\",V76=\"DNS\"),V76,RANK(V76,Oblast,1))))","v":""},{"$f":"IF($L76=\"x\",\"x\",IF($N76=\"\",\"\",IF(OR(AND(S76=\"NP\",S77=\"NP\"),AND(S76=\"DNS\",S77=\"DNS\")),S76,IF(AND(S76=\"NP\",S77=\"DNS\"),S76,IF(AND(S76=\"DNS\",S77=\"NP\"),S77,MIN(S76,S77))))))","v":""}]
[null,null,null,"II.pokus",null,null,null,{"$f":"IF($C76=\"\",\"\",IF(OR($E77=\"DNS\",$F77=\"DNS\",$G77=\"DNS\"),\"DNS\",IF(OR($E77=\"NP\",$F77=\"NP\",$G77=\"NP\"),\"NP\",IF(ISERROR(MEDIAN($E77:$G77)),\"DNS\",IF(COUNT($E77:$G77)<3,MAX($E77:$G77),MEDIAN($E77:$G77))))))","v":""},null,null,null,null,null,null,"II.pokus",null,null,null,{"$f":"IF($N76=\"\",\"\",IF(OR($P77=\"DNS\",$Q77=\"DNS\",$R77=\"DNS\"),\"DNS\",IF(OR($P77=\"NP\",$Q77=\"NP\",$R77=\"NP\"),\"NP\",IF(ISERROR(MEDIAN($P77:$R77)),\"DNS\",IF(COUNT($P77:$R77)<3,MAX($P77:$R77),MEDIAN($P77:$R77))))))","v":""}]
[{"$f":"IF(Start!I23=\"\",\"\",\"x\")","v":""},43,{"$f":"IF(Start!G23=\"\",\"\",Start!G23)","v":""},"I.pokus",null,null,null,{"$f":"IF($C78=\"\",\"\",IF(OR($E78=\"DNS\",$F78=\"DNS\",$G78=\"DNS\"),\"DNS\",IF(OR($E78=\"NP\",$F78=\"NP\",$G78=\"NP\"),\"NP\",IF(ISERROR(MEDIAN($E78:$G78)),\"DNS\",IF(COUNT($E78:$G78)<3,MAX($E78:$G78),MEDIAN($E78:$G78))))))","v":""},{"$f":"IF($A78=\"x\",\"x\",IF($C78=\"\",\"\",IF(OR(J78=\"NP\",J78=\"DNS\"),IF(J78=\"NP\",MAX(Oblast2)+COUNTIF(($J$12:$J$154),MAX(Oblast2))+COUNTIF(($U$12:$U$154),MAX(Oblast2)),MAX(Oblast2)+COUNTIF(($J$12:$J$154),MAX(Oblast2))+COUNTIF(($U$12:$U$154),MAX(Oblast2))+COUNTIF(($J$12:$J$154),\"NP\")+COUNTIF(($U$12:$U$154),\"NP\")),J78)))","v":""},{"$f":"IF($A78=\"x\",\"x\",IF($C78=\"\",\"\",IF(OR(K78=\"NP\",K78=\"DNS\"),K78,RANK(K78,Oblast,1))))","v":""},{"$f":"IF($A78=\"x\",\"x\",IF($C78=\"\",\"\",IF(OR(AND(H78=\"NP\",H79=\"NP\"),AND(H78=\"DNS\",H79=\"DNS\")),H78,IF(AND(H78=\"NP\",H79=\"DNS\"),H78,IF(AND(H78=\"DNS\",H79=\"NP\"),H79,MIN(H78,H79))))))","v":""},{"$f":"IF(Start!M8=\"\",\"\",\"x\")","v":""},53,{"$f":"IF(Start!K8=\"\",\"\",Start!K8)","v":""},"I.pokus",null,null,null,{"$f":"IF($N78=\"\",\"\",IF(OR($P78=\"DNS\",$Q78=\"DNS\",$R78=\"DNS\"),\"DNS\",IF(OR($P78=\"NP\",$Q78=\"NP\",$R78=\"NP\"),\"NP\",IF(ISERROR(MEDIAN($P78:$R78)),\"DNS\",IF(COUNT($P78:$R78)<3,MAX($P78:$R78),MEDIAN($P78:$R78))))))","v":""},{"$f":"IF($L78=\"x\",\"x\",IF($N78=\"\",\"\",IF(OR(U78=\"NP\",U78=\"DNS\"),IF(U78=\"NP\",MAX(Oblast2)+COUNTIF(($J$12:$J$154),MAX(Oblast2))+COUNTIF(($U$12:$U$154),MAX(Oblast2)),MAX(Oblast2)+COUNTIF(($J$12:$J$154),MAX(Oblast2))+COUNTIF(($U$12:$U$154),MAX(Oblast2))+COUNTIF(($J$12:$J$154),\"NP\")+COUNTIF(($U$12:$U$154),\"NP\")),U78)))","v":""},{"$f":"IF($L78=\"x\",\"x\",IF($N78=\"\",\"\",IF(OR(V78=\"NP\",V78=\"DNS\"),V78,RANK(V78,Oblast,1))))","v":""},{"$f":"IF($L78=\"x\",\"x\",IF($N78=\"\",\"\",IF(OR(AND(S78=\"NP\",S79=\"NP\"),AND(S78=\"DNS\",S79=\"DNS\")),S78,IF(AND(S78=\"NP\",S79=\"DNS\"),S78,IF(AND(S78=\"DNS\",S79=\"NP\"),S79,MIN(S78,S79))))))","v":""}]
[null,null,null,"II.pokus",null,null,null,{"$f":"IF($C78=\"\",\"\",IF(OR($E79=\"DNS\",$F79=\"DNS\",$G79=\"DNS\"),\"DNS\",IF(OR($E79=\"NP\",$F79=\"NP\",$G79=\"NP\"),\"NP\",IF(ISERROR(MEDIAN($E79:$G79)),\"DNS\",IF(COUNT($E79:$G79)<3,MAX($E79:$G79),MEDIAN($E79:$G79))))))","v":""},null,null,null,null,null,null,"II.pokus",null,null,null,{"$f":"IF($N78=\"\",\"\",IF(OR($P79=\"DNS\",$Q79=\"DNS\",$R79=\"DNS\"),\"DNS\",IF(OR($P79=\"NP\",$Q79=\"NP\",$R79=\"NP\"),\"NP\",IF(ISERROR(MEDIAN($P79:$R79)),\"DNS\",IF(COUNT($P79:$R79)<3,MAX($P79:$R79),MEDIAN($P79:$R79))))))","v":""}]
[{"$f":"IF(Start!I24=\"\",\"\",\"x\")","v":""},44,{"$f":"IF(Start!G24=\"\",\"\",Start!G24)","v":""},"I.pokus",null,null,null,{"$f":"IF($C80=\"\",\"\",IF(OR($E80=\"DNS\",$F80=\"DNS\",$G80=\"DNS\"),\"DNS\",IF(OR($E80=\"NP\",$F80=\"NP\",$G80=\"NP\"),\"NP\",IF(ISERROR(MEDIAN($E80:$G80)),\"DNS\",IF(COUNT($E80:$G80)<3,MAX($E80:$G80),MEDIAN($E80:$G80))))))","v":""},{"$f":"IF($A80=\"x\",\"x\",IF($C80=\"\",\"\",IF(OR(J80=\"NP\",J80=\"DNS\"),IF(J80=\"NP\",MAX(Oblast2)+COUNTIF(($J$12:$J$154),MAX(Oblast2))+COUNTIF(($U$12:$U$154),MAX(Oblast2)),MAX(Oblast2)+COUNTIF(($J$12:$J$154),MAX(Oblast2))+COUNTIF(($U$12:$U$154),MAX(Oblast2))+COUNTIF(($J$12:$J$154),\"NP\")+COUNTIF(($U$12:$U$154),\"NP\")),J80)))","v":""},{"$f":"IF($A80=\"x\",\"x\",IF($C80=\"\",\"\",IF(OR(K80=\"NP\",K80=\"DNS\"),K80,RANK(K80,Oblast,1))))","v":""},{"$f":"IF($A80=\"x\",\"x\",IF($C80=\"\",\"\",IF(OR(AND(H80=\"NP\",H81=\"NP\"),AND(H80=\"DNS\",H81=\"DNS\")),H80,IF(AND(H80=\"NP\",H81=\"DNS\"),H80,IF(AND(H80=\"DNS\",H81=\"NP\"),H81,MIN(H80,H81))))))","v":""},{"$f":"IF(Start!M9=\"\",\"\",\"x\")","v":""},54,{"$f":"IF(Start!K9=\"\",\"\",Start!K9)","v":""},"I.pokus",null,null,null,{"$f":"IF($N80=\"\",\"\",IF(OR($P80=\"DNS\",$Q80=\"DNS\",$R80=\"DNS\"),\"DNS\",IF(OR($P80=\"NP\",$Q80=\"NP\",$R80=\"NP\"),\"NP\",IF(ISERROR(MEDIAN($P80:$R80)),\"DNS\",IF(COUNT($P80:$R80)<3,MAX($P80:$R80),MEDIAN($P80:$R80))))))","v":""},{"$f":"IF($L80=\"x\",\"x\",IF($N80=\"\",\"\",IF(OR(U80=\"NP\",U80=\"DNS\"),IF(U80=\"NP\",MAX(Oblast2)+COUNTIF(($J$12:$J$154),MAX(Oblast2))+COUNTIF(($U$12:$U$154),MAX(Oblast2)),MAX(Oblast2)+COUNTIF(($J$12:$J$154),MAX(Oblast2))+COUNTIF(($U$12:$U$154),MAX(Oblast2))+COUNTIF(($J$12:$J$154),\"NP\")+COUNTIF(($U$12:$U$154),\"NP\")),U80)))","v":""},{"$f":"IF($L80=\"x\",\"x\",IF($N80=\"\",\"\",IF(OR(V80=\"NP\",V80=\"DNS\"),V80,RANK(V80,Oblast,1))))","v":""},{"$f":"IF($L80=\"x\",\"x\",IF($N80=\"\",\"\",IF(OR(AND(S80=\"NP\",S81=\"NP\"),AND(S80=\"DNS\",S81=\"DNS\")),S80,IF(AND(S80=\"NP\",S81=\"DNS\"),S80,IF(AND(S80=\"DNS\",S81=\"NP\"),S81,MIN(S80,S81))))))","v":""}]
[null,null,null,"II.pokus",null,null,null,{"$f":"IF($C80=\"\",\"\",IF(OR($E81=\"DNS\",$F81=\"DNS\",$G81=\"DNS\"),\"DNS\",IF(OR($E81=\"NP\",$F81=\"NP\",$G81=\"NP\"),\"NP\",IF(ISERROR(MEDIAN($E81:$G81)),\"DNS\",IF(COUNT($E81:$G81)<3,MAX($E81:$G81),MEDIAN($E81:$G81))))))","v":""},null,null,null,null,null,null,"II.pokus",null,null,null,{"$f":"IF($N80=\"\",\"\",IF(OR($P81=\"DNS\",$Q81=\"DNS\",$R81=\"DNS\"),\"DNS\",IF(OR($P81=\"NP\",$Q81=\"NP\",$R81=\"NP\"),\"NP\",IF(ISERROR(MEDIAN($P81:$R81)),\"DNS\",IF(COUNT($P81:$R81)<3,MAX($P81:$R81),MEDIAN($P81:$R81))))))","v":""}]
[{"$f":"IF(Start!I25=\"\",\"\",\"x\")","v":""},45,{"$f":"IF(Start!G25=\"\",\"\",Start!G25)","v":""},"I.pokus",null,null,null,{"$f":"IF($C82=\"\",\"\",IF(OR($E82=\"DNS\",$F82=\"DNS\",$G82=\"DNS\"),\"DNS\",IF(OR($E82=\"NP\",$F82=\"NP\",$G82=\"NP\"),\"NP\",IF(ISERROR(MEDIAN($E82:$G82)),\"DNS\",IF(COUNT($E82:$G82)<3,MAX($E82:$G82),MEDIAN($E82:$G82))))))","v":""},{"$f":"IF($A82=\"x\",\"x\",IF($C82=\"\",\"\",IF(OR(J82=\"NP\",J82=\"DNS\"),IF(J82=\"NP\",MAX(Oblast2)+COUNTIF(($J$12:$J$154),MAX(Oblast2))+COUNTIF(($U$12:$U$154),MAX(Oblast2)),MAX(Oblast2)+COUNTIF(($J$12:$J$154),MAX(Oblast2))+COUNTIF(($U$12:$U$154),MAX(Oblast2))+COUNTIF(($J$12:$J$154),\"NP\")+COUNTIF(($U$12:$U$154),\"NP\")),J82)))","v":""},{"$f":"IF($A82=\"x\",\"x\",IF($C82=\"\",\"\",IF(OR(K82=\"NP\",K82=\"DNS\"),K82,RANK(K82,Oblast,1))))","v":""},{"$f":"IF($A82=\"x\",\"x\",IF($C82=\"\",\"\",IF(OR(AND(H82=\"NP\",H83=\"NP\"),AND(H82=\"DNS\",H83=\"DNS\")),H82,IF(AND(H82=\"NP\",H83=\"DNS\"),H82,IF(AND(H82=\"DNS\",H83=\"NP\"),H83,MIN(H82,H83))))))","v":""},{"$f":"IF(Start!M10=\"\",\"\",\"x\")","v":""},55,{"$f":"IF(Start!K10=\"\",\"\",Start!K10)","v":""},"I.pokus",null,null,null,{"$f":"IF($N82=\"\",\"\",IF(OR($P82=\"DNS\",$Q82=\"DNS\",$R82=\"DNS\"),\"DNS\",IF(OR($P82=\"NP\",$Q82=\"NP\",$R82=\"NP\"),\"NP\",IF(ISERROR(MEDIAN($P82:$R82)),\"DNS\",IF(COUNT($P82:$R82)<3,MAX($P82:$R82),MEDIAN($P82:$R82))))))","v":""},{"$f":"IF($L82=\"x\",\"x\",IF($N82=\"\",\"\",IF(OR(U82=\"NP\",U82=\"DNS\"),IF(U82=\"NP\",MAX(Oblast2)+COUNTIF(($J$12:$J$154),MAX(Oblast2))+COUNTIF(($U$12:$U$154),MAX(Oblast2)),MAX(Oblast2)+COUNTIF(($J$12:$J$154),MAX(Oblast2))+COUNTIF(($U$12:$U$154),MAX(Oblast2))+COUNTIF(($J$12:$J$154),\"NP\")+COUNTIF(($U$12:$U$154),\"NP\")),U82)))","v":""},{"$f":"IF($L82=\"x\",\"x\",IF($N82=\"\",\"\",IF(OR(V82=\"NP\",V82=\"DNS\"),V82,RANK(V82,Oblast,1))))","v":""},{"$f":"IF($L82=\"x\",\"x\",IF($N82=\"\",\"\",IF(OR(AND(S82=\"NP\",S83=\"NP\"),AND(S82=\"DNS\",S83=\"DNS\")),S82,IF(AND(S82=\"NP\",S83=\"DNS\"),S82,IF(AND(S82=\"DNS\",S83=\"NP\"),S83,MIN(S82,S83))))))","v":""}]
[null,null,null,"II.pokus",null,null,null,{"$f":"IF($C82=\"\",\"\",IF(OR($E83=\"DNS\",$F83=\"DNS\",$G83=\"DNS\"),\"DNS\",IF(OR($E83=\"NP\",$F83=\"NP\",$G83=\"NP\"),\"NP\",IF(ISERROR(MEDIAN($E83:$G83)),\"DNS\",IF(COUNT($E83:$G83)<3,MAX($E83:$G83),MEDIAN($E83:$G83))))))","v":""},null,null,null,null,null,null,"II.pokus",null,null,null,{"$f":"IF($N82=\"\",\"\",IF(OR($P83=\"DNS\",$Q83=\"DNS\",$R83=\"DNS\"),\"DNS\",IF(OR($P83=\"NP\",$Q83=\"NP\",$R83=\"NP\"),\"NP\",IF(ISERROR(MEDIAN($P83:$R83)),\"DNS\",IF(COUNT($P83:$R83)<3,MAX($P83:$R83),MEDIAN($P83:$R83))))))","v":""}]
[{"$f":"IF(Start!I26=\"\",\"\",\"x\")","v":""},46,{"$f":"IF(Start!G26=\"\",\"\",Start!G26)","v":""},"I.pokus",null,null,null,{"$f":"IF($C84=\"\",\"\",IF(OR($E84=\"DNS\",$F84=\"DNS\",$G84=\"DNS\"),\"DNS\",IF(OR($E84=\"NP\",$F84=\"NP\",$G84=\"NP\"),\"NP\",IF(ISERROR(MEDIAN($E84:$G84)),\"DNS\",IF(COUNT($E84:$G84)<3,MAX($E84:$G84),MEDIAN($E84:$G84))))))","v":""},{"$f":"IF($A84=\"x\",\"x\",IF($C84=\"\",\"\",IF(OR(J84=\"NP\",J84=\"DNS\"),IF(J84=\"NP\",MAX(Oblast2)+COUNTIF(($J$12:$J$154),MAX(Oblast2))+COUNTIF(($U$12:$U$154),MAX(Oblast2)),MAX(Oblast2)+COUNTIF(($J$12:$J$154),MAX(Oblast2))+COUNTIF(($U$12:$U$154),MAX(Oblast2))+COUNTIF(($J$12:$J$154),\"NP\")+COUNTIF(($U$12:$U$154),\"NP\")),J84)))","v":""},{"$f":"IF($A84=\"x\",\"x\",IF($C84=\"\",\"\",IF(OR(K84=\"NP\",K84=\"DNS\"),K84,RANK(K84,Oblast,1))))","v":""},{"$f":"IF($A84=\"x\",\"x\",IF($C84=\"\",\"\",IF(OR(AND(H84=\"NP\",H85=\"NP\"),AND(H84=\"DNS\",H85=\"DNS\")),H84,IF(AND(H84=\"NP\",H85=\"DNS\"),H84,IF(AND(H84=\"DNS\",H85=\"NP\"),H85,MIN(H84,H85))))))","v":""},{"$f":"IF(Start!M11=\"\",\"\",\"x\")","v":""},56,{"$f":"IF(Start!K11=\"\",\"\",Start!K11)","v":""},"I.pokus",null,null,null,{"$f":"IF($N84=\"\",\"\",IF(OR($P84=\"DNS\",$Q84=\"DNS\",$R84=\"DNS\"),\"DNS\",IF(OR($P84=\"NP\",$Q84=\"NP\",$R84=\"NP\"),\"NP\",IF(ISERROR(MEDIAN($P84:$R84)),\"DNS\",IF(COUNT($P84:$R84)<3,MAX($P84:$R84),MEDIAN($P84:$R84))))))","v":""},{"$f":"IF($L84=\"x\",\"x\",IF($N84=\"\",\"\",IF(OR(U84=\"NP\",U84=\"DNS\"),IF(U84=\"NP\",MAX(Oblast2)+COUNTIF(($J$12:$J$154),MAX(Oblast2))+COUNTIF(($U$12:$U$154),MAX(Oblast2)),MAX(Oblast2)+COUNTIF(($J$12:$J$154),MAX(Oblast2))+COUNTIF(($U$12:$U$154),MAX(Oblast2))+COUNTIF(($J$12:$J$154),\"NP\")+COUNTIF(($U$12:$U$154),\"NP\")),U84)))","v":""},{"$f":"IF($L84=\"x\",\"x\",IF($N84=\"\",\"\",IF(OR(V84=\"NP\",V84=\"DNS\"),V84,RANK(V84,Oblast,1))))","v":""},{"$f":"IF($L84=\"x\",\"x\",IF($N84=\"\",\"\",IF(OR(AND(S84=\"NP\",S85=\"NP\"),AND(S84=\"DNS\",S85=\"DNS\")),S84,IF(AND(S84=\"NP\",S85=\"DNS\"),S84,IF(AND(S84=\"DNS\",S85=\"NP\"),S85,MIN(S84,S85))))))","v":""}]
[null,null,null,"II.pokus",null,null,null,{"$f":"IF($C84=\"\",\"\",IF(OR($E85=\"DNS\",$F85=\"DNS\",$G85=\"DNS\"),\"DNS\",IF(OR($E85=\"NP\",$F85=\"NP\",$G85=\"NP\"),\"NP\",IF(ISERROR(MEDIAN($E85:$G85)),\"DNS\",IF(COUNT($E85:$G85)<3,MAX($E85:$G85),MEDIAN($E85:$G85))))))","v":""},null,null,null,null,null,null,"II.pokus",null,null,null,{"$f":"IF($N84=\"\",\"\",IF(OR($P85=\"DNS\",$Q85=\"DNS\",$R85=\"DNS\"),\"DNS\",IF(OR($P85=\"NP\",$Q85=\"NP\",$R85=\"NP\"),\"NP\",IF(ISERROR(MEDIAN($P85:$R85)),\"DNS\",IF(COUNT($P85:$R85)<3,MAX($P85:$R85),MEDIAN($P85:$R85))))))","v":""}]
[{"$f":"IF(Start!I27=\"\",\"\",\"x\")","v":""},47,{"$f":"IF(Start!G27=\"\",\"\",Start!G27)","v":""},"I.pokus",null,null,null,{"$f":"IF($C86=\"\",\"\",IF(OR($E86=\"DNS\",$F86=\"DNS\",$G86=\"DNS\"),\"DNS\",IF(OR($E86=\"NP\",$F86=\"NP\",$G86=\"NP\"),\"NP\",IF(ISERROR(MEDIAN($E86:$G86)),\"DNS\",IF(COUNT($E86:$G86)<3,MAX($E86:$G86),MEDIAN($E86:$G86))))))","v":""},{"$f":"IF($A86=\"x\",\"x\",IF($C86=\"\",\"\",IF(OR(J86=\"NP\",J86=\"DNS\"),IF(J86=\"NP\",MAX(Oblast2)+COUNTIF(($J$12:$J$154),MAX(Oblast2))+COUNTIF(($U$12:$U$154),MAX(Oblast2)),MAX(Oblast2)+COUNTIF(($J$12:$J$154),MAX(Oblast2))+COUNTIF(($U$12:$U$154),MAX(Oblast2))+COUNTIF(($J$12:$J$154),\"NP\")+COUNTIF(($U$12:$U$154),\"NP\")),J86)))","v":""},{"$f":"IF($A86=\"x\",\"x\",IF($C86=\"\",\"\",IF(OR(K86=\"NP\",K86=\"DNS\"),K86,RANK(K86,Oblast,1))))","v":""},{"$f":"IF($A86=\"x\",\"x\",IF($C86=\"\",\"\",IF(OR(AND(H86=\"NP\",H87=\"NP\"),AND(H86=\"DNS\",H87=\"DNS\")),H86,IF(AND(H86=\"NP\",H87=\"DNS\"),H86,IF(AND(H86=\"DNS\",H87=\"NP\"),H87,MIN(H86,H87))))))","v":""},{"$f":"IF(Start!M12=\"\",\"\",\"x\")","v":""},57,{"$f":"IF(Start!K12=\"\",\"\",Start!K12)","v":""},"I.pokus",null,null,null,{"$f":"IF($N86=\"\",\"\",IF(OR($P86=\"DNS\",$Q86=\"DNS\",$R86=\"DNS\"),\"DNS\",IF(OR($P86=\"NP\",$Q86=\"NP\",$R86=\"NP\"),\"NP\",IF(ISERROR(MEDIAN($P86:$R86)),\"DNS\",IF(COUNT($P86:$R86)<3,MAX($P86:$R86),MEDIAN($P86:$R86))))))","v":""},{"$f":"IF($L86=\"x\",\"x\",IF($N86=\"\",\"\",IF(OR(U86=\"NP\",U86=\"DNS\"),IF(U86=\"NP\",MAX(Oblast2)+COUNTIF(($J$12:$J$154),MAX(Oblast2))+COUNTIF(($U$12:$U$154),MAX(Oblast2)),MAX(Oblast2)+COUNTIF(($J$12:$J$154),MAX(Oblast2))+COUNTIF(($U$12:$U$154),MAX(Oblast2))+COUNTIF(($J$12:$J$154),\"NP\")+COUNTIF(($U$12:$U$154),\"NP\")),U86)))","v":""},{"$f":"IF($L86=\"x\",\"x\",IF($N86=\"\",\"\",IF(OR(V86=\"NP\",V86=\"DNS\"),V86,RANK(V86,Oblast,1))))","v":""},{"$f":"IF($L86=\"x\",\"x\",IF($N86=\"\",\"\",IF(OR(AND(S86=\"NP\",S87=\"NP\"),AND(S86=\"DNS\",S87=\"DNS\")),S86,IF(AND(S86=\"NP\",S87=\"DNS\"),S86,IF(AND(S86=\"DNS\",S87=\"NP\"),S87,MIN(S86,S87))))))","v":""}]
[null,null,null,"II.pokus",null,null,null,{"$f":"IF($C86=\"\",\"\",IF(OR($E87=\"DNS\",$F87=\"DNS\",$G87=\"DNS\"),\"DNS\",IF(OR($E87=\"NP\",$F87=\"NP\",$G87=\"NP\"),\"NP\",IF(ISERROR(MEDIAN($E87:$G87)),\"DNS\",IF(COUNT($E87:$G87)<3,MAX($E87:$G87),MEDIAN($E87:$G87))))))","v":""},null,null,null,null,null,null,"II.pokus",null,null,null,{"$f":"IF($N86=\"\",\"\",IF(OR($P87=\"DNS\",$Q87=\"DNS\",$R87=\"DNS\"),\"DNS\",IF(OR($P87=\"NP\",$Q87=\"NP\",$R87=\"NP\"),\"NP\",IF(ISERROR(MEDIAN($P87:$R87)),\"DNS\",IF(COUNT($P87:$R87)<3,MAX($P87:$R87),MEDIAN($P87:$R87))))))","v":""}]
[{"$f":"IF(Start!I28=\"\",\"\",\"x\")","v":""},48,{"$f":"IF(Start!G28=\"\",\"\",Start!G28)","v":""},"I.pokus",null,null,null,{"$f":"IF($C88=\"\",\"\",IF(OR($E88=\"DNS\",$F88=\"DNS\",$G88=\"DNS\"),\"DNS\",IF(OR($E88=\"NP\",$F88=\"NP\",$G88=\"NP\"),\"NP\",IF(ISERROR(MEDIAN($E88:$G88)),\"DNS\",IF(COUNT($E88:$G88)<3,MAX($E88:$G88),MEDIAN($E88:$G88))))))","v":""},{"$f":"IF($A88=\"x\",\"x\",IF($C88=\"\",\"\",IF(OR(J88=\"NP\",J88=\"DNS\"),IF(J88=\"NP\",MAX(Oblast2)+COUNTIF(($J$12:$J$154),MAX(Oblast2))+COUNTIF(($U$12:$U$154),MAX(Oblast2)),MAX(Oblast2)+COUNTIF(($J$12:$J$154),MAX(Oblast2))+COUNTIF(($U$12:$U$154),MAX(Oblast2))+COUNTIF(($J$12:$J$154),\"NP\")+COUNTIF(($U$12:$U$154),\"NP\")),J88)))","v":""},{"$f":"IF($A88=\"x\",\"x\",IF($C88=\"\",\"\",IF(OR(K88=\"NP\",K88=\"DNS\"),K88,RANK(K88,Oblast,1))))","v":""},{"$f":"IF($A88=\"x\",\"x\",IF($C88=\"\",\"\",IF(OR(AND(H88=\"NP\",H89=\"NP\"),AND(H88=\"DNS\",H89=\"DNS\")),H88,IF(AND(H88=\"NP\",H89=\"DNS\"),H88,IF(AND(H88=\"DNS\",H89=\"NP\"),H89,MIN(H88,H89))))))","v":""},{"$f":"IF(Start!M13=\"\",\"\",\"x\")","v":""},58,{"$f":"IF(Start!K13=\"\",\"\",Start!K13)","v":""},"I.pokus",null,null,null,{"$f":"IF($N88=\"\",\"\",IF(OR($P88=\"DNS\",$Q88=\"DNS\",$R88=\"DNS\"),\"DNS\",IF(OR($P88=\"NP\",$Q88=\"NP\",$R88=\"NP\"),\"NP\",IF(ISERROR(MEDIAN($P88:$R88)),\"DNS\",IF(COUNT($P88:$R88)<3,MAX($P88:$R88),MEDIAN($P88:$R88))))))","v":""},{"$f":"IF($L88=\"x\",\"x\",IF($N88=\"\",\"\",IF(OR(U88=\"NP\",U88=\"DNS\"),IF(U88=\"NP\",MAX(Oblast2)+COUNTIF(($J$12:$J$154),MAX(Oblast2))+COUNTIF(($U$12:$U$154),MAX(Oblast2)),MAX(Oblast2)+COUNTIF(($J$12:$J$154),MAX(Oblast2))+COUNTIF(($U$12:$U$154),MAX(Oblast2))+COUNTIF(($J$12:$J$154),\"NP\")+COUNTIF(($U$12:$U$154),\"NP\")),U88)))","v":""},{"$f":"IF($L88=\"x\",\"x\",IF($N88=\"\",\"\",IF(OR(V88=\"NP\",V88=\"DNS\"),V88,RANK(V88,Oblast,1))))","v":""},{"$f":"IF($L88=\"x\",\"x\",IF($N88=\"\",\"\",IF(OR(AND(S88=\"NP\",S89=\"NP\"),AND(S88=\"DNS\",S89=\"DNS\")),S88,IF(AND(S88=\"NP\",S89=\"DNS\"),S88,IF(AND(S88=\"DNS\",S89=\"NP\"),S89,MIN(S88,S89))))))","v":""}]
[null,null,null,"II.pokus",null,null,null,{"$f":"IF($C88=\"\",\"\",IF(OR($E89=\"DNS\",$F89=\"DNS\",$G89=\"DNS\"),\"DNS\",IF(OR($E89=\"NP\",$F89=\"NP\",$G89=\"NP\"),\"NP\",IF(ISERROR(MEDIAN($E89:$G89)),\"DNS\",IF(COUNT($E89:$G89)<3,MAX($E89:$G89),MEDIAN($E89:$G89))))))","v":""},null,null,null,null,null,null,"II.pokus",null,null,null,{"$f":"IF($N88=\"\",\"\",IF(OR($P89=\"DNS\",$Q89=\"DNS\",$R89=\"DNS\"),\"DNS\",IF(OR($P89=\"NP\",$Q89=\"NP\",$R89=\"NP\"),\"NP\",IF(ISERROR(MEDIAN($P89:$R89)),\"DNS\",IF(COUNT($P89:$R89)<3,MAX($P89:$R89),MEDIAN($P89:$R89))))))","v":""}]
[{"$f":"IF(Start!I29=\"\",\"\",\"x\")","v":""},49,{"$f":"IF(Start!G29=\"\",\"\",Start!G29)","v":""},"I.pokus",null,null,null,{"$f":"IF($C90=\"\",\"\",IF(OR($E90=\"DNS\",$F90=\"DNS\",$G90=\"DNS\"),\"DNS\",IF(OR($E90=\"NP\",$F90=\"NP\",$G90=\"NP\"),\"NP\",IF(ISERROR(MEDIAN($E90:$G90)),\"DNS\",IF(COUNT($E90:$G90)<3,MAX($E90:$G90),MEDIAN($E90:$G90))))))","v":""},{"$f":"IF($A90=\"x\",\"x\",IF($C90=\"\",\"\",IF(OR(J90=\"NP\",J90=\"DNS\"),IF(J90=\"NP\",MAX(Oblast2)+COUNTIF(($J$12:$J$154),MAX(Oblast2))+COUNTIF(($U$12:$U$154),MAX(Oblast2)),MAX(Oblast2)+COUNTIF(($J$12:$J$154),MAX(Oblast2))+COUNTIF(($U$12:$U$154),MAX(Oblast2))+COUNTIF(($J$12:$J$154),\"NP\")+COUNTIF(($U$12:$U$154),\"NP\")),J90)))","v":""},{"$f":"IF($A90=\"x\",\"x\",IF($C90=\"\",\"\",IF(OR(K90=\"NP\",K90=\"DNS\"),K90,RANK(K90,Oblast,1))))","v":""},{"$f":"IF($A90=\"x\",\"x\",IF($C90=\"\",\"\",IF(OR(AND(H90=\"NP\",H91=\"NP\"),AND(H90=\"DNS\",H91=\"DNS\")),H90,IF(AND(H90=\"NP\",H91=\"DNS\"),H90,IF(AND(H90=\"DNS\",H91=\"NP\"),H91,MIN(H90,H91))))))","v":""},{"$f":"IF(Start!M14=\"\",\"\",\"x\")","v":""},59,{"$f":"IF(Start!K14=\"\",\"\",Start!K14)","v":""},"I.pokus",null,null,null,{"$f":"IF($N90=\"\",\"\",IF(OR($P90=\"DNS\",$Q90=\"DNS\",$R90=\"DNS\"),\"DNS\",IF(OR($P90=\"NP\",$Q90=\"NP\",$R90=\"NP\"),\"NP\",IF(ISERROR(MEDIAN($P90:$R90)),\"DNS\",IF(COUNT($P90:$R90)<3,MAX($P90:$R90),MEDIAN($P90:$R90))))))","v":""},{"$f":"IF($L90=\"x\",\"x\",IF($N90=\"\",\"\",IF(OR(U90=\"NP\",U90=\"DNS\"),IF(U90=\"NP\",MAX(Oblast2)+COUNTIF(($J$12:$J$154),MAX(Oblast2))+COUNTIF(($U$12:$U$154),MAX(Oblast2)),MAX(Oblast2)+COUNTIF(($J$12:$J$154),MAX(Oblast2))+COUNTIF(($U$12:$U$154),MAX(Oblast2))+COUNTIF(($J$12:$J$154),\"NP\")+COUNTIF(($U$12:$U$154),\"NP\")),U90)))","v":""},{"$f":"IF($L90=\"x\",\"x\",IF($N90=\"\",\"\",IF(OR(V90=\"NP\",V90=\"DNS\"),V90,RANK(V90,Oblast,1))))","v":""},{"$f":"IF($L90=\"x\",\"x\",IF($N90=\"\",\"\",IF(OR(AND(S90=\"NP\",S91=\"NP\"),AND(S90=\"DNS\",S91=\"DNS\")),S90,IF(AND(S90=\"NP\",S91=\"DNS\"),S90,IF(AND(S90=\"DNS\",S91=\"NP\"),S91,MIN(S90,S91))))))","v":""}]
[null,null,null,"II.pokus",null,null,null,{"$f":"IF($C90=\"\",\"\",IF(OR($E91=\"DNS\",$F91=\"DNS\",$G91=\"DNS\"),\"DNS\",IF(OR($E91=\"NP\",$F91=\"NP\",$G91=\"NP\"),\"NP\",IF(ISERROR(MEDIAN($E91:$G91)),\"DNS\",IF(COUNT($E91:$G91)<3,MAX($E91:$G91),MEDIAN($E91:$G91))))))","v":""},null,null,null,null,null,null,"II.pokus",null,null,null,{"$f":"IF($N90=\"\",\"\",IF(OR($P91=\"DNS\",$Q91=\"DNS\",$R91=\"DNS\"),\"DNS\",IF(OR($P91=\"NP\",$Q91=\"NP\",$R91=\"NP\"),\"NP\",IF(ISERROR(MEDIAN($P91:$R91)),\"DNS\",IF(COUNT($P91:$R91)<3,MAX($P91:$R91),MEDIAN($P91:$R91))))))","v":""}]
[{"$f":"IF(Start!I30=\"\",\"\",\"x\")","v":""},50,{"$f":"IF(Start!G30=\"\",\"\",Start!G30)","v":""},"I.pokus",null,null,null,{"$f":"IF($C92=\"\",\"\",IF(OR($E92=\"DNS\",$F92=\"DNS\",$G92=\"DNS\"),\"DNS\",IF(OR($E92=\"NP\",$F92=\"NP\",$G92=\"NP\"),\"NP\",IF(ISERROR(MEDIAN($E92:$G92)),\"DNS\",IF(COUNT($E92:$G92)<3,MAX($E92:$G92),MEDIAN($E92:$G92))))))","v":""},{"$f":"IF($A92=\"x\",\"x\",IF($C92=\"\",\"\",IF(OR(J92=\"NP\",J92=\"DNS\"),IF(J92=\"NP\",MAX(Oblast2)+COUNTIF(($J$12:$J$154),MAX(Oblast2))+COUNTIF(($U$12:$U$154),MAX(Oblast2)),MAX(Oblast2)+COUNTIF(($J$12:$J$154),MAX(Oblast2))+COUNTIF(($U$12:$U$154),MAX(Oblast2))+COUNTIF(($J$12:$J$154),\"NP\")+COUNTIF(($U$12:$U$154),\"NP\")),J92)))","v":""},{"$f":"IF($A92=\"x\",\"x\",IF($C92=\"\",\"\",IF(OR(K92=\"NP\",K92=\"DNS\"),K92,RANK(K92,Oblast,1))))","v":""},{"$f":"IF($A92=\"x\",\"x\",IF($C92=\"\",\"\",IF(OR(AND(H92=\"NP\",H93=\"NP\"),AND(H92=\"DNS\",H93=\"DNS\")),H92,IF(AND(H92=\"NP\",H93=\"DNS\"),H92,IF(AND(H92=\"DNS\",H93=\"NP\"),H93,MIN(H92,H93))))))","v":""},{"$f":"IF(Start!M15=\"\",\"\",\"x\")","v":""},60,{"$f":"IF(Start!K15=\"\",\"\",Start!K15)","v":""},"I.pokus",null,null,null,{"$f":"IF($N92=\"\",\"\",IF(OR($P92=\"DNS\",$Q92=\"DNS\",$R92=\"DNS\"),\"DNS\",IF(OR($P92=\"NP\",$Q92=\"NP\",$R92=\"NP\"),\"NP\",IF(ISERROR(MEDIAN($P92:$R92)),\"DNS\",IF(COUNT($P92:$R92)<3,MAX($P92:$R92),MEDIAN($P92:$R92))))))","v":""},{"$f":"IF($L92=\"x\",\"x\",IF($N92=\"\",\"\",IF(OR(U92=\"NP\",U92=\"DNS\"),IF(U92=\"NP\",MAX(Oblast2)+COUNTIF(($J$12:$J$154),MAX(Oblast2))+COUNTIF(($U$12:$U$154),MAX(Oblast2)),MAX(Oblast2)+COUNTIF(($J$12:$J$154),MAX(Oblast2))+COUNTIF(($U$12:$U$154),MAX(Oblast2))+COUNTIF(($J$12:$J$154),\"NP\")+COUNTIF(($U$12:$U$154),\"NP\")),U92)))","v":""},{"$f":"IF($L92=\"x\",\"x\",IF($N92=\"\",\"\",IF(OR(V92=\"NP\",V92=\"DNS\"),V92,RANK(V92,Oblast,1))))","v":""},{"$f":"IF($L92=\"x\",\"x\",IF($N92=\"\",\"\",IF(OR(AND(S92=\"NP\",S93=\"NP\"),AND(S92=\"DNS\",S93=\"DNS\")),S92,IF(AND(S92=\"NP\",S93=\"DNS\"),S92,IF(AND(S92=\"DNS\",S93=\"NP\"),S93,MIN(S92,S93))))))","v":""}]
[null,null,null,"II.pokus",null,null,null,{"$f":"IF($C92=\"\",\"\",IF(OR($E93=\"DNS\",$F93=\"DNS\",$G93=\"DNS\"),\"DNS\",IF(OR($E93=\"NP\",$F93=\"NP\",$G93=\"NP\"),\"NP\",IF(ISERROR(MEDIAN($E93:$G93)),\"DNS\",IF(COUNT($E93:$G93)<3,MAX($E93:$G93),MEDIAN($E93:$G93))))))","v":""},null,null,null,null,null,null,"II.pokus",null,null,null,{"$f":"IF($N92=\"\",\"\",IF(OR($P93=\"DNS\",$Q93=\"DNS\",$R93=\"DNS\"),\"DNS\",IF(OR($P93=\"NP\",$Q93=\"NP\",$R93=\"NP\"),\"NP\",IF(ISERROR(MEDIAN($P93:$R93)),\"DNS\",IF(COUNT($P93:$R93)<3,MAX($P93:$R93),MEDIAN($P93:$R93))))))","v":""}]
[null," CELOSTÁTNÍ HRA PLAMEN"]
[]
[]
[null," Výsledková listina č: 4"]
[null,"Štafeta 4 x 60 m",null,null,"Základem je čas naměřený od vydání signálu startéra do proběhnutí posledního člena cílem",null,null,null,null,null,null,null,"Štafeta 4 x 60 m",null,null,"Základem je čas naměřený od vydání signálu startéra do proběhnutí posledního člena cílem"]
[]
[]
[null,{"$f":"\"KATEGORIE: \"&Start!$N$2","v":"KATEGORIE: starší"},null,null,"I. časoměřič","II. časoměřič","III. časoměřič","úřední čas","počet bodů za umístění",null,null,null,{"$f":"\"KATEGORIE: \"&Start!$N$2","v":"KATEGORIE: starší"},null,null,"I. časoměřič","II. časoměřič","III. časoměřič","úřední čas","počet bodů za umístění"]
[]
[null,"start. číslo","SOUTĚŽNÍ DRUŽSTVO","pokus",null,null,null,null,null,null,null,null,"start. číslo","SOUTĚŽNÍ DRUŽSTVO","pokus"]
[]
[{"$f":"IF(Start!M16=\"\",\"\",\"x\")","v":""},61,{"$f":"IF(Start!K16=\"\",\"\",Start!K16)","v":""},"I.pokus",null,null,null,{"$f":"IF($C105=\"\",\"\",IF(OR($E105=\"DNS\",$F105=\"DNS\",$G105=\"DNS\"),\"DNS\",IF(OR($E105=\"NP\",$F105=\"NP\",$G105=\"NP\"),\"NP\",IF(ISERROR(MEDIAN($E105:$G105)),\"DNS\",IF(COUNT($E105:$G105)<3,MAX($E105:$G105),MEDIAN($E105:$G105))))))","v":""},{"$f":"IF($A105=\"x\",\"x\",IF($C105=\"\",\"\",IF(OR(J105=\"NP\",J105=\"DNS\"),IF(J105=\"NP\",MAX(Oblast2)+COUNTIF(($J$12:$J$154),MAX(Oblast2))+COUNTIF(($U$12:$U$154),MAX(Oblast2)),MAX(Oblast2)+COUNTIF(($J$12:$J$154),MAX(Oblast2))+COUNTIF(($U$12:$U$154),MAX(Oblast2))+COUNTIF(($J$12:$J$154),\"NP\")+COUNTIF(($U$12:$U$154),\"NP\")),J105)))","v":""},{"$f":"IF($A105=\"x\",\"x\",IF($C105=\"\",\"\",IF(OR(K105=\"NP\",K105=\"DNS\"),K105,RANK(K105,Oblast,1))))","v":""},{"$f":"IF($A105=\"x\",\"x\",IF($C105=\"\",\"\",IF(OR(AND(H105=\"NP\",H106=\"NP\"),AND(H105=\"DNS\",H106=\"DNS\")),H105,IF(AND(H105=\"NP\",H106=\"DNS\"),H105,IF(AND(H105=\"DNS\",H106=\"NP\"),H106,MIN(H105,H106))))))","v":""},{"$f":"IF(Start!M26=\"\",\"\",\"x\")","v":""},71,{"$f":"IF(Start!K26=\"\",\"\",Start!K26)","v":""},"I.pokus",null,null,null,{"$f":"IF($N105=\"\",\"\",IF(OR($P105=\"DNS\",$Q105=\"DNS\",$R105=\"DNS\"),\"DNS\",IF(OR($P105=\"NP\",$Q105=\"NP\",$R105=\"NP\"),\"NP\",IF(ISERROR(MEDIAN($P105:$R105)),\"DNS\",IF(COUNT($P105:$R105)<3,MAX($P105:$R105),MEDIAN($P105:$R105))))))","v":""},{"$f":"IF($L105=\"x\",\"x\",IF($N105=\"\",\"\",IF(OR(U105=\"NP\",U105=\"DNS\"),IF(U105=\"NP\",MAX(Oblast2)+COUNTIF(($J$12:$J$154),MAX(Oblast2))+COUNTIF(($U$12:$U$154),MAX(Oblast2)),MAX(Oblast2)+COUNTIF(($J$12:$J$154),MAX(Oblast2))+COUNTIF(($U$12:$U$154),MAX(Oblast2))+COUNTIF(($J$12:$J$154),\"NP\")+COUNTIF(($U$12:$U$154),\"NP\")),U105)))","v":""},{"$f":"IF($L105=\"x\",\"x\",IF($N105=\"\",\"\",IF(OR(V105=\"NP\",V105=\"DNS\"),V105,RANK(V105,Oblast,1))))","v":""},{"$f":"IF($L105=\"x\",\"x\",IF($N105=\"\",\"\",IF(OR(AND(S105=\"NP\",S106=\"NP\"),AND(S105=\"DNS\",S106=\"DNS\")),S105,IF(AND(S105=\"NP\",S106=\"DNS\"),S105,IF(AND(S105=\"DNS\",S106=\"NP\"),S106,MIN(S105,S106))))))","v":""}]
[null,null,null,"II.pokus",null,null,null,{"$f":"IF($C105=\"\",\"\",IF(OR($E106=\"DNS\",$F106=\"DNS\",$G106=\"DNS\"),\"DNS\",IF(OR($E106=\"NP\",$F106=\"NP\",$G106=\"NP\"),\"NP\",IF(ISERROR(MEDIAN($E106:$G106)),\"DNS\",IF(COUNT($E106:$G106)<3,MAX($E106:$G106),MEDIAN($E106:$G106))))))","v":""},null,null,null,null,null,null,"II.pokus",null,null,null,{"$f":"IF($N105=\"\",\"\",IF(OR($P106=\"DNS\",$Q106=\"DNS\",$R106=\"DNS\"),\"DNS\",IF(OR($P106=\"NP\",$Q106=\"NP\",$R106=\"NP\"),\"NP\",IF(ISERROR(MEDIAN($P106:$R106)),\"DNS\",IF(COUNT($P106:$R106)<3,MAX($P106:$R106),MEDIAN($P106:$R106))))))","v":""}]
[{"$f":"IF(Start!M17=\"\",\"\",\"x\")","v":""},62,{"$f":"IF(Start!K17=\"\",\"\",Start!K17)","v":""},"I.pokus",null,null,null,{"$f":"IF($C107=\"\",\"\",IF(OR($E107=\"DNS\",$F107=\"DNS\",$G107=\"DNS\"),\"DNS\",IF(OR($E107=\"NP\",$F107=\"NP\",$G107=\"NP\"),\"NP\",IF(ISERROR(MEDIAN($E107:$G107)),\"DNS\",IF(COUNT($E107:$G107)<3,MAX($E107:$G107),MEDIAN($E107:$G107))))))","v":""},{"$f":"IF($A107=\"x\",\"x\",IF($C107=\"\",\"\",IF(OR(J107=\"NP\",J107=\"DNS\"),IF(J107=\"NP\",MAX(Oblast2)+COUNTIF(($J$12:$J$154),MAX(Oblast2))+COUNTIF(($U$12:$U$154),MAX(Oblast2)),MAX(Oblast2)+COUNTIF(($J$12:$J$154),MAX(Oblast2))+COUNTIF(($U$12:$U$154),MAX(Oblast2))+COUNTIF(($J$12:$J$154),\"NP\")+COUNTIF(($U$12:$U$154),\"NP\")),J107)))","v":""},{"$f":"IF($A107=\"x\",\"x\",IF($C107=\"\",\"\",IF(OR(K107=\"NP\",K107=\"DNS\"),K107,RANK(K107,Oblast,1))))","v":""},{"$f":"IF($A107=\"x\",\"x\",IF($C107=\"\",\"\",IF(OR(AND(H107=\"NP\",H108=\"NP\"),AND(H107=\"DNS\",H108=\"DNS\")),H107,IF(AND(H107=\"NP\",H108=\"DNS\"),H107,IF(AND(H107=\"DNS\",H108=\"NP\"),H108,MIN(H107,H108))))))","v":""},{"$f":"IF(Start!M27=\"\",\"\",\"x\")","v":""},72,{"$f":"IF(Start!K27=\"\",\"\",Start!K27)","v":""},"I.pokus",null,null,null,{"$f":"IF($N107=\"\",\"\",IF(OR($P107=\"DNS\",$Q107=\"DNS\",$R107=\"DNS\"),\"DNS\",IF(OR($P107=\"NP\",$Q107=\"NP\",$R107=\"NP\"),\"NP\",IF(ISERROR(MEDIAN($P107:$R107)),\"DNS\",IF(COUNT($P107:$R107)<3,MAX($P107:$R107),MEDIAN($P107:$R107))))))","v":""},{"$f":"IF($L107=\"x\",\"x\",IF($N107=\"\",\"\",IF(OR(U107=\"NP\",U107=\"DNS\"),IF(U107=\"NP\",MAX(Oblast2)+COUNTIF(($J$12:$J$154),MAX(Oblast2))+COUNTIF(($U$12:$U$154),MAX(Oblast2)),MAX(Oblast2)+COUNTIF(($J$12:$J$154),MAX(Oblast2))+COUNTIF(($U$12:$U$154),MAX(Oblast2))+COUNTIF(($J$12:$J$154),\"NP\")+COUNTIF(($U$12:$U$154),\"NP\")),U107)))","v":""},{"$f":"IF($L107=\"x\",\"x\",IF($N107=\"\",\"\",IF(OR(V107=\"NP\",V107=\"DNS\"),V107,RANK(V107,Oblast,1))))","v":""},{"$f":"IF($L107=\"x\",\"x\",IF($N107=\"\",\"\",IF(OR(AND(S107=\"NP\",S108=\"NP\"),AND(S107=\"DNS\",S108=\"DNS\")),S107,IF(AND(S107=\"NP\",S108=\"DNS\"),S107,IF(AND(S107=\"DNS\",S108=\"NP\"),S108,MIN(S107,S108))))))","v":""}]
[null,null,null,"II.pokus",null,null,null,{"$f":"IF($C107=\"\",\"\",IF(OR($E108=\"DNS\",$F108=\"DNS\",$G108=\"DNS\"),\"DNS\",IF(OR($E108=\"NP\",$F108=\"NP\",$G108=\"NP\"),\"NP\",IF(ISERROR(MEDIAN($E108:$G108)),\"DNS\",IF(COUNT($E108:$G108)<3,MAX($E108:$G108),MEDIAN($E108:$G108))))))","v":""},null,null,null,null,null,null,"II.pokus",null,null,null,{"$f":"IF($N107=\"\",\"\",IF(OR($P108=\"DNS\",$Q108=\"DNS\",$R108=\"DNS\"),\"DNS\",IF(OR($P108=\"NP\",$Q108=\"NP\",$R108=\"NP\"),\"NP\",IF(ISERROR(MEDIAN($P108:$R108)),\"DNS\",IF(COUNT($P108:$R108)<3,MAX($P108:$R108),MEDIAN($P108:$R108))))))","v":""}]
[{"$f":"IF(Start!M18=\"\",\"\",\"x\")","v":""},63,{"$f":"IF(Start!K18=\"\",\"\",Start!K18)","v":""},"I.pokus",null,null,null,{"$f":"IF($C109=\"\",\"\",IF(OR($E109=\"DNS\",$F109=\"DNS\",$G109=\"DNS\"),\"DNS\",IF(OR($E109=\"NP\",$F109=\"NP\",$G109=\"NP\"),\"NP\",IF(ISERROR(MEDIAN($E109:$G109)),\"DNS\",IF(COUNT($E109:$G109)<3,MAX($E109:$G109),MEDIAN($E109:$G109))))))","v":""},{"$f":"IF($A109=\"x\",\"x\",IF($C109=\"\",\"\",IF(OR(J109=\"NP\",J109=\"DNS\"),IF(J109=\"NP\",MAX(Oblast2)+COUNTIF(($J$12:$J$154),MAX(Oblast2))+COUNTIF(($U$12:$U$154),MAX(Oblast2)),MAX(Oblast2)+COUNTIF(($J$12:$J$154),MAX(Oblast2))+COUNTIF(($U$12:$U$154),MAX(Oblast2))+COUNTIF(($J$12:$J$154),\"NP\")+COUNTIF(($U$12:$U$154),\"NP\")),J109)))","v":""},{"$f":"IF($A109=\"x\",\"x\",IF($C109=\"\",\"\",IF(OR(K109=\"NP\",K109=\"DNS\"),K109,RANK(K109,Oblast,1))))","v":""},{"$f":"IF($A109=\"x\",\"x\",IF($C109=\"\",\"\",IF(OR(AND(H109=\"NP\",H110=\"NP\"),AND(H109=\"DNS\",H110=\"DNS\")),H109,IF(AND(H109=\"NP\",H110=\"DNS\"),H109,IF(AND(H109=\"DNS\",H110=\"NP\"),H110,MIN(H109,H110))))))","v":""},{"$f":"IF(Start!M28=\"\",\"\",\"x\")","v":""},73,{"$f":"IF(Start!K28=\"\",\"\",Start!K28)","v":""},"I.pokus",null,null,null,{"$f":"IF($N109=\"\",\"\",IF(OR($P109=\"DNS\",$Q109=\"DNS\",$R109=\"DNS\"),\"DNS\",IF(OR($P109=\"NP\",$Q109=\"NP\",$R109=\"NP\"),\"NP\",IF(ISERROR(MEDIAN($P109:$R109)),\"DNS\",IF(COUNT($P109:$R109)<3,MAX($P109:$R109),MEDIAN($P109:$R109))))))","v":""},{"$f":"IF($L109=\"x\",\"x\",IF($N109=\"\",\"\",IF(OR(U109=\"NP\",U109=\"DNS\"),IF(U109=\"NP\",MAX(Oblast2)+COUNTIF(($J$12:$J$154),MAX(Oblast2))+COUNTIF(($U$12:$U$154),MAX(Oblast2)),MAX(Oblast2)+COUNTIF(($J$12:$J$154),MAX(Oblast2))+COUNTIF(($U$12:$U$154),MAX(Oblast2))+COUNTIF(($J$12:$J$154),\"NP\")+COUNTIF(($U$12:$U$154),\"NP\")),U109)))","v":""},{"$f":"IF($L109=\"x\",\"x\",IF($N109=\"\",\"\",IF(OR(V109=\"NP\",V109=\"DNS\"),V109,RANK(V109,Oblast,1))))","v":""},{"$f":"IF($L109=\"x\",\"x\",IF($N109=\"\",\"\",IF(OR(AND(S109=\"NP\",S110=\"NP\"),AND(S109=\"DNS\",S110=\"DNS\")),S109,IF(AND(S109=\"NP\",S110=\"DNS\"),S109,IF(AND(S109=\"DNS\",S110=\"NP\"),S110,MIN(S109,S110))))))","v":""}]
[null,null,null,"II.pokus",null,null,null,{"$f":"IF($C109=\"\",\"\",IF(OR($E110=\"DNS\",$F110=\"DNS\",$G110=\"DNS\"),\"DNS\",IF(OR($E110=\"NP\",$F110=\"NP\",$G110=\"NP\"),\"NP\",IF(ISERROR(MEDIAN($E110:$G110)),\"DNS\",IF(COUNT($E110:$G110)<3,MAX($E110:$G110),MEDIAN($E110:$G110))))))","v":""},null,null,null,null,null,null,"II.pokus",null,null,null,{"$f":"IF($N109=\"\",\"\",IF(OR($P110=\"DNS\",$Q110=\"DNS\",$R110=\"DNS\"),\"DNS\",IF(OR($P110=\"NP\",$Q110=\"NP\",$R110=\"NP\"),\"NP\",IF(ISERROR(MEDIAN($P110:$R110)),\"DNS\",IF(COUNT($P110:$R110)<3,MAX($P110:$R110),MEDIAN($P110:$R110))))))","v":""}]
[{"$f":"IF(Start!M19=\"\",\"\",\"x\")","v":""},64,{"$f":"IF(Start!K19=\"\",\"\",Start!K19)","v":""},"I.pokus",null,null,null,{"$f":"IF($C111=\"\",\"\",IF(OR($E111=\"DNS\",$F111=\"DNS\",$G111=\"DNS\"),\"DNS\",IF(OR($E111=\"NP\",$F111=\"NP\",$G111=\"NP\"),\"NP\",IF(ISERROR(MEDIAN($E111:$G111)),\"DNS\",IF(COUNT($E111:$G111)<3,MAX($E111:$G111),MEDIAN($E111:$G111))))))","v":""},{"$f":"IF($A111=\"x\",\"x\",IF($C111=\"\",\"\",IF(OR(J111=\"NP\",J111=\"DNS\"),IF(J111=\"NP\",MAX(Oblast2)+COUNTIF(($J$12:$J$154),MAX(Oblast2))+COUNTIF(($U$12:$U$154),MAX(Oblast2)),MAX(Oblast2)+COUNTIF(($J$12:$J$154),MAX(Oblast2))+COUNTIF(($U$12:$U$154),MAX(Oblast2))+COUNTIF(($J$12:$J$154),\"NP\")+COUNTIF(($U$12:$U$154),\"NP\")),J111)))","v":""},{"$f":"IF($A111=\"x\",\"x\",IF($C111=\"\",\"\",IF(OR(K111=\"NP\",K111=\"DNS\"),K111,RANK(K111,Oblast,1))))","v":""},{"$f":"IF($A111=\"x\",\"x\",IF($C111=\"\",\"\",IF(OR(AND(H111=\"NP\",H112=\"NP\"),AND(H111=\"DNS\",H112=\"DNS\")),H111,IF(AND(H111=\"NP\",H112=\"DNS\"),H111,IF(AND(H111=\"DNS\",H112=\"NP\"),H112,MIN(H111,H112))))))","v":""},{"$f":"IF(Start!M29=\"\",\"\",\"x\")","v":""},74,{"$f":"IF(Start!K29=\"\",\"\",Start!K29)","v":""},"I.pokus",null,null,null,{"$f":"IF($N111=\"\",\"\",IF(OR($P111=\"DNS\",$Q111=\"DNS\",$R111=\"DNS\"),\"DNS\",IF(OR($P111=\"NP\",$Q111=\"NP\",$R111=\"NP\"),\"NP\",IF(ISERROR(MEDIAN($P111:$R111)),\"DNS\",IF(COUNT($P111:$R111)<3,MAX($P111:$R111),MEDIAN($P111:$R111))))))","v":""},{"$f":"IF($L111=\"x\",\"x\",IF($N111=\"\",\"\",IF(OR(U111=\"NP\",U111=\"DNS\"),IF(U111=\"NP\",MAX(Oblast2)+COUNTIF(($J$12:$J$154),MAX(Oblast2))+COUNTIF(($U$12:$U$154),MAX(Oblast2)),MAX(Oblast2)+COUNTIF(($J$12:$J$154),MAX(Oblast2))+COUNTIF(($U$12:$U$154),MAX(Oblast2))+COUNTIF(($J$12:$J$154),\"NP\")+COUNTIF(($U$12:$U$154),\"NP\")),U111)))","v":""},{"$f":"IF($L111=\"x\",\"x\",IF($N111=\"\",\"\",IF(OR(V111=\"NP\",V111=\"DNS\"),V111,RANK(V111,Oblast,1))))","v":""},{"$f":"IF($L111=\"x\",\"x\",IF($N111=\"\",\"\",IF(OR(AND(S111=\"NP\",S112=\"NP\"),AND(S111=\"DNS\",S112=\"DNS\")),S111,IF(AND(S111=\"NP\",S112=\"DNS\"),S111,IF(AND(S111=\"DNS\",S112=\"NP\"),S112,MIN(S111,S112))))))","v":""}]
[null,null,null,"II.pokus",null,null,null,{"$f":"IF($C111=\"\",\"\",IF(OR($E112=\"DNS\",$F112=\"DNS\",$G112=\"DNS\"),\"DNS\",IF(OR($E112=\"NP\",$F112=\"NP\",$G112=\"NP\"),\"NP\",IF(ISERROR(MEDIAN($E112:$G112)),\"DNS\",IF(COUNT($E112:$G112)<3,MAX($E112:$G112),MEDIAN($E112:$G112))))))","v":""},null,null,null,null,null,null,"II.pokus",null,null,null,{"$f":"IF($N111=\"\",\"\",IF(OR($P112=\"DNS\",$Q112=\"DNS\",$R112=\"DNS\"),\"DNS\",IF(OR($P112=\"NP\",$Q112=\"NP\",$R112=\"NP\"),\"NP\",IF(ISERROR(MEDIAN($P112:$R112)),\"DNS\",IF(COUNT($P112:$R112)<3,MAX($P112:$R112),MEDIAN($P112:$R112))))))","v":""}]
[{"$f":"IF(Start!M20=\"\",\"\",\"x\")","v":""},65,{"$f":"IF(Start!K20=\"\",\"\",Start!K20)","v":""},"I.pokus",null,null,null,{"$f":"IF($C113=\"\",\"\",IF(OR($E113=\"DNS\",$F113=\"DNS\",$G113=\"DNS\"),\"DNS\",IF(OR($E113=\"NP\",$F113=\"NP\",$G113=\"NP\"),\"NP\",IF(ISERROR(MEDIAN($E113:$G113)),\"DNS\",IF(COUNT($E113:$G113)<3,MAX($E113:$G113),MEDIAN($E113:$G113))))))","v":""},{"$f":"IF($A113=\"x\",\"x\",IF($C113=\"\",\"\",IF(OR(J113=\"NP\",J113=\"DNS\"),IF(J113=\"NP\",MAX(Oblast2)+COUNTIF(($J$12:$J$154),MAX(Oblast2))+COUNTIF(($U$12:$U$154),MAX(Oblast2)),MAX(Oblast2)+COUNTIF(($J$12:$J$154),MAX(Oblast2))+COUNTIF(($U$12:$U$154),MAX(Oblast2))+COUNTIF(($J$12:$J$154),\"NP\")+COUNTIF(($U$12:$U$154),\"NP\")),J113)))","v":""},{"$f":"IF($A113=\"x\",\"x\",IF($C113=\"\",\"\",IF(OR(K113=\"NP\",K113=\"DNS\"),K113,RANK(K113,Oblast,1))))","v":""},{"$f":"IF($A113=\"x\",\"x\",IF($C113=\"\",\"\",IF(OR(AND(H113=\"NP\",H114=\"NP\"),AND(H113=\"DNS\",H114=\"DNS\")),H113,IF(AND(H113=\"NP\",H114=\"DNS\"),H113,IF(AND(H113=\"DNS\",H114=\"NP\"),H114,MIN(H113,H114))))))","v":""},{"$f":"IF(Start!M30=\"\",\"\",\"x\")","v":""},75,{"$f":"IF(Start!K30=\"\",\"\",Start!K30)","v":""},"I.pokus",null,null,null,{"$f":"IF($N113=\"\",\"\",IF(OR($P113=\"DNS\",$Q113=\"DNS\",$R113=\"DNS\"),\"DNS\",IF(OR($P113=\"NP\",$Q113=\"NP\",$R113=\"NP\"),\"NP\",IF(ISERROR(MEDIAN($P113:$R113)),\"DNS\",IF(COUNT($P113:$R113)<3,MAX($P113:$R113),MEDIAN($P113:$R113))))))","v":""},{"$f":"IF($L113=\"x\",\"x\",IF($N113=\"\",\"\",IF(OR(U113=\"NP\",U113=\"DNS\"),IF(U113=\"NP\",MAX(Oblast2)+COUNTIF(($J$12:$J$154),MAX(Oblast2))+COUNTIF(($U$12:$U$154),MAX(Oblast2)),MAX(Oblast2)+COUNTIF(($J$12:$J$154),MAX(Oblast2))+COUNTIF(($U$12:$U$154),MAX(Oblast2))+COUNTIF(($J$12:$J$154),\"NP\")+COUNTIF(($U$12:$U$154),\"NP\")),U113)))","v":""},{"$f":"IF($L113=\"x\",\"x\",IF($N113=\"\",\"\",IF(OR(V113=\"NP\",V113=\"DNS\"),V113,RANK(V113,Oblast,1))))","v":""},{"$f":"IF($L113=\"x\",\"x\",IF($N113=\"\",\"\",IF(OR(AND(S113=\"NP\",S114=\"NP\"),AND(S113=\"DNS\",S114=\"DNS\")),S113,IF(AND(S113=\"NP\",S114=\"DNS\"),S113,IF(AND(S113=\"DNS\",S114=\"NP\"),S114,MIN(S113,S114))))))","v":""}]
[null,null,null,"II.pokus",null,null,null,{"$f":"IF($C113=\"\",\"\",IF(OR($E114=\"DNS\",$F114=\"DNS\",$G114=\"DNS\"),\"DNS\",IF(OR($E114=\"NP\",$F114=\"NP\",$G114=\"NP\"),\"NP\",IF(ISERROR(MEDIAN($E114:$G114)),\"DNS\",IF(COUNT($E114:$G114)<3,MAX($E114:$G114),MEDIAN($E114:$G114))))))","v":""},null,null,null,null,null,null,"II.pokus",null,null,null,{"$f":"IF($N113=\"\",\"\",IF(OR($P114=\"DNS\",$Q114=\"DNS\",$R114=\"DNS\"),\"DNS\",IF(OR($P114=\"NP\",$Q114=\"NP\",$R114=\"NP\"),\"NP\",IF(ISERROR(MEDIAN($P114:$R114)),\"DNS\",IF(COUNT($P114:$R114)<3,MAX($P114:$R114),MEDIAN($P114:$R114))))))","v":""}]
[{"$f":"IF(Start!M21=\"\",\"\",\"x\")","v":""},66,{"$f":"IF(Start!K21=\"\",\"\",Start!K21)","v":""},"I.pokus",null,null,null,{"$f":"IF($C115=\"\",\"\",IF(OR($E115=\"DNS\",$F115=\"DNS\",$G115=\"DNS\"),\"DNS\",IF(OR($E115=\"NP\",$F115=\"NP\",$G115=\"NP\"),\"NP\",IF(ISERROR(MEDIAN($E115:$G115)),\"DNS\",IF(COUNT($E115:$G115)<3,MAX($E115:$G115),MEDIAN($E115:$G115))))))","v":""},{"$f":"IF($A115=\"x\",\"x\",IF($C115=\"\",\"\",IF(OR(J115=\"NP\",J115=\"DNS\"),IF(J115=\"NP\",MAX(Oblast2)+COUNTIF(($J$12:$J$154),MAX(Oblast2))+COUNTIF(($U$12:$U$154),MAX(Oblast2)),MAX(Oblast2)+COUNTIF(($J$12:$J$154),MAX(Oblast2))+COUNTIF(($U$12:$U$154),MAX(Oblast2))+COUNTIF(($J$12:$J$154),\"NP\")+COUNTIF(($U$12:$U$154),\"NP\")),J115)))","v":""},{"$f":"IF($A115=\"x\",\"x\",IF($C115=\"\",\"\",IF(OR(K115=\"NP\",K115=\"DNS\"),K115,RANK(K115,Oblast,1))))","v":""},{"$f":"IF($A115=\"x\",\"x\",IF($C115=\"\",\"\",IF(OR(AND(H115=\"NP\",H116=\"NP\"),AND(H115=\"DNS\",H116=\"DNS\")),H115,IF(AND(H115=\"NP\",H116=\"DNS\"),H115,IF(AND(H115=\"DNS\",H116=\"NP\"),H116,MIN(H115,H116))))))","v":""},{"$f":"IF(Start!Q6=\"\",\"\",\"x\")","v":""},76,{"$f":"IF(Start!O6=\"\",\"\",Start!O6)","v":""},"I.pokus",null,null,null,{"$f":"IF($N115=\"\",\"\",IF(OR($P115=\"DNS\",$Q115=\"DNS\",$R115=\"DNS\"),\"DNS\",IF(OR($P115=\"NP\",$Q115=\"NP\",$R115=\"NP\"),\"NP\",IF(ISERROR(MEDIAN($P115:$R115)),\"DNS\",IF(COUNT($P115:$R115)<3,MAX($P115:$R115),MEDIAN($P115:$R115))))))","v":""},{"$f":"IF($L115=\"x\",\"x\",IF($N115=\"\",\"\",IF(OR(U115=\"NP\",U115=\"DNS\"),IF(U115=\"NP\",MAX(Oblast2)+COUNTIF(($J$12:$J$154),MAX(Oblast2))+COUNTIF(($U$12:$U$154),MAX(Oblast2)),MAX(Oblast2)+COUNTIF(($J$12:$J$154),MAX(Oblast2))+COUNTIF(($U$12:$U$154),MAX(Oblast2))+COUNTIF(($J$12:$J$154),\"NP\")+COUNTIF(($U$12:$U$154),\"NP\")),U115)))","v":""},{"$f":"IF($L115=\"x\",\"x\",IF($N115=\"\",\"\",IF(OR(V115=\"NP\",V115=\"DNS\"),V115,RANK(V115,Oblast,1))))","v":""},{"$f":"IF($L115=\"x\",\"x\",IF($N115=\"\",\"\",IF(OR(AND(S115=\"NP\",S116=\"NP\"),AND(S115=\"DNS\",S116=\"DNS\")),S115,IF(AND(S115=\"NP\",S116=\"DNS\"),S115,IF(AND(S115=\"DNS\",S116=\"NP\"),S116,MIN(S115,S116))))))","v":""}]
[null,null,null,"II.pokus",null,null,null,{"$f":"IF($C115=\"\",\"\",IF(OR($E116=\"DNS\",$F116=\"DNS\",$G116=\"DNS\"),\"DNS\",IF(OR($E116=\"NP\",$F116=\"NP\",$G116=\"NP\"),\"NP\",IF(ISERROR(MEDIAN($E116:$G116)),\"DNS\",IF(COUNT($E116:$G116)<3,MAX($E116:$G116),MEDIAN($E116:$G116))))))","v":""},null,null,null,null,null,null,"II.pokus",null,null,null,{"$f":"IF($N115=\"\",\"\",IF(OR($P116=\"DNS\",$Q116=\"DNS\",$R116=\"DNS\"),\"DNS\",IF(OR($P116=\"NP\",$Q116=\"NP\",$R116=\"NP\"),\"NP\",IF(ISERROR(MEDIAN($P116:$R116)),\"DNS\",IF(COUNT($P116:$R116)<3,MAX($P116:$R116),MEDIAN($P116:$R116))))))","v":""}]
[{"$f":"IF(Start!M22=\"\",\"\",\"x\")","v":""},67,{"$f":"IF(Start!K22=\"\",\"\",Start!K22)","v":""},"I.pokus",null,null,null,{"$f":"IF($C117=\"\",\"\",IF(OR($E117=\"DNS\",$F117=\"DNS\",$G117=\"DNS\"),\"DNS\",IF(OR($E117=\"NP\",$F117=\"NP\",$G117=\"NP\"),\"NP\",IF(ISERROR(MEDIAN($E117:$G117)),\"DNS\",IF(COUNT($E117:$G117)<3,MAX($E117:$G117),MEDIAN($E117:$G117))))))","v":""},{"$f":"IF($A117=\"x\",\"x\",IF($C117=\"\",\"\",IF(OR(J117=\"NP\",J117=\"DNS\"),IF(J117=\"NP\",MAX(Oblast2)+COUNTIF(($J$12:$J$154),MAX(Oblast2))+COUNTIF(($U$12:$U$154),MAX(Oblast2)),MAX(Oblast2)+COUNTIF(($J$12:$J$154),MAX(Oblast2))+COUNTIF(($U$12:$U$154),MAX(Oblast2))+COUNTIF(($J$12:$J$154),\"NP\")+COUNTIF(($U$12:$U$154),\"NP\")),J117)))","v":""},{"$f":"IF($A117=\"x\",\"x\",IF($C117=\"\",\"\",IF(OR(K117=\"NP\",K117=\"DNS\"),K117,RANK(K117,Oblast,1))))","v":""},{"$f":"IF($A117=\"x\",\"x\",IF($C117=\"\",\"\",IF(OR(AND(H117=\"NP\",H118=\"NP\"),AND(H117=\"DNS\",H118=\"DNS\")),H117,IF(AND(H117=\"NP\",H118=\"DNS\"),H117,IF(AND(H117=\"DNS\",H118=\"NP\"),H118,MIN(H117,H118))))))","v":""},{"$f":"IF(Start!Q7=\"\",\"\",\"x\")","v":""},77,{"$f":"IF(Start!O7=\"\",\"\",Start!O7)","v":""},"I.pokus",null,null,null,{"$f":"IF($N117=\"\",\"\",IF(OR($P117=\"DNS\",$Q117=\"DNS\",$R117=\"DNS\"),\"DNS\",IF(OR($P117=\"NP\",$Q117=\"NP\",$R117=\"NP\"),\"NP\",IF(ISERROR(MEDIAN($P117:$R117)),\"DNS\",IF(COUNT($P117:$R117)<3,MAX($P117:$R117),MEDIAN($P117:$R117))))))","v":""},{"$f":"IF($L117=\"x\",\"x\",IF($N117=\"\",\"\",IF(OR(U117=\"NP\",U117=\"DNS\"),IF(U117=\"NP\",MAX(Oblast2)+COUNTIF(($J$12:$J$154),MAX(Oblast2))+COUNTIF(($U$12:$U$154),MAX(Oblast2)),MAX(Oblast2)+COUNTIF(($J$12:$J$154),MAX(Oblast2))+COUNTIF(($U$12:$U$154),MAX(Oblast2))+COUNTIF(($J$12:$J$154),\"NP\")+COUNTIF(($U$12:$U$154),\"NP\")),U117)))","v":""},{"$f":"IF($L117=\"x\",\"x\",IF($N117=\"\",\"\",IF(OR(V117=\"NP\",V117=\"DNS\"),V117,RANK(V117,Oblast,1))))","v":""},{"$f":"IF($L117=\"x\",\"x\",IF($N117=\"\",\"\",IF(OR(AND(S117=\"NP\",S118=\"NP\"),AND(S117=\"DNS\",S118=\"DNS\")),S117,IF(AND(S117=\"NP\",S118=\"DNS\"),S117,IF(AND(S117=\"DNS\",S118=\"NP\"),S118,MIN(S117,S118))))))","v":""}]
[null,null,null,"II.pokus",null,null,null,{"$f":"IF($C117=\"\",\"\",IF(OR($E118=\"DNS\",$F118=\"DNS\",$G118=\"DNS\"),\"DNS\",IF(OR($E118=\"NP\",$F118=\"NP\",$G118=\"NP\"),\"NP\",IF(ISERROR(MEDIAN($E118:$G118)),\"DNS\",IF(COUNT($E118:$G118)<3,MAX($E118:$G118),MEDIAN($E118:$G118))))))","v":""},null,null,null,null,null,null,"II.pokus",null,null,null,{"$f":"IF($N117=\"\",\"\",IF(OR($P118=\"DNS\",$Q118=\"DNS\",$R118=\"DNS\"),\"DNS\",IF(OR($P118=\"NP\",$Q118=\"NP\",$R118=\"NP\"),\"NP\",IF(ISERROR(MEDIAN($P118:$R118)),\"DNS\",IF(COUNT($P118:$R118)<3,MAX($P118:$R118),MEDIAN($P118:$R118))))))","v":""}]
[{"$f":"IF(Start!M23=\"\",\"\",\"x\")","v":""},68,{"$f":"IF(Start!K23=\"\",\"\",Start!K23)","v":""},"I.pokus",null,null,null,{"$f":"IF($C119=\"\",\"\",IF(OR($E119=\"DNS\",$F119=\"DNS\",$G119=\"DNS\"),\"DNS\",IF(OR($E119=\"NP\",$F119=\"NP\",$G119=\"NP\"),\"NP\",IF(ISERROR(MEDIAN($E119:$G119)),\"DNS\",IF(COUNT($E119:$G119)<3,MAX($E119:$G119),MEDIAN($E119:$G119))))))","v":""},{"$f":"IF($A119=\"x\",\"x\",IF($C119=\"\",\"\",IF(OR(J119=\"NP\",J119=\"DNS\"),IF(J119=\"NP\",MAX(Oblast2)+COUNTIF(($J$12:$J$154),MAX(Oblast2))+COUNTIF(($U$12:$U$154),MAX(Oblast2)),MAX(Oblast2)+COUNTIF(($J$12:$J$154),MAX(Oblast2))+COUNTIF(($U$12:$U$154),MAX(Oblast2))+COUNTIF(($J$12:$J$154),\"NP\")+COUNTIF(($U$12:$U$154),\"NP\")),J119)))","v":""},{"$f":"IF($A119=\"x\",\"x\",IF($C119=\"\",\"\",IF(OR(K119=\"NP\",K119=\"DNS\"),K119,RANK(K119,Oblast,1))))","v":""},{"$f":"IF($A119=\"x\",\"x\",IF($C119=\"\",\"\",IF(OR(AND(H119=\"NP\",H120=\"NP\"),AND(H119=\"DNS\",H120=\"DNS\")),H119,IF(AND(H119=\"NP\",H120=\"DNS\"),H119,IF(AND(H119=\"DNS\",H120=\"NP\"),H120,MIN(H119,H120))))))","v":""},{"$f":"IF(Start!Q8=\"\",\"\",\"x\")","v":""},78,{"$f":"IF(Start!O8=\"\",\"\",Start!O8)","v":""},"I.pokus",null,null,null,{"$f":"IF($N119=\"\",\"\",IF(OR($P119=\"DNS\",$Q119=\"DNS\",$R119=\"DNS\"),\"DNS\",IF(OR($P119=\"NP\",$Q119=\"NP\",$R119=\"NP\"),\"NP\",IF(ISERROR(MEDIAN($P119:$R119)),\"DNS\",IF(COUNT($P119:$R119)<3,MAX($P119:$R119),MEDIAN($P119:$R119))))))","v":""},{"$f":"IF($L119=\"x\",\"x\",IF($N119=\"\",\"\",IF(OR(U119=\"NP\",U119=\"DNS\"),IF(U119=\"NP\",MAX(Oblast2)+COUNTIF(($J$12:$J$154),MAX(Oblast2))+COUNTIF(($U$12:$U$154),MAX(Oblast2)),MAX(Oblast2)+COUNTIF(($J$12:$J$154),MAX(Oblast2))+COUNTIF(($U$12:$U$154),MAX(Oblast2))+COUNTIF(($J$12:$J$154),\"NP\")+COUNTIF(($U$12:$U$154),\"NP\")),U119)))","v":""},{"$f":"IF($L119=\"x\",\"x\",IF($N119=\"\",\"\",IF(OR(V119=\"NP\",V119=\"DNS\"),V119,RANK(V119,Oblast,1))))","v":""},{"$f":"IF($L119=\"x\",\"x\",IF($N119=\"\",\"\",IF(OR(AND(S119=\"NP\",S120=\"NP\"),AND(S119=\"DNS\",S120=\"DNS\")),S119,IF(AND(S119=\"NP\",S120=\"DNS\"),S119,IF(AND(S119=\"DNS\",S120=\"NP\"),S120,MIN(S119,S120))))))","v":""}]
[null,null,null,"II.pokus",null,null,null,{"$f":"IF($C119=\"\",\"\",IF(OR($E120=\"DNS\",$F120=\"DNS\",$G120=\"DNS\"),\"DNS\",IF(OR($E120=\"NP\",$F120=\"NP\",$G120=\"NP\"),\"NP\",IF(ISERROR(MEDIAN($E120:$G120)),\"DNS\",IF(COUNT($E120:$G120)<3,MAX($E120:$G120),MEDIAN($E120:$G120))))))","v":""},null,null,null,null,null,null,"II.pokus",null,null,null,{"$f":"IF($N119=\"\",\"\",IF(OR($P120=\"DNS\",$Q120=\"DNS\",$R120=\"DNS\"),\"DNS\",IF(OR($P120=\"NP\",$Q120=\"NP\",$R120=\"NP\"),\"NP\",IF(ISERROR(MEDIAN($P120:$R120)),\"DNS\",IF(COUNT($P120:$R120)<3,MAX($P120:$R120),MEDIAN($P120:$R120))))))","v":""}]
[{"$f":"IF(Start!M24=\"\",\"\",\"x\")","v":""},69,{"$f":"IF(Start!K24=\"\",\"\",Start!K24)","v":""},"I.pokus",null,null,null,{"$f":"IF($C121=\"\",\"\",IF(OR($E121=\"DNS\",$F121=\"DNS\",$G121=\"DNS\"),\"DNS\",IF(OR($E121=\"NP\",$F121=\"NP\",$G121=\"NP\"),\"NP\",IF(ISERROR(MEDIAN($E121:$G121)),\"DNS\",IF(COUNT($E121:$G121)<3,MAX($E121:$G121),MEDIAN($E121:$G121))))))","v":""},{"$f":"IF($A121=\"x\",\"x\",IF($C121=\"\",\"\",IF(OR(J121=\"NP\",J121=\"DNS\"),IF(J121=\"NP\",MAX(Oblast2)+COUNTIF(($J$12:$J$154),MAX(Oblast2))+COUNTIF(($U$12:$U$154),MAX(Oblast2)),MAX(Oblast2)+COUNTIF(($J$12:$J$154),MAX(Oblast2))+COUNTIF(($U$12:$U$154),MAX(Oblast2))+COUNTIF(($J$12:$J$154),\"NP\")+COUNTIF(($U$12:$U$154),\"NP\")),J121)))","v":""},{"$f":"IF($A121=\"x\",\"x\",IF($C121=\"\",\"\",IF(OR(K121=\"NP\",K121=\"DNS\"),K121,RANK(K121,Oblast,1))))","v":""},{"$f":"IF($A121=\"x\",\"x\",IF($C121=\"\",\"\",IF(OR(AND(H121=\"NP\",H122=\"NP\"),AND(H121=\"DNS\",H122=\"DNS\")),H121,IF(AND(H121=\"NP\",H122=\"DNS\"),H121,IF(AND(H121=\"DNS\",H122=\"NP\"),H122,MIN(H121,H122))))))","v":""},{"$f":"IF(Start!Q9=\"\",\"\",\"x\")","v":""},79,{"$f":"IF(Start!O9=\"\",\"\",Start!O9)","v":""},"I.pokus",null,null,null,{"$f":"IF($N121=\"\",\"\",IF(OR($P121=\"DNS\",$Q121=\"DNS\",$R121=\"DNS\"),\"DNS\",IF(OR($P121=\"NP\",$Q121=\"NP\",$R121=\"NP\"),\"NP\",IF(ISERROR(MEDIAN($P121:$R121)),\"DNS\",IF(COUNT($P121:$R121)<3,MAX($P121:$R121),MEDIAN($P121:$R121))))))","v":""},{"$f":"IF($L121=\"x\",\"x\",IF($N121=\"\",\"\",IF(OR(U121=\"NP\",U121=\"DNS\"),IF(U121=\"NP\",MAX(Oblast2)+COUNTIF(($J$12:$J$154),MAX(Oblast2))+COUNTIF(($U$12:$U$154),MAX(Oblast2)),MAX(Oblast2)+COUNTIF(($J$12:$J$154),MAX(Oblast2))+COUNTIF(($U$12:$U$154),MAX(Oblast2))+COUNTIF(($J$12:$J$154),\"NP\")+COUNTIF(($U$12:$U$154),\"NP\")),U121)))","v":""},{"$f":"IF($L121=\"x\",\"x\",IF($N121=\"\",\"\",IF(OR(V121=\"NP\",V121=\"DNS\"),V121,RANK(V121,Oblast,1))))","v":""},{"$f":"IF($L121=\"x\",\"x\",IF($N121=\"\",\"\",IF(OR(AND(S121=\"NP\",S122=\"NP\"),AND(S121=\"DNS\",S122=\"DNS\")),S121,IF(AND(S121=\"NP\",S122=\"DNS\"),S121,IF(AND(S121=\"DNS\",S122=\"NP\"),S122,MIN(S121,S122))))))","v":""}]
[null,null,null,"II.pokus",null,null,null,{"$f":"IF($C121=\"\",\"\",IF(OR($E122=\"DNS\",$F122=\"DNS\",$G122=\"DNS\"),\"DNS\",IF(OR($E122=\"NP\",$F122=\"NP\",$G122=\"NP\"),\"NP\",IF(ISERROR(MEDIAN($E122:$G122)),\"DNS\",IF(COUNT($E122:$G122)<3,MAX($E122:$G122),MEDIAN($E122:$G122))))))","v":""},null,null,null,null,null,null,"II.pokus",null,null,null,{"$f":"IF($N121=\"\",\"\",IF(OR($P122=\"DNS\",$Q122=\"DNS\",$R122=\"DNS\"),\"DNS\",IF(OR($P122=\"NP\",$Q122=\"NP\",$R122=\"NP\"),\"NP\",IF(ISERROR(MEDIAN($P122:$R122)),\"DNS\",IF(COUNT($P122:$R122)<3,MAX($P122:$R122),MEDIAN($P122:$R122))))))","v":""}]
[{"$f":"IF(Start!M25=\"\",\"\",\"x\")","v":""},70,{"$f":"IF(Start!K25=\"\",\"\",Start!K25)","v":""},"I.pokus",null,null,null,{"$f":"IF($C123=\"\",\"\",IF(OR($E123=\"DNS\",$F123=\"DNS\",$G123=\"DNS\"),\"DNS\",IF(OR($E123=\"NP\",$F123=\"NP\",$G123=\"NP\"),\"NP\",IF(ISERROR(MEDIAN($E123:$G123)),\"DNS\",IF(COUNT($E123:$G123)<3,MAX($E123:$G123),MEDIAN($E123:$G123))))))","v":""},{"$f":"IF($A123=\"x\",\"x\",IF($C123=\"\",\"\",IF(OR(J123=\"NP\",J123=\"DNS\"),IF(J123=\"NP\",MAX(Oblast2)+COUNTIF(($J$12:$J$154),MAX(Oblast2))+COUNTIF(($U$12:$U$154),MAX(Oblast2)),MAX(Oblast2)+COUNTIF(($J$12:$J$154),MAX(Oblast2))+COUNTIF(($U$12:$U$154),MAX(Oblast2))+COUNTIF(($J$12:$J$154),\"NP\")+COUNTIF(($U$12:$U$154),\"NP\")),J123)))","v":""},{"$f":"IF($A123=\"x\",\"x\",IF($C123=\"\",\"\",IF(OR(K123=\"NP\",K123=\"DNS\"),K123,RANK(K123,Oblast,1))))","v":""},{"$f":"IF($A123=\"x\",\"x\",IF($C123=\"\",\"\",IF(OR(AND(H123=\"NP\",H124=\"NP\"),AND(H123=\"DNS\",H124=\"DNS\")),H123,IF(AND(H123=\"NP\",H124=\"DNS\"),H123,IF(AND(H123=\"DNS\",H124=\"NP\"),H124,MIN(H123,H124))))))","v":""},{"$f":"IF(Start!Q10=\"\",\"\",\"x\")","v":""},80,{"$f":"IF(Start!O10=\"\",\"\",Start!O10)","v":""},"I.pokus",null,null,null,{"$f":"IF($N123=\"\",\"\",IF(OR($P123=\"DNS\",$Q123=\"DNS\",$R123=\"DNS\"),\"DNS\",IF(OR($P123=\"NP\",$Q123=\"NP\",$R123=\"NP\"),\"NP\",IF(ISERROR(MEDIAN($P123:$R123)),\"DNS\",IF(COUNT($P123:$R123)<3,MAX($P123:$R123),MEDIAN($P123:$R123))))))","v":""},{"$f":"IF($L123=\"x\",\"x\",IF($N123=\"\",\"\",IF(OR(U123=\"NP\",U123=\"DNS\"),IF(U123=\"NP\",MAX(Oblast2)+COUNTIF(($J$12:$J$154),MAX(Oblast2))+COUNTIF(($U$12:$U$154),MAX(Oblast2)),MAX(Oblast2)+COUNTIF(($J$12:$J$154),MAX(Oblast2))+COUNTIF(($U$12:$U$154),MAX(Oblast2))+COUNTIF(($J$12:$J$154),\"NP\")+COUNTIF(($U$12:$U$154),\"NP\")),U123)))","v":""},{"$f":"IF($L123=\"x\",\"x\",IF($N123=\"\",\"\",IF(OR(V123=\"NP\",V123=\"DNS\"),V123,RANK(V123,Oblast,1))))","v":""},{"$f":"IF($L123=\"x\",\"x\",IF($N123=\"\",\"\",IF(OR(AND(S123=\"NP\",S124=\"NP\"),AND(S123=\"DNS\",S124=\"DNS\")),S123,IF(AND(S123=\"NP\",S124=\"DNS\"),S123,IF(AND(S123=\"DNS\",S124=\"NP\"),S124,MIN(S123,S124))))))","v":""}]
[null,null,null,"II.pokus",null,null,null,{"$f":"IF($C123=\"\",\"\",IF(OR($E124=\"DNS\",$F124=\"DNS\",$G124=\"DNS\"),\"DNS\",IF(OR($E124=\"NP\",$F124=\"NP\",$G124=\"NP\"),\"NP\",IF(ISERROR(MEDIAN($E124:$G124)),\"DNS\",IF(COUNT($E124:$G124)<3,MAX($E124:$G124),MEDIAN($E124:$G124))))))","v":""},null,null,null,null,null,null,"II.pokus",null,null,null,{"$f":"IF($N123=\"\",\"\",IF(OR($P124=\"DNS\",$Q124=\"DNS\",$R124=\"DNS\"),\"DNS\",IF(OR($P124=\"NP\",$Q124=\"NP\",$R124=\"NP\"),\"NP\",IF(ISERROR(MEDIAN($P124:$R124)),\"DNS\",IF(COUNT($P124:$R124)<3,MAX($P124:$R124),MEDIAN($P124:$R124))))))","v":""}]
[null," CELOSTÁTNÍ HRA PLAMEN"]
[]
[]
[null," Výsledková listina č: 5"]
[null,"Štafeta 4 x 60 m",null,null,"Základem je čas naměřený od vydání signálu startéra do proběhnutí posledního člena cílem",null,null,null,null,null,null,null,"Štafeta 4 x 60 m",null,null,"Základem je čas naměřený od vydání signálu startéra do proběhnutí posledního člena cílem"]
[]
[]
[null,{"$f":"\"KATEGORIE: \"&Start!$N$2","v":"KATEGORIE: starší"},null,null,"I. časoměřič","II. časoměřič","III. časoměřič","úřední čas","počet bodů za umístění",null,null,null,{"$f":"\"KATEGORIE: \"&Start!$N$2","v":"KATEGORIE: starší"},null,null,"I. časoměřič","II. časoměřič","III. časoměřič","úřední čas","počet bodů za umístění"]
[]
[null,"start. číslo","SOUTĚŽNÍ DRUŽSTVO","pokus",null,null,null,null,null,null,null,null,"start. číslo","SOUTĚŽNÍ DRUŽSTVO","pokus"]
[]
[{"$f":"IF(Start!Q11=\"\",\"\",\"x\")","v":""},81,{"$f":"IF(Start!O11=\"\",\"\",Start!O11)","v":""},"I.pokus",null,null,null,{"$f":"IF($C136=\"\",\"\",IF(OR($E136=\"DNS\",$F136=\"DNS\",$G136=\"DNS\"),\"DNS\",IF(OR($E136=\"NP\",$F136=\"NP\",$G136=\"NP\"),\"NP\",IF(ISERROR(MEDIAN($E136:$G136)),\"DNS\",IF(COUNT($E136:$G136)<3,MAX($E136:$G136),MEDIAN($E136:$G136))))))","v":""},{"$f":"IF($A136=\"x\",\"x\",IF($C136=\"\",\"\",IF(OR(J136=\"NP\",J136=\"DNS\"),IF(J136=\"NP\",MAX(Oblast2)+COUNTIF(($J$12:$J$154),MAX(Oblast2))+COUNTIF(($U$12:$U$154),MAX(Oblast2)),MAX(Oblast2)+COUNTIF(($J$12:$J$154),MAX(Oblast2))+COUNTIF(($U$12:$U$154),MAX(Oblast2))+COUNTIF(($J$12:$J$154),\"NP\")+COUNTIF(($U$12:$U$154),\"NP\")),J136)))","v":""},{"$f":"IF($A136=\"x\",\"x\",IF($C136=\"\",\"\",IF(OR(K136=\"NP\",K136=\"DNS\"),K136,RANK(K136,Oblast,1))))","v":""},{"$f":"IF($A136=\"x\",\"x\",IF($C136=\"\",\"\",IF(OR(AND(H136=\"NP\",H137=\"NP\"),AND(H136=\"DNS\",H137=\"DNS\")),H136,IF(AND(H136=\"NP\",H137=\"DNS\"),H136,IF(AND(H136=\"DNS\",H137=\"NP\"),H137,MIN(H136,H137))))))","v":""},{"$f":"IF(Start!Q21=\"\",\"\",\"x\")","v":""},91,{"$f":"IF(Start!O21=\"\",\"\",Start!O21)","v":""},"I.pokus",null,null,null,{"$f":"IF($N136=\"\",\"\",IF(OR($P136=\"DNS\",$Q136=\"DNS\",$R136=\"DNS\"),\"DNS\",IF(OR($P136=\"NP\",$Q136=\"NP\",$R136=\"NP\"),\"NP\",IF(ISERROR(MEDIAN($P136:$R136)),\"DNS\",IF(COUNT($P136:$R136)<3,MAX($P136:$R136),MEDIAN($P136:$R136))))))","v":""},{"$f":"IF($L136=\"x\",\"x\",IF($N136=\"\",\"\",IF(OR(U136=\"NP\",U136=\"DNS\"),IF(U136=\"NP\",MAX(Oblast2)+COUNTIF(($J$12:$J$154),MAX(Oblast2))+COUNTIF(($U$12:$U$154),MAX(Oblast2)),MAX(Oblast2)+COUNTIF(($J$12:$J$154),MAX(Oblast2))+COUNTIF(($U$12:$U$154),MAX(Oblast2))+COUNTIF(($J$12:$J$154),\"NP\")+COUNTIF(($U$12:$U$154),\"NP\")),U136)))","v":""},{"$f":"IF($L136=\"x\",\"x\",IF($N136=\"\",\"\",IF(OR(V136=\"NP\",V136=\"DNS\"),V136,RANK(V136,Oblast,1))))","v":""},{"$f":"IF($L136=\"x\",\"x\",IF($N136=\"\",\"\",IF(OR(AND(S136=\"NP\",S137=\"NP\"),AND(S136=\"DNS\",S137=\"DNS\")),S136,IF(AND(S136=\"NP\",S137=\"DNS\"),S136,IF(AND(S136=\"DNS\",S137=\"NP\"),S137,MIN(S136,S137))))))","v":""}]
[null,null,null,"II.pokus",null,null,null,{"$f":"IF($C136=\"\",\"\",IF(OR($E137=\"DNS\",$F137=\"DNS\",$G137=\"DNS\"),\"DNS\",IF(OR($E137=\"NP\",$F137=\"NP\",$G137=\"NP\"),\"NP\",IF(ISERROR(MEDIAN($E137:$G137)),\"DNS\",IF(COUNT($E137:$G137)<3,MAX($E137:$G137),MEDIAN($E137:$G137))))))","v":""},null,null,null,null,null,null,"II.pokus",null,null,null,{"$f":"IF($N136=\"\",\"\",IF(OR($P137=\"DNS\",$Q137=\"DNS\",$R137=\"DNS\"),\"DNS\",IF(OR($P137=\"NP\",$Q137=\"NP\",$R137=\"NP\"),\"NP\",IF(ISERROR(MEDIAN($P137:$R137)),\"DNS\",IF(COUNT($P137:$R137)<3,MAX($P137:$R137),MEDIAN($P137:$R137))))))","v":""}]
[{"$f":"IF(Start!Q12=\"\",\"\",\"x\")","v":""},82,{"$f":"IF(Start!O12=\"\",\"\",Start!O12)","v":""},"I.pokus",null,null,null,{"$f":"IF($C138=\"\",\"\",IF(OR($E138=\"DNS\",$F138=\"DNS\",$G138=\"DNS\"),\"DNS\",IF(OR($E138=\"NP\",$F138=\"NP\",$G138=\"NP\"),\"NP\",IF(ISERROR(MEDIAN($E138:$G138)),\"DNS\",IF(COUNT($E138:$G138)<3,MAX($E138:$G138),MEDIAN($E138:$G138))))))","v":""},{"$f":"IF($A138=\"x\",\"x\",IF($C138=\"\",\"\",IF(OR(J138=\"NP\",J138=\"DNS\"),IF(J138=\"NP\",MAX(Oblast2)+COUNTIF(($J$12:$J$154),MAX(Oblast2))+COUNTIF(($U$12:$U$154),MAX(Oblast2)),MAX(Oblast2)+COUNTIF(($J$12:$J$154),MAX(Oblast2))+COUNTIF(($U$12:$U$154),MAX(Oblast2))+COUNTIF(($J$12:$J$154),\"NP\")+COUNTIF(($U$12:$U$154),\"NP\")),J138)))","v":""},{"$f":"IF($A138=\"x\",\"x\",IF($C138=\"\",\"\",IF(OR(K138=\"NP\",K138=\"DNS\"),K138,RANK(K138,Oblast,1))))","v":""},{"$f":"IF($A138=\"x\",\"x\",IF($C138=\"\",\"\",IF(OR(AND(H138=\"NP\",H139=\"NP\"),AND(H138=\"DNS\",H139=\"DNS\")),H138,IF(AND(H138=\"NP\",H139=\"DNS\"),H138,IF(AND(H138=\"DNS\",H139=\"NP\"),H139,MIN(H138,H139))))))","v":""},{"$f":"IF(Start!Q22=\"\",\"\",\"x\")","v":""},92,{"$f":"IF(Start!O22=\"\",\"\",Start!O22)","v":""},"I.pokus",null,null,null,{"$f":"IF($N138=\"\",\"\",IF(OR($P138=\"DNS\",$Q138=\"DNS\",$R138=\"DNS\"),\"DNS\",IF(OR($P138=\"NP\",$Q138=\"NP\",$R138=\"NP\"),\"NP\",IF(ISERROR(MEDIAN($P138:$R138)),\"DNS\",IF(COUNT($P138:$R138)<3,MAX($P138:$R138),MEDIAN($P138:$R138))))))","v":""},{"$f":"IF($L138=\"x\",\"x\",IF($N138=\"\",\"\",IF(OR(U138=\"NP\",U138=\"DNS\"),IF(U138=\"NP\",MAX(Oblast2)+COUNTIF(($J$12:$J$154),MAX(Oblast2))+COUNTIF(($U$12:$U$154),MAX(Oblast2)),MAX(Oblast2)+COUNTIF(($J$12:$J$154),MAX(Oblast2))+COUNTIF(($U$12:$U$154),MAX(Oblast2))+COUNTIF(($J$12:$J$154),\"NP\")+COUNTIF(($U$12:$U$154),\"NP\")),U138)))","v":""},{"$f":"IF($L138=\"x\",\"x\",IF($N138=\"\",\"\",IF(OR(V138=\"NP\",V138=\"DNS\"),V138,RANK(V138,Oblast,1))))","v":""},{"$f":"IF($L138=\"x\",\"x\",IF($N138=\"\",\"\",IF(OR(AND(S138=\"NP\",S139=\"NP\"),AND(S138=\"DNS\",S139=\"DNS\")),S138,IF(AND(S138=\"NP\",S139=\"DNS\"),S138,IF(AND(S138=\"DNS\",S139=\"NP\"),S139,MIN(S138,S139))))))","v":""}]
[null,null,null,"II.pokus",null,null,null,{"$f":"IF($C138=\"\",\"\",IF(OR($E139=\"DNS\",$F139=\"DNS\",$G139=\"DNS\"),\"DNS\",IF(OR($E139=\"NP\",$F139=\"NP\",$G139=\"NP\"),\"NP\",IF(ISERROR(MEDIAN($E139:$G139)),\"DNS\",IF(COUNT($E139:$G139)<3,MAX($E139:$G139),MEDIAN($E139:$G139))))))","v":""},null,null,null,null,null,null,"II.pokus",null,null,null,{"$f":"IF($N138=\"\",\"\",IF(OR($P139=\"DNS\",$Q139=\"DNS\",$R139=\"DNS\"),\"DNS\",IF(OR($P139=\"NP\",$Q139=\"NP\",$R139=\"NP\"),\"NP\",IF(ISERROR(MEDIAN($P139:$R139)),\"DNS\",IF(COUNT($P139:$R139)<3,MAX($P139:$R139),MEDIAN($P139:$R139))))))","v":""}]
[{"$f":"IF(Start!Q13=\"\",\"\",\"x\")","v":""},83,{"$f":"IF(Start!O13=\"\",\"\",Start!O13)","v":""},"I.pokus",null,null,null,{"$f":"IF($C140=\"\",\"\",IF(OR($E140=\"DNS\",$F140=\"DNS\",$G140=\"DNS\"),\"DNS\",IF(OR($E140=\"NP\",$F140=\"NP\",$G140=\"NP\"),\"NP\",IF(ISERROR(MEDIAN($E140:$G140)),\"DNS\",IF(COUNT($E140:$G140)<3,MAX($E140:$G140),MEDIAN($E140:$G140))))))","v":""},{"$f":"IF($A140=\"x\",\"x\",IF($C140=\"\",\"\",IF(OR(J140=\"NP\",J140=\"DNS\"),IF(J140=\"NP\",MAX(Oblast2)+COUNTIF(($J$12:$J$154),MAX(Oblast2))+COUNTIF(($U$12:$U$154),MAX(Oblast2)),MAX(Oblast2)+COUNTIF(($J$12:$J$154),MAX(Oblast2))+COUNTIF(($U$12:$U$154),MAX(Oblast2))+COUNTIF(($J$12:$J$154),\"NP\")+COUNTIF(($U$12:$U$154),\"NP\")),J140)))","v":""},{"$f":"IF($A140=\"x\",\"x\",IF($C140=\"\",\"\",IF(OR(K140=\"NP\",K140=\"DNS\"),K140,RANK(K140,Oblast,1))))","v":""},{"$f":"IF($A140=\"x\",\"x\",IF($C140=\"\",\"\",IF(OR(AND(H140=\"NP\",H141=\"NP\"),AND(H140=\"DNS\",H141=\"DNS\")),H140,IF(AND(H140=\"NP\",H141=\"DNS\"),H140,IF(AND(H140=\"DNS\",H141=\"NP\"),H141,MIN(H140,H141))))))","v":""},{"$f":"IF(Start!Q23=\"\",\"\",\"x\")","v":""},93,{"$f":"IF(Start!O23=\"\",\"\",Start!O23)","v":""},"I.pokus",null,null,null,{"$f":"IF($N140=\"\",\"\",IF(OR($P140=\"DNS\",$Q140=\"DNS\",$R140=\"DNS\"),\"DNS\",IF(OR($P140=\"NP\",$Q140=\"NP\",$R140=\"NP\"),\"NP\",IF(ISERROR(MEDIAN($P140:$R140)),\"DNS\",IF(COUNT($P140:$R140)<3,MAX($P140:$R140),MEDIAN($P140:$R140))))))","v":""},{"$f":"IF($L140=\"x\",\"x\",IF($N140=\"\",\"\",IF(OR(U140=\"NP\",U140=\"DNS\"),IF(U140=\"NP\",MAX(Oblast2)+COUNTIF(($J$12:$J$154),MAX(Oblast2))+COUNTIF(($U$12:$U$154),MAX(Oblast2)),MAX(Oblast2)+COUNTIF(($J$12:$J$154),MAX(Oblast2))+COUNTIF(($U$12:$U$154),MAX(Oblast2))+COUNTIF(($J$12:$J$154),\"NP\")+COUNTIF(($U$12:$U$154),\"NP\")),U140)))","v":""},{"$f":"IF($L140=\"x\",\"x\",IF($N140=\"\",\"\",IF(OR(V140=\"NP\",V140=\"DNS\"),V140,RANK(V140,Oblast,1))))","v":""},{"$f":"IF($L140=\"x\",\"x\",IF($N140=\"\",\"\",IF(OR(AND(S140=\"NP\",S141=\"NP\"),AND(S140=\"DNS\",S141=\"DNS\")),S140,IF(AND(S140=\"NP\",S141=\"DNS\"),S140,IF(AND(S140=\"DNS\",S141=\"NP\"),S141,MIN(S140,S141))))))","v":""}]
[null,null,null,"II.pokus",null,null,null,{"$f":"IF($C140=\"\",\"\",IF(OR($E141=\"DNS\",$F141=\"DNS\",$G141=\"DNS\"),\"DNS\",IF(OR($E141=\"NP\",$F141=\"NP\",$G141=\"NP\"),\"NP\",IF(ISERROR(MEDIAN($E141:$G141)),\"DNS\",IF(COUNT($E141:$G141)<3,MAX($E141:$G141),MEDIAN($E141:$G141))))))","v":""},null,null,null,null,null,null,"II.pokus",null,null,null,{"$f":"IF($N140=\"\",\"\",IF(OR($P141=\"DNS\",$Q141=\"DNS\",$R141=\"DNS\"),\"DNS\",IF(OR($P141=\"NP\",$Q141=\"NP\",$R141=\"NP\"),\"NP\",IF(ISERROR(MEDIAN($P141:$R141)),\"DNS\",IF(COUNT($P141:$R141)<3,MAX($P141:$R141),MEDIAN($P141:$R141))))))","v":""}]
[{"$f":"IF(Start!Q14=\"\",\"\",\"x\")","v":""},84,{"$f":"IF(Start!O14=\"\",\"\",Start!O14)","v":""},"I.pokus",null,null,null,{"$f":"IF($C142=\"\",\"\",IF(OR($E142=\"DNS\",$F142=\"DNS\",$G142=\"DNS\"),\"DNS\",IF(OR($E142=\"NP\",$F142=\"NP\",$G142=\"NP\"),\"NP\",IF(ISERROR(MEDIAN($E142:$G142)),\"DNS\",IF(COUNT($E142:$G142)<3,MAX($E142:$G142),MEDIAN($E142:$G142))))))","v":""},{"$f":"IF($A142=\"x\",\"x\",IF($C142=\"\",\"\",IF(OR(J142=\"NP\",J142=\"DNS\"),IF(J142=\"NP\",MAX(Oblast2)+COUNTIF(($J$12:$J$154),MAX(Oblast2))+COUNTIF(($U$12:$U$154),MAX(Oblast2)),MAX(Oblast2)+COUNTIF(($J$12:$J$154),MAX(Oblast2))+COUNTIF(($U$12:$U$154),MAX(Oblast2))+COUNTIF(($J$12:$J$154),\"NP\")+COUNTIF(($U$12:$U$154),\"NP\")),J142)))","v":""},{"$f":"IF($A142=\"x\",\"x\",IF($C142=\"\",\"\",IF(OR(K142=\"NP\",K142=\"DNS\"),K142,RANK(K142,Oblast,1))))","v":""},{"$f":"IF($A142=\"x\",\"x\",IF($C142=\"\",\"\",IF(OR(AND(H142=\"NP\",H143=\"NP\"),AND(H142=\"DNS\",H143=\"DNS\")),H142,IF(AND(H142=\"NP\",H143=\"DNS\"),H142,IF(AND(H142=\"DNS\",H143=\"NP\"),H143,MIN(H142,H143))))))","v":""},{"$f":"IF(Start!Q24=\"\",\"\",\"x\")","v":""},94,{"$f":"IF(Start!O24=\"\",\"\",Start!O24)","v":""},"I.pokus",null,null,null,{"$f":"IF($N142=\"\",\"\",IF(OR($P142=\"DNS\",$Q142=\"DNS\",$R142=\"DNS\"),\"DNS\",IF(OR($P142=\"NP\",$Q142=\"NP\",$R142=\"NP\"),\"NP\",IF(ISERROR(MEDIAN($P142:$R142)),\"DNS\",IF(COUNT($P142:$R142)<3,MAX($P142:$R142),MEDIAN($P142:$R142))))))","v":""},{"$f":"IF($L142=\"x\",\"x\",IF($N142=\"\",\"\",IF(OR(U142=\"NP\",U142=\"DNS\"),IF(U142=\"NP\",MAX(Oblast2)+COUNTIF(($J$12:$J$154),MAX(Oblast2))+COUNTIF(($U$12:$U$154),MAX(Oblast2)),MAX(Oblast2)+COUNTIF(($J$12:$J$154),MAX(Oblast2))+COUNTIF(($U$12:$U$154),MAX(Oblast2))+COUNTIF(($J$12:$J$154),\"NP\")+COUNTIF(($U$12:$U$154),\"NP\")),U142)))","v":""},{"$f":"IF($L142=\"x\",\"x\",IF($N142=\"\",\"\",IF(OR(V142=\"NP\",V142=\"DNS\"),V142,RANK(V142,Oblast,1))))","v":""},{"$f":"IF($L142=\"x\",\"x\",IF($N142=\"\",\"\",IF(OR(AND(S142=\"NP\",S143=\"NP\"),AND(S142=\"DNS\",S143=\"DNS\")),S142,IF(AND(S142=\"NP\",S143=\"DNS\"),S142,IF(AND(S142=\"DNS\",S143=\"NP\"),S143,MIN(S142,S143))))))","v":""}]
[null,null,null,"II.pokus",null,null,null,{"$f":"IF($C142=\"\",\"\",IF(OR($E143=\"DNS\",$F143=\"DNS\",$G143=\"DNS\"),\"DNS\",IF(OR($E143=\"NP\",$F143=\"NP\",$G143=\"NP\"),\"NP\",IF(ISERROR(MEDIAN($E143:$G143)),\"DNS\",IF(COUNT($E143:$G143)<3,MAX($E143:$G143),MEDIAN($E143:$G143))))))","v":""},null,null,null,null,null,null,"II.pokus",null,null,null,{"$f":"IF($N142=\"\",\"\",IF(OR($P143=\"DNS\",$Q143=\"DNS\",$R143=\"DNS\"),\"DNS\",IF(OR($P143=\"NP\",$Q143=\"NP\",$R143=\"NP\"),\"NP\",IF(ISERROR(MEDIAN($P143:$R143)),\"DNS\",IF(COUNT($P143:$R143)<3,MAX($P143:$R143),MEDIAN($P143:$R143))))))","v":""}]
[{"$f":"IF(Start!Q15=\"\",\"\",\"x\")","v":""},85,{"$f":"IF(Start!O15=\"\",\"\",Start!O15)","v":""},"I.pokus",null,null,null,{"$f":"IF($C144=\"\",\"\",IF(OR($E144=\"DNS\",$F144=\"DNS\",$G144=\"DNS\"),\"DNS\",IF(OR($E144=\"NP\",$F144=\"NP\",$G144=\"NP\"),\"NP\",IF(ISERROR(MEDIAN($E144:$G144)),\"DNS\",IF(COUNT($E144:$G144)<3,MAX($E144:$G144),MEDIAN($E144:$G144))))))","v":""},{"$f":"IF($A144=\"x\",\"x\",IF($C144=\"\",\"\",IF(OR(J144=\"NP\",J144=\"DNS\"),IF(J144=\"NP\",MAX(Oblast2)+COUNTIF(($J$12:$J$154),MAX(Oblast2))+COUNTIF(($U$12:$U$154),MAX(Oblast2)),MAX(Oblast2)+COUNTIF(($J$12:$J$154),MAX(Oblast2))+COUNTIF(($U$12:$U$154),MAX(Oblast2))+COUNTIF(($J$12:$J$154),\"NP\")+COUNTIF(($U$12:$U$154),\"NP\")),J144)))","v":""},{"$f":"IF($A144=\"x\",\"x\",IF($C144=\"\",\"\",IF(OR(K144=\"NP\",K144=\"DNS\"),K144,RANK(K144,Oblast,1))))","v":""},{"$f":"IF($A144=\"x\",\"x\",IF($C144=\"\",\"\",IF(OR(AND(H144=\"NP\",H145=\"NP\"),AND(H144=\"DNS\",H145=\"DNS\")),H144,IF(AND(H144=\"NP\",H145=\"DNS\"),H144,IF(AND(H144=\"DNS\",H145=\"NP\"),H145,MIN(H144,H145))))))","v":""},{"$f":"IF(Start!Q25=\"\",\"\",\"x\")","v":""},95,{"$f":"IF(Start!O25=\"\",\"\",Start!O25)","v":""},"I.pokus",null,null,null,{"$f":"IF($N144=\"\",\"\",IF(OR($P144=\"DNS\",$Q144=\"DNS\",$R144=\"DNS\"),\"DNS\",IF(OR($P144=\"NP\",$Q144=\"NP\",$R144=\"NP\"),\"NP\",IF(ISERROR(MEDIAN($P144:$R144)),\"DNS\",IF(COUNT($P144:$R144)<3,MAX($P144:$R144),MEDIAN($P144:$R144))))))","v":""},{"$f":"IF($L144=\"x\",\"x\",IF($N144=\"\",\"\",IF(OR(U144=\"NP\",U144=\"DNS\"),IF(U144=\"NP\",MAX(Oblast2)+COUNTIF(($J$12:$J$154),MAX(Oblast2))+COUNTIF(($U$12:$U$154),MAX(Oblast2)),MAX(Oblast2)+COUNTIF(($J$12:$J$154),MAX(Oblast2))+COUNTIF(($U$12:$U$154),MAX(Oblast2))+COUNTIF(($J$12:$J$154),\"NP\")+COUNTIF(($U$12:$U$154),\"NP\")),U144)))","v":""},{"$f":"IF($L144=\"x\",\"x\",IF($N144=\"\",\"\",IF(OR(V144=\"NP\",V144=\"DNS\"),V144,RANK(V144,Oblast,1))))","v":""},{"$f":"IF($L144=\"x\",\"x\",IF($N144=\"\",\"\",IF(OR(AND(S144=\"NP\",S145=\"NP\"),AND(S144=\"DNS\",S145=\"DNS\")),S144,IF(AND(S144=\"NP\",S145=\"DNS\"),S144,IF(AND(S144=\"DNS\",S145=\"NP\"),S145,MIN(S144,S145))))))","v":""}]
[null,null,null,"II.pokus",null,null,null,{"$f":"IF($C144=\"\",\"\",IF(OR($E145=\"DNS\",$F145=\"DNS\",$G145=\"DNS\"),\"DNS\",IF(OR($E145=\"NP\",$F145=\"NP\",$G145=\"NP\"),\"NP\",IF(ISERROR(MEDIAN($E145:$G145)),\"DNS\",IF(COUNT($E145:$G145)<3,MAX($E145:$G145),MEDIAN($E145:$G145))))))","v":""},null,null,null,null,null,null,"II.pokus",null,null,null,{"$f":"IF($N144=\"\",\"\",IF(OR($P145=\"DNS\",$Q145=\"DNS\",$R145=\"DNS\"),\"DNS\",IF(OR($P145=\"NP\",$Q145=\"NP\",$R145=\"NP\"),\"NP\",IF(ISERROR(MEDIAN($P145:$R145)),\"DNS\",IF(COUNT($P145:$R145)<3,MAX($P145:$R145),MEDIAN($P145:$R145))))))","v":""}]
[{"$f":"IF(Start!Q16=\"\",\"\",\"x\")","v":""},86,{"$f":"IF(Start!O16=\"\",\"\",Start!O16)","v":""},"I.pokus",null,null,null,{"$f":"IF($C146=\"\",\"\",IF(OR($E146=\"DNS\",$F146=\"DNS\",$G146=\"DNS\"),\"DNS\",IF(OR($E146=\"NP\",$F146=\"NP\",$G146=\"NP\"),\"NP\",IF(ISERROR(MEDIAN($E146:$G146)),\"DNS\",IF(COUNT($E146:$G146)<3,MAX($E146:$G146),MEDIAN($E146:$G146))))))","v":""},{"$f":"IF($A146=\"x\",\"x\",IF($C146=\"\",\"\",IF(OR(J146=\"NP\",J146=\"DNS\"),IF(J146=\"NP\",MAX(Oblast2)+COUNTIF(($J$12:$J$154),MAX(Oblast2))+COUNTIF(($U$12:$U$154),MAX(Oblast2)),MAX(Oblast2)+COUNTIF(($J$12:$J$154),MAX(Oblast2))+COUNTIF(($U$12:$U$154),MAX(Oblast2))+COUNTIF(($J$12:$J$154),\"NP\")+COUNTIF(($U$12:$U$154),\"NP\")),J146)))","v":""},{"$f":"IF($A146=\"x\",\"x\",IF($C146=\"\",\"\",IF(OR(K146=\"NP\",K146=\"DNS\"),K146,RANK(K146,Oblast,1))))","v":""},{"$f":"IF($A146=\"x\",\"x\",IF($C146=\"\",\"\",IF(OR(AND(H146=\"NP\",H147=\"NP\"),AND(H146=\"DNS\",H147=\"DNS\")),H146,IF(AND(H146=\"NP\",H147=\"DNS\"),H146,IF(AND(H146=\"DNS\",H147=\"NP\"),H147,MIN(H146,H147))))))","v":""},{"$f":"IF(Start!Q26=\"\",\"\",\"x\")","v":""},96,{"$f":"IF(Start!O26=\"\",\"\",Start!O26)","v":""},"I.pokus",null,null,null,{"$f":"IF($N146=\"\",\"\",IF(OR($P146=\"DNS\",$Q146=\"DNS\",$R146=\"DNS\"),\"DNS\",IF(OR($P146=\"NP\",$Q146=\"NP\",$R146=\"NP\"),\"NP\",IF(ISERROR(MEDIAN($P146:$R146)),\"DNS\",IF(COUNT($P146:$R146)<3,MAX($P146:$R146),MEDIAN($P146:$R146))))))","v":""},{"$f":"IF($L146=\"x\",\"x\",IF($N146=\"\",\"\",IF(OR(U146=\"NP\",U146=\"DNS\"),IF(U146=\"NP\",MAX(Oblast2)+COUNTIF(($J$12:$J$154),MAX(Oblast2))+COUNTIF(($U$12:$U$154),MAX(Oblast2)),MAX(Oblast2)+COUNTIF(($J$12:$J$154),MAX(Oblast2))+COUNTIF(($U$12:$U$154),MAX(Oblast2))+COUNTIF(($J$12:$J$154),\"NP\")+COUNTIF(($U$12:$U$154),\"NP\")),U146)))","v":""},{"$f":"IF($L146=\"x\",\"x\",IF($N146=\"\",\"\",IF(OR(V146=\"NP\",V146=\"DNS\"),V146,RANK(V146,Oblast,1))))","v":""},{"$f":"IF($L146=\"x\",\"x\",IF($N146=\"\",\"\",IF(OR(AND(S146=\"NP\",S147=\"NP\"),AND(S146=\"DNS\",S147=\"DNS\")),S146,IF(AND(S146=\"NP\",S147=\"DNS\"),S146,IF(AND(S146=\"DNS\",S147=\"NP\"),S147,MIN(S146,S147))))))","v":""}]
[null,null,null,"II.pokus",null,null,null,{"$f":"IF($C146=\"\",\"\",IF(OR($E147=\"DNS\",$F147=\"DNS\",$G147=\"DNS\"),\"DNS\",IF(OR($E147=\"NP\",$F147=\"NP\",$G147=\"NP\"),\"NP\",IF(ISERROR(MEDIAN($E147:$G147)),\"DNS\",IF(COUNT($E147:$G147)<3,MAX($E147:$G147),MEDIAN($E147:$G147))))))","v":""},null,null,null,null,null,null,"II.pokus",null,null,null,{"$f":"IF($N146=\"\",\"\",IF(OR($P147=\"DNS\",$Q147=\"DNS\",$R147=\"DNS\"),\"DNS\",IF(OR($P147=\"NP\",$Q147=\"NP\",$R147=\"NP\"),\"NP\",IF(ISERROR(MEDIAN($P147:$R147)),\"DNS\",IF(COUNT($P147:$R147)<3,MAX($P147:$R147),MEDIAN($P147:$R147))))))","v":""}]
[{"$f":"IF(Start!Q17=\"\",\"\",\"x\")","v":""},87,{"$f":"IF(Start!O17=\"\",\"\",Start!O17)","v":""},"I.pokus",null,null,null,{"$f":"IF($C148=\"\",\"\",IF(OR($E148=\"DNS\",$F148=\"DNS\",$G148=\"DNS\"),\"DNS\",IF(OR($E148=\"NP\",$F148=\"NP\",$G148=\"NP\"),\"NP\",IF(ISERROR(MEDIAN($E148:$G148)),\"DNS\",IF(COUNT($E148:$G148)<3,MAX($E148:$G148),MEDIAN($E148:$G148))))))","v":""},{"$f":"IF($A148=\"x\",\"x\",IF($C148=\"\",\"\",IF(OR(J148=\"NP\",J148=\"DNS\"),IF(J148=\"NP\",MAX(Oblast2)+COUNTIF(($J$12:$J$154),MAX(Oblast2))+COUNTIF(($U$12:$U$154),MAX(Oblast2)),MAX(Oblast2)+COUNTIF(($J$12:$J$154),MAX(Oblast2))+COUNTIF(($U$12:$U$154),MAX(Oblast2))+COUNTIF(($J$12:$J$154),\"NP\")+COUNTIF(($U$12:$U$154),\"NP\")),J148)))","v":""},{"$f":"IF($A148=\"x\",\"x\",IF($C148=\"\",\"\",IF(OR(K148=\"NP\",K148=\"DNS\"),K148,RANK(K148,Oblast,1))))","v":""},{"$f":"IF($A148=\"x\",\"x\",IF($C148=\"\",\"\",IF(OR(AND(H148=\"NP\",H149=\"NP\"),AND(H148=\"DNS\",H149=\"DNS\")),H148,IF(AND(H148=\"NP\",H149=\"DNS\"),H148,IF(AND(H148=\"DNS\",H149=\"NP\"),H149,MIN(H148,H149))))))","v":""},{"$f":"IF(Start!Q27=\"\",\"\",\"x\")","v":""},97,{"$f":"IF(Start!O27=\"\",\"\",Start!O27)","v":""},"I.pokus",null,null,null,{"$f":"IF($N148=\"\",\"\",IF(OR($P148=\"DNS\",$Q148=\"DNS\",$R148=\"DNS\"),\"DNS\",IF(OR($P148=\"NP\",$Q148=\"NP\",$R148=\"NP\"),\"NP\",IF(ISERROR(MEDIAN($P148:$R148)),\"DNS\",IF(COUNT($P148:$R148)<3,MAX($P148:$R148),MEDIAN($P148:$R148))))))","v":""},{"$f":"IF($L148=\"x\",\"x\",IF($N148=\"\",\"\",IF(OR(U148=\"NP\",U148=\"DNS\"),IF(U148=\"NP\",MAX(Oblast2)+COUNTIF(($J$12:$J$154),MAX(Oblast2))+COUNTIF(($U$12:$U$154),MAX(Oblast2)),MAX(Oblast2)+COUNTIF(($J$12:$J$154),MAX(Oblast2))+COUNTIF(($U$12:$U$154),MAX(Oblast2))+COUNTIF(($J$12:$J$154),\"NP\")+COUNTIF(($U$12:$U$154),\"NP\")),U148)))","v":""},{"$f":"IF($L148=\"x\",\"x\",IF($N148=\"\",\"\",IF(OR(V148=\"NP\",V148=\"DNS\"),V148,RANK(V148,Oblast,1))))","v":""},{"$f":"IF($L148=\"x\",\"x\",IF($N148=\"\",\"\",IF(OR(AND(S148=\"NP\",S149=\"NP\"),AND(S148=\"DNS\",S149=\"DNS\")),S148,IF(AND(S148=\"NP\",S149=\"DNS\"),S148,IF(AND(S148=\"DNS\",S149=\"NP\"),S149,MIN(S148,S149))))))","v":""}]
[null,null,null,"II.pokus",null,null,null,{"$f":"IF($C148=\"\",\"\",IF(OR($E149=\"DNS\",$F149=\"DNS\",$G149=\"DNS\"),\"DNS\",IF(OR($E149=\"NP\",$F149=\"NP\",$G149=\"NP\"),\"NP\",IF(ISERROR(MEDIAN($E149:$G149)),\"DNS\",IF(COUNT($E149:$G149)<3,MAX($E149:$G149),MEDIAN($E149:$G149))))))","v":""},null,null,null,null,null,null,"II.pokus",null,null,null,{"$f":"IF($N148=\"\",\"\",IF(OR($P149=\"DNS\",$Q149=\"DNS\",$R149=\"DNS\"),\"DNS\",IF(OR($P149=\"NP\",$Q149=\"NP\",$R149=\"NP\"),\"NP\",IF(ISERROR(MEDIAN($P149:$R149)),\"DNS\",IF(COUNT($P149:$R149)<3,MAX($P149:$R149),MEDIAN($P149:$R149))))))","v":""}]
[{"$f":"IF(Start!Q18=\"\",\"\",\"x\")","v":""},88,{"$f":"IF(Start!O18=\"\",\"\",Start!O18)","v":""},"I.pokus",null,null,null,{"$f":"IF($C150=\"\",\"\",IF(OR($E150=\"DNS\",$F150=\"DNS\",$G150=\"DNS\"),\"DNS\",IF(OR($E150=\"NP\",$F150=\"NP\",$G150=\"NP\"),\"NP\",IF(ISERROR(MEDIAN($E150:$G150)),\"DNS\",IF(COUNT($E150:$G150)<3,MAX($E150:$G150),MEDIAN($E150:$G150))))))","v":""},{"$f":"IF($A150=\"x\",\"x\",IF($C150=\"\",\"\",IF(OR(J150=\"NP\",J150=\"DNS\"),IF(J150=\"NP\",MAX(Oblast2)+COUNTIF(($J$12:$J$154),MAX(Oblast2))+COUNTIF(($U$12:$U$154),MAX(Oblast2)),MAX(Oblast2)+COUNTIF(($J$12:$J$154),MAX(Oblast2))+COUNTIF(($U$12:$U$154),MAX(Oblast2))+COUNTIF(($J$12:$J$154),\"NP\")+COUNTIF(($U$12:$U$154),\"NP\")),J150)))","v":""},{"$f":"IF($A150=\"x\",\"x\",IF($C150=\"\",\"\",IF(OR(K150=\"NP\",K150=\"DNS\"),K150,RANK(K150,Oblast,1))))","v":""},{"$f":"IF($A150=\"x\",\"x\",IF($C150=\"\",\"\",IF(OR(AND(H150=\"NP\",H151=\"NP\"),AND(H150=\"DNS\",H151=\"DNS\")),H150,IF(AND(H150=\"NP\",H151=\"DNS\"),H150,IF(AND(H150=\"DNS\",H151=\"NP\"),H151,MIN(H150,H151))))))","v":""},{"$f":"IF(Start!Q28=\"\",\"\",\"x\")","v":""},98,{"$f":"IF(Start!O28=\"\",\"\",Start!O28)","v":""},"I.pokus",null,null,null,{"$f":"IF($N150=\"\",\"\",IF(OR($P150=\"DNS\",$Q150=\"DNS\",$R150=\"DNS\"),\"DNS\",IF(OR($P150=\"NP\",$Q150=\"NP\",$R150=\"NP\"),\"NP\",IF(ISERROR(MEDIAN($P150:$R150)),\"DNS\",IF(COUNT($P150:$R150)<3,MAX($P150:$R150),MEDIAN($P150:$R150))))))","v":""},{"$f":"IF($L150=\"x\",\"x\",IF($N150=\"\",\"\",IF(OR(U150=\"NP\",U150=\"DNS\"),IF(U150=\"NP\",MAX(Oblast2)+COUNTIF(($J$12:$J$154),MAX(Oblast2))+COUNTIF(($U$12:$U$154),MAX(Oblast2)),MAX(Oblast2)+COUNTIF(($J$12:$J$154),MAX(Oblast2))+COUNTIF(($U$12:$U$154),MAX(Oblast2))+COUNTIF(($J$12:$J$154),\"NP\")+COUNTIF(($U$12:$U$154),\"NP\")),U150)))","v":""},{"$f":"IF($L150=\"x\",\"x\",IF($N150=\"\",\"\",IF(OR(V150=\"NP\",V150=\"DNS\"),V150,RANK(V150,Oblast,1))))","v":""},{"$f":"IF($L150=\"x\",\"x\",IF($N150=\"\",\"\",IF(OR(AND(S150=\"NP\",S151=\"NP\"),AND(S150=\"DNS\",S151=\"DNS\")),S150,IF(AND(S150=\"NP\",S151=\"DNS\"),S150,IF(AND(S150=\"DNS\",S151=\"NP\"),S151,MIN(S150,S151))))))","v":""}]
[null,null,null,"II.pokus",null,null,null,{"$f":"IF($C150=\"\",\"\",IF(OR($E151=\"DNS\",$F151=\"DNS\",$G151=\"DNS\"),\"DNS\",IF(OR($E151=\"NP\",$F151=\"NP\",$G151=\"NP\"),\"NP\",IF(ISERROR(MEDIAN($E151:$G151)),\"DNS\",IF(COUNT($E151:$G151)<3,MAX($E151:$G151),MEDIAN($E151:$G151))))))","v":""},null,null,null,null,null,null,"II.pokus",null,null,null,{"$f":"IF($N150=\"\",\"\",IF(OR($P151=\"DNS\",$Q151=\"DNS\",$R151=\"DNS\"),\"DNS\",IF(OR($P151=\"NP\",$Q151=\"NP\",$R151=\"NP\"),\"NP\",IF(ISERROR(MEDIAN($P151:$R151)),\"DNS\",IF(COUNT($P151:$R151)<3,MAX($P151:$R151),MEDIAN($P151:$R151))))))","v":""}]
[{"$f":"IF(Start!Q19=\"\",\"\",\"x\")","v":""},89,{"$f":"IF(Start!O19=\"\",\"\",Start!O19)","v":""},"I.pokus",null,null,null,{"$f":"IF($C152=\"\",\"\",IF(OR($E152=\"DNS\",$F152=\"DNS\",$G152=\"DNS\"),\"DNS\",IF(OR($E152=\"NP\",$F152=\"NP\",$G152=\"NP\"),\"NP\",IF(ISERROR(MEDIAN($E152:$G152)),\"DNS\",IF(COUNT($E152:$G152)<3,MAX($E152:$G152),MEDIAN($E152:$G152))))))","v":""},{"$f":"IF($A152=\"x\",\"x\",IF($C152=\"\",\"\",IF(OR(J152=\"NP\",J152=\"DNS\"),IF(J152=\"NP\",MAX(Oblast2)+COUNTIF(($J$12:$J$154),MAX(Oblast2))+COUNTIF(($U$12:$U$154),MAX(Oblast2)),MAX(Oblast2)+COUNTIF(($J$12:$J$154),MAX(Oblast2))+COUNTIF(($U$12:$U$154),MAX(Oblast2))+COUNTIF(($J$12:$J$154),\"NP\")+COUNTIF(($U$12:$U$154),\"NP\")),J152)))","v":""},{"$f":"IF($A152=\"x\",\"x\",IF($C152=\"\",\"\",IF(OR(K152=\"NP\",K152=\"DNS\"),K152,RANK(K152,Oblast,1))))","v":""},{"$f":"IF($A152=\"x\",\"x\",IF($C152=\"\",\"\",IF(OR(AND(H152=\"NP\",H153=\"NP\"),AND(H152=\"DNS\",H153=\"DNS\")),H152,IF(AND(H152=\"NP\",H153=\"DNS\"),H152,IF(AND(H152=\"DNS\",H153=\"NP\"),H153,MIN(H152,H153))))))","v":""},{"$f":"IF(Start!Q29=\"\",\"\",\"x\")","v":""},99,{"$f":"IF(Start!O29=\"\",\"\",Start!O29)","v":""},"I.pokus",null,null,null,{"$f":"IF($N152=\"\",\"\",IF(OR($P152=\"DNS\",$Q152=\"DNS\",$R152=\"DNS\"),\"DNS\",IF(OR($P152=\"NP\",$Q152=\"NP\",$R152=\"NP\"),\"NP\",IF(ISERROR(MEDIAN($P152:$R152)),\"DNS\",IF(COUNT($P152:$R152)<3,MAX($P152:$R152),MEDIAN($P152:$R152))))))","v":""},{"$f":"IF($L152=\"x\",\"x\",IF($N152=\"\",\"\",IF(OR(U152=\"NP\",U152=\"DNS\"),IF(U152=\"NP\",MAX(Oblast2)+COUNTIF(($J$12:$J$154),MAX(Oblast2))+COUNTIF(($U$12:$U$154),MAX(Oblast2)),MAX(Oblast2)+COUNTIF(($J$12:$J$154),MAX(Oblast2))+COUNTIF(($U$12:$U$154),MAX(Oblast2))+COUNTIF(($J$12:$J$154),\"NP\")+COUNTIF(($U$12:$U$154),\"NP\")),U152)))","v":""},{"$f":"IF($L152=\"x\",\"x\",IF($N152=\"\",\"\",IF(OR(V152=\"NP\",V152=\"DNS\"),V152,RANK(V152,Oblast,1))))","v":""},{"$f":"IF($L152=\"x\",\"x\",IF($N152=\"\",\"\",IF(OR(AND(S152=\"NP\",S153=\"NP\"),AND(S152=\"DNS\",S153=\"DNS\")),S152,IF(AND(S152=\"NP\",S153=\"DNS\"),S152,IF(AND(S152=\"DNS\",S153=\"NP\"),S153,MIN(S152,S153))))))","v":""}]
[null,null,null,"II.pokus",null,null,null,{"$f":"IF($C152=\"\",\"\",IF(OR($E153=\"DNS\",$F153=\"DNS\",$G153=\"DNS\"),\"DNS\",IF(OR($E153=\"NP\",$F153=\"NP\",$G153=\"NP\"),\"NP\",IF(ISERROR(MEDIAN($E153:$G153)),\"DNS\",IF(COUNT($E153:$G153)<3,MAX($E153:$G153),MEDIAN($E153:$G153))))))","v":""},null,null,null,null,null,null,"II.pokus",null,null,null,{"$f":"IF($N152=\"\",\"\",IF(OR($P153=\"DNS\",$Q153=\"DNS\",$R153=\"DNS\"),\"DNS\",IF(OR($P153=\"NP\",$Q153=\"NP\",$R153=\"NP\"),\"NP\",IF(ISERROR(MEDIAN($P153:$R153)),\"DNS\",IF(COUNT($P153:$R153)<3,MAX($P153:$R153),MEDIAN($P153:$R153))))))","v":""}]
[{"$f":"IF(Start!Q20=\"\",\"\",\"x\")","v":""},90,{"$f":"IF(Start!O20=\"\",\"\",Start!O20)","v":""},"I.pokus",null,null,null,{"$f":"IF($C154=\"\",\"\",IF(OR($E154=\"DNS\",$F154=\"DNS\",$G154=\"DNS\"),\"DNS\",IF(OR($E154=\"NP\",$F154=\"NP\",$G154=\"NP\"),\"NP\",IF(ISERROR(MEDIAN($E154:$G154)),\"DNS\",IF(COUNT($E154:$G154)<3,MAX($E154:$G154),MEDIAN($E154:$G154))))))","v":""},{"$f":"IF($A154=\"x\",\"x\",IF($C154=\"\",\"\",IF(OR(J154=\"NP\",J154=\"DNS\"),IF(J154=\"NP\",MAX(Oblast2)+COUNTIF(($J$12:$J$154),MAX(Oblast2))+COUNTIF(($U$12:$U$154),MAX(Oblast2)),MAX(Oblast2)+COUNTIF(($J$12:$J$154),MAX(Oblast2))+COUNTIF(($U$12:$U$154),MAX(Oblast2))+COUNTIF(($J$12:$J$154),\"NP\")+COUNTIF(($U$12:$U$154),\"NP\")),J154)))","v":""},{"$f":"IF($A154=\"x\",\"x\",IF($C154=\"\",\"\",IF(OR(K154=\"NP\",K154=\"DNS\"),K154,RANK(K154,Oblast,1))))","v":""},{"$f":"IF($A154=\"x\",\"x\",IF($C154=\"\",\"\",IF(OR(AND(H154=\"NP\",H155=\"NP\"),AND(H154=\"DNS\",H155=\"DNS\")),H154,IF(AND(H154=\"NP\",H155=\"DNS\"),H154,IF(AND(H154=\"DNS\",H155=\"NP\"),H155,MIN(H154,H155))))))","v":""},{"$f":"IF(Start!Q30=\"\",\"\",\"x\")","v":""},100,{"$f":"IF(Start!O30=\"\",\"\",Start!O30)","v":""},"I.pokus",null,null,null,{"$f":"IF($N154=\"\",\"\",IF(OR($P154=\"DNS\",$Q154=\"DNS\",$R154=\"DNS\"),\"DNS\",IF(OR($P154=\"NP\",$Q154=\"NP\",$R154=\"NP\"),\"NP\",IF(ISERROR(MEDIAN($P154:$R154)),\"DNS\",IF(COUNT($P154:$R154)<3,MAX($P154:$R154),MEDIAN($P154:$R154))))))","v":""},{"$f":"IF($L154=\"x\",\"x\",IF($N154=\"\",\"\",IF(OR(U154=\"NP\",U154=\"DNS\"),IF(U154=\"NP\",MAX(Oblast2)+COUNTIF(($J$12:$J$154),MAX(Oblast2))+COUNTIF(($U$12:$U$154),MAX(Oblast2)),MAX(Oblast2)+COUNTIF(($J$12:$J$154),MAX(Oblast2))+COUNTIF(($U$12:$U$154),MAX(Oblast2))+COUNTIF(($J$12:$J$154),\"NP\")+COUNTIF(($U$12:$U$154),\"NP\")),U154)))","v":""},{"$f":"IF($L154=\"x\",\"x\",IF($N154=\"\",\"\",IF(OR(V154=\"NP\",V154=\"DNS\"),V154,RANK(V154,Oblast,1))))","v":""},{"$f":"IF($L154=\"x\",\"x\",IF($N154=\"\",\"\",IF(OR(AND(S154=\"NP\",S155=\"NP\"),AND(S154=\"DNS\",S155=\"DNS\")),S154,IF(AND(S154=\"NP\",S155=\"DNS\"),S154,IF(AND(S154=\"DNS\",S155=\"NP\"),S155,MIN(S154,S155))))))","v":""}]
[null,null,null,"II.pokus",null,null,null,{"$f":"IF($C154=\"\",\"\",IF(OR($E155=\"DNS\",$F155=\"DNS\",$G155=\"DNS\"),\"DNS\",IF(OR($E155=\"NP\",$F155=\"NP\",$G155=\"NP\"),\"NP\",IF(ISERROR(MEDIAN($E155:$G155)),\"DNS\",IF(COUNT($E155:$G155)<3,MAX($E155:$G155),MEDIAN($E155:$G155))))))","v":""},null,null,null,null,null,null,"II.pokus",null,null,null,{"$f":"IF($N154=\"\",\"\",IF(OR($P155=\"DNS\",$Q155=\"DNS\",$R155=\"DNS\"),\"DNS\",IF(OR($P155=\"NP\",$Q155=\"NP\",$R155=\"NP\"),\"NP\",IF(ISERROR(MEDIAN($P155:$R155)),\"DNS\",IF(COUNT($P155:$R155)<3,MAX($P155:$R155),MEDIAN($P155:$R155))))))","v":""}]

{"sheet":"PÚ","index":6,"n_rows":155,"n_cols":22,"rows_kept":155,"cut":false,"hidden":false,"merged":[[0,13,3,19],[4,1,6,3],[4,4,6,8],[4,12,6,14],[0,1,2,8],[3,1,3,8],[4,15,6,19],[7,12,8,14],[9,14,10,14],[9,12,10,12],[7,4,10,4],[7,6,10,6],[7,5,10,5],[7,1,8,3],[9,3,10,3],[7,7,10,7],[7,8,10,8],[9,1,10,1],[7,19,10,19],[7,18,10,18],[9,13,10,13],[7,16,10,16],[7,17,10,17],[7,15,10,15],[48,9,49,9],[9,2,10,2],[13,0,14,0],[13,1,14,1],[13,2,14,2],[13,8,14,8],[11,12,12,12],[11,13,12,13],[29,12,30,12],[29,13,30,13],[46,11,47,11],[44,0,45,0],[44,1,45,1],[44,2,45,2],[44,8,45,8],[44,9,45,9],[42,0,43,0],[29,11,30,11],[48,10,49,10],[48,11,49,11],[48,0,49,0],[48,1,49,1],[48,2,49,2],[48,8,49,8],[46,0,47,0],[11,1,12,1],[11,2,12,2],[11,8,12,8],[11,9,12,9],[11,10,12,10],[11,11,12,11],[50,0,51,0],[50,1,51,1],[50,2,51,2],[50,8,51,8],[50,9,51,9],[50,10,51,10],[29,0,30,0],[29,1,30,1],[29,2,30,2],[29,8,30,8],[29,9,30,9],[29,10,30,10],[46,1,47,1],[46,2,47,2],[46,8,47,8],[46,9,47,9],[46,10,47,10],[44,10,45,10],[11,21,12,21],[13,9,14,9],[13,10,14,10],[13,11,14,11],[13,12,14,12],[13,13,14,13],[13,21,14,21],[15,0,16,0],[15,1,16,1],[15,2,16,2],[15,8,16,8],[15,9,16,9],[15,10,16,10],[15,11,16,11],[15,12,16,12],[15,13,16,13],[15,19,16,19],[15,20,16,20],[13,19,14,19],[13,20,14,20],[15,21,16,21],[11,19,12,19],[11,20,12,20],[11,0,12,0],[17,21,18,21],[19,0,20,0],[19,1,20,1],[19,2,20,2],[19,8,20,8],[19,9,20,9],[19,10,20,10],[19,11,20,11],[19,12,20,12],[19,13,20,13],[19,19,20,19],[19,20,20,20],[17,19,18,19],[17,20,18,20],[19,21,20,21],[17,0,18,0],[17,1,18,1],[17,2,18,2],[17,8,18,8],[17,9,18,9],[17,10,18,10],[17,11,18,11],[17,12,18,12],[17,13,18,13],[21,21,22,21],[23,0,24,0],[23,1,24,1],[23,2,24,2],[23,8,24,8],[23,9,24,9],[23,10,24,10],[23,11,24,11],[23,12,24,12],[23,13,24,13],[23,19,24,19],[23,20,24,20],[21,19,22,19],[21,20,22,20],[23,21,24,21],[21,0,22,0],[21,1,22,1],[21,2,22,2],[21,8,22,8],[21,9,22,9],[21,10,22,10],[21,11,22,11],[21,12,22,12],[21,13,22,13],[25,21,26,21],[27,0,28,0],[27,1,28,1],[27,2,28,2],[27,8,28,8],[27,9,28,9],[27,10,28,10],[27,11,28,11],[27,12,28,12],[27,13,28,13],[27,19,28,19],[27,20,28,20],[25,19,26,19],[25,20,26,20],[27,21,28,21],[25,0,26,0],[25,1,26,1],[25,2,26,2],[25,8,26,8],[25,9,26,9],[25,10,26,10],[25,11,26,11],[25,12,26,12],[25,13,26,13],[29,19,30,19],[29,20,30,20],[29,21,30,21],[48,13,49,13],[48,19,49,19],[48,20,49,20],[48,21,49,21],[46,13,47,13],[46,19,47,19],[46,20,47,20],[38,17,41,17],[38,18,41,18],[38,19,41,19],[38,12,39,14],[38,15,41,15],[40,12,41,12],[40,13,41,13],[40,14,41,14],[38,16,41,16],[48,12,49,12],[44,21,45,21],[42,12,43,12],[46,21,47,21],[46,12,47,12],[44,11,45,11],[44,12,45,12],[44,13,45,13],[44,19,45,19],[44,20,45,20],[42,13,43,13],[42,19,43,19],[42,20,43,20],[42,21,43,21],[42,1,43,1],[42,2,43,2],[42,8,43,8],[42,9,43,9],[42,10,43,10],[42,11,43,11],[31,13,34,19],[35,1,37,3],[35,4,37,8],[35,12,37,14],[35,15,37,19],[31,1,33,8],[34,1,34,8],[38,1,39,3],[38,4,41,4],[38,5,41,5],[38,6,41,6],[40,1,41,1],[40,2,41,2],[40,3,41,3],[38,7,41,7],[38,8,41,8],[50,21,51,21],[52,0,53,0],[52,1,53,1],[52,2,53,2],[52,8,53,8],[52,9,53,9],[52,10,53,10],[52,11,53,11],[52,12,53,12],[52,13,53,13],[52,21,53,21],[50,12,51,12],[50,13,51,13],[50,19,51,19],[50,20,51,20],[50,11,51,11],[52,19,53,19],[52,20,53,20],[56,21,57,21],[56,19,57,19],[56,20,57,20],[54,0,55,0],[54,1,55,1],[54,2,55,2],[54,8,55,8],[54,9,55,9],[54,10,55,10],[54,11,55,11],[56,0,57,0],[56,1,57,1],[56,2,57,2],[56,8,57,8],[56,9,57,9],[56,10,57,10],[56,11,57,11],[56,12,57,12],[56,13,57,13],[54,12,55,12],[54,13,55,13],[54,19,55,19],[54,20,55,20],[54,21,55,21],[60,12,61,12],[60,13,61,13],[58,12,59,12],[58,13,59,13],[60,19,61,19],[60,20,61,20],[58,21,59,21],[60,0,61,0],[60,1,61,1],[60,2,61,2],[60,8,61,8],[60,9,61,9],[60,10,61,10],[60,11,61,11],[60,21,61,21],[58,0,59,0],[58,1,59,1],[58,2,59,2],[58,8,59,8],[58,9,59,9],[58,10,59,10],[58,11,59,11],[58,19,59,19],[58,20,59,20],[62,13,65,19],[66,1,68,3],[66,4,68,8],[66,12,68,14],[66,15,68,19],[62,1,64,8],[65,1,65,8],[71,14,72,14],[69,1,70,3],[69,4,72,4],[69,5,72,5],[69,6,72,6],[71,1,72,1],[71,2,72,2],[71,3,72,3],[69,16,72,16],[69,17,72,17],[69,18,72,18],[69,19,72,19],[69,7,72,7],[69,8,72,8],[69,12,70,14],[69,15,72,15],[71,12,72,12],[71,13,72,13],[73,20,74,20],[73,21,74,21],[73,9,74,9],[73,10,74,10],[73,11,74,11],[73,12,74,12],[75,0,76,0],[75,1,76,1],[75,2,76,2],[75,8,76,8],[73,13,74,13],[73,19,74,19],[73,0,74,0],[73,1,74,1],[73,2,74,2],[73,8,74,8],[75,13,76,13],[75,19,76,19],[75,20,76,20],[75,21,76,21],[75,9,76,9],[75,10,76,10],[75,11,76,11],[75,12,76,12],[77,20,78,20],[77,21,78,21],[77,9,78,9],[77,10,78,10],[77,11,78,11],[77,12,78,12],[79,0,80,0],[79,1,80,1],[79,2,80,2],[79,8,80,8],[77,13,78,13],[77,19,78,19],[77,0,78,0],[77,1,78,1],[77,2,78,2],[77,8,78,8],[79,13,80,13],[79,19,80,19],[79,20,80,20],[79,21,80,21],[79,9,80,9],[79,10,80,10],[79,11,80,11],[79,12,80,12],[81,20,82,20],[81,21,82,21],[81,9,82,9],[81,10,82,10],[81,11,82,11],[81,12,82,12],[83,0,84,0],[83,1,84,1],[83,2,84,2],[83,8,84,8],[81,13,82,13],[81,19,82,19],[81,0,82,0],[81,1,82,1],[81,2,82,2],[81,8,82,8],[83,13,84,13],[83,19,84,19],[83,20,84,20],[83,21,84,21],[83,9,84,9],[83,10,84,10],[83,11,84,11],[83,12,84,12],[85,20,86,20],[85,21,86,21],[85,9,86,9],[85,10,86,10],[85,11,86,11],[85,12,86,12],[87,0,88,0],[87,1,88,1],[87,2,88,2],[87,8,88,8],[85,13,86,13],[85,19,86,19],[85,0,86,0],[85,1,86,1],[85,2,86,2],[85,8,86,8],[87,13,88,13],[87,19,88,19],[87,20,88,20],[87,21,88,21],[87,9,88,9],[87,10,88,10],[87,11,88,11],[87,12,88,12],[89,20,90,20],[89,21,90,21],[89,9,90,9],[89,10,90,10],[89,11,90,11],[89,12,90,12],[91,0,92,0],[91,1,92,1],[91,2,92,2],[91,8,92,8],[89,13,90,13],[89,19,90,19],[89,0,90,0],[89,1,90,1],[89,2,90,2],[89,8,90,8],[91,13,92,13],[91,19,92,19],[91,20,92,20],[91,21,92,21],[91,9,92,9],[91,10,92,10],[91,11,92,11],[91,12,92,12],[93,13,96,19],[97,1,99,3],[97,4,99,8],[97,12,99,14],[97,15,99,19],[93,1,95,8],[96,1,96,8],[102,14,103,14],[100,1,101,3],[100,4,103,4],[100,5,103,5],[100,6,103,6],[102,1,103,1],[102,2,103,2],[102,3,103,3],[100,16,103,16],[100,17,103,17],[100,18,103,18],[100,19,103,19],[100,7,103,7],[100,8,103,8],[100,12,101,14],[100,15,103,15],[102,12,103,12],[102,13,103,13],[104,20,105,20],[104,21,105,21],[104,9,105,9],[104,10,105,10],[104,11,105,11],[104,12,105,12],[106,0,107,0],[106,1,107,1],[106,2,107,2],[106,8,107,8],[104,13,105,13],[104,19,105,19],[104,0,105,0],[104,1,105,1],[104,2,105,2],[104,8,105,8],[106,13,107,13],[106,19,107,19],[106,20,107,20],[106,21,107,21],[106,9,107,9],[106,10,107,10],[106,11,107,11],[106,12,107,12],[108,20,109,20],[108,21,109,21],[108,9,109,9],[108,10,109,10],[108,11,109,11],[108,12,109,12],[110,0,111,0],[110,1,111,1],[110,2,111,2],[110,8,111,8],[108,13,109,13],[108,19,109,19],[108,0,109,0],[108,1,109,1],[108,2,109,2],[108,8,109,8],[110,13,111,13],[110,19,111,19],[110,20,111,20],[110,21,111,21],[110,9,111,9],[110,10,111,10],[110,11,111,11],[110,12,111,12],[112,20,113,20],[112,21,113,21],[112,9,113,9],[112,10,113,10],[112,11,113,11],[112,12,113,12],[114,0,115,0],[114,1,115,1],[114,2,115,2],[114,8,115,8],[112,13,113,13],[112,19,113,19],[112,0,113,0],[112,1,113,1],[112,2,113,2],[112,8,113,8],[114,13,115,13],[114,19,115,19],[114,20,115,20],[114,21,115,21],[114,9,115,9],[114,10,115,10],[114,11,115,11],[114,12,115,12],[116,20,117,20],[116,21,117,21],[116,9,117,9],[116,10,117,10],[116,11,117,11],[116,12,117,12],[118,0,119,0],[118,1,119,1],[118,2,119,2],[118,8,119,8],[116,13,117,13],[116,19,117,19],[116,0,117,0],[116,1,117,1],[116,2,117,2],[116,8,117,8],[118,13,119,13],[118,19,119,19],[118,20,119,20],[118,21,119,21],[118,9,119,9],[118,10,119,10],[118,11,119,11],[118,12,119,12],[120,20,121,20],[120,21,121,21],[120,9,121,9],[120,10,121,10],[120,11,121,11],[120,12,121,12],[122,0,123,0],[122,1,123,1],[122,2,123,2],[122,8,123,8],[120,13,121,13],[120,19,121,19],[120,0,121,0],[120,1,121,1],[120,2,121,2],[120,8,121,8],[122,13,123,13],[122,19,123,19],[122,20,123,20],[122,21,123,21],[122,9,123,9],[122,10,123,10],[122,11,123,11],[122,12,123,12],[124,13,127,19],[128,1,130,3],[128,4,130,8],[128,12,130,14],[128,15,130,19],[124,1,126,8],[127,1,127,8],[135,20,136,20],[135,21,136,21],[135,9,136,9],[135,10,136,10],[135,11,136,11],[135,12,136,12],[131,1,132,3],[131,4,134,4],[131,5,134,5],[131,6,134,6],[133,1,134,1],[133,2,134,2],[133,3,134,3],[131,16,134,16],[131,17,134,17],[131,18,134,18],[131,19,134,19],[131,7,134,7],[131,8,134,8],[131,12,132,14],[131,15,134,15],[135,13,136,13],[135,19,136,19],[135,0,136,0],[135,1,136,1],[135,2,136,2],[135,8,136,8],[137,13,138,13],[137,19,138,19],[133,12,134,12],[133,13,134,13],[133,14,134,14],[137,21,138,21],[137,9,138,9],[137,10,138,10],[137,11,138,11],[137,12,138,12],[139,20,140,20],[139,21,140,21],[139,9,140,9],[139,10,140,10],[139,11,140,11],[139,12,140,12],[139,13,140,13],[139,19,140,19],[139,0,140,0],[139,1,140,1],[139,2,140,2],[139,8,140,8],[141,13,142,13],[141,19,142,19],[137,20,138,20],[137,0,138,0],[137,1,138,1],[137,2,138,2],[137,8,138,8],[141,21,142,21],[141,9,142,9],[141,10,142,10],[141,11,142,11],[141,12,142,12],[143,20,144,20],[143,21,144,21],[143,9,144,9],[143,10,144,10],[143,11,144,11],[143,12,144,12],[143,13,144,13],[143,19,144,19],[143,0,144,0],[143,1,144,1],[143,2,144,2],[143,8,144,8],[145,13,146,13],[145,19,146,19],[141,20,142,20],[141,0,142,0],[141,1,142,1],[141,2,142,2],[141,8,142,8],[145,21,146,21],[145,9,146,9],[145,10,146,10],[145,11,146,11],[145,12,146,12],[147,20,148,20],[147,21,148,21],[147,9,148,9],[147,10,148,10],[147,11,148,11],[147,12,148,12],[147,13,148,13],[147,19,148,19],[147,0,148,0],[147,1,148,1],[147,2,148,2],[147,8,148,8],[149,13,150,13],[149,19,150,19],[145,20,146,20],[145,0,146,0],[145,1,146,1],[145,2,146,2],[145,8,146,8],[149,21,150,21],[149,9,150,9],[149,10,150,10],[149,11,150,11],[149,12,150,12],[151,20,152,20],[151,21,152,21],[151,9,152,9],[151,10,152,10],[151,11,152,11],[151,12,152,12],[151,13,152,13],[151,19,152,19],[151,0,152,0],[151,1,152,1],[151,2,152,2],[151,8,152,8],[153,13,154,13],[153,19,154,19],[149,20,150,20],[149,0,150,0],[149,1,150,1],[149,2,150,2],[149,8,150,8],[153,20,154,20],[153,21,154,21],[153,9,154,9],[153,10,154,10],[153,11,154,11],[153,12,154,12],[153,0,154,0],[153,1,154,1],[153,2,154,2],[153,8,154,8]]}
[null," CELOSTÁTNÍ HRA PLAMEN"]
[]
[]
[null," Výsledková listina č: 1"]
[null,"Požární útok",null,null,"Základem je čas naměřený od vydání signálu startéra do signalizace obou terčů",null,null,null,null,null,null,null,"Požární útok",null,null,"Základem je čas naměřený od vydání signálu startéra do signalizace obou terčů"]
[]
[]
[null,{"$f":"\"KATEGORIE: \"&Start!$N$2","v":"KATEGORIE: starší"},null,null,"I. časoměřič","II. časoměřič","III. časoměřič","úřední čas","počet bodů za umístění",null,null,null,{"$f":"\"KATEGORIE: \"&Start!$N$2","v":"KATEGORIE: starší"},null,null,"I. časoměřič","II. časoměřič","III. časoměřič","úřední čas","počet bodů za umístění"]
[]
[null,"start. číslo","SOUTĚŽNÍ DRUŽSTVO","pokus",null,null,null,null,null,null,null,null,"start. číslo","SOUTĚŽNÍ DRUŽSTVO","pokus"]
[]
[{"$f":"IF(Start!E6=\"\",\"\",\"x\")","v":""},1,{"$f":"IF(Start!C6=\"\",\"\",Start!C6)","v":"Zbiroh"},"I.pokus",100.58,97.2,null,{"$f":"IF($C12=\"\",\"\",IF(OR($E12=\"DNS\",$F12=\"DNS\",$G12=\"DNS\"),\"DNS\",IF(OR($E12=\"NP\",$F12=\"NP\",$G12=\"NP\"),\"NP\",IF(ISERROR(MEDIAN($E12:$G12)),\"DNS\",IF(COUNT($E12:$G12)<3,MAX($E12:$G12),MEDIAN($E12:$G12))))))","v":100.58},{"$f":"IF($A12=\"x\",\"x\",IF($C12=\"\",\"\",IF(OR(J12=\"NP\",J12=\"DNS\"),IF(J12=\"NP\",MAX(Oblast4)+COUNTIF(($J$12:$J$154),MAX(Oblast4))+COUNTIF(($U$12:$U$154),MAX(Oblast4)),MAX(Oblast4)+COUNTIF(($J$12:$J$154),MAX(Oblast4))+COUNTIF(($U$12:$U$154),MAX(Oblast4))+COUNTIF(($J$12:$J$154),\"NP\")+COUNTIF(($U$12:$U$154),\"NP\")),J12)))","v":8},{"$f":"IF($A12=\"x\",\"x\",IF($C12=\"\",\"\",IF(OR(K12=\"NP\",K12=\"DNS\"),K12,RANK(K12,Oblast3,1))))","v":8},{"$f":"IF($A12=\"x\",\"x\",IF($C12=\"\",\"\",IF(OR(AND(H12=\"NP\",H13=\"NP\"),AND(H12=\"DNS\",H13=\"DNS\")),H12,IF(AND(H12=\"NP\",H13=\"DNS\"),H12,IF(AND(H12=\"DNS\",H13=\"NP\"),H13,MIN(H12,H13))))))","v":100.58},{"$f":"IF(Start!E16=\"\",\"\",\"x\")","v":""},11,{"$f":"IF(Start!C16=\"\",\"\",Start!C16)","v":""},"I.pokus",null,null,null,{"$f":"IF($N12=\"\",\"\",IF(OR($P12=\"DNS\",$Q12=\"DNS\",$R12=\"DNS\"),\"DNS\",IF(OR($P12=\"NP\",$Q12=\"NP\",$R12=\"NP\"),\"NP\",IF(ISERROR(MEDIAN($P12:$R12)),\"DNS\",IF(COUNT($P12:$R12)<3,MAX($P12:$R12),MEDIAN($P12:$R12))))))","v":""},{"$f":"IF($L12=\"x\",\"x\",IF($N12=\"\",\"\",IF(OR(U12=\"NP\",U12=\"DNS\"),IF(U12=\"NP\",MAX(Oblast4)+COUNTIF(($J$12:$J$154),MAX(Oblast4))+COUNTIF(($U$12:$U$154),MAX(Oblast4)),MAX(Oblast4)+COUNTIF(($J$12:$J$154),MAX(Oblast4))+COUNTIF(($U$12:$U$154),MAX(Oblast4))+COUNTIF(($J$12:$J$154),\"NP\")+COUNTIF(($U$12:$U$154),\"NP\")),U12)))","v":""},{"$f":"IF($L12=\"x\",\"x\",IF($N12=\"\",\"\",IF(OR(V12=\"NP\",V12=\"DNS\"),V12,RANK(V12,Oblast3,1))))","v":""},{"$f":"IF($L12=\"x\",\"x\",IF($N12=\"\",\"\",IF(OR(AND(S12=\"NP\",S13=\"NP\"),AND(S12=\"DNS\",S13=\"DNS\")),S12,IF(AND(S12=\"NP\",S13=\"DNS\"),S12,IF(AND(S12=\"DNS\",S13=\"NP\"),S13,MIN(S12,S13))))))","v":""}]
[null,null,null,"II.pokus","N",null,null,{"$f":"IF($C12=\"\",\"\",IF(OR($E13=\"DNS\",$F13=\"DNS\",$G13=\"DNS\"),\"DNS\",IF(OR($E13=\"NP\",$F13=\"NP\",$G13=\"NP\"),\"NP\",IF(ISERROR(MEDIAN($E13:$G13)),\"DNS\",IF(COUNT($E13:$G13)<3,MAX($E13:$G13),MEDIAN($E13:$G13))))))","v":"DNS"},null,null,null,null,null,null,"II.pokus",null,null,null,{"$f":"IF($N12=\"\",\"\",IF(OR($P13=\"DNS\",$Q13=\"DNS\",$R13=\"DNS\"),\"DNS\",IF(OR($P13=\"NP\",$Q13=\"NP\",$R13=\"NP\"),\"NP\",IF(ISERROR(MEDIAN($P13:$R13)),\"DNS\",IF(COUNT($P13:$R13)<3,MAX($P13:$R13),MEDIAN($P13:$R13))))))","v":""}]
[{"$f":"IF(Start!E7=\"\",\"\",\"x\")","v":""},2,{"$f":"IF(Start!C7=\"\",\"\",Start!C7)","v":"Holoubkov"},"I.pokus",145.4,144.4,null,{"$f":"IF($C14=\"\",\"\",IF(OR($E14=\"DNS\",$F14=\"DNS\",$G14=\"DNS\"),\"DNS\",IF(OR($E14=\"NP\",$F14=\"NP\",$G14=\"NP\"),\"NP\",IF(ISERROR(MEDIAN($E14:$G14)),\"DNS\",IF(COUNT($E14:$G14)<3,MAX($E14:$G14),MEDIAN($E14:$G14))))))","v":145.4},{"$f":"IF($A14=\"x\",\"x\",IF($C14=\"\",\"\",IF(OR(J14=\"NP\",J14=\"DNS\"),IF(J14=\"NP\",MAX(Oblast4)+COUNTIF(($J$12:$J$154),MAX(Oblast4))+COUNTIF(($U$12:$U$154),MAX(Oblast4)),MAX(Oblast4)+COUNTIF(($J$12:$J$154),MAX(Oblast4))+COUNTIF(($U$12:$U$154),MAX(Oblast4))+COUNTIF(($J$12:$J$154),\"NP\")+COUNTIF(($U$12:$U$154),\"NP\")),J14)))","v":5},{"$f":"IF($A14=\"x\",\"x\",IF($C14=\"\",\"\",IF(OR(K14=\"NP\",K14=\"DNS\"),K14,RANK(K14,Oblast3,1))))","v":5},{"$f":"IF($A14=\"x\",\"x\",IF($C14=\"\",\"\",IF(OR(AND(H14=\"NP\",H15=\"NP\"),AND(H14=\"DNS\",H15=\"DNS\")),H14,IF(AND(H14=\"NP\",H15=\"DNS\"),H14,IF(AND(H14=\"DNS\",H15=\"NP\"),H15,MIN(H14,H15))))))","v":55.77},{"$f":"IF(Start!E17=\"\",\"\",\"x\")","v":""},12,{"$f":"IF(Start!C17=\"\",\"\",Start!C17)","v":""},"I.pokus",null,null,null,{"$f":"IF($N14=\"\",\"\",IF(OR($P14=\"DNS\",$Q14=\"DNS\",$R14=\"DNS\"),\"DNS\",IF(OR($P14=\"NP\",$Q14=\"NP\",$R14=\"NP\"),\"NP\",IF(ISERROR(MEDIAN($P14:$R14)),\"DNS\",IF(COUNT($P14:$R14)<3,MAX($P14:$R14),MEDIAN($P14:$R14))))))","v":""},{"$f":"IF($L14=\"x\",\"x\",IF($N14=\"\",\"\",IF(OR(U14=\"NP\",U14=\"DNS\"),IF(U14=\"NP\",MAX(Oblast4)+COUNTIF(($J$12:$J$154),MAX(Oblast4))+COUNTIF(($U$12:$U$154),MAX(Oblast4)),MAX(Oblast4)+COUNTIF(($J$12:$J$154),MAX(Oblast4))+COUNTIF(($U$12:$U$154),MAX(Oblast4))+COUNTIF(($J$12:$J$154),\"NP\")+COUNTIF(($U$12:$U$154),\"NP\")),U14)))","v":""},{"$f":"IF($L14=\"x\",\"x\",IF($N14=\"\",\"\",IF(OR(V14=\"NP\",V14=\"DNS\"),V14,RANK(V14,Oblast3,1))))","v":""},{"$f":"IF($L14=\"x\",\"x\",IF($N14=\"\",\"\",IF(OR(AND(S14=\"NP\",S15=\"NP\"),AND(S14=\"DNS\",S15=\"DNS\")),S14,IF(AND(S14=\"NP\",S15=\"DNS\"),S14,IF(AND(S14=\"DNS\",S15=\"NP\"),S15,MIN(S14,S15))))))","v":""}]
[null,null,null,"II.pokus",55.77,55.08,null,{"$f":"IF($C14=\"\",\"\",IF(OR($E15=\"DNS\",$F15=\"DNS\",$G15=\"DNS\"),\"DNS\",IF(OR($E15=\"NP\",$F15=\"NP\",$G15=\"NP\"),\"NP\",IF(ISERROR(MEDIAN($E15:$G15)),\"DNS\",IF(COUNT($E15:$G15)<3,MAX($E15:$G15),MEDIAN($E15:$G15))))))","v":55.77},null,null,null,null,null,null,"II.pokus",null,null,null,{"$f":"IF($N14=\"\",\"\",IF(OR($P15=\"DNS\",$Q15=\"DNS\",$R15=\"DNS\"),\"DNS\",IF(OR($P15=\"NP\",$Q15=\"NP\",$R15=\"NP\"),\"NP\",IF(ISERROR(MEDIAN($P15:$R15)),\"DNS\",IF(COUNT($P15:$R15)<3,MAX($P15:$R15),MEDIAN($P15:$R15))))))","v":""}]
[{"$f":"IF(Start!E8=\"\",\"\",\"x\")","v":""},3,{"$f":"IF(Start!C8=\"\",\"\",Start!C8)","v":"Raková"},"I.pokus",54.23,44.88,null,{"$f":"IF($C16=\"\",\"\",IF(OR($E16=\"DNS\",$F16=\"DNS\",$G16=\"DNS\"),\"DNS\",IF(OR($E16=\"NP\",$F16=\"NP\",$G16=\"NP\"),\"NP\",IF(ISERROR(MEDIAN($E16:$G16)),\"DNS\",IF(COUNT($E16:$G16)<3,MAX($E16:$G16),MEDIAN($E16:$G16))))))","v":54.23},{"$f":"IF($A16=\"x\",\"x\",IF($C16=\"\",\"\",IF(OR(J16=\"NP\",J16=\"DNS\"),IF(J16=\"NP\",MAX(Oblast4)+COUNTIF(($J$12:$J$154),MAX(Oblast4))+COUNTIF(($U$12:$U$154),MAX(Oblast4)),MAX(Oblast4)+COUNTIF(($J$12:$J$154),MAX(Oblast4))+COUNTIF(($U$12:$U$154),MAX(Oblast4))+COUNTIF(($J$12:$J$154),\"NP\")+COUNTIF(($U$12:$U$154),\"NP\")),J16)))","v":4},{"$f":"IF($A16=\"x\",\"x\",IF($C16=\"\",\"\",IF(OR(K16=\"NP\",K16=\"DNS\"),K16,RANK(K16,Oblast3,1))))","v":4},{"$f":"IF($A16=\"x\",\"x\",IF($C16=\"\",\"\",IF(OR(AND(H16=\"NP\",H17=\"NP\"),AND(H16=\"DNS\",H17=\"DNS\")),H16,IF(AND(H16=\"NP\",H17=\"DNS\"),H16,IF(AND(H16=\"DNS\",H17=\"NP\"),H17,MIN(H16,H17))))))","v":34.299999999999997},{"$f":"IF(Start!E18=\"\",\"\",\"x\")","v":""},13,{"$f":"IF(Start!C18=\"\",\"\",Start!C18)","v":""},"I.pokus",null,null,null,{"$f":"IF($N16=\"\",\"\",IF(OR($P16=\"DNS\",$Q16=\"DNS\",$R16=\"DNS\"),\"DNS\",IF(OR($P16=\"NP\",$Q16=\"NP\",$R16=\"NP\"),\"NP\",IF(ISERROR(MEDIAN($P16:$R16)),\"DNS\",IF(COUNT($P16:$R16)<3,MAX($P16:$R16),MEDIAN($P16:$R16))))))","v":""},{"$f":"IF($L16=\"x\",\"x\",IF($N16=\"\",\"\",IF(OR(U16=\"NP\",U16=\"DNS\"),IF(U16=\"NP\",MAX(Oblast4)+COUNTIF(($J$12:$J$154),MAX(Oblast4))+COUNTIF(($U$12:$U$154),MAX(Oblast4)),MAX(Oblast4)+COUNTIF(($J$12:$J$154),MAX(Oblast4))+COUNTIF(($U$12:$U$154),MAX(Oblast4))+COUNTIF(($J$12:$J$154),\"NP\")+COUNTIF(($U$12:$U$154),\"NP\")),U16)))","v":""},{"$f":"IF($L16=\"x\",\"x\",IF($N16=\"\",\"\",IF(OR(V16=\"NP\",V16=\"DNS\"),V16,RANK(V16,Oblast3,1))))","v":""},{"$f":"IF($L16=\"x\",\"x\",IF($N16=\"\",\"\",IF(OR(AND(S16=\"NP\",S17=\"NP\"),AND(S16=\"DNS\",S17=\"DNS\")),S16,IF(AND(S16=\"NP\",S17=\"DNS\"),S16,IF(AND(S16=\"DNS\",S17=\"NP\"),S17,MIN(S16,S17))))))","v":""}]
[null,null,null,"II.pokus",34.299999999999997,30.88,null,{"$f":"IF($C16=\"\",\"\",IF(OR($E17=\"DNS\",$F17=\"DNS\",$G17=\"DNS\"),\"DNS\",IF(OR($E17=\"NP\",$F17=\"NP\",$G17=\"NP\"),\"NP\",IF(ISERROR(MEDIAN($E17:$G17)),\"DNS\",IF(COUNT($E17:$G17)<3,MAX($E17:$G17),MEDIAN($E17:$G17))))))","v":34.299999999999997},null,null,null,null,null,null,"II.pokus",null,null,null,{"$f":"IF($N16=\"\",\"\",IF(OR($P17=\"DNS\",$Q17=\"DNS\",$R17=\"DNS\"),\"DNS\",IF(OR($P17=\"NP\",$Q17=\"NP\",$R17=\"NP\"),\"NP\",IF(ISERROR(MEDIAN($P17:$R17)),\"DNS\",IF(COUNT($P17:$R17)<3,MAX($P17:$R17),MEDIAN($P17:$R17))))))","v":""}]
[{"$f":"IF(Start!E9=\"\",\"\",\"x\")","v":""},4,{"$f":"IF(Start!C9=\"\",\"\",Start!C9)","v":"Osek"},"I.pokus",33.94,32.36,null,{"$f":"IF($C18=\"\",\"\",IF(OR($E18=\"DNS\",$F18=\"DNS\",$G18=\"DNS\"),\"DNS\",IF(OR($E18=\"NP\",$F18=\"NP\",$G18=\"NP\"),\"NP\",IF(ISERROR(MEDIAN($E18:$G18)),\"DNS\",IF(COUNT($E18:$G18)<3,MAX($E18:$G18),MEDIAN($E18:$G18))))))","v":33.94},{"$f":"IF($A18=\"x\",\"x\",IF($C18=\"\",\"\",IF(OR(J18=\"NP\",J18=\"DNS\"),IF(J18=\"NP\",MAX(Oblast4)+COUNTIF(($J$12:$J$154),MAX(Oblast4))+COUNTIF(($U$12:$U$154),MAX(Oblast4)),MAX(Oblast4)+COUNTIF(($J$12:$J$154),MAX(Oblast4))+COUNTIF(($U$12:$U$154),MAX(Oblast4))+COUNTIF(($J$12:$J$154),\"NP\")+COUNTIF(($U$12:$U$154),\"NP\")),J18)))","v":1},{"$f":"IF($A18=\"x\",\"x\",IF($C18=\"\",\"\",IF(OR(K18=\"NP\",K18=\"DNS\"),K18,RANK(K18,Oblast3,1))))","v":1},{"$f":"IF($A18=\"x\",\"x\",IF($C18=\"\",\"\",IF(OR(AND(H18=\"NP\",H19=\"NP\"),AND(H18=\"DNS\",H19=\"DNS\")),H18,IF(AND(H18=\"NP\",H19=\"DNS\"),H18,IF(AND(H18=\"DNS\",H19=\"NP\"),H19,MIN(H18,H19))))))","v":26.44},{"$f":"IF(Start!E19=\"\",\"\",\"x\")","v":""},14,{"$f":"IF(Start!C19=\"\",\"\",Start!C19)","v":""},"I.pokus",null,null,null,{"$f":"IF($N18=\"\",\"\",IF(OR($P18=\"DNS\",$Q18=\"DNS\",$R18=\"DNS\"),\"DNS\",IF(OR($P18=\"NP\",$Q18=\"NP\",$R18=\"NP\"),\"NP\",IF(ISERROR(MEDIAN($P18:$R18)),\"DNS\",IF(COUNT($P18:$R18)<3,MAX($P18:$R18),MEDIAN($P18:$R18))))))","v":""},{"$f":"IF($L18=\"x\",\"x\",IF($N18=\"\",\"\",IF(OR(U18=\"NP\",U18=\"DNS\"),IF(U18=\"NP\",MAX(Oblast4)+COUNTIF(($J$12:$J$154),MAX(Oblast4))+COUNTIF(($U$12:$U$154),MAX(Oblast4)),MAX(Oblast4)+COUNTIF(($J$12:$J$154),MAX(Oblast4))+COUNTIF(($U$12:$U$154),MAX(Oblast4))+COUNTIF(($J$12:$J$154),\"NP\")+COUNTIF(($U$12:$U$154),\"NP\")),U18)))","v":""},{"$f":"IF($L18=\"x\",\"x\",IF($N18=\"\",\"\",IF(OR(V18=\"NP\",V18=\"DNS\"),V18,RANK(V18,Oblast3,1))))","v":""},{"$f":"IF($L18=\"x\",\"x\",IF($N18=\"\",\"\",IF(OR(AND(S18=\"NP\",S19=\"NP\"),AND(S18=\"DNS\",S19=\"DNS\")),S18,IF(AND(S18=\"NP\",S19=\"DNS\"),S18,IF(AND(S18=\"DNS\",S19=\"NP\"),S19,MIN(S18,S19))))))","v":""}]
[null,null,null,"II.pokus",26.44,25.14,null,{"$f":"IF($C18=\"\",\"\",IF(OR($E19=\"DNS\",$F19=\"DNS\",$G19=\"DNS\"),\"DNS\",IF(OR($E19=\"NP\",$F19=\"NP\",$G19=\"NP\"),\"NP\",IF(ISERROR(MEDIAN($E19:$G19)),\"DNS\",IF(COUNT($E19:$G19)<3,MAX($E19:$G19),MEDIAN($E19:$G19))))))","v":26.44},null,null,null,null,null,null,"II.pokus",null,null,null,{"$f":"IF($N18=\"\",\"\",IF(OR($P19=\"DNS\",$Q19=\"DNS\",$R19=\"DNS\"),\"DNS\",IF(OR($P19=\"NP\",$Q19=\"NP\",$R19=\"NP\"),\"NP\",IF(ISERROR(MEDIAN($P19:$R19)),\"DNS\",IF(COUNT($P19:$R19)<3,MAX($P19:$R19),MEDIAN($P19:$R19))))))","v":""}]
[{"$f":"IF(Start!E10=\"\",\"\",\"x\")","v":""},5,{"$f":"IF(Start!C10=\"\",\"\",Start!C10)","v":"Lhota pod Radčem"},"I.pokus",114.11,78.209999999999994,null,{"$f":"IF($C20=\"\",\"\",IF(OR($E20=\"DNS\",$F20=\"DNS\",$G20=\"DNS\"),\"DNS\",IF(OR($E20=\"NP\",$F20=\"NP\",$G20=\"NP\"),\"NP\",IF(ISERROR(MEDIAN($E20:$G20)),\"DNS\",IF(COUNT($E20:$G20)<3,MAX($E20:$G20),MEDIAN($E20:$G20))))))","v":114.11},{"$f":"IF($A20=\"x\",\"x\",IF($C20=\"\",\"\",IF(OR(J20=\"NP\",J20=\"DNS\"),IF(J20=\"NP\",MAX(Oblast4)+COUNTIF(($J$12:$J$154),MAX(Oblast4))+COUNTIF(($U$12:$U$154),MAX(Oblast4)),MAX(Oblast4)+COUNTIF(($J$12:$J$154),MAX(Oblast4))+COUNTIF(($U$12:$U$154),MAX(Oblast4))+COUNTIF(($J$12:$J$154),\"NP\")+COUNTIF(($U$12:$U$154),\"NP\")),J20)))","v":6},{"$f":"IF($A20=\"x\",\"x\",IF($C20=\"\",\"\",IF(OR(K20=\"NP\",K20=\"DNS\"),K20,RANK(K20,Oblast3,1))))","v":6},{"$f":"IF($A20=\"x\",\"x\",IF($C20=\"\",\"\",IF(OR(AND(H20=\"NP\",H21=\"NP\"),AND(H20=\"DNS\",H21=\"DNS\")),H20,IF(AND(H20=\"NP\",H21=\"DNS\"),H20,IF(AND(H20=\"DNS\",H21=\"NP\"),H21,MIN(H20,H21))))))","v":56.8},{"$f":"IF(Start!E20=\"\",\"\",\"x\")","v":""},15,{"$f":"IF(Start!C20=\"\",\"\",Start!C20)","v":""},"I.pokus",null,null,null,{"$f":"IF($N20=\"\",\"\",IF(OR($P20=\"DNS\",$Q20=\"DNS\",$R20=\"DNS\"),\"DNS\",IF(OR($P20=\"NP\",$Q20=\"NP\",$R20=\"NP\"),\"NP\",IF(ISERROR(MEDIAN($P20:$R20)),\"DNS\",IF(COUNT($P20:$R20)<3,MAX($P20:$R20),MEDIAN($P20:$R20))))))","v":""},{"$f":"IF($L20=\"x\",\"x\",IF($N20=\"\",\"\",IF(OR(U20=\"NP\",U20=\"DNS\"),IF(U20=\"NP\",MAX(Oblast4)+COUNTIF(($J$12:$J$154),MAX(Oblast4))+COUNTIF(($U$12:$U$154),MAX(Oblast4)),MAX(Oblast4)+COUNTIF(($J$12:$J$154),MAX(Oblast4))+COUNTIF(($U$12:$U$154),MAX(Oblast4))+COUNTIF(($J$12:$J$154),\"NP\")+COUNTIF(($U$12:$U$154),\"NP\")),U20)))","v":""},{"$f":"IF($L20=\"x\",\"x\",IF($N20=\"\",\"\",IF(OR(V20=\"NP\",V20=\"DNS\"),V20,RANK(V20,Oblast3,1))))","v":""},{"$f":"IF($L20=\"x\",\"x\",IF($N20=\"\",\"\",IF(OR(AND(S20=\"NP\",S21=\"NP\"),AND(S20=\"DNS\",S21=\"DNS\")),S20,IF(AND(S20=\"NP\",S21=\"DNS\"),S20,IF(AND(S20=\"DNS\",S21=\"NP\"),S21,MIN(S20,S21))))))","v":""}]
[null,null,null,"II.pokus",56.8,55.85,null,{"$f":"IF($C20=\"\",\"\",IF(OR($E21=\"DNS\",$F21=\"DNS\",$G21=\"DNS\"),\"DNS\",IF(OR($E21=\"NP\",$F21=\"NP\",$G21=\"NP\"),\"NP\",IF(ISERROR(MEDIAN($E21:$G21)),\"DNS\",IF(COUNT($E21:$G21)<3,MAX($E21:$G21),MEDIAN($E21:$G21))))))","v":56.8},null,null,null,null,null,null,"II.pokus",null,null,null,{"$f":"IF($N20=\"\",\"\",IF(OR($P21=\"DNS\",$Q21=\"DNS\",$R21=\"DNS\"),\"DNS\",IF(OR($P21=\"NP\",$Q21=\"NP\",$R21=\"NP\"),\"NP\",IF(ISERROR(MEDIAN($P21:$R21)),\"DNS\",IF(COUNT($P21:$R21)<3,MAX($P21:$R21),MEDIAN($P21:$R21))))))","v":""}]
[{"$f":"IF(Start!E11=\"\",\"\",\"x\")","v":""},6,{"$f":"IF(Start!C11=\"\",\"\",Start!C11)","v":"Dobřív"},"I.pokus",35.65,35.549999999999997,null,{"$f":"IF($C22=\"\",\"\",IF(OR($E22=\"DNS\",$F22=\"DNS\",$G22=\"DNS\"),\"DNS\",IF(OR($E22=\"NP\",$F22=\"NP\",$G22=\"NP\"),\"NP\",IF(ISERROR(MEDIAN($E22:$G22)),\"DNS\",IF(COUNT($E22:$G22)<3,MAX($E22:$G22),MEDIAN($E22:$G22))))))","v":35.65},{"$f":"IF($A22=\"x\",\"x\",IF($C22=\"\",\"\",IF(OR(J22=\"NP\",J22=\"DNS\"),IF(J22=\"NP\",MAX(Oblast4)+COUNTIF(($J$12:$J$154),MAX(Oblast4))+COUNTIF(($U$12:$U$154),MAX(Oblast4)),MAX(Oblast4)+COUNTIF(($J$12:$J$154),MAX(Oblast4))+COUNTIF(($U$12:$U$154),MAX(Oblast4))+COUNTIF(($J$12:$J$154),\"NP\")+COUNTIF(($U$12:$U$154),\"NP\")),J22)))","v":3},{"$f":"IF($A22=\"x\",\"x\",IF($C22=\"\",\"\",IF(OR(K22=\"NP\",K22=\"DNS\"),K22,RANK(K22,Oblast3,1))))","v":3},{"$f":"IF($A22=\"x\",\"x\",IF($C22=\"\",\"\",IF(OR(AND(H22=\"NP\",H23=\"NP\"),AND(H22=\"DNS\",H23=\"DNS\")),H22,IF(AND(H22=\"NP\",H23=\"DNS\"),H22,IF(AND(H22=\"DNS\",H23=\"NP\"),H23,MIN(H22,H23))))))","v":34.159999999999997},{"$f":"IF(Start!E21=\"\",\"\",\"x\")","v":""},16,{"$f":"IF(Start!C21=\"\",\"\",Start!C21)","v":""},"I.pokus",null,null,null,{"$f":"IF($N22=\"\",\"\",IF(OR($P22=\"DNS\",$Q22=\"DNS\",$R22=\"DNS\"),\"DNS\",IF(OR($P22=\"NP\",$Q22=\"NP\",$R22=\"NP\"),\"NP\",IF(ISERROR(MEDIAN($P22:$R22)),\"DNS\",IF(COUNT($P22:$R22)<3,MAX($P22:$R22),MEDIAN($P22:$R22))))))","v":""},{"$f":"IF($L22=\"x\",\"x\",IF($N22=\"\",\"\",IF(OR(U22=\"NP\",U22=\"DNS\"),IF(U22=\"NP\",MAX(Oblast4)+COUNTIF(($J$12:$J$154),MAX(Oblast4))+COUNTIF(($U$12:$U$154),MAX(Oblast4)),MAX(Oblast4)+COUNTIF(($J$12:$J$154),MAX(Oblast4))+COUNTIF(($U$12:$U$154),MAX(Oblast4))+COUNTIF(($J$12:$J$154),\"NP\")+COUNTIF(($U$12:$U$154),\"NP\")),U22)))","v":""},{"$f":"IF($L22=\"x\",\"x\",IF($N22=\"\",\"\",IF(OR(V22=\"NP\",V22=\"DNS\"),V22,RANK(V22,Oblast3,1))))","v":""},{"$f":"IF($L22=\"x\",\"x\",IF($N22=\"\",\"\",IF(OR(AND(S22=\"NP\",S23=\"NP\"),AND(S22=\"DNS\",S23=\"DNS\")),S22,IF(AND(S22=\"NP\",S23=\"DNS\"),S22,IF(AND(S22=\"DNS\",S23=\"NP\"),S23,MIN(S22,S23))))))","v":""}]
[null,null,null,"II.pokus",34.159999999999997,33.44,null,{"$f":"IF($C22=\"\",\"\",IF(OR($E23=\"DNS\",$F23=\"DNS\",$G23=\"DNS\"),\"DNS\",IF(OR($E23=\"NP\",$F23=\"NP\",$G23=\"NP\"),\"NP\",IF(ISERROR(MEDIAN($E23:$G23)),\"DNS\",IF(COUNT($E23:$G23)<3,MAX($E23:$G23),MEDIAN($E23:$G23))))))","v":34.159999999999997},null,null,null,null,null,null,"II.pokus",null,null,null,{"$f":"IF($N22=\"\",\"\",IF(OR($P23=\"DNS\",$Q23=\"DNS\",$R23=\"DNS\"),\"DNS\",IF(OR($P23=\"NP\",$Q23=\"NP\",$R23=\"NP\"),\"NP\",IF(ISERROR(MEDIAN($P23:$R23)),\"DNS\",IF(COUNT($P23:$R23)<3,MAX($P23:$R23),MEDIAN($P23:$R23))))))","v":""}]
[{"$f":"IF(Start!E12=\"\",\"\",\"x\")","v":""},7,{"$f":"IF(Start!C12=\"\",\"\",Start!C12)","v":"Mirošov"},"I.pokus",68.58,66.400000000000006,null,{"$f":"IF($C24=\"\",\"\",IF(OR($E24=\"DNS\",$F24=\"DNS\",$G24=\"DNS\"),\"DNS\",IF(OR($E24=\"NP\",$F24=\"NP\",$G24=\"NP\"),\"NP\",IF(ISERROR(MEDIAN($E24:$G24)),\"DNS\",IF(COUNT($E24:$G24)<3,MAX($E24:$G24),MEDIAN($E24:$G24))))))","v":68.58},{"$f":"IF($A24=\"x\",\"x\",IF($C24=\"\",\"\",IF(OR(J24=\"NP\",J24=\"DNS\"),IF(J24=\"NP\",MAX(Oblast4)+COUNTIF(($J$12:$J$154),MAX(Oblast4))+COUNTIF(($U$12:$U$154),MAX(Oblast4)),MAX(Oblast4)+COUNTIF(($J$12:$J$154),MAX(Oblast4))+COUNTIF(($U$12:$U$154),MAX(Oblast4))+COUNTIF(($J$12:$J$154),\"NP\")+COUNTIF(($U$12:$U$154),\"NP\")),J24)))","v":7},{"$f":"IF($A24=\"x\",\"x\",IF($C24=\"\",\"\",IF(OR(K24=\"NP\",K24=\"DNS\"),K24,RANK(K24,Oblast3,1))))","v":7},{"$f":"IF($A24=\"x\",\"x\",IF($C24=\"\",\"\",IF(OR(AND(H24=\"NP\",H25=\"NP\"),AND(H24=\"DNS\",H25=\"DNS\")),H24,IF(AND(H24=\"NP\",H25=\"DNS\"),H24,IF(AND(H24=\"DNS\",H25=\"NP\"),H25,MIN(H24,H25))))))","v":68.58},{"$f":"IF(Start!E22=\"\",\"\",\"x\")","v":""},17,{"$f":"IF(Start!C22=\"\",\"\",Start!C22)","v":""},"I.pokus",null,null,null,{"$f":"IF($N24=\"\",\"\",IF(OR($P24=\"DNS\",$Q24=\"DNS\",$R24=\"DNS\"),\"DNS\",IF(OR($P24=\"NP\",$Q24=\"NP\",$R24=\"NP\"),\"NP\",IF(ISERROR(MEDIAN($P24:$R24)),\"DNS\",IF(COUNT($P24:$R24)<3,MAX($P24:$R24),MEDIAN($P24:$R24))))))","v":""},{"$f":"IF($L24=\"x\",\"x\",IF($N24=\"\",\"\",IF(OR(U24=\"NP\",U24=\"DNS\"),IF(U24=\"NP\",MAX(Oblast4)+COUNTIF(($J$12:$J$154),MAX(Oblast4))+COUNTIF(($U$12:$U$154),MAX(Oblast4)),MAX(Oblast4)+COUNTIF(($J$12:$J$154),MAX(Oblast4))+COUNTIF(($U$12:$U$154),MAX(Oblast4))+COUNTIF(($J$12:$J$154),\"NP\")+COUNTIF(($U$12:$U$154),\"NP\")),U24)))","v":""},{"$f":"IF($L24=\"x\",\"x\",IF($N24=\"\",\"\",IF(OR(V24=\"NP\",V24=\"DNS\"),V24,RANK(V24,Oblast3,1))))","v":""},{"$f":"IF($L24=\"x\",\"x\",IF($N24=\"\",\"\",IF(OR(AND(S24=\"NP\",S25=\"NP\"),AND(S24=\"DNS\",S25=\"DNS\")),S24,IF(AND(S24=\"NP\",S25=\"DNS\"),S24,IF(AND(S24=\"DNS\",S25=\"NP\"),S25,MIN(S24,S25))))))","v":""}]
[null,null,null,"II.pokus","N",null,null,{"$f":"IF($C24=\"\",\"\",IF(OR($E25=\"DNS\",$F25=\"DNS\",$G25=\"DNS\"),\"DNS\",IF(OR($E25=\"NP\",$F25=\"NP\",$G25=\"NP\"),\"NP\",IF(ISERROR(MEDIAN($E25:$G25)),\"DNS\",IF(COUNT($E25:$G25)<3,MAX($E25:$G25),MEDIAN($E25:$G25))))))","v":"DNS"},null,null,null,null,null,null,"II.pokus",null,null,null,{"$f":"IF($N24=\"\",\"\",IF(OR($P25=\"DNS\",$Q25=\"DNS\",$R25=\"DNS\"),\"DNS\",IF(OR($P25=\"NP\",$Q25=\"NP\",$R25=\"NP\"),\"NP\",IF(ISERROR(MEDIAN($P25:$R25)),\"DNS\",IF(COUNT($P25:$R25)<3,MAX($P25:$R25),MEDIAN($P25:$R25))))))","v":""}]
[{"$f":"IF(Start!E13=\"\",\"\",\"x\")","v":""},8,{"$f":"IF(Start!C13=\"\",\"\",Start!C13)","v":"Volduchy"},"I.pokus",29.62,26.58,null,{"$f":"IF($C26=\"\",\"\",IF(OR($E26=\"DNS\",$F26=\"DNS\",$G26=\"DNS\"),\"DNS\",IF(OR($E26=\"NP\",$F26=\"NP\",$G26=\"NP\"),\"NP\",IF(ISERROR(MEDIAN($E26:$G26)),\"DNS\",IF(COUNT($E26:$G26)<3,MAX($E26:$G26),MEDIAN($E26:$G26))))))","v":29.62},{"$f":"IF($A26=\"x\",\"x\",IF($C26=\"\",\"\",IF(OR(J26=\"NP\",J26=\"DNS\"),IF(J26=\"NP\",MAX(Oblast4)+COUNTIF(($J$12:$J$154),MAX(Oblast4))+COUNTIF(($U$12:$U$154),MAX(Oblast4)),MAX(Oblast4)+COUNTIF(($J$12:$J$154),MAX(Oblast4))+COUNTIF(($U$12:$U$154),MAX(Oblast4))+COUNTIF(($J$12:$J$154),\"NP\")+COUNTIF(($U$12:$U$154),\"NP\")),J26)))","v":2},{"$f":"IF($A26=\"x\",\"x\",IF($C26=\"\",\"\",IF(OR(K26=\"NP\",K26=\"DNS\"),K26,RANK(K26,Oblast3,1))))","v":2},{"$f":"IF($A26=\"x\",\"x\",IF($C26=\"\",\"\",IF(OR(AND(H26=\"NP\",H27=\"NP\"),AND(H26=\"DNS\",H27=\"DNS\")),H26,IF(AND(H26=\"NP\",H27=\"DNS\"),H26,IF(AND(H26=\"DNS\",H27=\"NP\"),H27,MIN(H26,H27))))))","v":27.65},{"$f":"IF(Start!E23=\"\",\"\",\"x\")","v":""},18,{"$f":"IF(Start!C23=\"\",\"\",Start!C23)","v":""},"I.pokus",null,null,null,{"$f":"IF($N26=\"\",\"\",IF(OR($P26=\"DNS\",$Q26=\"DNS\",$R26=\"DNS\"),\"DNS\",IF(OR($P26=\"NP\",$Q26=\"NP\",$R26=\"NP\"),\"NP\",IF(ISERROR(MEDIAN($P26:$R26)),\"DNS\",IF(COUNT($P26:$R26)<3,MAX($P26:$R26),MEDIAN($P26:$R26))))))","v":""},{"$f":"IF($L26=\"x\",\"x\",IF($N26=\"\",\"\",IF(OR(U26=\"NP\",U26=\"DNS\"),IF(U26=\"NP\",MAX(Oblast4)+COUNTIF(($J$12:$J$154),MAX(Oblast4))+COUNTIF(($U$12:$U$154),MAX(Oblast4)),MAX(Oblast4)+COUNTIF(($J$12:$J$154),MAX(Oblast4))+COUNTIF(($U$12:$U$154),MAX(Oblast4))+COUNTIF(($J$12:$J$154),\"NP\")+COUNTIF(($U$12:$U$154),\"NP\")),U26)))","v":""},{"$f":"IF($L26=\"x\",\"x\",IF($N26=\"\",\"\",IF(OR(V26=\"NP\",V26=\"DNS\"),V26,RANK(V26,Oblast3,1))))","v":""},{"$f":"IF($L26=\"x\",\"x\",IF($N26=\"\",\"\",IF(OR(AND(S26=\"NP\",S27=\"NP\"),AND(S26=\"DNS\",S27=\"DNS\")),S26,IF(AND(S26=\"NP\",S27=\"DNS\"),S26,IF(AND(S26=\"DNS\",S27=\"NP\"),S27,MIN(S26,S27))))))","v":""}]
[null,null,null,"II.pokus",27.65,26.97,null,{"$f":"IF($C26=\"\",\"\",IF(OR($E27=\"DNS\",$F27=\"DNS\",$G27=\"DNS\"),\"DNS\",IF(OR($E27=\"NP\",$F27=\"NP\",$G27=\"NP\"),\"NP\",IF(ISERROR(MEDIAN($E27:$G27)),\"DNS\",IF(COUNT($E27:$G27)<3,MAX($E27:$G27),MEDIAN($E27:$G27))))))","v":27.65},null,null,null,null,null,null,"II.pokus",null,null,null,{"$f":"IF($N26=\"\",\"\",IF(OR($P27=\"DNS\",$Q27=\"DNS\",$R27=\"DNS\"),\"DNS\",IF(OR($P27=\"NP\",$Q27=\"NP\",$R27=\"NP\"),\"NP\",IF(ISERROR(MEDIAN($P27:$R27)),\"DNS\",IF(COUNT($P27:$R27)<3,MAX($P27:$R27),MEDIAN($P27:$R27))))))","v":""}]
[{"$f":"IF(Start!E14=\"\",\"\",\"x\")","v":""},9,{"$f":"IF(Start!C14=\"\",\"\",Start!C14)","v":""},"I.pokus",null,null,null,{"$f":"IF($C28=\"\",\"\",IF(OR($E28=\"DNS\",$F28=\"DNS\",$G28=\"DNS\"),\"DNS\",IF(OR($E28=\"NP\",$F28=\"NP\",$G28=\"NP\"),\"NP\",IF(ISERROR(MEDIAN($E28:$G28)),\"DNS\",IF(COUNT($E28:$G28)<3,MAX($E28:$G28),MEDIAN($E28:$G28))))))","v":""},{"$f":"IF($A28=\"x\",\"x\",IF($C28=\"\",\"\",IF(OR(J28=\"NP\",J28=\"DNS\"),IF(J28=\"NP\",MAX(Oblast4)+COUNTIF(($J$12:$J$154),MAX(Oblast4))+COUNTIF(($U$12:$U$154),MAX(Oblast4)),MAX(Oblast4)+COUNTIF(($J$12:$J$154),MAX(Oblast4))+COUNTIF(($U$12:$U$154),MAX(Oblast4))+COUNTIF(($J$12:$J$154),\"NP\")+COUNTIF(($U$12:$U$154),\"NP\")),J28)))","v":""},{"$f":"IF($A28=\"x\",\"x\",IF($C28=\"\",\"\",IF(OR(K28=\"NP\",K28=\"DNS\"),K28,RANK(K28,Oblast3,1))))","v":""},{"$f":"IF($A28=\"x\",\"x\",IF($C28=\"\",\"\",IF(OR(AND(H28=\"NP\",H29=\"NP\"),AND(H28=\"DNS\",H29=\"DNS\")),H28,IF(AND(H28=\"NP\",H29=\"DNS\"),H28,IF(AND(H28=\"DNS\",H29=\"NP\"),H29,MIN(H28,H29))))))","v":""},{"$f":"IF(Start!E24=\"\",\"\",\"x\")","v":""},19,{"$f":"IF(Start!C24=\"\",\"\",Start!C24)","v":""},"I.pokus",null,null,null,{"$f":"IF($N28=\"\",\"\",IF(OR($P28=\"DNS\",$Q28=\"DNS\",$R28=\"DNS\"),\"DNS\",IF(OR($P28=\"NP\",$Q28=\"NP\",$R28=\"NP\"),\"NP\",IF(ISERROR(MEDIAN($P28:$R28)),\"DNS\",IF(COUNT($P28:$R28)<3,MAX($P28:$R28),MEDIAN($P28:$R28))))))","v":""},{"$f":"IF($L28=\"x\",\"x\",IF($N28=\"\",\"\",IF(OR(U28=\"NP\",U28=\"DNS\"),IF(U28=\"NP\",MAX(Oblast4)+COUNTIF(($J$12:$J$154),MAX(Oblast4))+COUNTIF(($U$12:$U$154),MAX(Oblast4)),MAX(Oblast4)+COUNTIF(($J$12:$J$154),MAX(Oblast4))+COUNTIF(($U$12:$U$154),MAX(Oblast4))+COUNTIF(($J$12:$J$154),\"NP\")+COUNTIF(($U$12:$U$154),\"NP\")),U28)))","v":""},{"$f":"IF($L28=\"x\",\"x\",IF($N28=\"\",\"\",IF(OR(V28=\"NP\",V28=\"DNS\"),V28,RANK(V28,Oblast3,1))))","v":""},{"$f":"IF($L28=\"x\",\"x\",IF($N28=\"\",\"\",IF(OR(AND(S28=\"NP\",S29=\"NP\"),AND(S28=\"DNS\",S29=\"DNS\")),S28,IF(AND(S28=\"NP\",S29=\"DNS\"),S28,IF(AND(S28=\"DNS\",S29=\"NP\"),S29,MIN(S28,S29))))))","v":""}]
[null,null,null,"II.pokus",null,null,null,{"$f":"IF($C28=\"\",\"\",IF(OR($E29=\"DNS\",$F29=\"DNS\",$G29=\"DNS\"),\"DNS\",IF(OR($E29=\"NP\",$F29=\"NP\",$G29=\"NP\"),\"NP\",IF(ISERROR(MEDIAN($E29:$G29)),\"DNS\",IF(COUNT($E29:$G29)<3,MAX($E29:$G29),MEDIAN($E29:$G29))))))","v":""},null,null,null,null,null,null,"II.pokus",null,null,null,{"$f":"IF($N28=\"\",\"\",IF(OR($P29=\"DNS\",$Q29=\"DNS\",$R29=\"DNS\"),\"DNS\",IF(OR($P29=\"NP\",$Q29=\"NP\",$R29=\"NP\"),\"NP\",IF(ISERROR(MEDIAN($P29:$R29)),\"DNS\",IF(COUNT($P29:$R29)<3,MAX($P29:$R29),MEDIAN($P29:$R29))))))","v":""}]
[{"$f":"IF(Start!E15=\"\",\"\",\"x\")","v":""},10,{"$f":"IF(Start!C15=\"\",\"\",Start!C15)","v":""},"I.pokus",null,null,null,{"$f":"IF($C30=\"\",\"\",IF(OR($E30=\"DNS\",$F30=\"DNS\",$G30=\"DNS\"),\"DNS\",IF(OR($E30=\"NP\",$F30=\"NP\",$G30=\"NP\"),\"NP\",IF(ISERROR(MEDIAN($E30:$G30)),\"DNS\",IF(COUNT($E30:$G30)<3,MAX($E30:$G30),MEDIAN($E30:$G30))))))","v":""},{"$f":"IF($A30=\"x\",\"x\",IF($C30=\"\",\"\",IF(OR(J30=\"NP\",J30=\"DNS\"),IF(J30=\"NP\",MAX(Oblast4)+COUNTIF(($J$12:$J$154),MAX(Oblast4))+COUNTIF(($U$12:$U$154),MAX(Oblast4)),MAX(Oblast4)+COUNTIF(($J$12:$J$154),MAX(Oblast4))+COUNTIF(($U$12:$U$154),MAX(Oblast4))+COUNTIF(($J$12:$J$154),\"NP\")+COUNTIF(($U$12:$U$154),\"NP\")),J30)))","v":""},{"$f":"IF($A30=\"x\",\"x\",IF($C30=\"\",\"\",IF(OR(K30=\"NP\",K30=\"DNS\"),K30,RANK(K30,Oblast3,1))))","v":""},{"$f":"IF($A30=\"x\",\"x\",IF($C30=\"\",\"\",IF(OR(AND(H30=\"NP\",H31=\"NP\"),AND(H30=\"DNS\",H31=\"DNS\")),H30,IF(AND(H30=\"NP\",H31=\"DNS\"),H30,IF(AND(H30=\"DNS\",H31=\"NP\"),H31,MIN(H30,H31))))))","v":""},{"$f":"IF(Start!E25=\"\",\"\",\"x\")","v":""},20,{"$f":"IF(Start!C25=\"\",\"\",Start!C25)","v":""},"I.pokus",null,null,null,{"$f":"IF($N30=\"\",\"\",IF(OR($P30=\"DNS\",$Q30=\"DNS\",$R30=\"DNS\"),\"DNS\",IF(OR($P30=\"NP\",$Q30=\"NP\",$R30=\"NP\"),\"NP\",IF(ISERROR(MEDIAN($P30:$R30)),\"DNS\",IF(COUNT($P30:$R30)<3,MAX($P30:$R30),MEDIAN($P30:$R30))))))","v":""},{"$f":"IF($L30=\"x\",\"x\",IF($N30=\"\",\"\",IF(OR(U30=\"NP\",U30=\"DNS\"),IF(U30=\"NP\",MAX(Oblast4)+COUNTIF(($J$12:$J$154),MAX(Oblast4))+COUNTIF(($U$12:$U$154),MAX(Oblast4)),MAX(Oblast4)+COUNTIF(($J$12:$J$154),MAX(Oblast4))+COUNTIF(($U$12:$U$154),MAX(Oblast4))+COUNTIF(($J$12:$J$154),\"NP\")+COUNTIF(($U$12:$U$154),\"NP\")),U30)))","v":""},{"$f":"IF($L30=\"x\",\"x\",IF($N30=\"\",\"\",IF(OR(V30=\"NP\",V30=\"DNS\"),V30,RANK(V30,Oblast3,1))))","v":""},{"$f":"IF($L30=\"x\",\"x\",IF($N30=\"\",\"\",IF(OR(AND(S30=\"NP\",S31=\"NP\"),AND(S30=\"DNS\",S31=\"DNS\")),S30,IF(AND(S30=\"NP\",S31=\"DNS\"),S30,IF(AND(S30=\"DNS\",S31=\"NP\"),S31,MIN(S30,S31))))))","v":""}]
[null,null,null,"II.pokus",null,null,null,{"$f":"IF($C30=\"\",\"\",IF(OR($E31=\"DNS\",$F31=\"DNS\",$G31=\"DNS\"),\"DNS\",IF(OR($E31=\"NP\",$F31=\"NP\",$G31=\"NP\"),\"NP\",IF(ISERROR(MEDIAN($E31:$G31)),\"DNS\",IF(COUNT($E31:$G31)<3,MAX($E31:$G31),MEDIAN($E31:$G31))))))","v":""},null,null,null,null,null,null,"II.pokus",null,null,null,{"$f":"IF($N30=\"\",\"\",IF(OR($P31=\"DNS\",$Q31=\"DNS\",$R31=\"DNS\"),\"DNS\",IF(OR($P31=\"NP\",$Q31=\"NP\",$R31=\"NP\"),\"NP\",IF(ISERROR(MEDIAN($P31:$R31)),\"DNS\",IF(COUNT($P31:$R31)<3,MAX($P31:$R31),MEDIAN($P31:$R31))))))","v":""}]
[null," CELOSTÁTNÍ HRA PLAMEN"]
[]
[]
[null," Výsledková listina č: 2"]
[null,"Požární útok",null,null,"Základem je čas naměřený od vydání signálu startéra do signalizace obou terčů",null,null,null,null,null,null,null,"Požární útok",null,null,"Základem je čas naměřený od vydání signálu startéra do signalizace obou terčů"]
[]
[]
[null,{"$f":"\"KATEGORIE: \"&Start!$N$2","v":"KATEGORIE: starší"},null,null,"I. časoměřič","II. časoměřič","III. časoměřič","úřední čas","počet bodů za umístění",null,null,null,{"$f":"\"KATEGORIE: \"&Start!$N$2","v":"KATEGORIE: starší"},null,null,"I. časoměřič","II. časoměřič","III. časoměřič","úřední čas","počet bodů za umístění"]
[]
[null,"start. číslo","SOUTĚŽNÍ DRUŽSTVO","pokus",null,null,null,null,null,null,null,null,"start. číslo","SOUTĚŽNÍ DRUŽSTVO","pokus"]
[]
[{"$f":"IF(Start!E26=\"\",\"\",\"x\")","v":""},21,{"$f":"IF(Start!C26=\"\",\"\",Start!C26)","v":""},"I.pokus",null,null,null,{"$f":"IF($C43=\"\",\"\",IF(OR($E43=\"DNS\",$F43=\"DNS\",$G43=\"DNS\"),\"DNS\",IF(OR($E43=\"NP\",$F43=\"NP\",$G43=\"NP\"),\"NP\",IF(ISERROR(MEDIAN($E43:$G43)),\"DNS\",IF(COUNT($E43:$G43)<3,MAX($E43:$G43),MEDIAN($E43:$G43))))))","v":""},{"$f":"IF($A43=\"x\",\"x\",IF($C43=\"\",\"\",IF(OR(J43=\"NP\",J43=\"DNS\"),IF(J43=\"NP\",MAX(Oblast4)+COUNTIF(($J$12:$J$154),MAX(Oblast4))+COUNTIF(($U$12:$U$154),MAX(Oblast4)),MAX(Oblast4)+COUNTIF(($J$12:$J$154),MAX(Oblast4))+COUNTIF(($U$12:$U$154),MAX(Oblast4))+COUNTIF(($J$12:$J$154),\"NP\")+COUNTIF(($U$12:$U$154),\"NP\")),J43)))","v":""},{"$f":"IF($A43=\"x\",\"x\",IF($C43=\"\",\"\",IF(OR(K43=\"NP\",K43=\"DNS\"),K43,RANK(K43,Oblast3,1))))","v":""},{"$f":"IF($A43=\"x\",\"x\",IF($C43=\"\",\"\",IF(OR(AND(H43=\"NP\",H44=\"NP\"),AND(H43=\"DNS\",H44=\"DNS\")),H43,IF(AND(H43=\"NP\",H44=\"DNS\"),H43,IF(AND(H43=\"DNS\",H44=\"NP\"),H44,MIN(H43,H44))))))","v":""},{"$f":"IF(Start!I11=\"\",\"\",\"x\")","v":""},31,{"$f":"IF(Start!G11=\"\",\"\",Start!G11)","v":""},"I.pokus",null,null,null,{"$f":"IF($N43=\"\",\"\",IF(OR($P43=\"DNS\",$Q43=\"DNS\",$R43=\"DNS\"),\"DNS\",IF(OR($P43=\"NP\",$Q43=\"NP\",$R43=\"NP\"),\"NP\",IF(ISERROR(MEDIAN($P43:$R43)),\"DNS\",IF(COUNT($P43:$R43)<3,MAX($P43:$R43),MEDIAN($P43:$R43))))))","v":""},{"$f":"IF($L43=\"x\",\"x\",IF($N43=\"\",\"\",IF(OR(U43=\"NP\",U43=\"DNS\"),IF(U43=\"NP\",MAX(Oblast4)+COUNTIF(($J$12:$J$154),MAX(Oblast4))+COUNTIF(($U$12:$U$154),MAX(Oblast4)),MAX(Oblast4)+COUNTIF(($J$12:$J$154),MAX(Oblast4))+COUNTIF(($U$12:$U$154),MAX(Oblast4))+COUNTIF(($J$12:$J$154),\"NP\")+COUNTIF(($U$12:$U$154),\"NP\")),U43)))","v":""},{"$f":"IF($L43=\"x\",\"x\",IF($N43=\"\",\"\",IF(OR(V43=\"NP\",V43=\"DNS\"),V43,RANK(V43,Oblast3,1))))","v":""},{"$f":"IF($L43=\"x\",\"x\",IF($N43=\"\",\"\",IF(OR(AND(S43=\"NP\",S44=\"NP\"),AND(S43=\"DNS\",S44=\"DNS\")),S43,IF(AND(S43=\"NP\",S44=\"DNS\"),S43,IF(AND(S43=\"DNS\",S44=\"NP\"),S44,MIN(S43,S44))))))","v":""}]
[null,null,null,"II.pokus",null,null,null,{"$f":"IF($C43=\"\",\"\",IF(OR($E44=\"DNS\",$F44=\"DNS\",$G44=\"DNS\"),\"DNS\",IF(OR($E44=\"NP\",$F44=\"NP\",$G44=\"NP\"),\"NP\",IF(ISERROR(MEDIAN($E44:$G44)),\"DNS\",IF(COUNT($E44:$G44)<3,MAX($E44:$G44),MEDIAN($E44:$G44))))))","v":""},null,null,null,null,null,null,"II.pokus",null,null,null,{"$f":"IF($N43=\"\",\"\",IF(OR($P44=\"DNS\",$Q44=\"DNS\",$R44=\"DNS\"),\"DNS\",IF(OR($P44=\"NP\",$Q44=\"NP\",$R44=\"NP\"),\"NP\",IF(ISERROR(MEDIAN($P44:$R44)),\"DNS\",IF(COUNT($P44:$R44)<3,MAX($P44:$R44),MEDIAN($P44:$R44))))))","v":""}]
[{"$f":"IF(Start!E27=\"\",\"\",\"x\")","v":""},22,{"$f":"IF(Start!C27=\"\",\"\",Start!C27)","v":""},"I.pokus",null,null,null,{"$f":"IF($C45=\"\",\"\",IF(OR($E45=\"DNS\",$F45=\"DNS\",$G45=\"DNS\"),\"DNS\",IF(OR($E45=\"NP\",$F45=\"NP\",$G45=\"NP\"),\"NP\",IF(ISERROR(MEDIAN($E45:$G45)),\"DNS\",IF(COUNT($E45:$G45)<3,MAX($E45:$G45),MEDIAN($E45:$G45))))))","v":""},{"$f":"IF($A45=\"x\",\"x\",IF($C45=\"\",\"\",IF(OR(J45=\"NP\",J45=\"DNS\"),IF(J45=\"NP\",MAX(Oblast4)+COUNTIF(($J$12:$J$154),MAX(Oblast4))+COUNTIF(($U$12:$U$154),MAX(Oblast4)),MAX(Oblast4)+COUNTIF(($J$12:$J$154),MAX(Oblast4))+COUNTIF(($U$12:$U$154),MAX(Oblast4))+COUNTIF(($J$12:$J$154),\"NP\")+COUNTIF(($U$12:$U$154),\"NP\")),J45)))","v":""},{"$f":"IF($A45=\"x\",\"x\",IF($C45=\"\",\"\",IF(OR(K45=\"NP\",K45=\"DNS\"),K45,RANK(K45,Oblast3,1))))","v":""},{"$f":"IF($A45=\"x\",\"x\",IF($C45=\"\",\"\",IF(OR(AND(H45=\"NP\",H46=\"NP\"),AND(H45=\"DNS\",H46=\"DNS\")),H45,IF(AND(H45=\"NP\",H46=\"DNS\"),H45,IF(AND(H45=\"DNS\",H46=\"NP\"),H46,MIN(H45,H46))))))","v":""},{"$f":"IF(Start!I12=\"\",\"\",\"x\")","v":""},32,{"$f":"IF(Start!G12=\"\",\"\",Start!G12)","v":""},"I.pokus",null,null,null,{"$f":"IF($N45=\"\",\"\",IF(OR($P45=\"DNS\",$Q45=\"DNS\",$R45=\"DNS\"),\"DNS\",IF(OR($P45=\"NP\",$Q45=\"NP\",$R45=\"NP\"),\"NP\",IF(ISERROR(MEDIAN($P45:$R45)),\"DNS\",IF(COUNT($P45:$R45)<3,MAX($P45:$R45),MEDIAN($P45:$R45))))))","v":""},{"$f":"IF($L45=\"x\",\"x\",IF($N45=\"\",\"\",IF(OR(U45=\"NP\",U45=\"DNS\"),IF(U45=\"NP\",MAX(Oblast4)+COUNTIF(($J$12:$J$154),MAX(Oblast4))+COUNTIF(($U$12:$U$154),MAX(Oblast4)),MAX(Oblast4)+COUNTIF(($J$12:$J$154),MAX(Oblast4))+COUNTIF(($U$12:$U$154),MAX(Oblast4))+COUNTIF(($J$12:$J$154),\"NP\")+COUNTIF(($U$12:$U$154),\"NP\")),U45)))","v":""},{"$f":"IF($L45=\"x\",\"x\",IF($N45=\"\",\"\",IF(OR(V45=\"NP\",V45=\"DNS\"),V45,RANK(V45,Oblast3,1))))","v":""},{"$f":"IF($L45=\"x\",\"x\",IF($N45=\"\",\"\",IF(OR(AND(S45=\"NP\",S46=\"NP\"),AND(S45=\"DNS\",S46=\"DNS\")),S45,IF(AND(S45=\"NP\",S46=\"DNS\"),S45,IF(AND(S45=\"DNS\",S46=\"NP\"),S46,MIN(S45,S46))))))","v":""}]
[null,null,null,"II.pokus",null,null,null,{"$f":"IF($C45=\"\",\"\",IF(OR($E46=\"DNS\",$F46=\"DNS\",$G46=\"DNS\"),\"DNS\",IF(OR($E46=\"NP\",$F46=\"NP\",$G46=\"NP\"),\"NP\",IF(ISERROR(MEDIAN($E46:$G46)),\"DNS\",IF(COUNT($E46:$G46)<3,MAX($E46:$G46),MEDIAN($E46:$G46))))))","v":""},null,null,null,null,null,null,"II.pokus",null,null,null,{"$f":"IF($N45=\"\",\"\",IF(OR($P46=\"DNS\",$Q46=\"DNS\",$R46=\"DNS\"),\"DNS\",IF(OR($P46=\"NP\",$Q46=\"NP\",$R46=\"NP\"),\"NP\",IF(ISERROR(MEDIAN($P46:$R46)),\"DNS\",IF(COUNT($P46:$R46)<3,MAX($P46:$R46),MEDIAN($P46:$R46))))))","v":""}]
[{"$f":"IF(Start!E28=\"\",\"\",\"x\")","v":""},23,{"$f":"IF(Start!C28=\"\",\"\",Start!C28)","v":""},"I.pokus",null,null,null,{"$f":"IF($C47=\"\",\"\",IF(OR($E47=\"DNS\",$F47=\"DNS\",$G47=\"DNS\"),\"DNS\",IF(OR($E47=\"NP\",$F47=\"NP\",$G47=\"NP\"),\"NP\",IF(ISERROR(MEDIAN($E47:$G47)),\"DNS\",IF(COUNT($E47:$G47)<3,MAX($E47:$G47),MEDIAN($E47:$G47))))))","v":""},{"$f":"IF($A47=\"x\",\"x\",IF($C47=\"\",\"\",IF(OR(J47=\"NP\",J47=\"DNS\"),IF(J47=\"NP\",MAX(Oblast4)+COUNTIF(($J$12:$J$154),MAX(Oblast4))+COUNTIF(($U$12:$U$154),MAX(Oblast4)),MAX(Oblast4)+COUNTIF(($J$12:$J$154),MAX(Oblast4))+COUNTIF(($U$12:$U$154),MAX(Oblast4))+COUNTIF(($J$12:$J$154),\"NP\")+COUNTIF(($U$12:$U$154),\"NP\")),J47)))","v":""},{"$f":"IF($A47=\"x\",\"x\",IF($C47=\"\",\"\",IF(OR(K47=\"NP\",K47=\"DNS\"),K47,RANK(K47,Oblast3,1))))","v":""},{"$f":"IF($A47=\"x\",\"x\",IF($C47=\"\",\"\",IF(OR(AND(H47=\"NP\",H48=\"NP\"),AND(H47=\"DNS\",H48=\"DNS\")),H47,IF(AND(H47=\"NP\",H48=\"DNS\"),H47,IF(AND(H47=\"DNS\",H48=\"NP\"),H48,MIN(H47,H48))))))","v":""},{"$f":"IF(Start!I13=\"\",\"\",\"x\")","v":""},33,{"$f":"IF(Start!G13=\"\",\"\",Start!G13)","v":""},"I.pokus",null,null,null,{"$f":"IF($N47=\"\",\"\",IF(OR($P47=\"DNS\",$Q47=\"DNS\",$R47=\"DNS\"),\"DNS\",IF(OR($P47=\"NP\",$Q47=\"NP\",$R47=\"NP\"),\"NP\",IF(ISERROR(MEDIAN($P47:$R47)),\"DNS\",IF(COUNT($P47:$R47)<3,MAX($P47:$R47),MEDIAN($P47:$R47))))))","v":""},{"$f":"IF($L47=\"x\",\"x\",IF($N47=\"\",\"\",IF(OR(U47=\"NP\",U47=\"DNS\"),IF(U47=\"NP\",MAX(Oblast4)+COUNTIF(($J$12:$J$154),MAX(Oblast4))+COUNTIF(($U$12:$U$154),MAX(Oblast4)),MAX(Oblast4)+COUNTIF(($J$12:$J$154),MAX(Oblast4))+COUNTIF(($U$12:$U$154),MAX(Oblast4))+COUNTIF(($J$12:$J$154),\"NP\")+COUNTIF(($U$12:$U$154),\"NP\")),U47)))","v":""},{"$f":"IF($L47=\"x\",\"x\",IF($N47=\"\",\"\",IF(OR(V47=\"NP\",V47=\"DNS\"),V47,RANK(V47,Oblast3,1))))","v":""},{"$f":"IF($L47=\"x\",\"x\",IF($N47=\"\",\"\",IF(OR(AND(S47=\"NP\",S48=\"NP\"),AND(S47=\"DNS\",S48=\"DNS\")),S47,IF(AND(S47=\"NP\",S48=\"DNS\"),S47,IF(AND(S47=\"DNS\",S48=\"NP\"),S48,MIN(S47,S48))))))","v":""}]
[null,null,null,"II.pokus",null,null,null,{"$f":"IF($C47=\"\",\"\",IF(OR($E48=\"DNS\",$F48=\"DNS\",$G48=\"DNS\"),\"DNS\",IF(OR($E48=\"NP\",$F48=\"NP\",$G48=\"NP\"),\"NP\",IF(ISERROR(MEDIAN($E48:$G48)),\"DNS\",IF(COUNT($E48:$G48)<3,MAX($E48:$G48),MEDIAN($E48:$G48))))))","v":""},null,null,null,null,null,null,"II.pokus",null,null,null,{"$f":"IF($N47=\"\",\"\",IF(OR($P48=\"DNS\",$Q48=\"DNS\",$R48=\"DNS\"),\"DNS\",IF(OR($P48=\"NP\",$Q48=\"NP\",$R48=\"NP\"),\"NP\",IF(ISERROR(MEDIAN($P48:$R48)),\"DNS\",IF(COUNT($P48:$R48)<3,MAX($P48:$R48),MEDIAN($P48:$R48))))))","v":""}]
[{"$f":"IF(Start!E29=\"\",\"\",\"x\")","v":""},24,{"$f":"IF(Start!C29=\"\",\"\",Start!C29)","v":""},"I.pokus",null,null,null,{"$f":"IF($C49=\"\",\"\",IF(OR($E49=\"DNS\",$F49=\"DNS\",$G49=\"DNS\"),\"DNS\",IF(OR($E49=\"NP\",$F49=\"NP\",$G49=\"NP\"),\"NP\",IF(ISERROR(MEDIAN($E49:$G49)),\"DNS\",IF(COUNT($E49:$G49)<3,MAX($E49:$G49),MEDIAN($E49:$G49))))))","v":""},{"$f":"IF($A49=\"x\",\"x\",IF($C49=\"\",\"\",IF(OR(J49=\"NP\",J49=\"DNS\"),IF(J49=\"NP\",MAX(Oblast4)+COUNTIF(($J$12:$J$154),MAX(Oblast4))+COUNTIF(($U$12:$U$154),MAX(Oblast4)),MAX(Oblast4)+COUNTIF(($J$12:$J$154),MAX(Oblast4))+COUNTIF(($U$12:$U$154),MAX(Oblast4))+COUNTIF(($J$12:$J$154),\"NP\")+COUNTIF(($U$12:$U$154),\"NP\")),J49)))","v":""},{"$f":"IF($A49=\"x\",\"x\",IF($C49=\"\",\"\",IF(OR(K49=\"NP\",K49=\"DNS\"),K49,RANK(K49,Oblast3,1))))","v":""},{"$f":"IF($A49=\"x\",\"x\",IF($C49=\"\",\"\",IF(OR(AND(H49=\"NP\",H50=\"NP\"),AND(H49=\"DNS\",H50=\"DNS\")),H49,IF(AND(H49=\"NP\",H50=\"DNS\"),H49,IF(AND(H49=\"DNS\",H50=\"NP\"),H50,MIN(H49,H50))))))","v":""},{"$f":"IF(Start!I14=\"\",\"\",\"x\")","v":""},34,{"$f":"IF(Start!G14=\"\",\"\",Start!G14)","v":""},"I.pokus",null,null,null,{"$f":"IF($N49=\"\",\"\",IF(OR($P49=\"DNS\",$Q49=\"DNS\",$R49=\"DNS\"),\"DNS\",IF(OR($P49=\"NP\",$Q49=\"NP\",$R49=\"NP\"),\"NP\",IF(ISERROR(MEDIAN($P49:$R49)),\"DNS\",IF(COUNT($P49:$R49)<3,MAX($P49:$R49),MEDIAN($P49:$R49))))))","v":""},{"$f":"IF($L49=\"x\",\"x\",IF($N49=\"\",\"\",IF(OR(U49=\"NP\",U49=\"DNS\"),IF(U49=\"NP\",MAX(Oblast4)+COUNTIF(($J$12:$J$154),MAX(Oblast4))+COUNTIF(($U$12:$U$154),MAX(Oblast4)),MAX(Oblast4)+COUNTIF(($J$12:$J$154),MAX(Oblast4))+COUNTIF(($U$12:$U$154),MAX(Oblast4))+COUNTIF(($J$12:$J$154),\"NP\")+COUNTIF(($U$12:$U$154),\"NP\")),U49)))","v":""},{"$f":"IF($L49=\"x\",\"x\",IF($N49=\"\",\"\",IF(OR(V49=\"NP\",V49=\"DNS\"),V49,RANK(V49,Oblast3,1))))","v":""},{"$f":"IF($L49=\"x\",\"x\",IF($N49=\"\",\"\",IF(OR(AND(S49=\"NP\",S50=\"NP\"),AND(S49=\"DNS\",S50=\"DNS\")),S49,IF(AND(S49=\"NP\",S50=\"DNS\"),S49,IF(AND(S49=\"DNS\",S50=\"NP\"),S50,MIN(S49,S50))))))","v":""}]
[null,null,null,"II.pokus",null,null,null,{"$f":"IF($C49=\"\",\"\",IF(OR($E50=\"DNS\",$F50=\"DNS\",$G50=\"DNS\"),\"DNS\",IF(OR($E50=\"NP\",$F50=\"NP\",$G50=\"NP\"),\"NP\",IF(ISERROR(MEDIAN($E50:$G50)),\"DNS\",IF(COUNT($E50:$G50)<3,MAX($E50:$G50),MEDIAN($E50:$G50))))))","v":""},null,null,null,null,null,null,"II.pokus",null,null,null,{"$f":"IF($N49=\"\",\"\",IF(OR($P50=\"DNS\",$Q50=\"DNS\",$R50=\"DNS\"),\"DNS\",IF(OR($P50=\"NP\",$Q50=\"NP\",$R50=\"NP\"),\"NP\",IF(ISERROR(MEDIAN($P50:$R50)),\"DNS\",IF(COUNT($P50:$R50)<3,MAX($P50:$R50),MEDIAN($P50:$R50))))))","v":""}]
[{"$f":"IF(Start!E30=\"\",\"\",\"x\")","v":""},25,{"$f":"IF(Start!C30=\"\",\"\",Start!C30)","v":""},"I.pokus",null,null,null,{"$f":"IF($C51=\"\",\"\",IF(OR($E51=\"DNS\",$F51=\"DNS\",$G51=\"DNS\"),\"DNS\",IF(OR($E51=\"NP\",$F51=\"NP\",$G51=\"NP\"),\"NP\",IF(ISERROR(MEDIAN($E51:$G51)),\"DNS\",IF(COUNT($E51:$G51)<3,MAX($E51:$G51),MEDIAN($E51:$G51))))))","v":""},{"$f":"IF($A51=\"x\",\"x\",IF($C51=\"\",\"\",IF(OR(J51=\"NP\",J51=\"DNS\"),IF(J51=\"NP\",MAX(Oblast4)+COUNTIF(($J$12:$J$154),MAX(Oblast4))+COUNTIF(($U$12:$U$154),MAX(Oblast4)),MAX(Oblast4)+COUNTIF(($J$12:$J$154),MAX(Oblast4))+COUNTIF(($U$12:$U$154),MAX(Oblast4))+COUNTIF(($J$12:$J$154),\"NP\")+COUNTIF(($U$12:$U$154),\"NP\")),J51)))","v":""},{"$f":"IF($A51=\"x\",\"x\",IF($C51=\"\",\"\",IF(OR(K51=\"NP\",K51=\"DNS\"),K51,RANK(K51,Oblast3,1))))","v":""},{"$f":"IF($A51=\"x\",\"x\",IF($C51=\"\",\"\",IF(OR(AND(H51=\"NP\",H52=\"NP\"),AND(H51=\"DNS\",H52=\"DNS\")),H51,IF(AND(H51=\"NP\",H52=\"DNS\"),H51,IF(AND(H51=\"DNS\",H52=\"NP\"),H52,MIN(H51,H52))))))","v":""},{"$f":"IF(Start!I15=\"\",\"\",\"x\")","v":""},35,{"$f":"IF(Start!G15=\"\",\"\",Start!G15)","v":""},"I.pokus",null,null,null,{"$f":"IF($N51=\"\",\"\",IF(OR($P51=\"DNS\",$Q51=\"DNS\",$R51=\"DNS\"),\"DNS\",IF(OR($P51=\"NP\",$Q51=\"NP\",$R51=\"NP\"),\"NP\",IF(ISERROR(MEDIAN($P51:$R51)),\"DNS\",IF(COUNT($P51:$R51)<3,MAX($P51:$R51),MEDIAN($P51:$R51))))))","v":""},{"$f":"IF($L51=\"x\",\"x\",IF($N51=\"\",\"\",IF(OR(U51=\"NP\",U51=\"DNS\"),IF(U51=\"NP\",MAX(Oblast4)+COUNTIF(($J$12:$J$154),MAX(Oblast4))+COUNTIF(($U$12:$U$154),MAX(Oblast4)),MAX(Oblast4)+COUNTIF(($J$12:$J$154),MAX(Oblast4))+COUNTIF(($U$12:$U$154),MAX(Oblast4))+COUNTIF(($J$12:$J$154),\"NP\")+COUNTIF(($U$12:$U$154),\"NP\")),U51)))","v":""},{"$f":"IF($L51=\"x\",\"x\",IF($N51=\"\",\"\",IF(OR(V51=\"NP\",V51=\"DNS\"),V51,RANK(V51,Oblast3,1))))","v":""},{"$f":"IF($L51=\"x\",\"x\",IF($N51=\"\",\"\",IF(OR(AND(S51=\"NP\",S52=\"NP\"),AND(S51=\"DNS\",S52=\"DNS\")),S51,IF(AND(S51=\"NP\",S52=\"DNS\"),S51,IF(AND(S51=\"DNS\",S52=\"NP\"),S52,MIN(S51,S52))))))","v":""}]
[null,null,null,"II.pokus",null,null,null,{"$f":"IF($C51=\"\",\"\",IF(OR($E52=\"DNS\",$F52=\"DNS\",$G52=\"DNS\"),\"DNS\",IF(OR($E52=\"NP\",$F52=\"NP\",$G52=\"NP\"),\"NP\",IF(ISERROR(MEDIAN($E52:$G52)),\"DNS\",IF(COUNT($E52:$G52)<3,MAX($E52:$G52),MEDIAN($E52:$G52))))))","v":""},null,null,null,null,null,null,"II.pokus",null,null,null,{"$f":"IF($N51=\"\",\"\",IF(OR($P52=\"DNS\",$Q52=\"DNS\",$R52=\"DNS\"),\"DNS\",IF(OR($P52=\"NP\",$Q52=\"NP\",$R52=\"NP\"),\"NP\",IF(ISERROR(MEDIAN($P52:$R52)),\"DNS\",IF(COUNT($P52:$R52)<3,MAX($P52:$R52),MEDIAN($P52:$R52))))))","v":""}]
[{"$f":"IF(Start!I6=\"\",\"\",\"x\")","v":""},26,{"$f":"IF(Start!G6=\"\",\"\",Start!G6)","v":""},"I.pokus",null,null,null,{"$f":"IF($C53=\"\",\"\",IF(OR($E53=\"DNS\",$F53=\"DNS\",$G53=\"DNS\"),\"DNS\",IF(OR($E53=\"NP\",$F53=\"NP\",$G53=\"NP\"),\"NP\",IF(ISERROR(MEDIAN($E53:$G53)),\"DNS\",IF(COUNT($E53:$G53)<3,MAX($E53:$G53),MEDIAN($E53:$G53))))))","v":""},{"$f":"IF($A53=\"x\",\"x\",IF($C53=\"\",\"\",IF(OR(J53=\"NP\",J53=\"DNS\"),IF(J53=\"NP\",MAX(Oblast4)+COUNTIF(($J$12:$J$154),MAX(Oblast4))+COUNTIF(($U$12:$U$154),MAX(Oblast4)),MAX(Oblast4)+COUNTIF(($J$12:$J$154),MAX(Oblast4))+COUNTIF(($U$12:$U$154),MAX(Oblast4))+COUNTIF(($J$12:$J$154),\"NP\")+COUNTIF(($U$12:$U$154),\"NP\")),J53)))","v":""},{"$f":"IF($A53=\"x\",\"x\",IF($C53=\"\",\"\",IF(OR(K53=\"NP\",K53=\"DNS\"),K53,RANK(K53,Oblast3,1))))","v":""},{"$f":"IF($A53=\"x\",\"x\",IF($C53=\"\",\"\",IF(OR(AND(H53=\"NP\",H54=\"NP\"),AND(H53=\"DNS\",H54=\"DNS\")),H53,IF(AND(H53=\"NP\",H54=\"DNS\"),H53,IF(AND(H53=\"DNS\",H54=\"NP\"),H54,MIN(H53,H54))))))","v":""},{"$f":"IF(Start!I16=\"\",\"\",\"x\")","v":""},36,{"$f":"IF(Start!G16=\"\",\"\",Start!G16)","v":""},"I.pokus",null,null,null,{"$f":"IF($N53=\"\",\"\",IF(OR($P53=\"DNS\",$Q53=\"DNS\",$R53=\"DNS\"),\"DNS\",IF(OR($P53=\"NP\",$Q53=\"NP\",$R53=\"NP\"),\"NP\",IF(ISERROR(MEDIAN($P53:$R53)),\"DNS\",IF(COUNT($P53:$R53)<3,MAX($P53:$R53),MEDIAN($P53:$R53))))))","v":""},{"$f":"IF($L53=\"x\",\"x\",IF($N53=\"\",\"\",IF(OR(U53=\"NP\",U53=\"DNS\"),IF(U53=\"NP\",MAX(Oblast4)+COUNTIF(($J$12:$J$154),MAX(Oblast4))+COUNTIF(($U$12:$U$154),MAX(Oblast4)),MAX(Oblast4)+COUNTIF(($J$12:$J$154),MAX(Oblast4))+COUNTIF(($U$12:$U$154),MAX(Oblast4))+COUNTIF(($J$12:$J$154),\"NP\")+COUNTIF(($U$12:$U$154),\"NP\")),U53)))","v":""},{"$f":"IF($L53=\"x\",\"x\",IF($N53=\"\",\"\",IF(OR(V53=\"NP\",V53=\"DNS\"),V53,RANK(V53,Oblast3,1))))","v":""},{"$f":"IF($L53=\"x\",\"x\",IF($N53=\"\",\"\",IF(OR(AND(S53=\"NP\",S54=\"NP\"),AND(S53=\"DNS\",S54=\"DNS\")),S53,IF(AND(S53=\"NP\",S54=\"DNS\"),S53,IF(AND(S53=\"DNS\",S54=\"NP\"),S54,MIN(S53,S54))))))","v":""}]
[null,null,null,"II.pokus",null,null,null,{"$f":"IF($C53=\"\",\"\",IF(OR($E54=\"DNS\",$F54=\"DNS\",$G54=\"DNS\"),\"DNS\",IF(OR($E54=\"NP\",$F54=\"NP\",$G54=\"NP\"),\"NP\",IF(ISERROR(MEDIAN($E54:$G54)),\"DNS\",IF(COUNT($E54:$G54)<3,MAX($E54:$G54),MEDIAN($E54:$G54))))))","v":""},null,null,null,null,null,null,"II.pokus",null,null,null,{"$f":"IF($N53=\"\",\"\",IF(OR($P54=\"DNS\",$Q54=\"DNS\",$R54=\"DNS\"),\"DNS\",IF(OR($P54=\"NP\",$Q54=\"NP\",$R54=\"NP\"),\"NP\",IF(ISERROR(MEDIAN($P54:$R54)),\"DNS\",IF(COUNT($P54:$R54)<3,MAX($P54:$R54),MEDIAN($P54:$R54))))))","v":""}]
[{"$f":"IF(Start!I7=\"\",\"\",\"x\")","v":""},27,{"$f":"IF(Start!G7=\"\",\"\",Start!G7)","v":""},"I.pokus",null,null,null,{"$f":"IF($C55=\"\",\"\",IF(OR($E55=\"DNS\",$F55=\"DNS\",$G55=\"DNS\"),\"DNS\",IF(OR($E55=\"NP\",$F55=\"NP\",$G55=\"NP\"),\"NP\",IF(ISERROR(MEDIAN($E55:$G55)),\"DNS\",IF(COUNT($E55:$G55)<3,MAX($E55:$G55),MEDIAN($E55:$G55))))))","v":""},{"$f":"IF($A55=\"x\",\"x\",IF($C55=\"\",\"\",IF(OR(J55=\"NP\",J55=\"DNS\"),IF(J55=\"NP\",MAX(Oblast4)+COUNTIF(($J$12:$J$154),MAX(Oblast4))+COUNTIF(($U$12:$U$154),MAX(Oblast4)),MAX(Oblast4)+COUNTIF(($J$12:$J$154),MAX(Oblast4))+COUNTIF(($U$12:$U$154),MAX(Oblast4))+COUNTIF(($J$12:$J$154),\"NP\")+COUNTIF(($U$12:$U$154),\"NP\")),J55)))","v":""},{"$f":"IF($A55=\"x\",\"x\",IF($C55=\"\",\"\",IF(OR(K55=\"NP\",K55=\"DNS\"),K55,RANK(K55,Oblast3,1))))","v":""},{"$f":"IF($A55=\"x\",\"x\",IF($C55=\"\",\"\",IF(OR(AND(H55=\"NP\",H56=\"NP\"),AND(H55=\"DNS\",H56=\"DNS\")),H55,IF(AND(H55=\"NP\",H56=\"DNS\"),H55,IF(AND(H55=\"DNS\",H56=\"NP\"),H56,MIN(H55,H56))))))","v":""},{"$f":"IF(Start!I17=\"\",\"\",\"x\")","v":""},37,{"$f":"IF(Start!G17=\"\",\"\",Start!G17)","v":""},"I.pokus",null,null,null,{"$f":"IF($N55=\"\",\"\",IF(OR($P55=\"DNS\",$Q55=\"DNS\",$R55=\"DNS\"),\"DNS\",IF(OR($P55=\"NP\",$Q55=\"NP\",$R55=\"NP\"),\"NP\",IF(ISERROR(MEDIAN($P55:$R55)),\"DNS\",IF(COUNT($P55:$R55)<3,MAX($P55:$R55),MEDIAN($P55:$R55))))))","v":""},{"$f":"IF($L55=\"x\",\"x\",IF($N55=\"\",\"\",IF(OR(U55=\"NP\",U55=\"DNS\"),IF(U55=\"NP\",MAX(Oblast4)+COUNTIF(($J$12:$J$154),MAX(Oblast4))+COUNTIF(($U$12:$U$154),MAX(Oblast4)),MAX(Oblast4)+COUNTIF(($J$12:$J$154),MAX(Oblast4))+COUNTIF(($U$12:$U$154),MAX(Oblast4))+COUNTIF(($J$12:$J$154),\"NP\")+COUNTIF(($U$12:$U$154),\"NP\")),U55)))","v":""},{"$f":"IF($L55=\"x\",\"x\",IF($N55=\"\",\"\",IF(OR(V55=\"NP\",V55=\"DNS\"),V55,RANK(V55,Oblast3,1))))","v":""},{"$f":"IF($L55=\"x\",\"x\",IF($N55=\"\",\"\",IF(OR(AND(S55=\"NP\",S56=\"NP\"),AND(S55=\"DNS\",S56=\"DNS\")),S55,IF(AND(S55=\"NP\",S56=\"DNS\"),S55,IF(AND(S55=\"DNS\",S56=\"NP\"),S56,MIN(S55,S56))))))","v":""}]
[null,null,null,"II.pokus",null,null,null,{"$f":"IF($C55=\"\",\"\",IF(OR($E56=\"DNS\",$F56=\"DNS\",$G56=\"DNS\"),\"DNS\",IF(OR($E56=\"NP\",$F56=\"NP\",$G56=\"NP\"),\"NP\",IF(ISERROR(MEDIAN($E56:$G56)),\"DNS\",IF(COUNT($E56:$G56)<3,MAX($E56:$G56),MEDIAN($E56:$G56))))))","v":""},null,null,null,null,null,null,"II.pokus",null,null,null,{"$f":"IF($N55=\"\",\"\",IF(OR($P56=\"DNS\",$Q56=\"DNS\",$R56=\"DNS\"),\"DNS\",IF(OR($P56=\"NP\",$Q56=\"NP\",$R56=\"NP\"),\"NP\",IF(ISERROR(MEDIAN($P56:$R56)),\"DNS\",IF(COUNT($P56:$R56)<3,MAX($P56:$R56),MEDIAN($P56:$R56))))))","v":""}]
[{"$f":"IF(Start!I8=\"\",\"\",\"x\")","v":""},28,{"$f":"IF(Start!G8=\"\",\"\",Start!G8)","v":""},"I.pokus",null,null,null,{"$f":"IF($C57=\"\",\"\",IF(OR($E57=\"DNS\",$F57=\"DNS\",$G57=\"DNS\"),\"DNS\",IF(OR($E57=\"NP\",$F57=\"NP\",$G57=\"NP\"),\"NP\",IF(ISERROR(MEDIAN($E57:$G57)),\"DNS\",IF(COUNT($E57:$G57)<3,MAX($E57:$G57),MEDIAN($E57:$G57))))))","v":""},{"$f":"IF($A57=\"x\",\"x\",IF($C57=\"\",\"\",IF(OR(J57=\"NP\",J57=\"DNS\"),IF(J57=\"NP\",MAX(Oblast4)+COUNTIF(($J$12:$J$154),MAX(Oblast4))+COUNTIF(($U$12:$U$154),MAX(Oblast4)),MAX(Oblast4)+COUNTIF(($J$12:$J$154),MAX(Oblast4))+COUNTIF(($U$12:$U$154),MAX(Oblast4))+COUNTIF(($J$12:$J$154),\"NP\")+COUNTIF(($U$12:$U$154),\"NP\")),J57)))","v":""},{"$f":"IF($A57=\"x\",\"x\",IF($C57=\"\",\"\",IF(OR(K57=\"NP\",K57=\"DNS\"),K57,RANK(K57,Oblast3,1))))","v":""},{"$f":"IF($A57=\"x\",\"x\",IF($C57=\"\",\"\",IF(OR(AND(H57=\"NP\",H58=\"NP\"),AND(H57=\"DNS\",H58=\"DNS\")),H57,IF(AND(H57=\"NP\",H58=\"DNS\"),H57,IF(AND(H57=\"DNS\",H58=\"NP\"),H58,MIN(H57,H58))))))","v":""},{"$f":"IF(Start!I18=\"\",\"\",\"x\")","v":""},38,{"$f":"IF(Start!G18=\"\",\"\",Start!G18)","v":""},"I.pokus",null,null,null,{"$f":"IF($N57=\"\",\"\",IF(OR($P57=\"DNS\",$Q57=\"DNS\",$R57=\"DNS\"),\"DNS\",IF(OR($P57=\"NP\",$Q57=\"NP\",$R57=\"NP\"),\"NP\",IF(ISERROR(MEDIAN($P57:$R57)),\"DNS\",IF(COUNT($P57:$R57)<3,MAX($P57:$R57),MEDIAN($P57:$R57))))))","v":""},{"$f":"IF($L57=\"x\",\"x\",IF($N57=\"\",\"\",IF(OR(U57=\"NP\",U57=\"DNS\"),IF(U57=\"NP\",MAX(Oblast4)+COUNTIF(($J$12:$J$154),MAX(Oblast4))+COUNTIF(($U$12:$U$154),MAX(Oblast4)),MAX(Oblast4)+COUNTIF(($J$12:$J$154),MAX(Oblast4))+COUNTIF(($U$12:$U$154),MAX(Oblast4))+COUNTIF(($J$12:$J$154),\"NP\")+COUNTIF(($U$12:$U$154),\"NP\")),U57)))","v":""},{"$f":"IF($L57=\"x\",\"x\",IF($N57=\"\",\"\",IF(OR(V57=\"NP\",V57=\"DNS\"),V57,RANK(V57,Oblast3,1))))","v":""},{"$f":"IF($L57=\"x\",\"x\",IF($N57=\"\",\"\",IF(OR(AND(S57=\"NP\",S58=\"NP\"),AND(S57=\"DNS\",S58=\"DNS\")),S57,IF(AND(S57=\"NP\",S58=\"DNS\"),S57,IF(AND(S57=\"DNS\",S58=\"NP\"),S58,MIN(S57,S58))))))","v":""}]
[null,null,null,"II.pokus",null,null,null,{"$f":"IF($C57=\"\",\"\",IF(OR($E58=\"DNS\",$F58=\"DNS\",$G58=\"DNS\"),\"DNS\",IF(OR($E58=\"NP\",$F58=\"NP\",$G58=\"NP\"),\"NP\",IF(ISERROR(MEDIAN($E58:$G58)),\"DNS\",IF(COUNT($E58:$G58)<3,MAX($E58:$G58),MEDIAN($E58:$G58))))))","v":""},null,null,null,null,null,null,"II.pokus",null,null,null,{"$f":"IF($N57=\"\",\"\",IF(OR($P58=\"DNS\",$Q58=\"DNS\",$R58=\"DNS\"),\"DNS\",IF(OR($P58=\"NP\",$Q58=\"NP\",$R58=\"NP\"),\"NP\",IF(ISERROR(MEDIAN($P58:$R58)),\"DNS\",IF(COUNT($P58:$R58)<3,MAX($P58:$R58),MEDIAN($P58:$R58))))))","v":""}]
[{"$f":"IF(Start!I9=\"\",\"\",\"x\")","v":""},29,{"$f":"IF(Start!G9=\"\",\"\",Start!G9)","v":""},"I.pokus",null,null,null,{"$f":"IF($C59=\"\",\"\",IF(OR($E59=\"DNS\",$F59=\"DNS\",$G59=\"DNS\"),\"DNS\",IF(OR($E59=\"NP\",$F59=\"NP\",$G59=\"NP\"),\"NP\",IF(ISERROR(MEDIAN($E59:$G59)),\"DNS\",IF(COUNT($E59:$G59)<3,MAX($E59:$G59),MEDIAN($E59:$G59))))))","v":""},{"$f":"IF($A59=\"x\",\"x\",IF($C59=\"\",\"\",IF(OR(J59=\"NP\",J59=\"DNS\"),IF(J59=\"NP\",MAX(Oblast4)+COUNTIF(($J$12:$J$154),MAX(Oblast4))+COUNTIF(($U$12:$U$154),MAX(Oblast4)),MAX(Oblast4)+COUNTIF(($J$12:$J$154),MAX(Oblast4))+COUNTIF(($U$12:$U$154),MAX(Oblast4))+COUNTIF(($J$12:$J$154),\"NP\")+COUNTIF(($U$12:$U$154),\"NP\")),J59)))","v":""},{"$f":"IF($A59=\"x\",\"x\",IF($C59=\"\",\"\",IF(OR(K59=\"NP\",K59=\"DNS\"),K59,RANK(K59,Oblast3,1))))","v":""},{"$f":"IF($A59=\"x\",\"x\",IF($C59=\"\",\"\",IF(OR(AND(H59=\"NP\",H60=\"NP\"),AND(H59=\"DNS\",H60=\"DNS\")),H59,IF(AND(H59=\"NP\",H60=\"DNS\"),H59,IF(AND(H59=\"DNS\",H60=\"NP\"),H60,MIN(H59,H60))))))","v":""},{"$f":"IF(Start!I19=\"\",\"\",\"x\")","v":""},39,{"$f":"IF(Start!G19=\"\",\"\",Start!G19)","v":""},"I.pokus",null,null,null,{"$f":"IF($N59=\"\",\"\",IF(OR($P59=\"DNS\",$Q59=\"DNS\",$R59=\"DNS\"),\"DNS\",IF(OR($P59=\"NP\",$Q59=\"NP\",$R59=\"NP\"),\"NP\",IF(ISERROR(MEDIAN($P59:$R59)),\"DNS\",IF(COUNT($P59:$R59)<3,MAX($P59:$R59),MEDIAN($P59:$R59))))))","v":""},{"$f":"IF($L59=\"x\",\"x\",IF($N59=\"\",\"\",IF(OR(U59=\"NP\",U59=\"DNS\"),IF(U59=\"NP\",MAX(Oblast4)+COUNTIF(($J$12:$J$154),MAX(Oblast4))+COUNTIF(($U$12:$U$154),MAX(Oblast4)),MAX(Oblast4)+COUNTIF(($J$12:$J$154),MAX(Oblast4))+COUNTIF(($U$12:$U$154),MAX(Oblast4))+COUNTIF(($J$12:$J$154),\"NP\")+COUNTIF(($U$12:$U$154),\"NP\")),U59)))","v":""},{"$f":"IF($L59=\"x\",\"x\",IF($N59=\"\",\"\",IF(OR(V59=\"NP\",V59=\"DNS\"),V59,RANK(V59,Oblast3,1))))","v":""},{"$f":"IF($L59=\"x\",\"x\",IF($N59=\"\",\"\",IF(OR(AND(S59=\"NP\",S60=\"NP\"),AND(S59=\"DNS\",S60=\"DNS\")),S59,IF(AND(S59=\"NP\",S60=\"DNS\"),S59,IF(AND(S59=\"DNS\",S60=\"NP\"),S60,MIN(S59,S60))))))","v":""}]
[null,null,null,"II.pokus",null,null,null,{"$f":"IF($C59=\"\",\"\",IF(OR($E60=\"DNS\",$F60=\"DNS\",$G60=\"DNS\"),\"DNS\",IF(OR($E60=\"NP\",$F60=\"NP\",$G60=\"NP\"),\"NP\",IF(ISERROR(MEDIAN($E60:$G60)),\"DNS\",IF(COUNT($E60:$G60)<3,MAX($E60:$G60),MEDIAN($E60:$G60))))))","v":""},null,null,null,null,null,null,"II.pokus",null,null,null,{"$f":"IF($N59=\"\",\"\",IF(OR($P60=\"DNS\",$Q60=\"DNS\",$R60=\"DNS\"),\"DNS\",IF(OR($P60=\"NP\",$Q60=\"NP\",$R60=\"NP\"),\"NP\",IF(ISERROR(MEDIAN($P60:$R60)),\"DNS\",IF(COUNT($P60:$R60)<3,MAX($P60:$R60),MEDIAN($P60:$R60))))))","v":""}]
[{"$f":"IF(Start!I10=\"\",\"\",\"x\")","v":""},30,{"$f":"IF(Start!G10=\"\",\"\",Start!G10)","v":""},"I.pokus",null,null,null,{"$f":"IF($C61=\"\",\"\",IF(OR($E61=\"DNS\",$F61=\"DNS\",$G61=\"DNS\"),\"DNS\",IF(OR($E61=\"NP\",$F61=\"NP\",$G61=\"NP\"),\"NP\",IF(ISERROR(MEDIAN($E61:$G61)),\"DNS\",IF(COUNT($E61:$G61)<3,MAX($E61:$G61),MEDIAN($E61:$G61))))))","v":""},{"$f":"IF($A61=\"x\",\"x\",IF($C61=\"\",\"\",IF(OR(J61=\"NP\",J61=\"DNS\"),IF(J61=\"NP\",MAX(Oblast4)+COUNTIF(($J$12:$J$154),MAX(Oblast4))+COUNTIF(($U$12:$U$154),MAX(Oblast4)),MAX(Oblast4)+COUNTIF(($J$12:$J$154),MAX(Oblast4))+COUNTIF(($U$12:$U$154),MAX(Oblast4))+COUNTIF(($J$12:$J$154),\"NP\")+COUNTIF(($U$12:$U$154),\"NP\")),J61)))","v":""},{"$f":"IF($A61=\"x\",\"x\",IF($C61=\"\",\"\",IF(OR(K61=\"NP\",K61=\"DNS\"),K61,RANK(K61,Oblast3,1))))","v":""},{"$f":"IF($A61=\"x\",\"x\",IF($C61=\"\",\"\",IF(OR(AND(H61=\"NP\",H62=\"NP\"),AND(H61=\"DNS\",H62=\"DNS\")),H61,IF(AND(H61=\"NP\",H62=\"DNS\"),H61,IF(AND(H61=\"DNS\",H62=\"NP\"),H62,MIN(H61,H62))))))","v":""},{"$f":"IF(Start!I20=\"\",\"\",\"x\")","v":""},40,{"$f":"IF(Start!G20=\"\",\"\",Start!G20)","v":""},"I.pokus",null,null,null,{"$f":"IF($N61=\"\",\"\",IF(OR($P61=\"DNS\",$Q61=\"DNS\",$R61=\"DNS\"),\"DNS\",IF(OR($P61=\"NP\",$Q61=\"NP\",$R61=\"NP\"),\"NP\",IF(ISERROR(MEDIAN($P61:$R61)),\"DNS\",IF(COUNT($P61:$R61)<3,MAX($P61:$R61),MEDIAN($P61:$R61))))))","v":""},{"$f":"IF($L61=\"x\",\"x\",IF($N61=\"\",\"\",IF(OR(U61=\"NP\",U61=\"DNS\"),IF(U61=\"NP\",MAX(Oblast4)+COUNTIF(($J$12:$J$154),MAX(Oblast4))+COUNTIF(($U$12:$U$154),MAX(Oblast4)),MAX(Oblast4)+COUNTIF(($J$12:$J$154),MAX(Oblast4))+COUNTIF(($U$12:$U$154),MAX(Oblast4))+COUNTIF(($J$12:$J$154),\"NP\")+COUNTIF(($U$12:$U$154),\"NP\")),U61)))","v":""},{"$f":"IF($L61=\"x\",\"x\",IF($N61=\"\",\"\",IF(OR(V61=\"NP\",V61=\"DNS\"),V61,RANK(V61,Oblast3,1))))","v":""},{"$f":"IF($L61=\"x\",\"x\",IF($N61=\"\",\"\",IF(OR(AND(S61=\"NP\",S62=\"NP\"),AND(S61=\"DNS\",S62=\"DNS\")),S61,IF(AND(S61=\"NP\",S62=\"DNS\"),S61,IF(AND(S61=\"DNS\",S62=\"NP\"),S62,MIN(S61,S62))))))","v":""}]
[null,null,null,"II.pokus",null,null,null,{"$f":"IF($C61=\"\",\"\",IF(OR($E62=\"DNS\",$F62=\"DNS\",$G62=\"DNS\"),\"DNS\",IF(OR($E62=\"NP\",$F62=\"NP\",$G62=\"NP\"),\"NP\",IF(ISERROR(MEDIAN($E62:$G62)),\"DNS\",IF(COUNT($E62:$G62)<3,MAX($E62:$G62),MEDIAN($E62:$G62))))))","v":""},null,null,null,null,null,null,"II.pokus",null,null,null,{"$f":"IF($N61=\"\",\"\",IF(OR($P62=\"DNS\",$Q62=\"DNS\",$R62=\"DNS\"),\"DNS\",IF(OR($P62=\"NP\",$Q62=\"NP\",$R62=\"NP\"),\"NP\",IF(ISERROR(MEDIAN($P62:$R62)),\"DNS\",IF(COUNT($P62:$R62)<3,MAX($P62:$R62),MEDIAN($P62:$R62))))))","v":""}]
[null," CELOSTÁTNÍ HRA PLAMEN"]
[]
[]
[null," Výsledková listina č: 3"]
[null,"Požární útok",null,null,"Základem je čas naměřený od vydání signálu startéra do signalizace obou terčů",null,null,null,null,null,null,null,"Požární útok",null,null,"Základem je čas naměřený od vydání signálu startéra do signalizace obou terčů"]
[]
[]
[null,{"$f":"\"KATEGORIE: \"&Start!$N$2","v":"KATEGORIE: starší"},null,null,"I. časoměřič","II. časoměřič","III. časoměřič","úřední čas","počet bodů za umístění",null,null,null,{"$f":"\"KATEGORIE: \"&Start!$N$2","v":"KATEGORIE: starší"},null,null,"I. časoměřič","II. časoměřič","III. časoměřič","úřední čas","počet bodů za umístění"]
[]
[null,"start. číslo","SOUTĚŽNÍ DRUŽSTVO","pokus",null,null,null,null,null,null,null,null,"start. číslo","SOUTĚŽNÍ DRUŽSTVO","pokus"]
[]
[{"$f":"IF(Start!I21=\"\",\"\",\"x\")","v":""},41,{"$f":"IF(Start!G21=\"\",\"\",Start!G21)","v":""},"I.pokus",null,null,null,{"$f":"IF($C74=\"\",\"\",IF(OR($E74=\"DNS\",$F74=\"DNS\",$G74=\"DNS\"),\"DNS\",IF(OR($E74=\"NP\",$F74=\"NP\",$G74=\"NP\"),\"NP\",IF(ISERROR(MEDIAN($E74:$G74)),\"DNS\",IF(COUNT($E74:$G74)<3,MAX($E74:$G74),MEDIAN($E74:$G74))))))","v":""},{"$f":"IF($A74=\"x\",\"x\",IF($C74=\"\",\"\",IF(OR(J74=\"NP\",J74=\"DNS\"),IF(J74=\"NP\",MAX(Oblast4)+COUNTIF(($J$12:$J$154),MAX(Oblast4))+COUNTIF(($U$12:$U$154),MAX(Oblast4)),MAX(Oblast4)+COUNTIF(($J$12:$J$154),MAX(Oblast4))+COUNTIF(($U$12:$U$154),MAX(Oblast4))+COUNTIF(($J$12:$J$154),\"NP\")+COUNTIF(($U$12:$U$154),\"NP\")),J74)))","v":""},{"$f":"IF($A74=\"x\",\"x\",IF($C74=\"\",\"\",IF(OR(K74=\"NP\",K74=\"DNS\"),K74,RANK(K74,Oblast3,1))))","v":""},{"$f":"IF($A74=\"x\",\"x\",IF($C74=\"\",\"\",IF(OR(AND(H74=\"NP\",H75=\"NP\"),AND(H74=\"DNS\",H75=\"DNS\")),H74,IF(AND(H74=\"NP\",H75=\"DNS\"),H74,IF(AND(H74=\"DNS\",H75=\"NP\"),H75,MIN(H74,H75))))))","v":""},{"$f":"IF(Start!M6=\"\",\"\",\"x\")","v":""},51,{"$f":"IF(Start!K6=\"\",\"\",Start!K6)","v":""},"I.pokus",null,null,null,{"$f":"IF($N74=\"\",\"\",IF(OR($P74=\"DNS\",$Q74=\"DNS\",$R74=\"DNS\"),\"DNS\",IF(OR($P74=\"NP\",$Q74=\"NP\",$R74=\"NP\"),\"NP\",IF(ISERROR(MEDIAN($P74:$R74)),\"DNS\",IF(COUNT($P74:$R74)<3,MAX($P74:$R74),MEDIAN($P74:$R74))))))","v":""},{"$f":"IF($L74=\"x\",\"x\",IF($N74=\"\",\"\",IF(OR(U74=\"NP\",U74=\"DNS\"),IF(U74=\"NP\",MAX(Oblast4)+COUNTIF(($J$12:$J$154),MAX(Oblast4))+COUNTIF(($U$12:$U$154),MAX(Oblast4)),MAX(Oblast4)+COUNTIF(($J$12:$J$154),MAX(Oblast4))+COUNTIF(($U$12:$U$154),MAX(Oblast4))+COUNTIF(($J$12:$J$154),\"NP\")+COUNTIF(($U$12:$U$154),\"NP\")),U74)))","v":""},{"$f":"IF($L74=\"x\",\"x\",IF($N74=\"\",\"\",IF(OR(V74=\"NP\",V74=\"DNS\"),V74,RANK(V74,Oblast3,1))))","v":""},{"$f":"IF($L74=\"x\",\"x\",IF($N74=\"\",\"\",IF(OR(AND(S74=\"NP\",S75=\"NP\"),AND(S74=\"DNS\",S75=\"DNS\")),S74,IF(AND(S74=\"NP\",S75=\"DNS\"),S74,IF(AND(S74=\"DNS\",S75=\"NP\"),S75,MIN(S74,S75))))))","v":""}]
[null,null,null,"II.pokus",null,null,null,{"$f":"IF($C74=\"\",\"\",IF(OR($E75=\"DNS\",$F75=\"DNS\",$G75=\"DNS\"),\"DNS\",IF(OR($E75=\"NP\",$F75=\"NP\",$G75=\"NP\"),\"NP\",IF(ISERROR(MEDIAN($E75:$G75)),\"DNS\",IF(COUNT($E75:$G75)<3,MAX($E75:$G75),MEDIAN($E75:$G75))))))","v":""},null,null,null,null,null,null,"II.pokus",null,null,null,{"$f":"IF($N74=\"\",\"\",IF(OR($P75=\"DNS\",$Q75=\"DNS\",$R75=\"DNS\"),\"DNS\",IF(OR($P75=\"NP\",$Q75=\"NP\",$R75=\"NP\"),\"NP\",IF(ISERROR(MEDIAN($P75:$R75)),\"DNS\",IF(COUNT($P75:$R75)<3,MAX($P75:$R75),MEDIAN($P75:$R75))))))","v":""}]
[{"$f":"IF(Start!I22=\"\",\"\",\"x\")","v":""},42,{"$f":"IF(Start!G22=\"\",\"\",Start!G22)","v":""},"I.pokus",null,null,null,{"$f":"IF($C76=\"\",\"\",IF(OR($E76=\"DNS\",$F76=\"DNS\",$G76=\"DNS\"),\"DNS\",IF(OR($E76=\"NP\",$F76=\"NP\",$G76=\"NP\"),\"NP\",IF(ISERROR(MEDIAN($E76:$G76)),\"DNS\",IF(COUNT($E76:$G76)<3,MAX($E76:$G76),MEDIAN($E76:$G76))))))","v":""},{"$f":"IF($A76=\"x\",\"x\",IF($C76=\"\",\"\",IF(OR(J76=\"NP\",J76=\"DNS\"),IF(J76=\"NP\",MAX(Oblast4)+COUNTIF(($J$12:$J$154),MAX(Oblast4))+COUNTIF(($U$12:$U$154),MAX(Oblast4)),MAX(Oblast4)+COUNTIF(($J$12:$J$154),MAX(Oblast4))+COUNTIF(($U$12:$U$154),MAX(Oblast4))+COUNTIF(($J$12:$J$154),\"NP\")+COUNTIF(($U$12:$U$154),\"NP\")),J76)))","v":""},{"$f":"IF($A76=\"x\",\"x\",IF($C76=\"\",\"\",IF(OR(K76=\"NP\",K76=\"DNS\"),K76,RANK(K76,Oblast3,1))))","v":""},{"$f":"IF($A76=\"x\",\"x\",IF($C76=\"\",\"\",IF(OR(AND(H76=\"NP\",H77=\"NP\"),AND(H76=\"DNS\",H77=\"DNS\")),H76,IF(AND(H76=\"NP\",H77=\"DNS\"),H76,IF(AND(H76=\"DNS\",H77=\"NP\"),H77,MIN(H76,H77))))))","v":""},{"$f":"IF(Start!M7=\"\",\"\",\"x\")","v":""},52,{"$f":"IF(Start!K7=\"\",\"\",Start!K7)","v":""},"I.pokus",null,null,null,{"$f":"IF($N76=\"\",\"\",IF(OR($P76=\"DNS\",$Q76=\"DNS\",$R76=\"DNS\"),\"DNS\",IF(OR($P76=\"NP\",$Q76=\"NP\",$R76=\"NP\"),\"NP\",IF(ISERROR(MEDIAN($P76:$R76)),\"DNS\",IF(COUNT($P76:$R76)<3,MAX($P76:$R76),MEDIAN($P76:$R76))))))","v":""},{"$f":"IF($L76=\"x\",\"x\",IF($N76=\"\",\"\",IF(OR(U76=\"NP\",U76=\"DNS\"),IF(U76=\"NP\",MAX(Oblast4)+COUNTIF(($J$12:$J$154),MAX(Oblast4))+COUNTIF(($U$12:$U$154),MAX(Oblast4)),MAX(Oblast4)+COUNTIF(($J$12:$J$154),MAX(Oblast4))+COUNTIF(($U$12:$U$154),MAX(Oblast4))+COUNTIF(($J$12:$J$154),\"NP\")+COUNTIF(($U$12:$U$154),\"NP\")),U76)))","v":""},{"$f":"IF($L76=\"x\",\"x\",IF($N76=\"\",\"\",IF(OR(V76=\"NP\",V76=\"DNS\"),V76,RANK(V76,Oblast3,1))))","v":""},{"$f":"IF($L76=\"x\",\"x\",IF($N76=\"\",\"\",IF(OR(AND(S76=\"NP\",S77=\"NP\"),AND(S76=\"DNS\",S77=\"DNS\")),S76,IF(AND(S76=\"NP\",S77=\"DNS\"),S76,IF(AND(S76=\"DNS\",S77=\"NP\"),S77,MIN(S76,S77))))))","v":""}]
[null,null,null,"II.pokus",null,null,null,{"$f":"IF($C76=\"\",\"\",IF(OR($E77=\"DNS\",$F77=\"DNS\",$G77=\"DNS\"),\"DNS\",IF(OR($E77=\"NP\",$F77=\"NP\",$G77=\"NP\"),\"NP\",IF(ISERROR(MEDIAN($E77:$G77)),\"DNS\",IF(COUNT($E77:$G77)<3,MAX($E77:$G77),MEDIAN($E77:$G77))))))","v":""},null,null,null,null,null,null,"II.pokus",null,null,null,{"$f":"IF($N76=\"\",\"\",IF(OR($P77=\"DNS\",$Q77=\"DNS\",$R77=\"DNS\"),\"DNS\",IF(OR($P77=\"NP\",$Q77=\"NP\",$R77=\"NP\"),\"NP\",IF(ISERROR(MEDIAN($P77:$R77)),\"DNS\",IF(COUNT($P77:$R77)<3,MAX($P77:$R77),MEDIAN($P77:$R77))))))","v":""}]
[{"$f":"IF(Start!I23=\"\",\"\",\"x\")","v":""},43,{"$f":"IF(Start!G23=\"\",\"\",Start!G23)","v":""},"I.pokus",null,null,null,{"$f":"IF($C78=\"\",\"\",IF(OR($E78=\"DNS\",$F78=\"DNS\",$G78=\"DNS\"),\"DNS\",IF(OR($E78=\"NP\",$F78=\"NP\",$G78=\"NP\"),\"NP\",IF(ISERROR(MEDIAN($E78:$G78)),\"DNS\",IF(COUNT($E78:$G78)<3,MAX($E78:$G78),MEDIAN($E78:$G78))))))","v":""},{"$f":"IF($A78=\"x\",\"x\",IF($C78=\"\",\"\",IF(OR(J78=\"NP\",J78=\"DNS\"),IF(J78=\"NP\",MAX(Oblast4)+COUNTIF(($J$12:$J$154),MAX(Oblast4))+COUNTIF(($U$12:$U$154),MAX(Oblast4)),MAX(Oblast4)+COUNTIF(($J$12:$J$154),MAX(Oblast4))+COUNTIF(($U$12:$U$154),MAX(Oblast4))+COUNTIF(($J$12:$J$154),\"NP\")+COUNTIF(($U$12:$U$154),\"NP\")),J78)))","v":""},{"$f":"IF($A78=\"x\",\"x\",IF($C78=\"\",\"\",IF(OR(K78=\"NP\",K78=\"DNS\"),K78,RANK(K78,Oblast3,1))))","v":""},{"$f":"IF($A78=\"x\",\"x\",IF($C78=\"\",\"\",IF(OR(AND(H78=\"NP\",H79=\"NP\"),AND(H78=\"DNS\",H79=\"DNS\")),H78,IF(AND(H78=\"NP\",H79=\"DNS\"),H78,IF(AND(H78=\"DNS\",H79=\"NP\"),H79,MIN(H78,H79))))))","v":""},{"$f":"IF(Start!M8=\"\",\"\",\"x\")","v":""},53,{"$f":"IF(Start!K8=\"\",\"\",Start!K8)","v":""},"I.pokus",null,null,null,{"$f":"IF($N78=\"\",\"\",IF(OR($P78=\"DNS\",$Q78=\"DNS\",$R78=\"DNS\"),\"DNS\",IF(OR($P78=\"NP\",$Q78=\"NP\",$R78=\"NP\"),\"NP\",IF(ISERROR(MEDIAN($P78:$R78)),\"DNS\",IF(COUNT($P78:$R78)<3,MAX($P78:$R78),MEDIAN($P78:$R78))))))","v":""},{"$f":"IF($L78=\"x\",\"x\",IF($N78=\"\",\"\",IF(OR(U78=\"NP\",U78=\"DNS\"),IF(U78=\"NP\",MAX(Oblast4)+COUNTIF(($J$12:$J$154),MAX(Oblast4))+COUNTIF(($U$12:$U$154),MAX(Oblast4)),MAX(Oblast4)+COUNTIF(($J$12:$J$154),MAX(Oblast4))+COUNTIF(($U$12:$U$154),MAX(Oblast4))+COUNTIF(($J$12:$J$154),\"NP\")+COUNTIF(($U$12:$U$154),\"NP\")),U78)))","v":""},{"$f":"IF($L78=\"x\",\"x\",IF($N78=\"\",\"\",IF(OR(V78=\"NP\",V78=\"DNS\"),V78,RANK(V78,Oblast3,1))))","v":""},{"$f":"IF($L78=\"x\",\"x\",IF($N78=\"\",\"\",IF(OR(AND(S78=\"NP\",S79=\"NP\"),AND(S78=\"DNS\",S79=\"DNS\")),S78,IF(AND(S78=\"NP\",S79=\"DNS\"),S78,IF(AND(S78=\"DNS\",S79=\"NP\"),S79,MIN(S78,S79))))))","v":""}]
[null,null,null,"II.pokus",null,null,null,{"$f":"IF($C78=\"\",\"\",IF(OR($E79=\"DNS\",$F79=\"DNS\",$G79=\"DNS\"),\"DNS\",IF(OR($E79=\"NP\",$F79=\"NP\",$G79=\"NP\"),\"NP\",IF(ISERROR(MEDIAN($E79:$G79)),\"DNS\",IF(COUNT($E79:$G79)<3,MAX($E79:$G79),MEDIAN($E79:$G79))))))","v":""},null,null,null,null,null,null,"II.pokus",null,null,null,{"$f":"IF($N78=\"\",\"\",IF(OR($P79=\"DNS\",$Q79=\"DNS\",$R79=\"DNS\"),\"DNS\",IF(OR($P79=\"NP\",$Q79=\"NP\",$R79=\"NP\"),\"NP\",IF(ISERROR(MEDIAN($P79:$R79)),\"DNS\",IF(COUNT($P79:$R79)<3,MAX($P79:$R79),MEDIAN($P79:$R79))))))","v":""}]
[{"$f":"IF(Start!I24=\"\",\"\",\"x\")","v":""},44,{"$f":"IF(Start!G24=\"\",\"\",Start!G24)","v":""},"I.pokus",null,null,null,{"$f":"IF($C80=\"\",\"\",IF(OR($E80=\"DNS\",$F80=\"DNS\",$G80=\"DNS\"),\"DNS\",IF(OR($E80=\"NP\",$F80=\"NP\",$G80=\"NP\"),\"NP\",IF(ISERROR(MEDIAN($E80:$G80)),\"DNS\",IF(COUNT($E80:$G80)<3,MAX($E80:$G80),MEDIAN($E80:$G80))))))","v":""},{"$f":"IF($A80=\"x\",\"x\",IF($C80=\"\",\"\",IF(OR(J80=\"NP\",J80=\"DNS\"),IF(J80=\"NP\",MAX(Oblast4)+COUNTIF(($J$12:$J$154),MAX(Oblast4))+COUNTIF(($U$12:$U$154),MAX(Oblast4)),MAX(Oblast4)+COUNTIF(($J$12:$J$154),MAX(Oblast4))+COUNTIF(($U$12:$U$154),MAX(Oblast4))+COUNTIF(($J$12:$J$154),\"NP\")+COUNTIF(($U$12:$U$154),\"NP\")),J80)))","v":""},{"$f":"IF($A80=\"x\",\"x\",IF($C80=\"\",\"\",IF(OR(K80=\"NP\",K80=\"DNS\"),K80,RANK(K80,Oblast3,1))))","v":""},{"$f":"IF($A80=\"x\",\"x\",IF($C80=\"\",\"\",IF(OR(AND(H80=\"NP\",H81=\"NP\"),AND(H80=\"DNS\",H81=\"DNS\")),H80,IF(AND(H80=\"NP\",H81=\"DNS\"),H80,IF(AND(H80=\"DNS\",H81=\"NP\"),H81,MIN(H80,H81))))))","v":""},{"$f":"IF(Start!M9=\"\",\"\",\"x\")","v":""},54,{"$f":"IF(Start!K9=\"\",\"\",Start!K9)","v":""},"I.pokus",null,null,null,{"$f":"IF($N80=\"\",\"\",IF(OR($P80=\"DNS\",$Q80=\"DNS\",$R80=\"DNS\"),\"DNS\",IF(OR($P80=\"NP\",$Q80=\"NP\",$R80=\"NP\"),\"NP\",IF(ISERROR(MEDIAN($P80:$R80)),\"DNS\",IF(COUNT($P80:$R80)<3,MAX($P80:$R80),MEDIAN($P80:$R80))))))","v":""},{"$f":"IF($L80=\"x\",\"x\",IF($N80=\"\",\"\",IF(OR(U80=\"NP\",U80=\"DNS\"),IF(U80=\"NP\",MAX(Oblast4)+COUNTIF(($J$12:$J$154),MAX(Oblast4))+COUNTIF(($U$12:$U$154),MAX(Oblast4)),MAX(Oblast4)+COUNTIF(($J$12:$J$154),MAX(Oblast4))+COUNTIF(($U$12:$U$154),MAX(Oblast4))+COUNTIF(($J$12:$J$154),\"NP\")+COUNTIF(($U$12:$U$154),\"NP\")),U80)))","v":""},{"$f":"IF($L80=\"x\",\"x\",IF($N80=\"\",\"\",IF(OR(V80=\"NP\",V80=\"DNS\"),V80,RANK(V80,Oblast3,1))))","v":""},{"$f":"IF($L80=\"x\",\"x\",IF($N80=\"\",\"\",IF(OR(AND(S80=\"NP\",S81=\"NP\"),AND(S80=\"DNS\",S81=\"DNS\")),S80,IF(AND(S80=\"NP\",S81=\"DNS\"),S80,IF(AND(S80=\"DNS\",S81=\"NP\"),S81,MIN(S80,S81))))))","v":""}]
[null,null,null,"II.pokus",null,null,null,{"$f":"IF($C80=\"\",\"\",IF(OR($E81=\"DNS\",$F81=\"DNS\",$G81=\"DNS\"),\"DNS\",IF(OR($E81=\"NP\",$F81=\"NP\",$G81=\"NP\"),\"NP\",IF(ISERROR(MEDIAN($E81:$G81)),\"DNS\",IF(COUNT($E81:$G81)<3,MAX($E81:$G81),MEDIAN($E81:$G81))))))","v":""},null,null,null,null,null,null,"II.pokus",null,null,null,{"$f":"IF($N80=\"\",\"\",IF(OR($P81=\"DNS\",$Q81=\"DNS\",$R81=\"DNS\"),\"DNS\",IF(OR($P81=\"NP\",$Q81=\"NP\",$R81=\"NP\"),\"NP\",IF(ISERROR(MEDIAN($P81:$R81)),\"DNS\",IF(COUNT($P81:$R81)<3,MAX($P81:$R81),MEDIAN($P81:$R81))))))","v":""}]
[{"$f":"IF(Start!I25=\"\",\"\",\"x\")","v":""},45,{"$f":"IF(Start!G25=\"\",\"\",Start!G25)","v":""},"I.pokus",null,null,null,{"$f":"IF($C82=\"\",\"\",IF(OR($E82=\"DNS\",$F82=\"DNS\",$G82=\"DNS\"),\"DNS\",IF(OR($E82=\"NP\",$F82=\"NP\",$G82=\"NP\"),\"NP\",IF(ISERROR(MEDIAN($E82:$G82)),\"DNS\",IF(COUNT($E82:$G82)<3,MAX($E82:$G82),MEDIAN($E82:$G82))))))","v":""},{"$f":"IF($A82=\"x\",\"x\",IF($C82=\"\",\"\",IF(OR(J82=\"NP\",J82=\"DNS\"),IF(J82=\"NP\",MAX(Oblast4)+COUNTIF(($J$12:$J$154),MAX(Oblast4))+COUNTIF(($U$12:$U$154),MAX(Oblast4)),MAX(Oblast4)+COUNTIF(($J$12:$J$154),MAX(Oblast4))+COUNTIF(($U$12:$U$154),MAX(Oblast4))+COUNTIF(($J$12:$J$154),\"NP\")+COUNTIF(($U$12:$U$154),\"NP\")),J82)))","v":""},{"$f":"IF($A82=\"x\",\"x\",IF($C82=\"\",\"\",IF(OR(K82=\"NP\",K82=\"DNS\"),K82,RANK(K82,Oblast3,1))))","v":""},{"$f":"IF($A82=\"x\",\"x\",IF($C82=\"\",\"\",IF(OR(AND(H82=\"NP\",H83=\"NP\"),AND(H82=\"DNS\",H83=\"DNS\")),H82,IF(AND(H82=\"NP\",H83=\"DNS\"),H82,IF(AND(H82=\"DNS\",H83=\"NP\"),H83,MIN(H82,H83))))))","v":""},{"$f":"IF(Start!M10=\"\",\"\",\"x\")","v":""},55,{"$f":"IF(Start!K10=\"\",\"\",Start!K10)","v":""},"I.pokus",null,null,null,{"$f":"IF($N82=\"\",\"\",IF(OR($P82=\"DNS\",$Q82=\"DNS\",$R82=\"DNS\"),\"DNS\",IF(OR($P82=\"NP\",$Q82=\"NP\",$R82=\"NP\"),\"NP\",IF(ISERROR(MEDIAN($P82:$R82)),\"DNS\",IF(COUNT($P82:$R82)<3,MAX($P82:$R82),MEDIAN($P82:$R82))))))","v":""},{"$f":"IF($L82=\"x\",\"x\",IF($N82=\"\",\"\",IF(OR(U82=\"NP\",U82=\"DNS\"),IF(U82=\"NP\",MAX(Oblast4)+COUNTIF(($J$12:$J$154),MAX(Oblast4))+COUNTIF(($U$12:$U$154),MAX(Oblast4)),MAX(Oblast4)+COUNTIF(($J$12:$J$154),MAX(Oblast4))+COUNTIF(($U$12:$U$154),MAX(Oblast4))+COUNTIF(($J$12:$J$154),\"NP\")+COUNTIF(($U$12:$U$154),\"NP\")),U82)))","v":""},{"$f":"IF($L82=\"x\",\"x\",IF($N82=\"\",\"\",IF(OR(V82=\"NP\",V82=\"DNS\"),V82,RANK(V82,Oblast3,1))))","v":""},{"$f":"IF($L82=\"x\",\"x\",IF($N82=\"\",\"\",IF(OR(AND(S82=\"NP\",S83=\"NP\"),AND(S82=\"DNS\",S83=\"DNS\")),S82,IF(AND(S82=\"NP\",S83=\"DNS\"),S82,IF(AND(S82=\"DNS\",S83=\"NP\"),S83,MIN(S82,S83))))))","v":""}]
[null,null,null,"II.pokus",null,null,null,{"$f":"IF($C82=\"\",\"\",IF(OR($E83=\"DNS\",$F83=\"DNS\",$G83=\"DNS\"),\"DNS\",IF(OR($E83=\"NP\",$F83=\"NP\",$G83=\"NP\"),\"NP\",IF(ISERROR(MEDIAN($E83:$G83)),\"DNS\",IF(COUNT($E83:$G83)<3,MAX($E83:$G83),MEDIAN($E83:$G83))))))","v":""},null,null,null,null,null,null,"II.pokus",null,null,null,{"$f":"IF($N82=\"\",\"\",IF(OR($P83=\"DNS\",$Q83=\"DNS\",$R83=\"DNS\"),\"DNS\",IF(OR($P83=\"NP\",$Q83=\"NP\",$R83=\"NP\"),\"NP\",IF(ISERROR(MEDIAN($P83:$R83)),\"DNS\",IF(COUNT($P83:$R83)<3,MAX($P83:$R83),MEDIAN($P83:$R83))))))","v":""}]
[{"$f":"IF(Start!I26=\"\",\"\",\"x\")","v":""},46,{"$f":"IF(Start!G26=\"\",\"\",Start!G26)","v":""},"I.pokus",null,null,null,{"$f":"IF($C84=\"\",\"\",IF(OR($E84=\"DNS\",$F84=\"DNS\",$G84=\"DNS\"),\"DNS\",IF(OR($E84=\"NP\",$F84=\"NP\",$G84=\"NP\"),\"NP\",IF(ISERROR(MEDIAN($E84:$G84)),\"DNS\",IF(COUNT($E84:$G84)<3,MAX($E84:$G84),MEDIAN($E84:$G84))))))","v":""},{"$f":"IF($A84=\"x\",\"x\",IF($C84=\"\",\"\",IF(OR(J84=\"NP\",J84=\"DNS\"),IF(J84=\"NP\",MAX(Oblast4)+COUNTIF(($J$12:$J$154),MAX(Oblast4))+COUNTIF(($U$12:$U$154),MAX(Oblast4)),MAX(Oblast4)+COUNTIF(($J$12:$J$154),MAX(Oblast4))+COUNTIF(($U$12:$U$154),MAX(Oblast4))+COUNTIF(($J$12:$J$154),\"NP\")+COUNTIF(($U$12:$U$154),\"NP\")),J84)))","v":""},{"$f":"IF($A84=\"x\",\"x\",IF($C84=\"\",\"\",IF(OR(K84=\"NP\",K84=\"DNS\"),K84,RANK(K84,Oblast3,1))))","v":""},{"$f":"IF($A84=\"x\",\"x\",IF($C84=\"\",\"\",IF(OR(AND(H84=\"NP\",H85=\"NP\"),AND(H84=\"DNS\",H85=\"DNS\")),H84,IF(AND(H84=\"NP\",H85=\"DNS\"),H84,IF(AND(H84=\"DNS\",H85=\"NP\"),H85,MIN(H84,H85))))))","v":""},{"$f":"IF(Start!M11=\"\",\"\",\"x\")","v":""},56,{"$f":"IF(Start!K11=\"\",\"\",Start!K11)","v":""},"I.pokus",null,null,null,{"$f":"IF($N84=\"\",\"\",IF(OR($P84=\"DNS\",$Q84=\"DNS\",$R84=\"DNS\"),\"DNS\",IF(OR($P84=\"NP\",$Q84=\"NP\",$R84=\"NP\"),\"NP\",IF(ISERROR(MEDIAN($P84:$R84)),\"DNS\",IF(COUNT($P84:$R84)<3,MAX($P84:$R84),MEDIAN($P84:$R84))))))","v":""},{"$f":"IF($L84=\"x\",\"x\",IF($N84=\"\",\"\",IF(OR(U84=\"NP\",U84=\"DNS\"),IF(U84=\"NP\",MAX(Oblast4)+COUNTIF(($J$12:$J$154),MAX(Oblast4))+COUNTIF(($U$12:$U$154),MAX(Oblast4)),MAX(Oblast4)+COUNTIF(($J$12:$J$154),MAX(Oblast4))+COUNTIF(($U$12:$U$154),MAX(Oblast4))+COUNTIF(($J$12:$J$154),\"NP\")+COUNTIF(($U$12:$U$154),\"NP\")),U84)))","v":""},{"$f":"IF($L84=\"x\",\"x\",IF($N84=\"\",\"\",IF(OR(V84=\"NP\",V84=\"DNS\"),V84,RANK(V84,Oblast3,1))))","v":""},{"$f":"IF($L84=\"x\",\"x\",IF($N84=\"\",\"\",IF(OR(AND(S84=\"NP\",S85=\"NP\"),AND(S84=\"DNS\",S85=\"DNS\")),S84,IF(AND(S84=\"NP\",S85=\"DNS\"),S84,IF(AND(S84=\"DNS\",S85=\"NP\"),S85,MIN(S84,S85))))))","v":""}]
[null,null,null,"II.pokus",null,null,null,{"$f":"IF($C84=\"\",\"\",IF(OR($E85=\"DNS\",$F85=\"DNS\",$G85=\"DNS\"),\"DNS\",IF(OR($E85=\"NP\",$F85=\"NP\",$G85=\"NP\"),\"NP\",IF(ISERROR(MEDIAN($E85:$G85)),\"DNS\",IF(COUNT($E85:$G85)<3,MAX($E85:$G85),MEDIAN($E85:$G85))))))","v":""},null,null,null,null,null,null,"II.pokus",null,null,null,{"$f":"IF($N84=\"\",\"\",IF(OR($P85=\"DNS\",$Q85=\"DNS\",$R85=\"DNS\"),\"DNS\",IF(OR($P85=\"NP\",$Q85=\"NP\",$R85=\"NP\"),\"NP\",IF(ISERROR(MEDIAN($P85:$R85)),\"DNS\",IF(COUNT($P85:$R85)<3,MAX($P85:$R85),MEDIAN($P85:$R85))))))","v":""}]
[{"$f":"IF(Start!I27=\"\",\"\",\"x\")","v":""},47,{"$f":"IF(Start!G27=\"\",\"\",Start!G27)","v":""},"I.pokus",null,null,null,{"$f":"IF($C86=\"\",\"\",IF(OR($E86=\"DNS\",$F86=\"DNS\",$G86=\"DNS\"),\"DNS\",IF(OR($E86=\"NP\",$F86=\"NP\",$G86=\"NP\"),\"NP\",IF(ISERROR(MEDIAN($E86:$G86)),\"DNS\",IF(COUNT($E86:$G86)<3,MAX($E86:$G86),MEDIAN($E86:$G86))))))","v":""},{"$f":"IF($A86=\"x\",\"x\",IF($C86=\"\",\"\",IF(OR(J86=\"NP\",J86=\"DNS\"),IF(J86=\"NP\",MAX(Oblast4)+COUNTIF(($J$12:$J$154),MAX(Oblast4))+COUNTIF(($U$12:$U$154),MAX(Oblast4)),MAX(Oblast4)+COUNTIF(($J$12:$J$154),MAX(Oblast4))+COUNTIF(($U$12:$U$154),MAX(Oblast4))+COUNTIF(($J$12:$J$154),\"NP\")+COUNTIF(($U$12:$U$154),\"NP\")),J86)))","v":""},{"$f":"IF($A86=\"x\",\"x\",IF($C86=\"\",\"\",IF(OR(K86=\"NP\",K86=\"DNS\"),K86,RANK(K86,Oblast3,1))))","v":""},{"$f":"IF($A86=\"x\",\"x\",IF($C86=\"\",\"\",IF(OR(AND(H86=\"NP\",H87=\"NP\"),AND(H86=\"DNS\",H87=\"DNS\")),H86,IF(AND(H86=\"NP\",H87=\"DNS\"),H86,IF(AND(H86=\"DNS\",H87=\"NP\"),H87,MIN(H86,H87))))))","v":""},{"$f":"IF(Start!M12=\"\",\"\",\"x\")","v":""},57,{"$f":"IF(Start!K12=\"\",\"\",Start!K12)","v":""},"I.pokus",null,null,null,{"$f":"IF($N86=\"\",\"\",IF(OR($P86=\"DNS\",$Q86=\"DNS\",$R86=\"DNS\"),\"DNS\",IF(OR($P86=\"NP\",$Q86=\"NP\",$R86=\"NP\"),\"NP\",IF(ISERROR(MEDIAN($P86:$R86)),\"DNS\",IF(COUNT($P86:$R86)<3,MAX($P86:$R86),MEDIAN($P86:$R86))))))","v":""},{"$f":"IF($L86=\"x\",\"x\",IF($N86=\"\",\"\",IF(OR(U86=\"NP\",U86=\"DNS\"),IF(U86=\"NP\",MAX(Oblast4)+COUNTIF(($J$12:$J$154),MAX(Oblast4))+COUNTIF(($U$12:$U$154),MAX(Oblast4)),MAX(Oblast4)+COUNTIF(($J$12:$J$154),MAX(Oblast4))+COUNTIF(($U$12:$U$154),MAX(Oblast4))+COUNTIF(($J$12:$J$154),\"NP\")+COUNTIF(($U$12:$U$154),\"NP\")),U86)))","v":""},{"$f":"IF($L86=\"x\",\"x\",IF($N86=\"\",\"\",IF(OR(V86=\"NP\",V86=\"DNS\"),V86,RANK(V86,Oblast3,1))))","v":""},{"$f":"IF($L86=\"x\",\"x\",IF($N86=\"\",\"\",IF(OR(AND(S86=\"NP\",S87=\"NP\"),AND(S86=\"DNS\",S87=\"DNS\")),S86,IF(AND(S86=\"NP\",S87=\"DNS\"),S86,IF(AND(S86=\"DNS\",S87=\"NP\"),S87,MIN(S86,S87))))))","v":""}]
[null,null,null,"II.pokus",null,null,null,{"$f":"IF($C86=\"\",\"\",IF(OR($E87=\"DNS\",$F87=\"DNS\",$G87=\"DNS\"),\"DNS\",IF(OR($E87=\"NP\",$F87=\"NP\",$G87=\"NP\"),\"NP\",IF(ISERROR(MEDIAN($E87:$G87)),\"DNS\",IF(COUNT($E87:$G87)<3,MAX($E87:$G87),MEDIAN($E87:$G87))))))","v":""},null,null,null,null,null,null,"II.pokus",null,null,null,{"$f":"IF($N86=\"\",\"\",IF(OR($P87=\"DNS\",$Q87=\"DNS\",$R87=\"DNS\"),\"DNS\",IF(OR($P87=\"NP\",$Q87=\"NP\",$R87=\"NP\"),\"NP\",IF(ISERROR(MEDIAN($P87:$R87)),\"DNS\",IF(COUNT($P87:$R87)<3,MAX($P87:$R87),MEDIAN($P87:$R87))))))","v":""}]
[{"$f":"IF(Start!I28=\"\",\"\",\"x\")","v":""},48,{"$f":"IF(Start!G28=\"\",\"\",Start!G28)","v":""},"I.pokus",null,null,null,{"$f":"IF($C88=\"\",\"\",IF(OR($E88=\"DNS\",$F88=\"DNS\",$G88=\"DNS\"),\"DNS\",IF(OR($E88=\"NP\",$F88=\"NP\",$G88=\"NP\"),\"NP\",IF(ISERROR(MEDIAN($E88:$G88)),\"DNS\",IF(COUNT($E88:$G88)<3,MAX($E88:$G88),MEDIAN($E88:$G88))))))","v":""},{"$f":"IF($A88=\"x\",\"x\",IF($C88=\"\",\"\",IF(OR(J88=\"NP\",J88=\"DNS\"),IF(J88=\"NP\",MAX(Oblast4)+COUNTIF(($J$12:$J$154),MAX(Oblast4))+COUNTIF(($U$12:$U$154),MAX(Oblast4)),MAX(Oblast4)+COUNTIF(($J$12:$J$154),MAX(Oblast4))+COUNTIF(($U$12:$U$154),MAX(Oblast4))+COUNTIF(($J$12:$J$154),\"NP\")+COUNTIF(($U$12:$U$154),\"NP\")),J88)))","v":""},{"$f":"IF($A88=\"x\",\"x\",IF($C88=\"\",\"\",IF(OR(K88=\"NP\",K88=\"DNS\"),K88,RANK(K88,Oblast3,1))))","v":""},{"$f":"IF($A88=\"x\",\"x\",IF($C88=\"\",\"\",IF(OR(AND(H88=\"NP\",H89=\"NP\"),AND(H88=\"DNS\",H89=\"DNS\")),H88,IF(AND(H88=\"NP\",H89=\"DNS\"),H88,IF(AND(H88=\"DNS\",H89=\"NP\"),H89,MIN(H88,H89))))))","v":""},{"$f":"IF(Start!M13=\"\",\"\",\"x\")","v":""},58,{"$f":"IF(Start!K13=\"\",\"\",Start!K13)","v":""},"I.pokus",null,null,null,{"$f":"IF($N88=\"\",\"\",IF(OR($P88=\"DNS\",$Q88=\"DNS\",$R88=\"DNS\"),\"DNS\",IF(OR($P88=\"NP\",$Q88=\"NP\",$R88=\"NP\"),\"NP\",IF(ISERROR(MEDIAN($P88:$R88)),\"DNS\",IF(COUNT($P88:$R88)<3,MAX($P88:$R88),MEDIAN($P88:$R88))))))","v":""},{"$f":"IF($L88=\"x\",\"x\",IF($N88=\"\",\"\",IF(OR(U88=\"NP\",U88=\"DNS\"),IF(U88=\"NP\",MAX(Oblast4)+COUNTIF(($J$12:$J$154),MAX(Oblast4))+COUNTIF(($U$12:$U$154),MAX(Oblast4)),MAX(Oblast4)+COUNTIF(($J$12:$J$154),MAX(Oblast4))+COUNTIF(($U$12:$U$154),MAX(Oblast4))+COUNTIF(($J$12:$J$154),\"NP\")+COUNTIF(($U$12:$U$154),\"NP\")),U88)))","v":""},{"$f":"IF($L88=\"x\",\"x\",IF($N88=\"\",\"\",IF(OR(V88=\"NP\",V88=\"DNS\"),V88,RANK(V88,Oblast3,1))))","v":""},{"$f":"IF($L88=\"x\",\"x\",IF($N88=\"\",\"\",IF(OR(AND(S88=\"NP\",S89=\"NP\"),AND(S88=\"DNS\",S89=\"DNS\")),S88,IF(AND(S88=\"NP\",S89=\"DNS\"),S88,IF(AND(S88=\"DNS\",S89=\"NP\"),S89,MIN(S88,S89))))))","v":""}]
[null,null,null,"II.pokus",null,null,null,{"$f":"IF($C88=\"\",\"\",IF(OR($E89=\"DNS\",$F89=\"DNS\",$G89=\"DNS\"),\"DNS\",IF(OR($E89=\"NP\",$F89=\"NP\",$G89=\"NP\"),\"NP\",IF(ISERROR(MEDIAN($E89:$G89)),\"DNS\",IF(COUNT($E89:$G89)<3,MAX($E89:$G89),MEDIAN($E89:$G89))))))","v":""},null,null,null,null,null,null,"II.pokus",null,null,null,{"$f":"IF($N88=\"\",\"\",IF(OR($P89=\"DNS\",$Q89=\"DNS\",$R89=\"DNS\"),\"DNS\",IF(OR($P89=\"NP\",$Q89=\"NP\",$R89=\"NP\"),\"NP\",IF(ISERROR(MEDIAN($P89:$R89)),\"DNS\",IF(COUNT($P89:$R89)<3,MAX($P89:$R89),MEDIAN($P89:$R89))))))","v":""}]
[{"$f":"IF(Start!I29=\"\",\"\",\"x\")","v":""},49,{"$f":"IF(Start!G29=\"\",\"\",Start!G29)","v":""},"I.pokus",null,null,null,{"$f":"IF($C90=\"\",\"\",IF(OR($E90=\"DNS\",$F90=\"DNS\",$G90=\"DNS\"),\"DNS\",IF(OR($E90=\"NP\",$F90=\"NP\",$G90=\"NP\"),\"NP\",IF(ISERROR(MEDIAN($E90:$G90)),\"DNS\",IF(COUNT($E90:$G90)<3,MAX($E90:$G90),MEDIAN($E90:$G90))))))","v":""},{"$f":"IF($A90=\"x\",\"x\",IF($C90=\"\",\"\",IF(OR(J90=\"NP\",J90=\"DNS\"),IF(J90=\"NP\",MAX(Oblast4)+COUNTIF(($J$12:$J$154),MAX(Oblast4))+COUNTIF(($U$12:$U$154),MAX(Oblast4)),MAX(Oblast4)+COUNTIF(($J$12:$J$154),MAX(Oblast4))+COUNTIF(($U$12:$U$154),MAX(Oblast4))+COUNTIF(($J$12:$J$154),\"NP\")+COUNTIF(($U$12:$U$154),\"NP\")),J90)))","v":""},{"$f":"IF($A90=\"x\",\"x\",IF($C90=\"\",\"\",IF(OR(K90=\"NP\",K90=\"DNS\"),K90,RANK(K90,Oblast3,1))))","v":""},{"$f":"IF($A90=\"x\",\"x\",IF($C90=\"\",\"\",IF(OR(AND(H90=\"NP\",H91=\"NP\"),AND(H90=\"DNS\",H91=\"DNS\")),H90,IF(AND(H90=\"NP\",H91=\"DNS\"),H90,IF(AND(H90=\"DNS\",H91=\"NP\"),H91,MIN(H90,H91))))))","v":""},{"$f":"IF(Start!M14=\"\",\"\",\"x\")","v":""},59,{"$f":"IF(Start!K14=\"\",\"\",Start!K14)","v":""},"I.pokus",null,null,null,{"$f":"IF($N90=\"\",\"\",IF(OR($P90=\"DNS\",$Q90=\"DNS\",$R90=\"DNS\"),\"DNS\",IF(OR($P90=\"NP\",$Q90=\"NP\",$R90=\"NP\"),\"NP\",IF(ISERROR(MEDIAN($P90:$R90)),\"DNS\",IF(COUNT($P90:$R90)<3,MAX($P90:$R90),MEDIAN($P90:$R90))))))","v":""},{"$f":"IF($L90=\"x\",\"x\",IF($N90=\"\",\"\",IF(OR(U90=\"NP\",U90=\"DNS\"),IF(U90=\"NP\",MAX(Oblast4)+COUNTIF(($J$12:$J$154),MAX(Oblast4))+COUNTIF(($U$12:$U$154),MAX(Oblast4)),MAX(Oblast4)+COUNTIF(($J$12:$J$154),MAX(Oblast4))+COUNTIF(($U$12:$U$154),MAX(Oblast4))+COUNTIF(($J$12:$J$154),\"NP\")+COUNTIF(($U$12:$U$154),\"NP\")),U90)))","v":""},{"$f":"IF($L90=\"x\",\"x\",IF($N90=\"\",\"\",IF(OR(V90=\"NP\",V90=\"DNS\"),V90,RANK(V90,Oblast3,1))))","v":""},{"$f":"IF($L90=\"x\",\"x\",IF($N90=\"\",\"\",IF(OR(AND(S90=\"NP\",S91=\"NP\"),AND(S90=\"DNS\",S91=\"DNS\")),S90,IF(AND(S90=\"NP\",S91=\"DNS\"),S90,IF(AND(S90=\"DNS\",S91=\"NP\"),S91,MIN(S90,S91))))))","v":""}]
[null,null,null,"II.pokus",null,null,null,{"$f":"IF($C90=\"\",\"\",IF(OR($E91=\"DNS\",$F91=\"DNS\",$G91=\"DNS\"),\"DNS\",IF(OR($E91=\"NP\",$F91=\"NP\",$G91=\"NP\"),\"NP\",IF(ISERROR(MEDIAN($E91:$G91)),\"DNS\",IF(COUNT($E91:$G91)<3,MAX($E91:$G91),MEDIAN($E91:$G91))))))","v":""},null,null,null,null,null,null,"II.pokus",null,null,null,{"$f":"IF($N90=\"\",\"\",IF(OR($P91=\"DNS\",$Q91=\"DNS\",$R91=\"DNS\"),\"DNS\",IF(OR($P91=\"NP\",$Q91=\"NP\",$R91=\"NP\"),\"NP\",IF(ISERROR(MEDIAN($P91:$R91)),\"DNS\",IF(COUNT($P91:$R91)<3,MAX($P91:$R91),MEDIAN($P91:$R91))))))","v":""}]
[{"$f":"IF(Start!I30=\"\",\"\",\"x\")","v":""},50,{"$f":"IF(Start!G30=\"\",\"\",Start!G30)","v":""},"I.pokus",null,null,null,{"$f":"IF($C92=\"\",\"\",IF(OR($E92=\"DNS\",$F92=\"DNS\",$G92=\"DNS\"),\"DNS\",IF(OR($E92=\"NP\",$F92=\"NP\",$G92=\"NP\"),\"NP\",IF(ISERROR(MEDIAN($E92:$G92)),\"DNS\",IF(COUNT($E92:$G92)<3,MAX($E92:$G92),MEDIAN($E92:$G92))))))","v":""},{"$f":"IF($A92=\"x\",\"x\",IF($C92=\"\",\"\",IF(OR(J92=\"NP\",J92=\"DNS\"),IF(J92=\"NP\",MAX(Oblast4)+COUNTIF(($J$12:$J$154),MAX(Oblast4))+COUNTIF(($U$12:$U$154),MAX(Oblast4)),MAX(Oblast4)+COUNTIF(($J$12:$J$154),MAX(Oblast4))+COUNTIF(($U$12:$U$154),MAX(Oblast4))+COUNTIF(($J$12:$J$154),\"NP\")+COUNTIF(($U$12:$U$154),\"NP\")),J92)))","v":""},{"$f":"IF($A92=\"x\",\"x\",IF($C92=\"\",\"\",IF(OR(K92=\"NP\",K92=\"DNS\"),K92,RANK(K92,Oblast3,1))))","v":""},{"$f":"IF($A92=\"x\",\"x\",IF($C92=\"\",\"\",IF(OR(AND(H92=\"NP\",H93=\"NP\"),AND(H92=\"DNS\",H93=\"DNS\")),H92,IF(AND(H92=\"NP\",H93=\"DNS\"),H92,IF(AND(H92=\"DNS\",H93=\"NP\"),H93,MIN(H92,H93))))))","v":""},{"$f":"IF(Start!M15=\"\",\"\",\"x\")","v":""},60,{"$f":"IF(Start!K15=\"\",\"\",Start!K15)","v":""},"I.pokus",null,null,null,{"$f":"IF($N92=\"\",\"\",IF(OR($P92=\"DNS\",$Q92=\"DNS\",$R92=\"DNS\"),\"DNS\",IF(OR($P92=\"NP\",$Q92=\"NP\",$R92=\"NP\"),\"NP\",IF(ISERROR(MEDIAN($P92:$R92)),\"DNS\",IF(COUNT($P92:$R92)<3,MAX($P92:$R92),MEDIAN($P92:$R92))))))","v":""},{"$f":"IF($L92=\"x\",\"x\",IF($N92=\"\",\"\",IF(OR(U92=\"NP\",U92=\"DNS\"),IF(U92=\"NP\",MAX(Oblast4)+COUNTIF(($J$12:$J$154),MAX(Oblast4))+COUNTIF(($U$12:$U$154),MAX(Oblast4)),MAX(Oblast4)+COUNTIF(($J$12:$J$154),MAX(Oblast4))+COUNTIF(($U$12:$U$154),MAX(Oblast4))+COUNTIF(($J$12:$J$154),\"NP\")+COUNTIF(($U$12:$U$154),\"NP\")),U92)))","v":""},{"$f":"IF($L92=\"x\",\"x\",IF($N92=\"\",\"\",IF(OR(V92=\"NP\",V92=\"DNS\"),V92,RANK(V92,Oblast3,1))))","v":""},{"$f":"IF($L92=\"x\",\"x\",IF($N92=\"\",\"\",IF(OR(AND(S92=\"NP\",S93=\"NP\"),AND(S92=\"DNS\",S93=\"DNS\")),S92,IF(AND(S92=\"NP\",S93=\"DNS\"),S92,IF(AND(S92=\"DNS\",S93=\"NP\"),S93,MIN(S92,S93))))))","v":""}]
[null,null,null,"II.pokus",null,null,null,{"$f":"IF($C92=\"\",\"\",IF(OR($E93=\"DNS\",$F93=\"DNS\",$G93=\"DNS\"),\"DNS\",IF(OR($E93=\"NP\",$F93=\"NP\",$G93=\"NP\"),\"NP\",IF(ISERROR(MEDIAN($E93:$G93)),\"DNS\",IF(COUNT($E93:$G93)<3,MAX($E93:$G93),MEDIAN($E93:$G93))))))","v":""},null,null,null,null,null,null,"II.pokus",null,null,null,{"$f":"IF($N92=\"\",\"\",IF(OR($P93=\"DNS\",$Q93=\"DNS\",$R93=\"DNS\"),\"DNS\",IF(OR($P93=\"NP\",$Q93=\"NP\",$R93=\"NP\"),\"NP\",IF(ISERROR(MEDIAN($P93:$R93)),\"DNS\",IF(COUNT($P93:$R93)<3,MAX($P93:$R93),MEDIAN($P93:$R93))))))","v":""}]
[null," CELOSTÁTNÍ HRA PLAMEN"]
[]
[]
[null," Výsledková listina č: 4"]
[null,"Požární útok",null,null,"Základem je čas naměřený od vydání signálu startéra do signalizace obou terčů",null,null,null,null,null,null,null,"Požární útok",null,null,"Základem je čas naměřený od vydání signálu startéra do signalizace obou terčů"]
[]
[]
[null,{"$f":"\"KATEGORIE: \"&Start!$N$2","v":"KATEGORIE: starší"},null,null,"I. časoměřič","II. časoměřič","III. časoměřič","úřední čas","počet bodů za umístění",null,null,null,{"$f":"\"KATEGORIE: \"&Start!$N$2","v":"KATEGORIE: starší"},null,null,"I. časoměřič","II. časoměřič","III. časoměřič","úřední čas","počet bodů za umístění"]
[]
[null,"start. číslo","SOUTĚŽNÍ DRUŽSTVO","pokus",null,null,null,null,null,null,null,null,"start. číslo","SOUTĚŽNÍ DRUŽSTVO","pokus"]
[]
[{"$f":"IF(Start!M16=\"\",\"\",\"x\")","v":""},61,{"$f":"IF(Start!K16=\"\",\"\",Start!K16)","v":""},"I.pokus",null,null,null,{"$f":"IF($C105=\"\",\"\",IF(OR($E105=\"DNS\",$F105=\"DNS\",$G105=\"DNS\"),\"DNS\",IF(OR($E105=\"NP\",$F105=\"NP\",$G105=\"NP\"),\"NP\",IF(ISERROR(MEDIAN($E105:$G105)),\"DNS\",IF(COUNT($E105:$G105)<3,MAX($E105:$G105),MEDIAN($E105:$G105))))))","v":""},{"$f":"IF($A105=\"x\",\"x\",IF($C105=\"\",\"\",IF(OR(J105=\"NP\",J105=\"DNS\"),IF(J105=\"NP\",MAX(Oblast4)+COUNTIF(($J$12:$J$154),MAX(Oblast4))+COUNTIF(($U$12:$U$154),MAX(Oblast4)),MAX(Oblast4)+COUNTIF(($J$12:$J$154),MAX(Oblast4))+COUNTIF(($U$12:$U$154),MAX(Oblast4))+COUNTIF(($J$12:$J$154),\"NP\")+COUNTIF(($U$12:$U$154),\"NP\")),J105)))","v":""},{"$f":"IF($A105=\"x\",\"x\",IF($C105=\"\",\"\",IF(OR(K105=\"NP\",K105=\"DNS\"),K105,RANK(K105,Oblast3,1))))","v":""},{"$f":"IF($A105=\"x\",\"x\",IF($C105=\"\",\"\",IF(OR(AND(H105=\"NP\",H106=\"NP\"),AND(H105=\"DNS\",H106=\"DNS\")),H105,IF(AND(H105=\"NP\",H106=\"DNS\"),H105,IF(AND(H105=\"DNS\",H106=\"NP\"),H106,MIN(H105,H106))))))","v":""},{"$f":"IF(Start!M26=\"\",\"\",\"x\")","v":""},71,{"$f":"IF(Start!K26=\"\",\"\",Start!K26)","v":""},"I.pokus",null,null,null,{"$f":"IF($N105=\"\",\"\",IF(OR($P105=\"DNS\",$Q105=\"DNS\",$R105=\"DNS\"),\"DNS\",IF(OR($P105=\"NP\",$Q105=\"NP\",$R105=\"NP\"),\"NP\",IF(ISERROR(MEDIAN($P105:$R105)),\"DNS\",IF(COUNT($P105:$R105)<3,MAX($P105:$R105),MEDIAN($P105:$R105))))))","v":""},{"$f":"IF($L105=\"x\",\"x\",IF($N105=\"\",\"\",IF(OR(U105=\"NP\",U105=\"DNS\"),IF(U105=\"NP\",MAX(Oblast4)+COUNTIF(($J$12:$J$154),MAX(Oblast4))+COUNTIF(($U$12:$U$154),MAX(Oblast4)),MAX(Oblast4)+COUNTIF(($J$12:$J$154),MAX(Oblast4))+COUNTIF(($U$12:$U$154),MAX(Oblast4))+COUNTIF(($J$12:$J$154),\"NP\")+COUNTIF(($U$12:$U$154),\"NP\")),U105)))","v":""},{"$f":"IF($L105=\"x\",\"x\",IF($N105=\"\",\"\",IF(OR(V105=\"NP\",V105=\"DNS\"),V105,RANK(V105,Oblast3,1))))","v":""},{"$f":"IF($L105=\"x\",\"x\",IF($N105=\"\",\"\",IF(OR(AND(S105=\"NP\",S106=\"NP\"),AND(S105=\"DNS\",S106=\"DNS\")),S105,IF(AND(S105=\"NP\",S106=\"DNS\"),S105,IF(AND(S105=\"DNS\",S106=\"NP\"),S106,MIN(S105,S106))))))","v":""}]
[null,null,null,"II.pokus",null,null,null,{"$f":"IF($C105=\"\",\"\",IF(OR($E106=\"DNS\",$F106=\"DNS\",$G106=\"DNS\"),\"DNS\",IF(OR($E106=\"NP\",$F106=\"NP\",$G106=\"NP\"),\"NP\",IF(ISERROR(MEDIAN($E106:$G106)),\"DNS\",IF(COUNT($E106:$G106)<3,MAX($E106:$G106),MEDIAN($E106:$G106))))))","v":""},null,null,null,null,null,null,"II.pokus",null,null,null,{"$f":"IF($N105=\"\",\"\",IF(OR($P106=\"DNS\",$Q106=\"DNS\",$R106=\"DNS\"),\"DNS\",IF(OR($P106=\"NP\",$Q106=\"NP\",$R106=\"NP\"),\"NP\",IF(ISERROR(MEDIAN($P106:$R106)),\"DNS\",IF(COUNT($P106:$R106)<3,MAX($P106:$R106),MEDIAN($P106:$R106))))))","v":""}]
[{"$f":"IF(Start!M17=\"\",\"\",\"x\")","v":""},62,{"$f":"IF(Start!K17=\"\",\"\",Start!K17)","v":""},"I.pokus",null,null,null,{"$f":"IF($C107=\"\",\"\",IF(OR($E107=\"DNS\",$F107=\"DNS\",$G107=\"DNS\"),\"DNS\",IF(OR($E107=\"NP\",$F107=\"NP\",$G107=\"NP\"),\"NP\",IF(ISERROR(MEDIAN($E107:$G107)),\"DNS\",IF(COUNT($E107:$G107)<3,MAX($E107:$G107),MEDIAN($E107:$G107))))))","v":""},{"$f":"IF($A107=\"x\",\"x\",IF($C107=\"\",\"\",IF(OR(J107=\"NP\",J107=\"DNS\"),IF(J107=\"NP\",MAX(Oblast4)+COUNTIF(($J$12:$J$154),MAX(Oblast4))+COUNTIF(($U$12:$U$154),MAX(Oblast4)),MAX(Oblast4)+COUNTIF(($J$12:$J$154),MAX(Oblast4))+COUNTIF(($U$12:$U$154),MAX(Oblast4))+COUNTIF(($J$12:$J$154),\"NP\")+COUNTIF(($U$12:$U$154),\"NP\")),J107)))","v":""},{"$f":"IF($A107=\"x\",\"x\",IF($C107=\"\",\"\",IF(OR(K107=\"NP\",K107=\"DNS\"),K107,RANK(K107,Oblast3,1))))","v":""},{"$f":"IF($A107=\"x\",\"x\",IF($C107=\"\",\"\",IF(OR(AND(H107=\"NP\",H108=\"NP\"),AND(H107=\"DNS\",H108=\"DNS\")),H107,IF(AND(H107=\"NP\",H108=\"DNS\"),H107,IF(AND(H107=\"DNS\",H108=\"NP\"),H108,MIN(H107,H108))))))","v":""},{"$f":"IF(Start!M27=\"\",\"\",\"x\")","v":""},72,{"$f":"IF(Start!K27=\"\",\"\",Start!K27)","v":""},"I.pokus",null,null,null,{"$f":"IF($N107=\"\",\"\",IF(OR($P107=\"DNS\",$Q107=\"DNS\",$R107=\"DNS\"),\"DNS\",IF(OR($P107=\"NP\",$Q107=\"NP\",$R107=\"NP\"),\"NP\",IF(ISERROR(MEDIAN($P107:$R107)),\"DNS\",IF(COUNT($P107:$R107)<3,MAX($P107:$R107),MEDIAN($P107:$R107))))))","v":""},{"$f":"IF($L107=\"x\",\"x\",IF($N107=\"\",\"\",IF(OR(U107=\"NP\",U107=\"DNS\"),IF(U107=\"NP\",MAX(Oblast4)+COUNTIF(($J$12:$J$154),MAX(Oblast4))+COUNTIF(($U$12:$U$154),MAX(Oblast4)),MAX(Oblast4)+COUNTIF(($J$12:$J$154),MAX(Oblast4))+COUNTIF(($U$12:$U$154),MAX(Oblast4))+COUNTIF(($J$12:$J$154),\"NP\")+COUNTIF(($U$12:$U$154),\"NP\")),U107)))","v":""},{"$f":"IF($L107=\"x\",\"x\",IF($N107=\"\",\"\",IF(OR(V107=\"NP\",V107=\"DNS\"),V107,RANK(V107,Oblast3,1))))","v":""},{"$f":"IF($L107=\"x\",\"x\",IF($N107=\"\",\"\",IF(OR(AND(S107=\"NP\",S108=\"NP\"),AND(S107=\"DNS\",S108=\"DNS\")),S107,IF(AND(S107=\"NP\",S108=\"DNS\"),S107,IF(AND(S107=\"DNS\",S108=\"NP\"),S108,MIN(S107,S108))))))","v":""}]
[null,null,null,"II.pokus",null,null,null,{"$f":"IF($C107=\"\",\"\",IF(OR($E108=\"DNS\",$F108=\"DNS\",$G108=\"DNS\"),\"DNS\",IF(OR($E108=\"NP\",$F108=\"NP\",$G108=\"NP\"),\"NP\",IF(ISERROR(MEDIAN($E108:$G108)),\"DNS\",IF(COUNT($E108:$G108)<3,MAX($E108:$G108),MEDIAN($E108:$G108))))))","v":""},null,null,null,null,null,null,"II.pokus",null,null,null,{"$f":"IF($N107=\"\",\"\",IF(OR($P108=\"DNS\",$Q108=\"DNS\",$R108=\"DNS\"),\"DNS\",IF(OR($P108=\"NP\",$Q108=\"NP\",$R108=\"NP\"),\"NP\",IF(ISERROR(MEDIAN($P108:$R108)),\"DNS\",IF(COUNT($P108:$R108)<3,MAX($P108:$R108),MEDIAN($P108:$R108))))))","v":""}]
[{"$f":"IF(Start!M18=\"\",\"\",\"x\")","v":""},63,{"$f":"IF(Start!K18=\"\",\"\",Start!K18)","v":""},"I.pokus",null,null,null,{"$f":"IF($C109=\"\",\"\",IF(OR($E109=\"DNS\",$F109=\"DNS\",$G109=\"DNS\"),\"DNS\",IF(OR($E109=\"NP\",$F109=\"NP\",$G109=\"NP\"),\"NP\",IF(ISERROR(MEDIAN($E109:$G109)),\"DNS\",IF(COUNT($E109:$G109)<3,MAX($E109:$G109),MEDIAN($E109:$G109))))))","v":""},{"$f":"IF($A109=\"x\",\"x\",IF($C109=\"\",\"\",IF(OR(J109=\"NP\",J109=\"DNS\"),IF(J109=\"NP\",MAX(Oblast4)+COUNTIF(($J$12:$J$154),MAX(Oblast4))+COUNTIF(($U$12:$U$154),MAX(Oblast4)),MAX(Oblast4)+COUNTIF(($J$12:$J$154),MAX(Oblast4))+COUNTIF(($U$12:$U$154),MAX(Oblast4))+COUNTIF(($J$12:$J$154),\"NP\")+COUNTIF(($U$12:$U$154),\"NP\")),J109)))","v":""},{"$f":"IF($A109=\"x\",\"x\",IF($C109=\"\",\"\",IF(OR(K109=\"NP\",K109=\"DNS\"),K109,RANK(K109,Oblast3,1))))","v":""},{"$f":"IF($A109=\"x\",\"x\",IF($C109=\"\",\"\",IF(OR(AND(H109=\"NP\",H110=\"NP\"),AND(H109=\"DNS\",H110=\"DNS\")),H109,IF(AND(H109=\"NP\",H110=\"DNS\"),H109,IF(AND(H109=\"DNS\",H110=\"NP\"),H110,MIN(H109,H110))))))","v":""},{"$f":"IF(Start!M28=\"\",\"\",\"x\")","v":""},73,{"$f":"IF(Start!K28=\"\",\"\",Start!K28)","v":""},"I.pokus",null,null,null,{"$f":"IF($N109=\"\",\"\",IF(OR($P109=\"DNS\",$Q109=\"DNS\",$R109=\"DNS\"),\"DNS\",IF(OR($P109=\"NP\",$Q109=\"NP\",$R109=\"NP\"),\"NP\",IF(ISERROR(MEDIAN($P109:$R109)),\"DNS\",IF(COUNT($P109:$R109)<3,MAX($P109:$R109),MEDIAN($P109:$R109))))))","v":""},{"$f":"IF($L109=\"x\",\"x\",IF($N109=\"\",\"\",IF(OR(U109=\"NP\",U109=\"DNS\"),IF(U109=\"NP\",MAX(Oblast4)+COUNTIF(($J$12:$J$154),MAX(Oblast4))+COUNTIF(($U$12:$U$154),MAX(Oblast4)),MAX(Oblast4)+COUNTIF(($J$12:$J$154),MAX(Oblast4))+COUNTIF(($U$12:$U$154),MAX(Oblast4))+COUNTIF(($J$12:$J$154),\"NP\")+COUNTIF(($U$12:$U$154),\"NP\")),U109)))","v":""},{"$f":"IF($L109=\"x\",\"x\",IF($N109=\"\",\"\",IF(OR(V109=\"NP\",V109=\"DNS\"),V109,RANK(V109,Oblast3,1))))","v":""},{"$f":"IF($L109=\"x\",\"x\",IF($N109=\"\",\"\",IF(OR(AND(S109=\"NP\",S110=\"NP\"),AND(S109=\"DNS\",S110=\"DNS\")),S109,IF(AND(S109=\"NP\",S110=\"DNS\"),S109,IF(AND(S109=\"DNS\",S110=\"NP\"),S110,MIN(S109,S110))))))","v":""}]
[null,null,null,"II.pokus",null,null,null,{"$f":"IF($C109=\"\",\"\",IF(OR($E110=\"DNS\",$F110=\"DNS\",$G110=\"DNS\"),\"DNS\",IF(OR($E110=\"NP\",$F110=\"NP\",$G110=\"NP\"),\"NP\",IF(ISERROR(MEDIAN($E110:$G110)),\"DNS\",IF(COUNT($E110:$G110)<3,MAX($E110:$G110),MEDIAN($E110:$G110))))))","v":""},null,null,null,null,null,null,"II.pokus",null,null,null,{"$f":"IF($N109=\"\",\"\",IF(OR($P110=\"DNS\",$Q110=\"DNS\",$R110=\"DNS\"),\"DNS\",IF(OR($P110=\"NP\",$Q110=\"NP\",$R110=\"NP\"),\"NP\",IF(ISERROR(MEDIAN($P110:$R110)),\"DNS\",IF(COUNT($P110:$R110)<3,MAX($P110:$R110),MEDIAN($P110:$R110))))))","v":""}]
[{"$f":"IF(Start!M19=\"\",\"\",\"x\")","v":""},64,{"$f":"IF(Start!K19=\"\",\"\",Start!K19)","v":""},"I.pokus",null,null,null,{"$f":"IF($C111=\"\",\"\",IF(OR($E111=\"DNS\",$F111=\"DNS\",$G111=\"DNS\"),\"DNS\",IF(OR($E111=\"NP\",$F111=\"NP\",$G111=\"NP\"),\"NP\",IF(ISERROR(MEDIAN($E111:$G111)),\"DNS\",IF(COUNT($E111:$G111)<3,MAX($E111:$G111),MEDIAN($E111:$G111))))))","v":""},{"$f":"IF($A111=\"x\",\"x\",IF($C111=\"\",\"\",IF(OR(J111=\"NP\",J111=\"DNS\"),IF(J111=\"NP\",MAX(Oblast4)+COUNTIF(($J$12:$J$154),MAX(Oblast4))+COUNTIF(($U$12:$U$154),MAX(Oblast4)),MAX(Oblast4)+COUNTIF(($J$12:$J$154),MAX(Oblast4))+COUNTIF(($U$12:$U$154),MAX(Oblast4))+COUNTIF(($J$12:$J$154),\"NP\")+COUNTIF(($U$12:$U$154),\"NP\")),J111)))","v":""},{"$f":"IF($A111=\"x\",\"x\",IF($C111=\"\",\"\",IF(OR(K111=\"NP\",K111=\"DNS\"),K111,RANK(K111,Oblast3,1))))","v":""},{"$f":"IF($A111=\"x\",\"x\",IF($C111=\"\",\"\",IF(OR(AND(H111=\"NP\",H112=\"NP\"),AND(H111=\"DNS\",H112=\"DNS\")),H111,IF(AND(H111=\"NP\",H112=\"DNS\"),H111,IF(AND(H111=\"DNS\",H112=\"NP\"),H112,MIN(H111,H112))))))","v":""},{"$f":"IF(Start!M29=\"\",\"\",\"x\")","v":""},74,{"$f":"IF(Start!K29=\"\",\"\",Start!K29)","v":""},"I.pokus",null,null,null,{"$f":"IF($N111=\"\",\"\",IF(OR($P111=\"DNS\",$Q111=\"DNS\",$R111=\"DNS\"),\"DNS\",IF(OR($P111=\"NP\",$Q111=\"NP\",$R111=\"NP\"),\"NP\",IF(ISERROR(MEDIAN($P111:$R111)),\"DNS\",IF(COUNT($P111:$R111)<3,MAX($P111:$R111),MEDIAN($P111:$R111))))))","v":""},{"$f":"IF($L111=\"x\",\"x\",IF($N111=\"\",\"\",IF(OR(U111=\"NP\",U111=\"DNS\"),IF(U111=\"NP\",MAX(Oblast4)+COUNTIF(($J$12:$J$154),MAX(Oblast4))+COUNTIF(($U$12:$U$154),MAX(Oblast4)),MAX(Oblast4)+COUNTIF(($J$12:$J$154),MAX(Oblast4))+COUNTIF(($U$12:$U$154),MAX(Oblast4))+COUNTIF(($J$12:$J$154),\"NP\")+COUNTIF(($U$12:$U$154),\"NP\")),U111)))","v":""},{"$f":"IF($L111=\"x\",\"x\",IF($N111=\"\",\"\",IF(OR(V111=\"NP\",V111=\"DNS\"),V111,RANK(V111,Oblast3,1))))","v":""},{"$f":"IF($L111=\"x\",\"x\",IF($N111=\"\",\"\",IF(OR(AND(S111=\"NP\",S112=\"NP\"),AND(S111=\"DNS\",S112=\"DNS\")),S111,IF(AND(S111=\"NP\",S112=\"DNS\"),S111,IF(AND(S111=\"DNS\",S112=\"NP\"),S112,MIN(S111,S112))))))","v":""}]
[null,null,null,"II.pokus",null,null,null,{"$f":"IF($C111=\"\",\"\",IF(OR($E112=\"DNS\",$F112=\"DNS\",$G112=\"DNS\"),\"DNS\",IF(OR($E112=\"NP\",$F112=\"NP\",$G112=\"NP\"),\"NP\",IF(ISERROR(MEDIAN($E112:$G112)),\"DNS\",IF(COUNT($E112:$G112)<3,MAX($E112:$G112),MEDIAN($E112:$G112))))))","v":""},null,null,null,null,null,null,"II.pokus",null,null,null,{"$f":"IF($N111=\"\",\"\",IF(OR($P112=\"DNS\",$Q112=\"DNS\",$R112=\"DNS\"),\"DNS\",IF(OR($P112=\"NP\",$Q112=\"NP\",$R112=\"NP\"),\"NP\",IF(ISERROR(MEDIAN($P112:$R112)),\"DNS\",IF(COUNT($P112:$R112)<3,MAX($P112:$R112),MEDIAN($P112:$R112))))))","v":""}]
[{"$f":"IF(Start!M20=\"\",\"\",\"x\")","v":""},65,{"$f":"IF(Start!K20=\"\",\"\",Start!K20)","v":""},"I.pokus",null,null,null,{"$f":"IF($C113=\"\",\"\",IF(OR($E113=\"DNS\",$F113=\"DNS\",$G113=\"DNS\"),\"DNS\",IF(OR($E113=\"NP\",$F113=\"NP\",$G113=\"NP\"),\"NP\",IF(ISERROR(MEDIAN($E113:$G113)),\"DNS\",IF(COUNT($E113:$G113)<3,MAX($E113:$G113),MEDIAN($E113:$G113))))))","v":""},{"$f":"IF($A113=\"x\",\"x\",IF($C113=\"\",\"\",IF(OR(J113=\"NP\",J113=\"DNS\"),IF(J113=\"NP\",MAX(Oblast4)+COUNTIF(($J$12:$J$154),MAX(Oblast4))+COUNTIF(($U$12:$U$154),MAX(Oblast4)),MAX(Oblast4)+COUNTIF(($J$12:$J$154),MAX(Oblast4))+COUNTIF(($U$12:$U$154),MAX(Oblast4))+COUNTIF(($J$12:$J$154),\"NP\")+COUNTIF(($U$12:$U$154),\"NP\")),J113)))","v":""},{"$f":"IF($A113=\"x\",\"x\",IF($C113=\"\",\"\",IF(OR(K113=\"NP\",K113=\"DNS\"),K113,RANK(K113,Oblast3,1))))","v":""},{"$f":"IF($A113=\"x\",\"x\",IF($C113=\"\",\"\",IF(OR(AND(H113=\"NP\",H114=\"NP\"),AND(H113=\"DNS\",H114=\"DNS\")),H113,IF(AND(H113=\"NP\",H114=\"DNS\"),H113,IF(AND(H113=\"DNS\",H114=\"NP\"),H114,MIN(H113,H114))))))","v":""},{"$f":"IF(Start!M30=\"\",\"\",\"x\")","v":""},75,{"$f":"IF(Start!K30=\"\",\"\",Start!K30)","v":""},"I.pokus",null,null,null,{"$f":"IF($N113=\"\",\"\",IF(OR($P113=\"DNS\",$Q113=\"DNS\",$R113=\"DNS\"),\"DNS\",IF(OR($P113=\"NP\",$Q113=\"NP\",$R113=\"NP\"),\"NP\",IF(ISERROR(MEDIAN($P113:$R113)),\"DNS\",IF(COUNT($P113:$R113)<3,MAX($P113:$R113),MEDIAN($P113:$R113))))))","v":""},{"$f":"IF($L113=\"x\",\"x\",IF($N113=\"\",\"\",IF(OR(U113=\"NP\",U113=\"DNS\"),IF(U113=\"NP\",MAX(Oblast4)+COUNTIF(($J$12:$J$154),MAX(Oblast4))+COUNTIF(($U$12:$U$154),MAX(Oblast4)),MAX(Oblast4)+COUNTIF(($J$12:$J$154),MAX(Oblast4))+COUNTIF(($U$12:$U$154),MAX(Oblast4))+COUNTIF(($J$12:$J$154),\"NP\")+COUNTIF(($U$12:$U$154),\"NP\")),U113)))","v":""},{"$f":"IF($L113=\"x\",\"x\",IF($N113=\"\",\"\",IF(OR(V113=\"NP\",V113=\"DNS\"),V113,RANK(V113,Oblast3,1))))","v":""},{"$f":"IF($L113=\"x\",\"x\",IF($N113=\"\",\"\",IF(OR(AND(S113=\"NP\",S114=\"NP\"),AND(S113=\"DNS\",S114=\"DNS\")),S113,IF(AND(S113=\"NP\",S114=\"DNS\"),S113,IF(AND(S113=\"DNS\",S114=\"NP\"),S114,MIN(S113,S114))))))","v":""}]
[null,null,null,"II.pokus",null,null,null,{"$f":"IF($C113=\"\",\"\",IF(OR($E114=\"DNS\",$F114=\"DNS\",$G114=\"DNS\"),\"DNS\",IF(OR($E114=\"NP\",$F114=\"NP\",$G114=\"NP\"),\"NP\",IF(ISERROR(MEDIAN($E114:$G114)),\"DNS\",IF(COUNT($E114:$G114)<3,MAX($E114:$G114),MEDIAN($E114:$G114))))))","v":""},null,null,null,null,null,null,"II.pokus",null,null,null,{"$f":"IF($N113=\"\",\"\",IF(OR($P114=\"DNS\",$Q114=\"DNS\",$R114=\"DNS\"),\"DNS\",IF(OR($P114=\"NP\",$Q114=\"NP\",$R114=\"NP\"),\"NP\",IF(ISERROR(MEDIAN($P114:$R114)),\"DNS\",IF(COUNT($P114:$R114)<3,MAX($P114:$R114),MEDIAN($P114:$R114))))))","v":""}]
[{"$f":"IF(Start!M21=\"\",\"\",\"x\")","v":""},66,{"$f":"IF(Start!K21=\"\",\"\",Start!K21)","v":""},"I.pokus",null,null,null,{"$f":"IF($C115=\"\",\"\",IF(OR($E115=\"DNS\",$F115=\"DNS\",$G115=\"DNS\"),\"DNS\",IF(OR($E115=\"NP\",$F115=\"NP\",$G115=\"NP\"),\"NP\",IF(ISERROR(MEDIAN($E115:$G115)),\"DNS\",IF(COUNT($E115:$G115)<3,MAX($E115:$G115),MEDIAN($E115:$G115))))))","v":""},{"$f":"IF($A115=\"x\",\"x\",IF($C115=\"\",\"\",IF(OR(J115=\"NP\",J115=\"DNS\"),IF(J115=\"NP\",MAX(Oblast4)+COUNTIF(($J$12:$J$154),MAX(Oblast4))+COUNTIF(($U$12:$U$154),MAX(Oblast4)),MAX(Oblast4)+COUNTIF(($J$12:$J$154),MAX(Oblast4))+COUNTIF(($U$12:$U$154),MAX(Oblast4))+COUNTIF(($J$12:$J$154),\"NP\")+COUNTIF(($U$12:$U$154),\"NP\")),J115)))","v":""},{"$f":"IF($A115=\"x\",\"x\",IF($C115=\"\",\"\",IF(OR(K115=\"NP\",K115=\"DNS\"),K115,RANK(K115,Oblast3,1))))","v":""},{"$f":"IF($A115=\"x\",\"x\",IF($C115=\"\",\"\",IF(OR(AND(H115=\"NP\",H116=\"NP\"),AND(H115=\"DNS\",H116=\"DNS\")),H115,IF(AND(H115=\"NP\",H116=\"DNS\"),H115,IF(AND(H115=\"DNS\",H116=\"NP\"),H116,MIN(H115,H116))))))","v":""},{"$f":"IF(Start!Q6=\"\",\"\",\"x\")","v":""},76,{"$f":"IF(Start!O6=\"\",\"\",Start!O6)","v":""},"I.pokus",null,null,null,{"$f":"IF($N115=\"\",\"\",IF(OR($P115=\"DNS\",$Q115=\"DNS\",$R115=\"DNS\"),\"DNS\",IF(OR($P115=\"NP\",$Q115=\"NP\",$R115=\"NP\"),\"NP\",IF(ISERROR(MEDIAN($P115:$R115)),\"DNS\",IF(COUNT($P115:$R115)<3,MAX($P115:$R115),MEDIAN($P115:$R115))))))","v":""},{"$f":"IF($L115=\"x\",\"x\",IF($N115=\"\",\"\",IF(OR(U115=\"NP\",U115=\"DNS\"),IF(U115=\"NP\",MAX(Oblast4)+COUNTIF(($J$12:$J$154),MAX(Oblast4))+COUNTIF(($U$12:$U$154),MAX(Oblast4)),MAX(Oblast4)+COUNTIF(($J$12:$J$154),MAX(Oblast4))+COUNTIF(($U$12:$U$154),MAX(Oblast4))+COUNTIF(($J$12:$J$154),\"NP\")+COUNTIF(($U$12:$U$154),\"NP\")),U115)))","v":""},{"$f":"IF($L115=\"x\",\"x\",IF($N115=\"\",\"\",IF(OR(V115=\"NP\",V115=\"DNS\"),V115,RANK(V115,Oblast3,1))))","v":""},{"$f":"IF($L115=\"x\",\"x\",IF($N115=\"\",\"\",IF(OR(AND(S115=\"NP\",S116=\"NP\"),AND(S115=\"DNS\",S116=\"DNS\")),S115,IF(AND(S115=\"NP\",S116=\"DNS\"),S115,IF(AND(S115=\"DNS\",S116=\"NP\"),S116,MIN(S115,S116))))))","v":""}]
[null,null,null,"II.pokus",null,null,null,{"$f":"IF($C115=\"\",\"\",IF(OR($E116=\"DNS\",$F116=\"DNS\",$G116=\"DNS\"),\"DNS\",IF(OR($E116=\"NP\",$F116=\"NP\",$G116=\"NP\"),\"NP\",IF(ISERROR(MEDIAN($E116:$G116)),\"DNS\",IF(COUNT($E116:$G116)<3,MAX($E116:$G116),MEDIAN($E116:$G116))))))","v":""},null,null,null,null,null,null,"II.pokus",null,null,null,{"$f":"IF($N115=\"\",\"\",IF(OR($P116=\"DNS\",$Q116=\"DNS\",$R116=\"DNS\"),\"DNS\",IF(OR($P116=\"NP\",$Q116=\"NP\",$R116=\"NP\"),\"NP\",IF(ISERROR(MEDIAN($P116:$R116)),\"DNS\",IF(COUNT($P116:$R116)<3,MAX($P116:$R116),MEDIAN($P116:$R116))))))","v":""}]
[{"$f":"IF(Start!M22=\"\",\"\",\"x\")","v":""},67,{"$f":"IF(Start!K22=\"\",\"\",Start!K22)","v":""},"I.pokus",null,null,null,{"$f":"IF($C117=\"\",\"\",IF(OR($E117=\"DNS\",$F117=\"DNS\",$G117=\"DNS\"),\"DNS\",IF(OR($E117=\"NP\",$F117=\"NP\",$G117=\"NP\"),\"NP\",IF(ISERROR(MEDIAN($E117:$G117)),\"DNS\",IF(COUNT($E117:$G117)<3,MAX($E117:$G117),MEDIAN($E117:$G117))))))","v":""},{"$f":"IF($A117=\"x\",\"x\",IF($C117=\"\",\"\",IF(OR(J117=\"NP\",J117=\"DNS\"),IF(J117=\"NP\",MAX(Oblast4)+COUNTIF(($J$12:$J$154),MAX(Oblast4))+COUNTIF(($U$12:$U$154),MAX(Oblast4)),MAX(Oblast4)+COUNTIF(($J$12:$J$154),MAX(Oblast4))+COUNTIF(($U$12:$U$154),MAX(Oblast4))+COUNTIF(($J$12:$J$154),\"NP\")+COUNTIF(($U$12:$U$154),\"NP\")),J117)))","v":""},{"$f":"IF($A117=\"x\",\"x\",IF($C117=\"\",\"\",IF(OR(K117=\"NP\",K117=\"DNS\"),K117,RANK(K117,Oblast3,1))))","v":""},{"$f":"IF($A117=\"x\",\"x\",IF($C117=\"\",\"\",IF(OR(AND(H117=\"NP\",H118=\"NP\"),AND(H117=\"DNS\",H118=\"DNS\")),H117,IF(AND(H117=\"NP\",H118=\"DNS\"),H117,IF(AND(H117=\"DNS\",H118=\"NP\"),H118,MIN(H117,H118))))))","v":""},{"$f":"IF(Start!Q7=\"\",\"\",\"x\")","v":""},77,{"$f":"IF(Start!O7=\"\",\"\",Start!O7)","v":""},"I.pokus",null,null,null,{"$f":"IF($N117=\"\",\"\",IF(OR($P117=\"DNS\",$Q117=\"DNS\",$R117=\"DNS\"),\"DNS\",IF(OR($P117=\"NP\",$Q117=\"NP\",$R117=\"NP\"),\"NP\",IF(ISERROR(MEDIAN($P117:$R117)),\"DNS\",IF(COUNT($P117:$R117)<3,MAX($P117:$R117),MEDIAN($P117:$R117))))))","v":""},{"$f":"IF($L117=\"x\",\"x\",IF($N117=\"\",\"\",IF(OR(U117=\"NP\",U117=\"DNS\"),IF(U117=\"NP\",MAX(Oblast4)+COUNTIF(($J$12:$J$154),MAX(Oblast4))+COUNTIF(($U$12:$U$154),MAX(Oblast4)),MAX(Oblast4)+COUNTIF(($J$12:$J$154),MAX(Oblast4))+COUNTIF(($U$12:$U$154),MAX(Oblast4))+COUNTIF(($J$12:$J$154),\"NP\")+COUNTIF(($U$12:$U$154),\"NP\")),U117)))","v":""},{"$f":"IF($L117=\"x\",\"x\",IF($N117=\"\",\"\",IF(OR(V117=\"NP\",V117=\"DNS\"),V117,RANK(V117,Oblast3,1))))","v":""},{"$f":"IF($L117=\"x\",\"x\",IF($N117=\"\",\"\",IF(OR(AND(S117=\"NP\",S118=\"NP\"),AND(S117=\"DNS\",S118=\"DNS\")),S117,IF(AND(S117=\"NP\",S118=\"DNS\"),S117,IF(AND(S117=\"DNS\",S118=\"NP\"),S118,MIN(S117,S118))))))","v":""}]
[null,null,null,"II.pokus",null,null,null,{"$f":"IF($C117=\"\",\"\",IF(OR($E118=\"DNS\",$F118=\"DNS\",$G118=\"DNS\"),\"DNS\",IF(OR($E118=\"NP\",$F118=\"NP\",$G118=\"NP\"),\"NP\",IF(ISERROR(MEDIAN($E118:$G118)),\"DNS\",IF(COUNT($E118:$G118)<3,MAX($E118:$G118),MEDIAN($E118:$G118))))))","v":""},null,null,null,null,null,null,"II.pokus",null,null,null,{"$f":"IF($N117=\"\",\"\",IF(OR($P118=\"DNS\",$Q118=\"DNS\",$R118=\"DNS\"),\"DNS\",IF(OR($P118=\"NP\",$Q118=\"NP\",$R118=\"NP\"),\"NP\",IF(ISERROR(MEDIAN($P118:$R118)),\"DNS\",IF(COUNT($P118:$R118)<3,MAX($P118:$R118),MEDIAN($P118:$R118))))))","v":""}]
[{"$f":"IF(Start!M23=\"\",\"\",\"x\")","v":""},68,{"$f":"IF(Start!K23=\"\",\"\",Start!K23)","v":""},"I.pokus",null,null,null,{"$f":"IF($C119=\"\",\"\",IF(OR($E119=\"DNS\",$F119=\"DNS\",$G119=\"DNS\"),\"DNS\",IF(OR($E119=\"NP\",$F119=\"NP\",$G119=\"NP\"),\"NP\",IF(ISERROR(MEDIAN($E119:$G119)),\"DNS\",IF(COUNT($E119:$G119)<3,MAX($E119:$G119),MEDIAN($E119:$G119))))))","v":""},{"$f":"IF($A119=\"x\",\"x\",IF($C119=\"\",\"\",IF(OR(J119=\"NP\",J119=\"DNS\"),IF(J119=\"NP\",MAX(Oblast4)+COUNTIF(($J$12:$J$154),MAX(Oblast4))+COUNTIF(($U$12:$U$154),MAX(Oblast4)),MAX(Oblast4)+COUNTIF(($J$12:$J$154),MAX(Oblast4))+COUNTIF(($U$12:$U$154),MAX(Oblast4))+COUNTIF(($J$12:$J$154),\"NP\")+COUNTIF(($U$12:$U$154),\"NP\")),J119)))","v":""},{"$f":"IF($A119=\"x\",\"x\",IF($C119=\"\",\"\",IF(OR(K119=\"NP\",K119=\"DNS\"),K119,RANK(K119,Oblast3,1))))","v":""},{"$f":"IF($A119=\"x\",\"x\",IF($C119=\"\",\"\",IF(OR(AND(H119=\"NP\",H120=\"NP\"),AND(H119=\"DNS\",H120=\"DNS\")),H119,IF(AND(H119=\"NP\",H120=\"DNS\"),H119,IF(AND(H119=\"DNS\",H120=\"NP\"),H120,MIN(H119,H120))))))","v":""},{"$f":"IF(Start!Q8=\"\",\"\",\"x\")","v":""},78,{"$f":"IF(Start!O8=\"\",\"\",Start!O8)","v":""},"I.pokus",null,null,null,{"$f":"IF($N119=\"\",\"\",IF(OR($P119=\"DNS\",$Q119=\"DNS\",$R119=\"DNS\"),\"DNS\",IF(OR($P119=\"NP\",$Q119=\"NP\",$R119=\"NP\"),\"NP\",IF(ISERROR(MEDIAN($P119:$R119)),\"DNS\",IF(COUNT($P119:$R119)<3,MAX($P119:$R119),MEDIAN($P119:$R119))))))","v":""},{"$f":"IF($L119=\"x\",\"x\",IF($N119=\"\",\"\",IF(OR(U119=\"NP\",U119=\"DNS\"),IF(U119=\"NP\",MAX(Oblast4)+COUNTIF(($J$12:$J$154),MAX(Oblast4))+COUNTIF(($U$12:$U$154),MAX(Oblast4)),MAX(Oblast4)+COUNTIF(($J$12:$J$154),MAX(Oblast4))+COUNTIF(($U$12:$U$154),MAX(Oblast4))+COUNTIF(($J$12:$J$154),\"NP\")+COUNTIF(($U$12:$U$154),\"NP\")),U119)))","v":""},{"$f":"IF($L119=\"x\",\"x\",IF($N119=\"\",\"\",IF(OR(V119=\"NP\",V119=\"DNS\"),V119,RANK(V119,Oblast3,1))))","v":""},{"$f":"IF($L119=\"x\",\"x\",IF($N119=\"\",\"\",IF(OR(AND(S119=\"NP\",S120=\"NP\"),AND(S119=\"DNS\",S120=\"DNS\")),S119,IF(AND(S119=\"NP\",S120=\"DNS\"),S119,IF(AND(S119=\"DNS\",S120=\"NP\"),S120,MIN(S119,S120))))))","v":""}]
[null,null,null,"II.pokus",null,null,null,{"$f":"IF($C119=\"\",\"\",IF(OR($E120=\"DNS\",$F120=\"DNS\",$G120=\"DNS\"),\"DNS\",IF(OR($E120=\"NP\",$F120=\"NP\",$G120=\"NP\"),\"NP\",IF(ISERROR(MEDIAN($E120:$G120)),\"DNS\",IF(COUNT($E120:$G120)<3,MAX($E120:$G120),MEDIAN($E120:$G120))))))","v":""},null,null,null,null,null,null,"II.pokus",null,null,null,{"$f":"IF($N119=\"\",\"\",IF(OR($P120=\"DNS\",$Q120=\"DNS\",$R120=\"DNS\"),\"DNS\",IF(OR($P120=\"NP\",$Q120=\"NP\",$R120=\"NP\"),\"NP\",IF(ISERROR(MEDIAN($P120:$R120)),\"DNS\",IF(COUNT($P120:$R120)<3,MAX($P120:$R120),MEDIAN($P120:$R120))))))","v":""}]
[{"$f":"IF(Start!M24=\"\",\"\",\"x\")","v":""},69,{"$f":"IF(Start!K24=\"\",\"\",Start!K24)","v":""},"I.pokus",null,null,null,{"$f":"IF($C121=\"\",\"\",IF(OR($E121=\"DNS\",$F121=\"DNS\",$G121=\"DNS\"),\"DNS\",IF(OR($E121=\"NP\",$F121=\"NP\",$G121=\"NP\"),\"NP\",IF(ISERROR(MEDIAN($E121:$G121)),\"DNS\",IF(COUNT($E121:$G121)<3,MAX($E121:$G121),MEDIAN($E121:$G121))))))","v":""},{"$f":"IF($A121=\"x\",\"x\",IF($C121=\"\",\"\",IF(OR(J121=\"NP\",J121=\"DNS\"),IF(J121=\"NP\",MAX(Oblast4)+COUNTIF(($J$12:$J$154),MAX(Oblast4))+COUNTIF(($U$12:$U$154),MAX(Oblast4)),MAX(Oblast4)+COUNTIF(($J$12:$J$154),MAX(Oblast4))+COUNTIF(($U$12:$U$154),MAX(Oblast4))+COUNTIF(($J$12:$J$154),\"NP\")+COUNTIF(($U$12:$U$154),\"NP\")),J121)))","v":""},{"$f":"IF($A121=\"x\",\"x\",IF($C121=\"\",\"\",IF(OR(K121=\"NP\",K121=\"DNS\"),K121,RANK(K121,Oblast3,1))))","v":""},{"$f":"IF($A121=\"x\",\"x\",IF($C121=\"\",\"\",IF(OR(AND(H121=\"NP\",H122=\"NP\"),AND(H121=\"DNS\",H122=\"DNS\")),H121,IF(AND(H121=\"NP\",H122=\"DNS\"),H121,IF(AND(H121=\"DNS\",H122=\"NP\"),H122,MIN(H121,H122))))))","v":""},{"$f":"IF(Start!Q9=\"\",\"\",\"x\")","v":""},79,{"$f":"IF(Start!O9=\"\",\"\",Start!O9)","v":""},"I.pokus",null,null,null,{"$f":"IF($N121=\"\",\"\",IF(OR($P121=\"DNS\",$Q121=\"DNS\",$R121=\"DNS\"),\"DNS\",IF(OR($P121=\"NP\",$Q121=\"NP\",$R121=\"NP\"),\"NP\",IF(ISERROR(MEDIAN($P121:$R121)),\"DNS\",IF(COUNT($P121:$R121)<3,MAX($P121:$R121),MEDIAN($P121:$R121))))))","v":""},{"$f":"IF($L121=\"x\",\"x\",IF($N121=\"\",\"\",IF(OR(U121=\"NP\",U121=\"DNS\"),IF(U121=\"NP\",MAX(Oblast4)+COUNTIF(($J$12:$J$154),MAX(Oblast4))+COUNTIF(($U$12:$U$154),MAX(Oblast4)),MAX(Oblast4)+COUNTIF(($J$12:$J$154),MAX(Oblast4))+COUNTIF(($U$12:$U$154),MAX(Oblast4))+COUNTIF(($J$12:$J$154),\"NP\")+COUNTIF(($U$12:$U$154),\"NP\")),U121)))","v":""},{"$f":"IF($L121=\"x\",\"x\",IF($N121=\"\",\"\",IF(OR(V121=\"NP\",V121=\"DNS\"),V121,RANK(V121,Oblast3,1))))","v":""},{"$f":"IF($L121=\"x\",\"x\",IF($N121=\"\",\"\",IF(OR(AND(S121=\"NP\",S122=\"NP\"),AND(S121=\"DNS\",S122=\"DNS\")),S121,IF(AND(S121=\"NP\",S122=\"DNS\"),S121,IF(AND(S121=\"DNS\",S122=\"NP\"),S122,MIN(S121,S122))))))","v":""}]
[null,null,null,"II.pokus",null,null,null,{"$f":"IF($C121=\"\",\"\",IF(OR($E122=\"DNS\",$F122=\"DNS\",$G122=\"DNS\"),\"DNS\",IF(OR($E122=\"NP\",$F122=\"NP\",$G122=\"NP\"),\"NP\",IF(ISERROR(MEDIAN($E122:$G122)),\"DNS\",IF(COUNT($E122:$G122)<3,MAX($E122:$G122),MEDIAN($E122:$G122))))))","v":""},null,null,null,null,null,null,"II.pokus",null,null,null,{"$f":"IF($N121=\"\",\"\",IF(OR($P122=\"DNS\",$Q122=\"DNS\",$R122=\"DNS\"),\"DNS\",IF(OR($P122=\"NP\",$Q122=\"NP\",$R122=\"NP\"),\"NP\",IF(ISERROR(MEDIAN($P122:$R122)),\"DNS\",IF(COUNT($P122:$R122)<3,MAX($P122:$R122),MEDIAN($P122:$R122))))))","v":""}]
[{"$f":"IF(Start!M25=\"\",\"\",\"x\")","v":""},70,{"$f":"IF(Start!K25=\"\",\"\",Start!K25)","v":""},"I.pokus",null,null,null,{"$f":"IF($C123=\"\",\"\",IF(OR($E123=\"DNS\",$F123=\"DNS\",$G123=\"DNS\"),\"DNS\",IF(OR($E123=\"NP\",$F123=\"NP\",$G123=\"NP\"),\"NP\",IF(ISERROR(MEDIAN($E123:$G123)),\"DNS\",IF(COUNT($E123:$G123)<3,MAX($E123:$G123),MEDIAN($E123:$G123))))))","v":""},{"$f":"IF($A123=\"x\",\"x\",IF($C123=\"\",\"\",IF(OR(J123=\"NP\",J123=\"DNS\"),IF(J123=\"NP\",MAX(Oblast4)+COUNTIF(($J$12:$J$154),MAX(Oblast4))+COUNTIF(($U$12:$U$154),MAX(Oblast4)),MAX(Oblast4)+COUNTIF(($J$12:$J$154),MAX(Oblast4))+COUNTIF(($U$12:$U$154),MAX(Oblast4))+COUNTIF(($J$12:$J$154),\"NP\")+COUNTIF(($U$12:$U$154),\"NP\")),J123)))","v":""},{"$f":"IF($A123=\"x\",\"x\",IF($C123=\"\",\"\",IF(OR(K123=\"NP\",K123=\"DNS\"),K123,RANK(K123,Oblast3,1))))","v":""},{"$f":"IF($A123=\"x\",\"x\",IF($C123=\"\",\"\",IF(OR(AND(H123=\"NP\",H124=\"NP\"),AND(H123=\"DNS\",H124=\"DNS\")),H123,IF(AND(H123=\"NP\",H124=\"DNS\"),H123,IF(AND(H123=\"DNS\",H124=\"NP\"),H124,MIN(H123,H124))))))","v":""},{"$f":"IF(Start!Q10=\"\",\"\",\"x\")","v":""},80,{"$f":"IF(Start!O10=\"\",\"\",Start!O10)","v":""},"I.pokus",null,null,null,{"$f":"IF($N123=\"\",\"\",IF(OR($P123=\"DNS\",$Q123=\"DNS\",$R123=\"DNS\"),\"DNS\",IF(OR($P123=\"NP\",$Q123=\"NP\",$R123=\"NP\"),\"NP\",IF(ISERROR(MEDIAN($P123:$R123)),\"DNS\",IF(COUNT($P123:$R123)<3,MAX($P123:$R123),MEDIAN($P123:$R123))))))","v":""},{"$f":"IF($L123=\"x\",\"x\",IF($N123=\"\",\"\",IF(OR(U123=\"NP\",U123=\"DNS\"),IF(U123=\"NP\",MAX(Oblast4)+COUNTIF(($J$12:$J$154),MAX(Oblast4))+COUNTIF(($U$12:$U$154),MAX(Oblast4)),MAX(Oblast4)+COUNTIF(($J$12:$J$154),MAX(Oblast4))+COUNTIF(($U$12:$U$154),MAX(Oblast4))+COUNTIF(($J$12:$J$154),\"NP\")+COUNTIF(($U$12:$U$154),\"NP\")),U123)))","v":""},{"$f":"IF($L123=\"x\",\"x\",IF($N123=\"\",\"\",IF(OR(V123=\"NP\",V123=\"DNS\"),V123,RANK(V123,Oblast3,1))))","v":""},{"$f":"IF($L123=\"x\",\"x\",IF($N123=\"\",\"\",IF(OR(AND(S123=\"NP\",S124=\"NP\"),AND(S123=\"DNS\",S124=\"DNS\")),S123,IF(AND(S123=\"NP\",S124=\"DNS\"),S123,IF(AND(S123=\"DNS\",S124=\"NP\"),S124,MIN(S123,S124))))))","v":""}]
[null,null,null,"II.pokus",null,null,null,{"$f":"IF($C123=\"\",\"\",IF(OR($E124=\"DNS\",$F124=\"DNS\",$G124=\"DNS\"),\"DNS\",IF(OR($E124=\"NP\",$F124=\"NP\",$G124=\"NP\"),\"NP\",IF(ISERROR(MEDIAN($E124:$G124)),\"DNS\",IF(COUNT($E124:$G124)<3,MAX($E124:$G124),MEDIAN($E124:$G124))))))","v":""},null,null,null,null,null,null,"II.pokus",null,null,null,{"$f":"IF($N123=\"\",\"\",IF(OR($P124=\"DNS\",$Q124=\"DNS\",$R124=\"DNS\"),\"DNS\",IF(OR($P124=\"NP\",$Q124=\"NP\",$R124=\"NP\"),\"NP\",IF(ISERROR(MEDIAN($P124:$R124)),\"DNS\",IF(COUNT($P124:$R124)<3,MAX($P124:$R124),MEDIAN($P124:$R124))))))","v":""}]
[null," CELOSTÁTNÍ HRA PLAMEN"]
[]
[]
[null," Výsledková listina č: 5"]
[null,"Požární útok",null,null,"Základem je čas naměřený od vydání signálu startéra do signalizace obou terčů",null,null,null,null,null,null,null,"Požární útok",null,null,"Základem je čas naměřený od vydání signálu startéra do signalizace obou terčů"]
[]
[]
[null,{"$f":"\"KATEGORIE: \"&Start!$N$2","v":"KATEGORIE: starší"},null,null,"I. časoměřič","II. časoměřič","III. časoměřič","úřední čas","počet bodů za umístění",null,null,null,{"$f":"\"KATEGORIE: \"&Start!$N$2","v":"KATEGORIE: starší"},null,null,"I. časoměřič","II. časoměřič","III. časoměřič","úřední čas","počet bodů za umístění"]
[]
[null,"start. číslo","SOUTĚŽNÍ DRUŽSTVO","pokus",null,null,null,null,null,null,null,null,"start. číslo","SOUTĚŽNÍ DRUŽSTVO","pokus"]
[]
[{"$f":"IF(Start!Q11=\"\",\"\",\"x\")","v":""},81,{"$f":"IF(Start!O11=\"\",\"\",Start!O11)","v":""},"I.pokus",null,null,null,{"$f":"IF($C136=\"\",\"\",IF(OR($E136=\"DNS\",$F136=\"DNS\",$G136=\"DNS\"),\"DNS\",IF(OR($E136=\"NP\",$F136=\"NP\",$G136=\"NP\"),\"NP\",IF(ISERROR(MEDIAN($E136:$G136)),\"DNS\",IF(COUNT($E136:$G136)<3,MAX($E136:$G136),MEDIAN($E136:$G136))))))","v":""},{"$f":"IF($A136=\"x\",\"x\",IF($C136=\"\",\"\",IF(OR(J136=\"NP\",J136=\"DNS\"),IF(J136=\"NP\",MAX(Oblast4)+COUNTIF(($J$12:$J$154),MAX(Oblast4))+COUNTIF(($U$12:$U$154),MAX(Oblast4)),MAX(Oblast4)+COUNTIF(($J$12:$J$154),MAX(Oblast4))+COUNTIF(($U$12:$U$154),MAX(Oblast4))+COUNTIF(($J$12:$J$154),\"NP\")+COUNTIF(($U$12:$U$154),\"NP\")),J136)))","v":""},{"$f":"IF($A136=\"x\",\"x\",IF($C136=\"\",\"\",IF(OR(K136=\"NP\",K136=\"DNS\"),K136,RANK(K136,Oblast3,1))))","v":""},{"$f":"IF($A136=\"x\",\"x\",IF($C136=\"\",\"\",IF(OR(AND(H136=\"NP\",H137=\"NP\"),AND(H136=\"DNS\",H137=\"DNS\")),H136,IF(AND(H136=\"NP\",H137=\"DNS\"),H136,IF(AND(H136=\"DNS\",H137=\"NP\"),H137,MIN(H136,H137))))))","v":""},{"$f":"IF(Start!Q21=\"\",\"\",\"x\")","v":""},91,{"$f":"IF(Start!O21=\"\",\"\",Start!O21)","v":""},"I.pokus",null,null,null,{"$f":"IF($N136=\"\",\"\",IF(OR($P136=\"DNS\",$Q136=\"DNS\",$R136=\"DNS\"),\"DNS\",IF(OR($P136=\"NP\",$Q136=\"NP\",$R136=\"NP\"),\"NP\",IF(ISERROR(MEDIAN($P136:$R136)),\"DNS\",IF(COUNT($P136:$R136)<3,MAX($P136:$R136),MEDIAN($P136:$R136))))))","v":""},{"$f":"IF($L136=\"x\",\"x\",IF($N136=\"\",\"\",IF(OR(U136=\"NP\",U136=\"DNS\"),IF(U136=\"NP\",MAX(Oblast4)+COUNTIF(($J$12:$J$154),MAX(Oblast4))+COUNTIF(($U$12:$U$154),MAX(Oblast4)),MAX(Oblast4)+COUNTIF(($J$12:$J$154),MAX(Oblast4))+COUNTIF(($U$12:$U$154),MAX(Oblast4))+COUNTIF(($J$12:$J$154),\"NP\")+COUNTIF(($U$12:$U$154),\"NP\")),U136)))","v":""},{"$f":"IF($L136=\"x\",\"x\",IF($N136=\"\",\"\",IF(OR(V136=\"NP\",V136=\"DNS\"),V136,RANK(V136,Oblast3,1))))","v":""},{"$f":"IF($L136=\"x\",\"x\",IF($N136=\"\",\"\",IF(OR(AND(S136=\"NP\",S137=\"NP\"),AND(S136=\"DNS\",S137=\"DNS\")),S136,IF(AND(S136=\"NP\",S137=\"DNS\"),S136,IF(AND(S136=\"DNS\",S137=\"NP\"),S137,MIN(S136,S137))))))","v":""}]
[null,null,null,"II.pokus",null,null,null,{"$f":"IF($C136=\"\",\"\",IF(OR($E137=\"DNS\",$F137=\"DNS\",$G137=\"DNS\"),\"DNS\",IF(OR($E137=\"NP\",$F137=\"NP\",$G137=\"NP\"),\"NP\",IF(ISERROR(MEDIAN($E137:$G137)),\"DNS\",IF(COUNT($E137:$G137)<3,MAX($E137:$G137),MEDIAN($E137:$G137))))))","v":""},null,null,null,null,null,null,"II.pokus",null,null,null,{"$f":"IF($N136=\"\",\"\",IF(OR($P137=\"DNS\",$Q137=\"DNS\",$R137=\"DNS\"),\"DNS\",IF(OR($P137=\"NP\",$Q137=\"NP\",$R137=\"NP\"),\"NP\",IF(ISERROR(MEDIAN($P137:$R137)),\"DNS\",IF(COUNT($P137:$R137)<3,MAX($P137:$R137),MEDIAN($P137:$R137))))))","v":""}]
[{"$f":"IF(Start!Q12=\"\",\"\",\"x\")","v":""},82,{"$f":"IF(Start!O12=\"\",\"\",Start!O12)","v":""},"I.pokus",null,null,null,{"$f":"IF($C138=\"\",\"\",IF(OR($E138=\"DNS\",$F138=\"DNS\",$G138=\"DNS\"),\"DNS\",IF(OR($E138=\"NP\",$F138=\"NP\",$G138=\"NP\"),\"NP\",IF(ISERROR(MEDIAN($E138:$G138)),\"DNS\",IF(COUNT($E138:$G138)<3,MAX($E138:$G138),MEDIAN($E138:$G138))))))","v":""},{"$f":"IF($A138=\"x\",\"x\",IF($C138=\"\",\"\",IF(OR(J138=\"NP\",J138=\"DNS\"),IF(J138=\"NP\",MAX(Oblast4)+COUNTIF(($J$12:$J$154),MAX(Oblast4))+COUNTIF(($U$12:$U$154),MAX(Oblast4)),MAX(Oblast4)+COUNTIF(($J$12:$J$154),MAX(Oblast4))+COUNTIF(($U$12:$U$154),MAX(Oblast4))+COUNTIF(($J$12:$J$154),\"NP\")+COUNTIF(($U$12:$U$154),\"NP\")),J138)))","v":""},{"$f":"IF($A138=\"x\",\"x\",IF($C138=\"\",\"\",IF(OR(K138=\"NP\",K138=\"DNS\"),K138,RANK(K138,Oblast3,1))))","v":""},{"$f":"IF($A138=\"x\",\"x\",IF($C138=\"\",\"\",IF(OR(AND(H138=\"NP\",H139=\"NP\"),AND(H138=\"DNS\",H139=\"DNS\")),H138,IF(AND(H138=\"NP\",H139=\"DNS\"),H138,IF(AND(H138=\"DNS\",H139=\"NP\"),H139,MIN(H138,H139))))))","v":""},{"$f":"IF(Start!Q22=\"\",\"\",\"x\")","v":""},92,{"$f":"IF(Start!O22=\"\",\"\",Start!O22)","v":""},"I.pokus",null,null,null,{"$f":"IF($N138=\"\",\"\",IF(OR($P138=\"DNS\",$Q138=\"DNS\",$R138=\"DNS\"),\"DNS\",IF(OR($P138=\"NP\",$Q138=\"NP\",$R138=\"NP\"),\"NP\",IF(ISERROR(MEDIAN($P138:$R138)),\"DNS\",IF(COUNT($P138:$R138)<3,MAX($P138:$R138),MEDIAN($P138:$R138))))))","v":""},{"$f":"IF($L138=\"x\",\"x\",IF($N138=\"\",\"\",IF(OR(U138=\"NP\",U138=\"DNS\"),IF(U138=\"NP\",MAX(Oblast4)+COUNTIF(($J$12:$J$154),MAX(Oblast4))+COUNTIF(($U$12:$U$154),MAX(Oblast4)),MAX(Oblast4)+COUNTIF(($J$12:$J$154),MAX(Oblast4))+COUNTIF(($U$12:$U$154),MAX(Oblast4))+COUNTIF(($J$12:$J$154),\"NP\")+COUNTIF(($U$12:$U$154),\"NP\")),U138)))","v":""},{"$f":"IF($L138=\"x\",\"x\",IF($N138=\"\",\"\",IF(OR(V138=\"NP\",V138=\"DNS\"),V138,RANK(V138,Oblast3,1))))","v":""},{"$f":"IF($L138=\"x\",\"x\",IF($N138=\"\",\"\",IF(OR(AND(S138=\"NP\",S139=\"NP\"),AND(S138=\"DNS\",S139=\"DNS\")),S138,IF(AND(S138=\"NP\",S139=\"DNS\"),S138,IF(AND(S138=\"DNS\",S139=\"NP\"),S139,MIN(S138,S139))))))","v":""}]
[null,null,null,"II.pokus",null,null,null,{"$f":"IF($C138=\"\",\"\",IF(OR($E139=\"DNS\",$F139=\"DNS\",$G139=\"DNS\"),\"DNS\",IF(OR($E139=\"NP\",$F139=\"NP\",$G139=\"NP\"),\"NP\",IF(ISERROR(MEDIAN($E139:$G139)),\"DNS\",IF(COUNT($E139:$G139)<3,MAX($E139:$G139),MEDIAN($E139:$G139))))))","v":""},null,null,null,null,null,null,"II.pokus",null,null,null,{"$f":"IF($N138=\"\",\"\",IF(OR($P139=\"DNS\",$Q139=\"DNS\",$R139=\"DNS\"),\"DNS\",IF(OR($P139=\"NP\",$Q139=\"NP\",$R139=\"NP\"),\"NP\",IF(ISERROR(MEDIAN($P139:$R139)),\"DNS\",IF(COUNT($P139:$R139)<3,MAX($P139:$R139),MEDIAN($P139:$R139))))))","v":""}]
[{"$f":"IF(Start!Q13=\"\",\"\",\"x\")","v":""},83,{"$f":"IF(Start!O13=\"\",\"\",Start!O13)","v":""},"I.pokus",null,null,null,{"$f":"IF($C140=\"\",\"\",IF(OR($E140=\"DNS\",$F140=\"DNS\",$G140=\"DNS\"),\"DNS\",IF(OR($E140=\"NP\",$F140=\"NP\",$G140=\"NP\"),\"NP\",IF(ISERROR(MEDIAN($E140:$G140)),\"DNS\",IF(COUNT($E140:$G140)<3,MAX($E140:$G140),MEDIAN($E140:$G140))))))","v":""},{"$f":"IF($A140=\"x\",\"x\",IF($C140=\"\",\"\",IF(OR(J140=\"NP\",J140=\"DNS\"),IF(J140=\"NP\",MAX(Oblast4)+COUNTIF(($J$12:$J$154),MAX(Oblast4))+COUNTIF(($U$12:$U$154),MAX(Oblast4)),MAX(Oblast4)+COUNTIF(($J$12:$J$154),MAX(Oblast4))+COUNTIF(($U$12:$U$154),MAX(Oblast4))+COUNTIF(($J$12:$J$154),\"NP\")+COUNTIF(($U$12:$U$154),\"NP\")),J140)))","v":""},{"$f":"IF($A140=\"x\",\"x\",IF($C140=\"\",\"\",IF(OR(K140=\"NP\",K140=\"DNS\"),K140,RANK(K140,Oblast3,1))))","v":""},{"$f":"IF($A140=\"x\",\"x\",IF($C140=\"\",\"\",IF(OR(AND(H140=\"NP\",H141=\"NP\"),AND(H140=\"DNS\",H141=\"DNS\")),H140,IF(AND(H140=\"NP\",H141=\"DNS\"),H140,IF(AND(H140=\"DNS\",H141=\"NP\"),H141,MIN(H140,H141))))))","v":""},{"$f":"IF(Start!Q23=\"\",\"\",\"x\")","v":""},93,{"$f":"IF(Start!O23=\"\",\"\",Start!O23)","v":""},"I.pokus",null,null,null,{"$f":"IF($N140=\"\",\"\",IF(OR($P140=\"DNS\",$Q140=\"DNS\",$R140=\"DNS\"),\"DNS\",IF(OR($P140=\"NP\",$Q140=\"NP\",$R140=\"NP\"),\"NP\",IF(ISERROR(MEDIAN($P140:$R140)),\"DNS\",IF(COUNT($P140:$R140)<3,MAX($P140:$R140),MEDIAN($P140:$R140))))))","v":""},{"$f":"IF($L140=\"x\",\"x\",IF($N140=\"\",\"\",IF(OR(U140=\"NP\",U140=\"DNS\"),IF(U140=\"NP\",MAX(Oblast4)+COUNTIF(($J$12:$J$154),MAX(Oblast4))+COUNTIF(($U$12:$U$154),MAX(Oblast4)),MAX(Oblast4)+COUNTIF(($J$12:$J$154),MAX(Oblast4))+COUNTIF(($U$12:$U$154),MAX(Oblast4))+COUNTIF(($J$12:$J$154),\"NP\")+COUNTIF(($U$12:$U$154),\"NP\")),U140)))","v":""},{"$f":"IF($L140=\"x\",\"x\",IF($N140=\"\",\"\",IF(OR(V140=\"NP\",V140=\"DNS\"),V140,RANK(V140,Oblast3,1))))","v":""},{"$f":"IF($L140=\"x\",\"x\",IF($N140=\"\",\"\",IF(OR(AND(S140=\"NP\",S141=\"NP\"),AND(S140=\"DNS\",S141=\"DNS\")),S140,IF(AND(S140=\"NP\",S141=\"DNS\"),S140,IF(AND(S140=\"DNS\",S141=\"NP\"),S141,MIN(S140,S141))))))","v":""}]
[null,null,null,"II.pokus",null,null,null,{"$f":"IF($C140=\"\",\"\",IF(OR($E141=\"DNS\",$F141=\"DNS\",$G141=\"DNS\"),\"DNS\",IF(OR($E141=\"NP\",$F141=\"NP\",$G141=\"NP\"),\"NP\",IF(ISERROR(MEDIAN($E141:$G141)),\"DNS\",IF(COUNT($E141:$G141)<3,MAX($E141:$G141),MEDIAN($E141:$G141))))))","v":""},null,null,null,null,null,null,"II.pokus",null,null,null,{"$f":"IF($N140=\"\",\"\",IF(OR($P141=\"DNS\",$Q141=\"DNS\",$R141=\"DNS\"),\"DNS\",IF(OR($P141=\"NP\",$Q141=\"NP\",$R141=\"NP\"),\"NP\",IF(ISERROR(MEDIAN($P141:$R141)),\"DNS\",IF(COUNT($P141:$R141)<3,MAX($P141:$R141),MEDIAN($P141:$R141))))))","v":""}]
[{"$f":"IF(Start!Q14=\"\",\"\",\"x\")","v":""},84,{"$f":"IF(Start!O14=\"\",\"\",Start!O14)","v":""},"I.pokus",null,null,null,{"$f":"IF($C142=\"\",\"\",IF(OR($E142=\"DNS\",$F142=\"DNS\",$G142=\"DNS\"),\"DNS\",IF(OR($E142=\"NP\",$F142=\"NP\",$G142=\"NP\"),\"NP\",IF(ISERROR(MEDIAN($E142:$G142)),\"DNS\",IF(COUNT($E142:$G142)<3,MAX($E142:$G142),MEDIAN($E142:$G142))))))","v":""},{"$f":"IF($A142=\"x\",\"x\",IF($C142=\"\",\"\",IF(OR(J142=\"NP\",J142=\"DNS\"),IF(J142=\"NP\",MAX(Oblast4)+COUNTIF(($J$12:$J$154),MAX(Oblast4))+COUNTIF(($U$12:$U$154),MAX(Oblast4)),MAX(Oblast4)+COUNTIF(($J$12:$J$154),MAX(Oblast4))+COUNTIF(($U$12:$U$154),MAX(Oblast4))+COUNTIF(($J$12:$J$154),\"NP\")+COUNTIF(($U$12:$U$154),\"NP\")),J142)))","v":""},{"$f":"IF($A142=\"x\",\"x\",IF($C142=\"\",\"\",IF(OR(K142=\"NP\",K142=\"DNS\"),K142,RANK(K142,Oblast3,1))))","v":""},{"$f":"IF($A142=\"x\",\"x\",IF($C142=\"\",\"\",IF(OR(AND(H142=\"NP\",H143=\"NP\"),AND(H142=\"DNS\",H143=\"DNS\")),H142,IF(AND(H142=\"NP\",H143=\"DNS\"),H142,IF(AND(H142=\"DNS\",H143=\"NP\"),H143,MIN(H142,H143))))))","v":""},{"$f":"IF(Start!Q24=\"\",\"\",\"x\")","v":""},94,{"$f":"IF(Start!O24=\"\",\"\",Start!O24)","v":""},"I.pokus",null,null,null,{"$f":"IF($N142=\"\",\"\",IF(OR($P142=\"DNS\",$Q142=\"DNS\",$R142=\"DNS\"),\"DNS\",IF(OR($P142=\"NP\",$Q142=\"NP\",$R142=\"NP\"),\"NP\",IF(ISERROR(MEDIAN($P142:$R142)),\"DNS\",IF(COUNT($P142:$R142)<3,MAX($P142:$R142),MEDIAN($P142:$R142))))))","v":""},{"$f":"IF($L142=\"x\",\"x\",IF($N142=\"\",\"\",IF(OR(U142=\"NP\",U142=\"DNS\"),IF(U142=\"NP\",MAX(Oblast4)+COUNTIF(($J$12:$J$154),MAX(Oblast4))+COUNTIF(($U$12:$U$154),MAX(Oblast4)),MAX(Oblast4)+COUNTIF(($J$12:$J$154),MAX(Oblast4))+COUNTIF(($U$12:$U$154),MAX(Oblast4))+COUNTIF(($J$12:$J$154),\"NP\")+COUNTIF(($U$12:$U$154),\"NP\")),U142)))","v":""},{"$f":"IF($L142=\"x\",\"x\",IF($N142=\"\",\"\",IF(OR(V142=\"NP\",V142=\"DNS\"),V142,RANK(V142,Oblast3,1))))","v":""},{"$f":"IF($L142=\"x\",\"x\",IF($N142=\"\",\"\",IF(OR(AND(S142=\"NP\",S143=\"NP\"),AND(S142=\"DNS\",S143=\"DNS\")),S142,IF(AND(S142=\"NP\",S143=\"DNS\"),S142,IF(AND(S142=\"DNS\",S143=\"NP\"),S143,MIN(S142,S143))))))","v":""}]
[null,null,null,"II.pokus",null,null,null,{"$f":"IF($C142=\"\",\"\",IF(OR($E143=\"DNS\",$F143=\"DNS\",$G143=\"DNS\"),\"DNS\",IF(OR($E143=\"NP\",$F143=\"NP\",$G143=\"NP\"),\"NP\",IF(ISERROR(MEDIAN($E143:$G143)),\"DNS\",IF(COUNT($E143:$G143)<3,MAX($E143:$G143),MEDIAN($E143:$G143))))))","v":""},null,null,null,null,null,null,"II.pokus",null,null,null,{"$f":"IF($N142=\"\",\"\",IF(OR($P143=\"DNS\",$Q143=\"DNS\",$R143=\"DNS\"),\"DNS\",IF(OR($P143=\"NP\",$Q143=\"NP\",$R143=\"NP\"),\"NP\",IF(ISERROR(MEDIAN($P143:$R143)),\"DNS\",IF(COUNT($P143:$R143)<3,MAX($P143:$R143),MEDIAN($P143:$R143))))))","v":""}]
[{"$f":"IF(Start!Q15=\"\",\"\",\"x\")","v":""},85,{"$f":"IF(Start!O15=\"\",\"\",Start!O15)","v":""},"I.pokus",null,null,null,{"$f":"IF($C144=\"\",\"\",IF(OR($E144=\"DNS\",$F144=\"DNS\",$G144=\"DNS\"),\"DNS\",IF(OR($E144=\"NP\",$F144=\"NP\",$G144=\"NP\"),\"NP\",IF(ISERROR(MEDIAN($E144:$G144)),\"DNS\",IF(COUNT($E144:$G144)<3,MAX($E144:$G144),MEDIAN($E144:$G144))))))","v":""},{"$f":"IF($A144=\"x\",\"x\",IF($C144=\"\",\"\",IF(OR(J144=\"NP\",J144=\"DNS\"),IF(J144=\"NP\",MAX(Oblast4)+COUNTIF(($J$12:$J$154),MAX(Oblast4))+COUNTIF(($U$12:$U$154),MAX(Oblast4)),MAX(Oblast4)+COUNTIF(($J$12:$J$154),MAX(Oblast4))+COUNTIF(($U$12:$U$154),MAX(Oblast4))+COUNTIF(($J$12:$J$154),\"NP\")+COUNTIF(($U$12:$U$154),\"NP\")),J144)))","v":""},{"$f":"IF($A144=\"x\",\"x\",IF($C144=\"\",\"\",IF(OR(K144=\"NP\",K144=\"DNS\"),K144,RANK(K144,Oblast3,1))))","v":""},{"$f":"IF($A144=\"x\",\"x\",IF($C144=\"\",\"\",IF(OR(AND(H144=\"NP\",H145=\"NP\"),AND(H144=\"DNS\",H145=\"DNS\")),H144,IF(AND(H144=\"NP\",H145=\"DNS\"),H144,IF(AND(H144=\"DNS\",H145=\"NP\"),H145,MIN(H144,H145))))))","v":""},{"$f":"IF(Start!Q25=\"\",\"\",\"x\")","v":""},95,{"$f":"IF(Start!O25=\"\",\"\",Start!O25)","v":""},"I.pokus",null,null,null,{"$f":"IF($N144=\"\",\"\",IF(OR($P144=\"DNS\",$Q144=\"DNS\",$R144=\"DNS\"),\"DNS\",IF(OR($P144=\"NP\",$Q144=\"NP\",$R144=\"NP\"),\"NP\",IF(ISERROR(MEDIAN($P144:$R144)),\"DNS\",IF(COUNT($P144:$R144)<3,MAX($P144:$R144),MEDIAN($P144:$R144))))))","v":""},{"$f":"IF($L144=\"x\",\"x\",IF($N144=\"\",\"\",IF(OR(U144=\"NP\",U144=\"DNS\"),IF(U144=\"NP\",MAX(Oblast4)+COUNTIF(($J$12:$J$154),MAX(Oblast4))+COUNTIF(($U$12:$U$154),MAX(Oblast4)),MAX(Oblast4)+COUNTIF(($J$12:$J$154),MAX(Oblast4))+COUNTIF(($U$12:$U$154),MAX(Oblast4))+COUNTIF(($J$12:$J$154),\"NP\")+COUNTIF(($U$12:$U$154),\"NP\")),U144)))","v":""},{"$f":"IF($L144=\"x\",\"x\",IF($N144=\"\",\"\",IF(OR(V144=\"NP\",V144=\"DNS\"),V144,RANK(V144,Oblast3,1))))","v":""},{"$f":"IF($L144=\"x\",\"x\",IF($N144=\"\",\"\",IF(OR(AND(S144=\"NP\",S145=\"NP\"),AND(S144=\"DNS\",S145=\"DNS\")),S144,IF(AND(S144=\"NP\",S145=\"DNS\"),S144,IF(AND(S144=\"DNS\",S145=\"NP\"),S145,MIN(S144,S145))))))","v":""}]
[null,null,null,"II.pokus",null,null,null,{"$f":"IF($C144=\"\",\"\",IF(OR($E145=\"DNS\",$F145=\"DNS\",$G145=\"DNS\"),\"DNS\",IF(OR($E145=\"NP\",$F145=\"NP\",$G145=\"NP\"),\"NP\",IF(ISERROR(MEDIAN($E145:$G145)),\"DNS\",IF(COUNT($E145:$G145)<3,MAX($E145:$G145),MEDIAN($E145:$G145))))))","v":""},null,null,null,null,null,null,"II.pokus",null,null,null,{"$f":"IF($N144=\"\",\"\",IF(OR($P145=\"DNS\",$Q145=\"DNS\",$R145=\"DNS\"),\"DNS\",IF(OR($P145=\"NP\",$Q145=\"NP\",$R145=\"NP\"),\"NP\",IF(ISERROR(MEDIAN($P145:$R145)),\"DNS\",IF(COUNT($P145:$R145)<3,MAX($P145:$R145),MEDIAN($P145:$R145))))))","v":""}]
[{"$f":"IF(Start!Q16=\"\",\"\",\"x\")","v":""},86,{"$f":"IF(Start!O16=\"\",\"\",Start!O16)","v":""},"I.pokus",null,null,null,{"$f":"IF($C146=\"\",\"\",IF(OR($E146=\"DNS\",$F146=\"DNS\",$G146=\"DNS\"),\"DNS\",IF(OR($E146=\"NP\",$F146=\"NP\",$G146=\"NP\"),\"NP\",IF(ISERROR(MEDIAN($E146:$G146)),\"DNS\",IF(COUNT($E146:$G146)<3,MAX($E146:$G146),MEDIAN($E146:$G146))))))","v":""},{"$f":"IF($A146=\"x\",\"x\",IF($C146=\"\",\"\",IF(OR(J146=\"NP\",J146=\"DNS\"),IF(J146=\"NP\",MAX(Oblast4)+COUNTIF(($J$12:$J$154),MAX(Oblast4))+COUNTIF(($U$12:$U$154),MAX(Oblast4)),MAX(Oblast4)+COUNTIF(($J$12:$J$154),MAX(Oblast4))+COUNTIF(($U$12:$U$154),MAX(Oblast4))+COUNTIF(($J$12:$J$154),\"NP\")+COUNTIF(($U$12:$U$154),\"NP\")),J146)))","v":""},{"$f":"IF($A146=\"x\",\"x\",IF($C146=\"\",\"\",IF(OR(K146=\"NP\",K146=\"DNS\"),K146,RANK(K146,Oblast3,1))))","v":""},{"$f":"IF($A146=\"x\",\"x\",IF($C146=\"\",\"\",IF(OR(AND(H146=\"NP\",H147=\"NP\"),AND(H146=\"DNS\",H147=\"DNS\")),H146,IF(AND(H146=\"NP\",H147=\"DNS\"),H146,IF(AND(H146=\"DNS\",H147=\"NP\"),H147,MIN(H146,H147))))))","v":""},{"$f":"IF(Start!Q26=\"\",\"\",\"x\")","v":""},96,{"$f":"IF(Start!O26=\"\",\"\",Start!O26)","v":""},"I.pokus",null,null,null,{"$f":"IF($N146=\"\",\"\",IF(OR($P146=\"DNS\",$Q146=\"DNS\",$R146=\"DNS\"),\"DNS\",IF(OR($P146=\"NP\",$Q146=\"NP\",$R146=\"NP\"),\"NP\",IF(ISERROR(MEDIAN($P146:$R146)),\"DNS\",IF(COUNT($P146:$R146)<3,MAX($P146:$R146),MEDIAN($P146:$R146))))))","v":""},{"$f":"IF($L146=\"x\",\"x\",IF($N146=\"\",\"\",IF(OR(U146=\"NP\",U146=\"DNS\"),IF(U146=\"NP\",MAX(Oblast4)+COUNTIF(($J$12:$J$154),MAX(Oblast4))+COUNTIF(($U$12:$U$154),MAX(Oblast4)),MAX(Oblast4)+COUNTIF(($J$12:$J$154),MAX(Oblast4))+COUNTIF(($U$12:$U$154),MAX(Oblast4))+COUNTIF(($J$12:$J$154),\"NP\")+COUNTIF(($U$12:$U$154),\"NP\")),U146)))","v":""},{"$f":"IF($L146=\"x\",\"x\",IF($N146=\"\",\"\",IF(OR(V146=\"NP\",V146=\"DNS\"),V146,RANK(V146,Oblast3,1))))","v":""},{"$f":"IF($L146=\"x\",\"x\",IF($N146=\"\",\"\",IF(OR(AND(S146=\"NP\",S147=\"NP\"),AND(S146=\"DNS\",S147=\"DNS\")),S146,IF(AND(S146=\"NP\",S147=\"DNS\"),S146,IF(AND(S146=\"DNS\",S147=\"NP\"),S147,MIN(S146,S147))))))","v":""}]
[null,null,null,"II.pokus",null,null,null,{"$f":"IF($C146=\"\",\"\",IF(OR($E147=\"DNS\",$F147=\"DNS\",$G147=\"DNS\"),\"DNS\",IF(OR($E147=\"NP\",$F147=\"NP\",$G147=\"NP\"),\"NP\",IF(ISERROR(MEDIAN($E147:$G147)),\"DNS\",IF(COUNT($E147:$G147)<3,MAX($E147:$G147),MEDIAN($E147:$G147))))))","v":""},null,null,null,null,null,null,"II.pokus",null,null,null,{"$f":"IF($N146=\"\",\"\",IF(OR($P147=\"DNS\",$Q147=\"DNS\",$R147=\"DNS\"),\"DNS\",IF(OR($P147=\"NP\",$Q147=\"NP\",$R147=\"NP\"),\"NP\",IF(ISERROR(MEDIAN($P147:$R147)),\"DNS\",IF(COUNT($P147:$R147)<3,MAX($P147:$R147),MEDIAN($P147:$R147))))))","v":""}]
[{"$f":"IF(Start!Q17=\"\",\"\",\"x\")","v":""},87,{"$f":"IF(Start!O17=\"\",\"\",Start!O17)","v":""},"I.pokus",null,null,null,{"$f":"IF($C148=\"\",\"\",IF(OR($E148=\"DNS\",$F148=\"DNS\",$G148=\"DNS\"),\"DNS\",IF(OR($E148=\"NP\",$F148=\"NP\",$G148=\"NP\"),\"NP\",IF(ISERROR(MEDIAN($E148:$G148)),\"DNS\",IF(COUNT($E148:$G148)<3,MAX($E148:$G148),MEDIAN($E148:$G148))))))","v":""},{"$f":"IF($A148=\"x\",\"x\",IF($C148=\"\",\"\",IF(OR(J148=\"NP\",J148=\"DNS\"),IF(J148=\"NP\",MAX(Oblast4)+COUNTIF(($J$12:$J$154),MAX(Oblast4))+COUNTIF(($U$12:$U$154),MAX(Oblast4)),MAX(Oblast4)+COUNTIF(($J$12:$J$154),MAX(Oblast4))+COUNTIF(($U$12:$U$154),MAX(Oblast4))+COUNTIF(($J$12:$J$154),\"NP\")+COUNTIF(($U$12:$U$154),\"NP\")),J148)))","v":""},{"$f":"IF($A148=\"x\",\"x\",IF($C148=\"\",\"\",IF(OR(K148=\"NP\",K148=\"DNS\"),K148,RANK(K148,Oblast3,1))))","v":""},{"$f":"IF($A148=\"x\",\"x\",IF($C148=\"\",\"\",IF(OR(AND(H148=\"NP\",H149=\"NP\"),AND(H148=\"DNS\",H149=\"DNS\")),H148,IF(AND(H148=\"NP\",H149=\"DNS\"),H148,IF(AND(H148=\"DNS\",H149=\"NP\"),H149,MIN(H148,H149))))))","v":""},{"$f":"IF(Start!Q27=\"\",\"\",\"x\")","v":""},97,{"$f":"IF(Start!O27=\"\",\"\",Start!O27)","v":""},"I.pokus",null,null,null,{"$f":"IF($N148=\"\",\"\",IF(OR($P148=\"DNS\",$Q148=\"DNS\",$R148=\"DNS\"),\"DNS\",IF(OR($P148=\"NP\",$Q148=\"NP\",$R148=\"NP\"),\"NP\",IF(ISERROR(MEDIAN($P148:$R148)),\"DNS\",IF(COUNT($P148:$R148)<3,MAX($P148:$R148),MEDIAN($P148:$R148))))))","v":""},{"$f":"IF($L148=\"x\",\"x\",IF($N148=\"\",\"\",IF(OR(U148=\"NP\",U148=\"DNS\"),IF(U148=\"NP\",MAX(Oblast4)+COUNTIF(($J$12:$J$154),MAX(Oblast4))+COUNTIF(($U$12:$U$154),MAX(Oblast4)),MAX(Oblast4)+COUNTIF(($J$12:$J$154),MAX(Oblast4))+COUNTIF(($U$12:$U$154),MAX(Oblast4))+COUNTIF(($J$12:$J$154),\"NP\")+COUNTIF(($U$12:$U$154),\"NP\")),U148)))","v":""},{"$f":"IF($L148=\"x\",\"x\",IF($N148=\"\",\"\",IF(OR(V148=\"NP\",V148=\"DNS\"),V148,RANK(V148,Oblast3,1))))","v":""},{"$f":"IF($L148=\"x\",\"x\",IF($N148=\"\",\"\",IF(OR(AND(S148=\"NP\",S149=\"NP\"),AND(S148=\"DNS\",S149=\"DNS\")),S148,IF(AND(S148=\"NP\",S149=\"DNS\"),S148,IF(AND(S148=\"DNS\",S149=\"NP\"),S149,MIN(S148,S149))))))","v":""}]
[null,null,null,"II.pokus",null,null,null,{"$f":"IF($C148=\"\",\"\",IF(OR($E149=\"DNS\",$F149=\"DNS\",$G149=\"DNS\"),\"DNS\",IF(OR($E149=\"NP\",$F149=\"NP\",$G149=\"NP\"),\"NP\",IF(ISERROR(MEDIAN($E149:$G149)),\"DNS\",IF(COUNT($E149:$G149)<3,MAX($E149:$G149),MEDIAN($E149:$G149))))))","v":""},null,null,null,null,null,null,"II.pokus",null,null,null,{"$f":"IF($N148=\"\",\"\",IF(OR($P149=\"DNS\",$Q149=\"DNS\",$R149=\"DNS\"),\"DNS\",IF(OR($P149=\"NP\",$Q149=\"NP\",$R149=\"NP\"),\"NP\",IF(ISERROR(MEDIAN($P149:$R149)),\"DNS\",IF(COUNT($P149:$R149)<3,MAX($P149:$R149),MEDIAN($P149:$R149))))))","v":""}]
[{"$f":"IF(Start!Q18=\"\",\"\",\"x\")","v":""},88,{"$f":"IF(Start!O18=\"\",\"\",Start!O18)","v":""},"I.pokus",null,null,null,{"$f":"IF($C150=\"\",\"\",IF(OR($E150=\"DNS\",$F150=\"DNS\",$G150=\"DNS\"),\"DNS\",IF(OR($E150=\"NP\",$F150=\"NP\",$G150=\"NP\"),\"NP\",IF(ISERROR(MEDIAN($E150:$G150)),\"DNS\",IF(COUNT($E150:$G150)<3,MAX($E150:$G150),MEDIAN($E150:$G150))))))","v":""},{"$f":"IF($A150=\"x\",\"x\",IF($C150=\"\",\"\",IF(OR(J150=\"NP\",J150=\"DNS\"),IF(J150=\"NP\",MAX(Oblast4)+COUNTIF(($J$12:$J$154),MAX(Oblast4))+COUNTIF(($U$12:$U$154),MAX(Oblast4)),MAX(Oblast4)+COUNTIF(($J$12:$J$154),MAX(Oblast4))+COUNTIF(($U$12:$U$154),MAX(Oblast4))+COUNTIF(($J$12:$J$154),\"NP\")+COUNTIF(($U$12:$U$154),\"NP\")),J150)))","v":""},{"$f":"IF($A150=\"x\",\"x\",IF($C150=\"\",\"\",IF(OR(K150=\"NP\",K150=\"DNS\"),K150,RANK(K150,Oblast3,1))))","v":""},{"$f":"IF($A150=\"x\",\"x\",IF($C150=\"\",\"\",IF(OR(AND(H150=\"NP\",H151=\"NP\"),AND(H150=\"DNS\",H151=\"DNS\")),H150,IF(AND(H150=\"NP\",H151=\"DNS\"),H150,IF(AND(H150=\"DNS\",H151=\"NP\"),H151,MIN(H150,H151))))))","v":""},{"$f":"IF(Start!Q28=\"\",\"\",\"x\")","v":""},98,{"$f":"IF(Start!O28=\"\",\"\",Start!O28)","v":""},"I.pokus",null,null,null,{"$f":"IF($N150=\"\",\"\",IF(OR($P150=\"DNS\",$Q150=\"DNS\",$R150=\"DNS\"),\"DNS\",IF(OR($P150=\"NP\",$Q150=\"NP\",$R150=\"NP\"),\"NP\",IF(ISERROR(MEDIAN($P150:$R150)),\"DNS\",IF(COUNT($P150:$R150)<3,MAX($P150:$R150),MEDIAN($P150:$R150))))))","v":""},{"$f":"IF($L150=\"x\",\"x\",IF($N150=\"\",\"\",IF(OR(U150=\"NP\",U150=\"DNS\"),IF(U150=\"NP\",MAX(Oblast4)+COUNTIF(($J$12:$J$154),MAX(Oblast4))+COUNTIF(($U$12:$U$154),MAX(Oblast4)),MAX(Oblast4)+COUNTIF(($J$12:$J$154),MAX(Oblast4))+COUNTIF(($U$12:$U$154),MAX(Oblast4))+COUNTIF(($J$12:$J$154),\"NP\")+COUNTIF(($U$12:$U$154),\"NP\")),U150)))","v":""},{"$f":"IF($L150=\"x\",\"x\",IF($N150=\"\",\"\",IF(OR(V150=\"NP\",V150=\"DNS\"),V150,RANK(V150,Oblast3,1))))","v":""},{"$f":"IF($L150=\"x\",\"x\",IF($N150=\"\",\"\",IF(OR(AND(S150=\"NP\",S151=\"NP\"),AND(S150=\"DNS\",S151=\"DNS\")),S150,IF(AND(S150=\"NP\",S151=\"DNS\"),S150,IF(AND(S150=\"DNS\",S151=\"NP\"),S151,MIN(S150,S151))))))","v":""}]
[null,null,null,"II.pokus",null,null,null,{"$f":"IF($C150=\"\",\"\",IF(OR($E151=\"DNS\",$F151=\"DNS\",$G151=\"DNS\"),\"DNS\",IF(OR($E151=\"NP\",$F151=\"NP\",$G151=\"NP\"),\"NP\",IF(ISERROR(MEDIAN($E151:$G151)),\"DNS\",IF(COUNT($E151:$G151)<3,MAX($E151:$G151),MEDIAN($E151:$G151))))))","v":""},null,null,null,null,null,null,"II.pokus",null,null,null,{"$f":"IF($N150=\"\",\"\",IF(OR($P151=\"DNS\",$Q151=\"DNS\",$R151=\"DNS\"),\"DNS\",IF(OR($P151=\"NP\",$Q151=\"NP\",$R151=\"NP\"),\"NP\",IF(ISERROR(MEDIAN($P151:$R151)),\"DNS\",IF(COUNT($P151:$R151)<3,MAX($P151:$R151),MEDIAN($P151:$R151))))))","v":""}]
[{"$f":"IF(Start!Q19=\"\",\"\",\"x\")","v":""},89,{"$f":"IF(Start!O19=\"\",\"\",Start!O19)","v":""},"I.pokus",null,null,null,{"$f":"IF($C152=\"\",\"\",IF(OR($E152=\"DNS\",$F152=\"DNS\",$G152=\"DNS\"),\"DNS\",IF(OR($E152=\"NP\",$F152=\"NP\",$G152=\"NP\"),\"NP\",IF(ISERROR(MEDIAN($E152:$G152)),\"DNS\",IF(COUNT($E152:$G152)<3,MAX($E152:$G152),MEDIAN($E152:$G152))))))","v":""},{"$f":"IF($A152=\"x\",\"x\",IF($C152=\"\",\"\",IF(OR(J152=\"NP\",J152=\"DNS\"),IF(J152=\"NP\",MAX(Oblast4)+COUNTIF(($J$12:$J$154),MAX(Oblast4))+COUNTIF(($U$12:$U$154),MAX(Oblast4)),MAX(Oblast4)+COUNTIF(($J$12:$J$154),MAX(Oblast4))+COUNTIF(($U$12:$U$154),MAX(Oblast4))+COUNTIF(($J$12:$J$154),\"NP\")+COUNTIF(($U$12:$U$154),\"NP\")),J152)))","v":""},{"$f":"IF($A152=\"x\",\"x\",IF($C152=\"\",\"\",IF(OR(K152=\"NP\",K152=\"DNS\"),K152,RANK(K152,Oblast3,1))))","v":""},{"$f":"IF($A152=\"x\",\"x\",IF($C152=\"\",\"\",IF(OR(AND(H152=\"NP\",H153=\"NP\"),AND(H152=\"DNS\",H153=\"DNS\")),H152,IF(AND(H152=\"NP\",H153=\"DNS\"),H152,IF(AND(H152=\"DNS\",H153=\"NP\"),H153,MIN(H152,H153))))))","v":""},{"$f":"IF(Start!Q29=\"\",\"\",\"x\")","v":""},99,{"$f":"IF(Start!O29=\"\",\"\",Start!O29)","v":""},"I.pokus",null,null,null,{"$f":"IF($N152=\"\",\"\",IF(OR($P152=\"DNS\",$Q152=\"DNS\",$R152=\"DNS\"),\"DNS\",IF(OR($P152=\"NP\",$Q152=\"NP\",$R152=\"NP\"),\"NP\",IF(ISERROR(MEDIAN($P152:$R152)),\"DNS\",IF(COUNT($P152:$R152)<3,MAX($P152:$R152),MEDIAN($P152:$R152))))))","v":""},{"$f":"IF($L152=\"x\",\"x\",IF($N152=\"\",\"\",IF(OR(U152=\"NP\",U152=\"DNS\"),IF(U152=\"NP\",MAX(Oblast4)+COUNTIF(($J$12:$J$154),MAX(Oblast4))+COUNTIF(($U$12:$U$154),MAX(Oblast4)),MAX(Oblast4)+COUNTIF(($J$12:$J$154),MAX(Oblast4))+COUNTIF(($U$12:$U$154),MAX(Oblast4))+COUNTIF(($J$12:$J$154),\"NP\")+COUNTIF(($U$12:$U$154),\"NP\")),U152)))","v":""},{"$f":"IF($L152=\"x\",\"x\",IF($N152=\"\",\"\",IF(OR(V152=\"NP\",V152=\"DNS\"),V152,RANK(V152,Oblast3,1))))","v":""},{"$f":"IF($L152=\"x\",\"x\",IF($N152=\"\",\"\",IF(OR(AND(S152=\"NP\",S153=\"NP\"),AND(S152=\"DNS\",S153=\"DNS\")),S152,IF(AND(S152=\"NP\",S153=\"DNS\"),S152,IF(AND(S152=\"DNS\",S153=\"NP\"),S153,MIN(S152,S153))))))","v":""}]
[null,null,null,"II.pokus",null,null,null,{"$f":"IF($C152=\"\",\"\",IF(OR($E153=\"DNS\",$F153=\"DNS\",$G153=\"DNS\"),\"DNS\",IF(OR($E153=\"NP\",$F153=\"NP\",$G153=\"NP\"),\"NP\",IF(ISERROR(MEDIAN($E153:$G153)),\"DNS\",IF(COUNT($E153:$G153)<3,MAX($E153:$G153),MEDIAN($E153:$G153))))))","v":""},null,null,null,null,null,null,"II.pokus",null,null,null,{"$f":"IF($N152=\"\",\"\",IF(OR($P153=\"DNS\",$Q153=\"DNS\",$R153=\"DNS\"),\"DNS\",IF(OR($P153=\"NP\",$Q153=\"NP\",$R153=\"NP\"),\"NP\",IF(ISERROR(MEDIAN($P153:$R153)),\"DNS\",IF(COUNT($P153:$R153)<3,MAX($P153:$R153),MEDIAN($P153:$R153))))))","v":""}]
[{"$f":"IF(Start!Q20=\"\",\"\",\"x\")","v":""},90,{"$f":"IF(Start!O20=\"\",\"\",Start!O20)","v":""},"I.pokus",null,null,null,{"$f":"IF($C154=\"\",\"\",IF(OR($E154=\"DNS\",$F154=\"DNS\",$G154=\"DNS\"),\"DNS\",IF(OR($E154=\"NP\",$F154=\"NP\",$G154=\"NP\"),\"NP\",IF(ISERROR(MEDIAN($E154:$G154)),\"DNS\",IF(COUNT($E154:$G154)<3,MAX($E154:$G154),MEDIAN($E154:$G154))))))","v":""},{"$f":"IF($A154=\"x\",\"x\",IF($C154=\"\",\"\",IF(OR(J154=\"NP\",J154=\"DNS\"),IF(J154=\"NP\",MAX(Oblast4)+COUNTIF(($J$12:$J$154),MAX(Oblast4))+COUNTIF(($U$12:$U$154),MAX(Oblast4)),MAX(Oblast4)+COUNTIF(($J$12:$J$154),MAX(Oblast4))+COUNTIF(($U$12:$U$154),MAX(Oblast4))+COUNTIF(($J$12:$J$154),\"NP\")+COUNTIF(($U$12:$U$154),\"NP\")),J154)))","v":""},{"$f":"IF($A154=\"x\",\"x\",IF($C154=\"\",\"\",IF(OR(K154=\"NP\",K154=\"DNS\"),K154,RANK(K154,Oblast3,1))))","v":""},{"$f":"IF($A154=\"x\",\"x\",IF($C154=\"\",\"\",IF(OR(AND(H154=\"NP\",H155=\"NP\"),AND(H154=\"DNS\",H155=\"DNS\")),H154,IF(AND(H154=\"NP\",H155=\"DNS\"),H154,IF(AND(H154=\"DNS\",H155=\"NP\"),H155,MIN(H154,H155))))))","v":""},{"$f":"IF(Start!Q30=\"\",\"\",\"x\")","v":""},100,{"$f":"IF(Start!O30=\"\",\"\",Start!O30)","v":""},"I.pokus",null,null,null,{"$f":"IF($N154=\"\",\"\",IF(OR($P154=\"DNS\",$Q154=\"DNS\",$R154=\"DNS\"),\"DNS\",IF(OR($P154=\"NP\",$Q154=\"NP\",$R154=\"NP\"),\"NP\",IF(ISERROR(MEDIAN($P154:$R154)),\"DNS\",IF(COUNT($P154:$R154)<3,MAX($P154:$R154),MEDIAN($P154:$R154))))))","v":""},{"$f":"IF($L154=\"x\",\"x\",IF($N154=\"\",\"\",IF(OR(U154=\"NP\",U154=\"DNS\"),IF(U154=\"NP\",MAX(Oblast4)+COUNTIF(($J$12:$J$154),MAX(Oblast4))+COUNTIF(($U$12:$U$154),MAX(Oblast4)),MAX(Oblast4)+COUNTIF(($J$12:$J$154),MAX(Oblast4))+COUNTIF(($U$12:$U$154),MAX(Oblast4))+COUNTIF(($J$12:$J$154),\"NP\")+COUNTIF(($U$12:$U$154),\"NP\")),U154)))","v":""},{"$f":"IF($L154=\"x\",\"x\",IF($N154=\"\",\"\",IF(OR(V154=\"NP\",V154=\"DNS\"),V154,RANK(V154,Oblast3,1))))","v":""},{"$f":"IF($L154=\"x\",\"x\",IF($N154=\"\",\"\",IF(OR(AND(S154=\"NP\",S155=\"NP\"),AND(S154=\"DNS\",S155=\"DNS\")),S154,IF(AND(S154=\"NP\",S155=\"DNS\"),S154,IF(AND(S154=\"DNS\",S155=\"NP\"),S155,MIN(S154,S155))))))","v":""}]
[null,null,null,"II.pokus",null,null,null,{"$f":"IF($C154=\"\",\"\",IF(OR($E155=\"DNS\",$F155=\"DNS\",$G155=\"DNS\"),\"DNS\",IF(OR($E155=\"NP\",$F155=\"NP\",$G155=\"NP\"),\"NP\",IF(ISERROR(MEDIAN($E155:$G155)),\"DNS\",IF(COUNT($E155:$G155)<3,MAX($E155:$G155),MEDIAN($E155:$G155))))))","v":""},null,null,null,null,null,null,"II.pokus",null,null,null,{"$f":"IF($N154=\"\",\"\",IF(OR($P155=\"DNS\",$Q155=\"DNS\",$R155=\"DNS\"),\"DNS\",IF(OR($P155=\"NP\",$Q155=\"NP\",$R155=\"NP\"),\"NP\",IF(ISERROR(MEDIAN($P155:$R155)),\"DNS\",IF(COUNT($P155:$R155)<3,MAX($P155:$R155),MEDIAN($P155:$R155))))))","v":""}]

{"sheet":"Št.400mCTIF","index":7,"n_rows":310,"n_cols":24,"rows_kept":310,"cut":false,"hidden":false,"merged":[[308,11,308,13],[308,14,308,16],[308,17,308,19],[308,21,309,21],[308,0,309,0],[308,1,309,1],[308,2,309,2],[308,8,308,10],[308,22,309,22],[308,23,309,23],[309,8,309,10],[309,11,309,13],[309,14,309,16],[309,17,309,19],[306,22,307,22],[306,23,307,23],[307,8,307,10],[307,11,307,13],[307,14,307,16],[307,17,307,19],[306,11,306,13],[306,14,306,16],[306,17,306,19],[306,21,307,21],[304,11,304,13],[304,14,304,16],[304,17,304,19],[304,21,305,21],[306,0,307,0],[306,1,307,1],[306,2,307,2],[306,8,306,10],[304,0,305,0],[304,1,305,1],[304,2,305,2],[304,8,304,10],[304,22,305,22],[304,23,305,23],[305,8,305,10],[305,11,305,13],[305,14,305,16],[305,17,305,19],[302,22,303,22],[302,23,303,23],[303,8,303,10],[303,11,303,13],[303,14,303,16],[303,17,303,19],[302,11,302,13],[302,14,302,16],[302,17,302,19],[302,21,303,21],[300,11,300,13],[300,14,300,16],[300,17,300,19],[300,21,301,21],[302,0,303,0],[302,1,303,1],[302,2,303,2],[302,8,302,10],[300,0,301,0],[300,1,301,1],[300,2,301,2],[300,8,300,10],[300,22,301,22],[300,23,301,23],[301,8,301,10],[301,11,301,13],[301,14,301,16],[301,17,301,19],[298,22,299,22],[298,23,299,23],[299,8,299,10],[299,11,299,13],[299,14,299,16],[299,17,299,19],[298,11,298,13],[298,14,298,16],[298,17,298,19],[298,21,299,21],[296,11,296,13],[296,14,296,16],[296,17,296,19],[296,21,297,21],[298,0,299,0],[298,1,299,1],[298,2,299,2],[298,8,298,10],[296,0,297,0],[296,1,297,1],[296,2,297,2],[296,8,296,10],[296,22,297,22],[296,23,297,23],[297,8,297,10],[297,11,297,13],[297,14,297,16],[297,17,297,19],[294,22,295,22],[294,23,295,23],[295,8,295,10],[295,11,295,13],[295,14,295,16],[295,17,295,19],[294,11,294,13],[294,14,294,16],[294,17,294,19],[294,21,295,21],[292,11,292,13],[292,14,292,16],[292,17,292,19],[292,21,293,21],[294,0,295,0],[294,1,295,1],[294,2,295,2],[294,8,294,10],[292,0,293,0],[292,1,293,1],[292,2,293,2],[292,8,292,10],[292,22,293,22],[292,23,293,23],[293,8,293,10],[293,11,293,13],[293,14,293,16],[293,17,293,19],[290,21,291,21],[290,22,291,22],[290,23,291,23],[291,8,291,10],[291,11,291,13],[291,14,291,16],[291,17,291,19],[290,8,290,10],[290,11,290,13],[290,14,290,16],[290,17,290,19],[288,3,289,3],[290,0,291,0],[290,1,291,1],[290,2,291,2],[284,17,289,19],[286,4,289,4],[286,5,289,5],[286,6,289,6],[286,7,289,7],[288,1,289,1],[288,2,289,2],[283,1,285,3],[283,4,285,7],[283,8,283,19],[283,20,284,21],[284,8,289,10],[284,11,289,13],[284,14,289,16],[285,20,289,20],[285,21,289,21],[286,1,287,3],[277,11,277,13],[277,14,277,16],[277,17,277,19],[277,21,278,21],[279,1,281,14],[279,15,282,21],[282,1,282,14],[277,0,278,0],[277,1,278,1],[277,2,278,2],[277,8,277,10],[277,22,278,22],[277,23,278,23],[278,8,278,10],[278,11,278,13],[278,14,278,16],[278,17,278,19],[275,22,276,22],[275,23,276,23],[276,8,276,10],[276,11,276,13],[276,14,276,16],[276,17,276,19],[275,11,275,13],[275,14,275,16],[275,17,275,19],[275,21,276,21],[273,11,273,13],[273,14,273,16],[273,17,273,19],[273,21,274,21],[275,0,276,0],[275,1,276,1],[275,2,276,2],[275,8,275,10],[273,0,274,0],[273,1,274,1],[273,2,274,2],[273,8,273,10],[273,22,274,22],[273,23,274,23],[274,8,274,10],[274,11,274,13],[274,14,274,16],[274,17,274,19],[271,22,272,22],[271,23,272,23],[272,8,272,10],[272,11,272,13],[272,14,272,16],[272,17,272,19],[271,11,271,13],[271,14,271,16],[271,17,271,19],[271,21,272,21],[269,11,269,13],[269,14,269,16],[269,17,269,19],[269,21,270,21],[271,0,272,0],[271,1,272,1],[271,2,272,2],[271,8,271,10],[269,0,270,0],[269,1,270,1],[269,2,270,2],[269,8,269,10],[269,22,270,22],[269,23,270,23],[270,8,270,10],[270,11,270,13],[270,14,270,16],[270,17,270,19],[267,22,268,22],[267,23,268,23],[268,8,268,10],[268,11,268,13],[268,14,268,16],[268,17,268,19],[267,11,267,13],[267,14,267,16],[267,17,267,19],[267,21,268,21],[265,11,265,13],[265,14,265,16],[265,17,265,19],[265,21,266,21],[267,0,268,0],[267,1,268,1],[267,2,268,2],[267,8,267,10],[265,0,266,0],[265,1,266,1],[265,2,266,2],[265,8,265,10],[265,22,266,22],[265,23,266,23],[266,8,266,10],[266,11,266,13],[266,14,266,16],[266,17,266,19],[263,22,264,22],[263,23,264,23],[264,8,264,10],[264,11,264,13],[264,14,264,16],[264,17,264,19],[263,11,263,13],[263,14,263,16],[263,17,263,19],[263,21,264,21],[261,11,261,13],[261,14,261,16],[261,17,261,19],[261,21,262,21],[263,0,264,0],[263,1,264,1],[263,2,264,2],[263,8,263,10],[261,0,262,0],[261,1,262,1],[261,2,262,2],[261,8,261,10],[261,22,262,22],[261,23,262,23],[262,8,262,10],[262,11,262,13],[262,14,262,16],[262,17,262,19],[259,21,260,21],[259,22,260,22],[259,23,260,23],[260,8,260,10],[260,11,260,13],[260,14,260,16],[260,17,260,19],[259,8,259,10],[259,11,259,13],[259,14,259,16],[259,17,259,19],[257,3,258,3],[259,0,260,0],[259,1,260,1],[259,2,260,2],[253,17,258,19],[255,4,258,4],[255,5,258,5],[255,6,258,6],[255,7,258,7],[257,1,258,1],[257,2,258,2],[252,1,254,3],[252,4,254,7],[252,8,252,19],[252,20,253,21],[253,8,258,10],[253,11,258,13],[253,14,258,16],[254,20,258,20],[254,21,258,21],[255,1,256,3],[246,11,246,13],[246,14,246,16],[246,17,246,19],[246,21,247,21],[248,1,250,14],[248,15,251,21],[251,1,251,14],[246,0,247,0],[246,1,247,1],[246,2,247,2],[246,8,246,10],[246,22,247,22],[246,23,247,23],[247,8,247,10],[247,11,247,13],[247,14,247,16],[247,17,247,19],[244,22,245,22],[244,23,245,23],[245,8,245,10],[245,11,245,13],[245,14,245,16],[245,17,245,19],[244,11,244,13],[244,14,244,16],[244,17,244,19],[244,21,245,21],[242,11,242,13],[242,14,242,16],[242,17,242,19],[242,21,243,21],[244,0,245,0],[244,1,245,1],[244,2,245,2],[244,8,244,10],[242,0,243,0],[242,1,243,1],[242,2,243,2],[242,8,242,10],[242,22,243,22],[242,23,243,23],[243,8,243,10],[243,11,243,13],[243,14,243,16],[243,17,243,19],[240,22,241,22],[240,23,241,23],[241,8,241,10],[241,11,241,13],[241,14,241,16],[241,17,241,19],[240,11,240,13],[240,14,240,16],[240,17,240,19],[240,21,241,21],[238,11,238,13],[238,14,238,16],[238,17,238,19],[238,21,239,21],[240,0,241,0],[240,1,241,1],[240,2,241,2],[240,8,240,10],[238,0,239,0],[238,1,239,1],[238,2,239,2],[238,8,238,10],[238,22,239,22],[238,23,239,23],[239,8,239,10],[239,11,239,13],[239,14,239,16],[239,17,239,19],[236,22,237,22],[236,23,237,23],[237,8,237,10],[237,11,237,13],[237,14,237,16],[237,17,237,19],[236,11,236,13],[236,14,236,16],[236,17,236,19],[236,21,237,21],[234,11,234,13],[234,14,234,16],[234,17,234,19],[234,21,235,21],[236,0,237,0],[236,1,237,1],[236,2,237,2],[236,8,236,10],[234,0,235,0],[234,1,235,1],[234,2,235,2],[234,8,234,10],[234,22,235,22],[234,23,235,23],[235,8,235,10],[235,11,235,13],[235,14,235,16],[235,17,235,19],[232,22,233,22],[232,23,233,23],[233,8,233,10],[233,11,233,13],[233,14,233,16],[233,17,233,19],[232,11,232,13],[232,14,232,16],[232,17,232,19],[232,21,233,21],[230,11,230,13],[230,14,230,16],[230,17,230,19],[230,21,231,21],[232,0,233,0],[232,1,233,1],[232,2,233,2],[232,8,232,10],[230,0,231,0],[230,1,231,1],[230,2,231,2],[230,8,230,10],[230,22,231,22],[230,23,231,23],[231,8,231,10],[231,11,231,13],[231,14,231,16],[231,17,231,19],[228,21,229,21],[228,22,229,22],[228,23,229,23],[229,8,229,10],[229,11,229,13],[229,14,229,16],[229,17,229,19],[228,8,228,10],[228,11,228,13],[228,14,228,16],[228,17,228,19],[226,3,227,3],[228,0,229,0],[228,1,229,1],[228,2,229,2],[222,17,227,19],[224,4,227,4],[224,5,227,5],[224,6,227,6],[224,7,227,7],[226,1,227,1],[226,2,227,2],[221,1,223,3],[221,4,223,7],[221,8,221,19],[221,20,222,21],[222,8,227,10],[222,11,227,13],[222,14,227,16],[223,20,227,20],[223,21,227,21],[224,1,225,3],[215,11,215,13],[215,14,215,16],[215,17,215,19],[215,21,216,21],[217,1,219,14],[217,15,220,21],[220,1,220,14],[215,0,216,0],[215,1,216,1],[215,2,216,2],[215,8,215,10],[215,22,216,22],[215,23,216,23],[216,8,216,10],[216,11,216,13],[216,14,216,16],[216,17,216,19],[213,22,214,22],[213,23,214,23],[214,8,214,10],[214,11,214,13],[214,14,214,16],[214,17,214,19],[213,11,213,13],[213,14,213,16],[213,17,213,19],[213,21,214,21],[211,11,211,13],[211,14,211,16],[211,17,211,19],[211,21,212,21],[213,0,214,0],[213,1,214,1],[213,2,214,2],[213,8,213,10],[211,0,212,0],[211,1,212,1],[211,2,212,2],[211,8,211,10],[211,22,212,22],[211,23,212,23],[212,8,212,10],[212,11,212,13],[212,14,212,16],[212,17,212,19],[209,22,210,22],[209,23,210,23],[210,8,210,10],[210,11,210,13],[210,14,210,16],[210,17,210,19],[209,11,209,13],[209,14,209,16],[209,17,209,19],[209,21,210,21],[207,11,207,13],[207,14,207,16],[207,17,207,19],[207,21,208,21],[209,0,210,0],[209,1,210,1],[209,2,210,2],[209,8,209,10],[207,0,208,0],[207,1,208,1],[207,2,208,2],[207,8,207,10],[207,22,208,22],[207,23,208,23],[208,8,208,10],[208,11,208,13],[208,14,208,16],[208,17,208,19],[205,22,206,22],[205,23,206,23],[206,8,206,10],[206,11,206,13],[206,14,206,16],[206,17,206,19],[205,11,205,13],[205,14,205,16],[205,17,205,19],[205,21,206,21],[203,11,203,13],[203,14,203,16],[203,17,203,19],[203,21,204,21],[205,0,206,0],[205,1,206,1],[205,2,206,2],[205,8,205,10],[203,0,204,0],[203,1,204,1],[203,2,204,2],[203,8,203,10],[203,22,204,22],[203,23,204,23],[204,8,204,10],[204,11,204,13],[204,14,204,16],[204,17,204,19],[201,22,202,22],[201,23,202,23],[202,8,202,10],[202,11,202,13],[202,14,202,16],[202,17,202,19],[201,11,201,13],[201,14,201,16],[201,17,201,19],[201,21,202,21],[199,11,199,13],[199,14,199,16],[199,17,199,19],[199,21,200,21],[201,0,202,0],[201,1,202,1],[201,2,202,2],[201,8,201,10],[199,0,200,0],[199,1,200,1],[199,2,200,2],[199,8,199,10],[199,22,200,22],[199,23,200,23],[200,8,200,10],[200,11,200,13],[200,14,200,16],[200,17,200,19],[197,21,198,21],[197,22,198,22],[197,23,198,23],[198,8,198,10],[198,11,198,13],[198,14,198,16],[198,17,198,19],[197,8,197,10],[197,11,197,13],[197,14,197,16],[197,17,197,19],[195,3,196,3],[197,0,198,0],[197,1,198,1],[197,2,198,2],[191,17,196,19],[193,4,196,4],[193,5,196,5],[193,6,196,6],[193,7,196,7],[195,1,196,1],[195,2,196,2],[190,1,192,3],[190,4,192,7],[190,8,190,19],[190,20,191,21],[191,8,196,10],[191,11,196,13],[191,14,196,16],[192,20,196,20],[192,21,196,21],[193,1,194,3],[184,11,184,13],[184,14,184,16],[184,17,184,19],[184,21,185,21],[186,1,188,14],[186,15,189,21],[189,1,189,14],[184,0,185,0],[184,1,185,1],[184,2,185,2],[184,8,184,10],[184,22,185,22],[184,23,185,23],[185,8,185,10],[185,11,185,13],[185,14,185,16],[185,17,185,19],[182,22,183,22],[182,23,183,23],[183,8,183,10],[183,11,183,13],[183,14,183,16],[183,17,183,19],[182,11,182,13],[182,14,182,16],[182,17,182,19],[182,21,183,21],[180,11,180,13],[180,14,180,16],[180,17,180,19],[180,21,181,21],[182,0,183,0],[182,1,183,1],[182,2,183,2],[182,8,182,10],[180,0,181,0],[180,1,181,1],[180,2,181,2],[180,8,180,10],[180,22,181,22],[180,23,181,23],[181,8,181,10],[181,11,181,13],[181,14,181,16],[181,17,181,19],[178,22,179,22],[178,23,179,23],[179,8,179,10],[179,11,179,13],[179,14,179,16],[179,17,179,19],[178,11,178,13],[178,14,178,16],[178,17,178,19],[178,21,179,21],[176,11,176,13],[176,14,176,16],[176,17,176,19],[176,21,177,21],[178,0,179,0],[178,1,179,1],[178,2,179,2],[178,8,178,10],[176,0,177,0],[176,1,177,1],[176,2,177,2],[176,8,176,10],[176,22,177,22],[176,23,177,23],[177,8,177,10],[177,11,177,13],[177,14,177,16],[177,17,177,19],[174,22,175,22],[174,23,175,23],[175,8,175,10],[175,11,175,13],[175,14,175,16],[175,17,175,19],[174,11,174,13],[174,14,174,16],[174,17,174,19],[174,21,175,21],[172,11,172,13],[172,14,172,16],[172,17,172,19],[172,21,173,21],[174,0,175,0],[174,1,175,1],[174,2,175,2],[174,8,174,10],[172,0,173,0],[172,1,173,1],[172,2,173,2],[172,8,172,10],[172,22,173,22],[172,23,173,23],[173,8,173,10],[173,11,173,13],[173,14,173,16],[173,17,173,19],[170,22,171,22],[170,23,171,23],[171,8,171,10],[171,11,171,13],[171,14,171,16],[171,17,171,19],[170,11,170,13],[170,14,170,16],[170,17,170,19],[170,21,171,21],[168,11,168,13],[168,14,168,16],[168,17,168,19],[168,21,169,21],[170,0,171,0],[170,1,171,1],[170,2,171,2],[170,8,170,10],[168,0,169,0],[168,1,169,1],[168,2,169,2],[168,8,168,10],[168,22,169,22],[168,23,169,23],[169,8,169,10],[169,11,169,13],[169,14,169,16],[169,17,169,19],[166,21,167,21],[166,22,167,22],[166,23,167,23],[167,8,167,10],[167,11,167,13],[167,14,167,16],[167,17,167,19],[166,8,166,10],[166,11,166,13],[166,14,166,16],[166,17,166,19],[164,3,165,3],[166,0,167,0],[166,1,167,1],[166,2,167,2],[160,17,165,19],[162,4,165,4],[162,5,165,5],[162,6,165,6],[162,7,165,7],[164,1,165,1],[164,2,165,2],[159,1,161,3],[159,4,161,7],[159,8,159,19],[159,20,160,21],[160,8,165,10],[160,11,165,13],[160,14,165,16],[161,20,165,20],[161,21,165,21],[162,1,163,3],[153,11,153,13],[153,14,153,16],[153,17,153,19],[153,21,154,21],[155,1,157,14],[155,15,158,21],[158,1,158,14],[153,0,154,0],[153,1,154,1],[153,2,154,2],[153,8,153,10],[153,22,154,22],[153,23,154,23],[154,8,154,10],[154,11,154,13],[154,14,154,16],[154,17,154,19],[151,22,152,22],[151,23,152,23],[152,8,152,10],[152,11,152,13],[152,14,152,16],[152,17,152,19],[151,11,151,13],[151,14,151,16],[151,17,151,19],[151,21,152,21],[149,11,149,13],[149,14,149,16],[149,17,149,19],[149,21,150,21],[151,0,152,0],[151,1,152,1],[151,2,152,2],[151,8,151,10],[149,0,150,0],[149,1,150,1],[149,2,150,2],[149,8,149,10],[149,22,150,22],[149,23,150,23],[150,8,150,10],[150,11,150,13],[150,14,150,16],[150,17,150,19],[147,22,148,22],[147,23,148,23],[148,8,148,10],[148,11,148,13],[148,14,148,16],[148,17,148,19],[147,11,147,13],[147,14,147,16],[147,17,147,19],[147,21,148,21],[145,11,145,13],[145,14,145,16],[145,17,145,19],[145,21,146,21],[147,0,148,0],[147,1,148,1],[147,2,148,2],[147,8,147,10],[145,0,146,0],[145,1,146,1],[145,2,146,2],[145,8,145,10],[145,22,146,22],[145,23,146,23],[146,8,146,10],[146,11,146,13],[146,14,146,16],[146,17,146,19],[143,22,144,22],[143,23,144,23],[144,8,144,10],[144,11,144,13],[144,14,144,16],[144,17,144,19],[143,11,143,13],[143,14,143,16],[143,17,143,19],[143,21,144,21],[141,11,141,13],[141,14,141,16],[141,17,141,19],[141,21,142,21],[143,0,144,0],[143,1,144,1],[143,2,144,2],[143,8,143,10],[141,0,142,0],[141,1,142,1],[141,2,142,2],[141,8,141,10],[141,22,142,22],[141,23,142,23],[142,8,142,10],[142,11,142,13],[142,14,142,16],[142,17,142,19],[139,22,140,22],[139,23,140,23],[140,8,140,10],[140,11,140,13],[140,14,140,16],[140,17,140,19],[139,11,139,13],[139,14,139,16],[139,17,139,19],[139,21,140,21],[137,11,137,13],[137,14,137,16],[137,17,137,19],[137,21,138,21],[139,0,140,0],[139,1,140,1],[139,2,140,2],[139,8,139,10],[137,0,138,0],[137,1,138,1],[137,2,138,2],[137,8,137,10],[137,22,138,22],[137,23,138,23],[138,8,138,10],[138,11,138,13],[138,14,138,16],[138,17,138,19],[135,21,136,21],[135,22,136,22],[135,23,136,23],[136,8,136,10],[136,11,136,13],[136,14,136,16],[136,17,136,19],[135,8,135,10],[135,11,135,13],[135,14,135,16],[135,17,135,19],[133,3,134,3],[135,0,136,0],[135,1,136,1],[135,2,136,2],[129,17,134,19],[131,4,134,4],[131,5,134,5],[131,6,134,6],[131,7,134,7],[133,1,134,1],[133,2,134,2],[128,1,130,3],[128,4,130,7],[128,8,128,19],[128,20,129,21],[129,8,134,10],[129,11,134,13],[129,14,134,16],[130,20,134,20],[130,21,134,21],[131,1,132,3],[122,11,122,13],[122,14,122,16],[122,17,122,19],[122,21,123,21],[124,1,126,14],[124,15,127,21],[127,1,127,14],[122,0,123,0],[122,1,123,1],[122,2,123,2],[122,8,122,10],[122,22,123,22],[122,23,123,23],[123,8,123,10],[123,11,123,13],[123,14,123,16],[123,17,123,19],[120,22,121,22],[120,23,121,23],[121,8,121,10],[121,11,121,13],[121,14,121,16],[121,17,121,19],[120,11,120,13],[120,14,120,16],[120,17,120,19],[120,21,121,21],[118,11,118,13],[118,14,118,16],[118,17,118,19],[118,21,119,21],[120,0,121,0],[120,1,121,1],[120,2,121,2],[120,8,120,10],[118,0,119,0],[118,1,119,1]],"merged_total":1610,"flags":["merged_cut"]}
[null,"CELOSTÁTNÍ HRA PLAMEN"]
[]
[]
[null,"Výsledková listina č: 1"]
[null,"Štafeta 400 m CTIF",null,null,"Základem je čas naměřený od vydání signálu startéra do proběhnutí posledního člena cílem",null,null,null,"K úřednímu času se připočítávají trestné sekundy - za každý případ 10/20 sekund",null,null,null,null,null,null,null,null,null,null,null,"Výsledek soutěže"]
[null,null,null,null,null,null,null,null,"za nesprávné spojení koncovek (hadice, rozdělovač, proudnice)              (10 s)",null,null,"nesprávně překonaná překážka nebo nesprávně provedený úkon     (10 s)",null,null,"vyšlápnutí z dráhy oběma nohama     (10 s)",null,null,"mepřenesení proudnice přes cíl (20 s)"]
[null,null,null,null,null,null,null,null,null,null,null,null,null,null,null,null,null,null,null,null,"součet trest. Sekund a úředního času","počet bodů za umístění"]
[null,{"$f":"\"KATEGORIE: \"&Start!$N$2","v":"KATEGORIE: starší"},null,null,"I. časoměřič","II. časoměřič","III. časoměřič","úřední čas"]
[]
[null,"start. číslo","SOUTĚŽNÍ DRUŽSTVO","pokus"]
[]
[{"$f":"IF(Start!E6=\"\",\"\",\"x\")","v":""},1,{"$f":"IF(Start!C6=\"\",\"\",Start!C6)","v":"Zbiroh"},"I.pokus",null,null,null,{"$f":"IF($C12=\"\",\"\",IF(OR($E12=\"DNS\",$F12=\"DNS\",$G12=\"DNS\"),\"DNS\",IF(OR($E12=\"NP\",$F12=\"NP\",$G12=\"NP\"),\"NP\",IF(ISERROR(MEDIAN($E12:$G12)),\"DNS\",IF(COUNT($E12:$G12)<3,MAX($E12:$G12),MEDIAN($E12:$G12))))))","v":"DNS"},null,null,null,null,null,null,null,null,null,null,null,null,{"$f":"IF(H12=\"\",\"\",IF(H12=\"NP\",\"NP\",IF(H12=\"DNS\",\"DNS\",SUM(I12:T12)+H12)))","v":"DNS"},{"$f":"IF(C12=\"x\",\"x\",IF(C12=\"\",\"\",IF(OR(W12=\"NP\",W12=\"DNS\"),IF(W12=\"NP\",MAX(W$12:W$309)+COUNTIF((W$12:W$309),MAX(W$12:W$309)),MAX(W$12:W$309)+COUNTIF((W$12:W$309),MAX(W$12:W$309))+COUNTIF((W$12:W$309),\"NP\")),W12)))","v":0},{"$f":"IF(A12=\"x\",\"x\",IF(C12=\"\",\"\",IF(OR(X12=\"NP\",X12=\"DNS\"),X12,RANK(X12,X$12:X$309,1))))","v":"DNS"},{"$f":"IF(A12=\"x\",\"x\",IF(C12=\"\",\"\",IF(OR(AND(U12=\"NP\",U13=\"NP\"),AND(U12=\"DNS\",U13=\"DNS\")),U12,IF(AND(U12=\"NP\",U13=\"DNS\"),U12,IF(AND(U12=\"DNS\",U13=\"NP\"),U13,MIN(U12,U13))))))","v":"DNS"}]
[null,null,null,"II.pokus",null,null,null,{"$f":"IF($C12=\"\",\"\",IF(OR($E13=\"DNS\",$F13=\"DNS\",$G13=\"DNS\"),\"DNS\",IF(OR($E13=\"NP\",$F13=\"NP\",$G13=\"NP\"),\"NP\",IF(ISERROR(MEDIAN($E13:$G13)),\"DNS\",IF(COUNT($E13:$G13)<3,MAX($E13:$G13),MEDIAN($E13:$G13))))))","v":"DNS"},null,null,null,null,null,null,null,null,null,null,null,null,"DNS"]
[{"$f":"IF(Start!E7=\"\",\"\",\"x\")","v":""},2,{"$f":"IF(Start!C7=\"\",\"\",Start!C7)","v":"Holoubkov"},"I.pokus",null,null,null,{"$f":"IF($C14=\"\",\"\",IF(OR($E14=\"DNS\",$F14=\"DNS\",$G14=\"DNS\"),\"DNS\",IF(OR($E14=\"NP\",$F14=\"NP\",$G14=\"NP\"),\"NP\",IF(ISERROR(MEDIAN($E14:$G14)),\"DNS\",IF(COUNT($E14:$G14)<3,MAX($E14:$G14),MEDIAN($E14:$G14))))))","v":"DNS"},null,null,null,null,null,null,null,null,null,null,null,null,"DNS",{"$f":"IF(C14=\"x\",\"x\",IF(C14=\"\",\"\",IF(OR(W14=\"NP\",W14=\"DNS\"),IF(W14=\"NP\",MAX(W$12:W$309)+COUNTIF((W$12:W$309),MAX(W$12:W$309)),MAX(W$12:W$309)+COUNTIF((W$12:W$309),MAX(W$12:W$309))+COUNTIF((W$12:W$309),\"NP\")),W14)))","v":0},{"$f":"IF(A14=\"x\",\"x\",IF(C14=\"\",\"\",IF(OR(X14=\"NP\",X14=\"DNS\"),X14,RANK(X14,X$12:X$309,1))))","v":"DNS"},{"$f":"IF(A14=\"x\",\"x\",IF(C14=\"\",\"\",IF(OR(AND(U14=\"NP\",U15=\"NP\"),AND(U14=\"DNS\",U15=\"DNS\")),U14,IF(AND(U14=\"NP\",U15=\"DNS\"),U14,IF(AND(U14=\"DNS\",U15=\"NP\"),U15,MIN(U14,U15))))))","v":"DNS"}]
[null,null,null,"II.pokus",null,null,null,{"$f":"IF($C14=\"\",\"\",IF(OR($E15=\"DNS\",$F15=\"DNS\",$G15=\"DNS\"),\"DNS\",IF(OR($E15=\"NP\",$F15=\"NP\",$G15=\"NP\"),\"NP\",IF(ISERROR(MEDIAN($E15:$G15)),\"DNS\",IF(COUNT($E15:$G15)<3,MAX($E15:$G15),MEDIAN($E15:$G15))))))","v":"DNS"},null,null,null,null,null,null,null,null,null,null,null,null,"DNS"]
[{"$f":"IF(Start!E8=\"\",\"\",\"x\")","v":""},3,{"$f":"IF(Start!C8=\"\",\"\",Start!C8)","v":"Raková"},"I.pokus",null,null,null,{"$f":"IF($C16=\"\",\"\",IF(OR($E16=\"DNS\",$F16=\"DNS\",$G16=\"DNS\"),\"DNS\",IF(OR($E16=\"NP\",$F16=\"NP\",$G16=\"NP\"),\"NP\",IF(ISERROR(MEDIAN($E16:$G16)),\"DNS\",IF(COUNT($E16:$G16)<3,MAX($E16:$G16),MEDIAN($E16:$G16))))))","v":"DNS"},null,null,null,null,null,null,null,null,null,null,null,null,"DNS",{"$f":"IF(C16=\"x\",\"x\",IF(C16=\"\",\"\",IF(OR(W16=\"NP\",W16=\"DNS\"),IF(W16=\"NP\",MAX(W$12:W$309)+COUNTIF((W$12:W$309),MAX(W$12:W$309)),MAX(W$12:W$309)+COUNTIF((W$12:W$309),MAX(W$12:W$309))+COUNTIF((W$12:W$309),\"NP\")),W16)))","v":0},{"$f":"IF(A16=\"x\",\"x\",IF(C16=\"\",\"\",IF(OR(X16=\"NP\",X16=\"DNS\"),X16,RANK(X16,X$12:X$309,1))))","v":"DNS"},{"$f":"IF(A16=\"x\",\"x\",IF(C16=\"\",\"\",IF(OR(AND(U16=\"NP\",U17=\"NP\"),AND(U16=\"DNS\",U17=\"DNS\")),U16,IF(AND(U16=\"NP\",U17=\"DNS\"),U16,IF(AND(U16=\"DNS\",U17=\"NP\"),U17,MIN(U16,U17))))))","v":"DNS"}]
[null,null,null,"II.pokus",null,null,null,{"$f":"IF($C16=\"\",\"\",IF(OR($E17=\"DNS\",$F17=\"DNS\",$G17=\"DNS\"),\"DNS\",IF(OR($E17=\"NP\",$F17=\"NP\",$G17=\"NP\"),\"NP\",IF(ISERROR(MEDIAN($E17:$G17)),\"DNS\",IF(COUNT($E17:$G17)<3,MAX($E17:$G17),MEDIAN($E17:$G17))))))","v":"DNS"},null,null,null,null,null,null,null,null,null,null,null,null,"DNS"]
[{"$f":"IF(Start!E9=\"\",\"\",\"x\")","v":""},4,{"$f":"IF(Start!C9=\"\",\"\",Start!C9)","v":"Osek"},"I.pokus",null,null,null,{"$f":"IF($C18=\"\",\"\",IF(OR($E18=\"DNS\",$F18=\"DNS\",$G18=\"DNS\"),\"DNS\",IF(OR($E18=\"NP\",$F18=\"NP\",$G18=\"NP\"),\"NP\",IF(ISERROR(MEDIAN($E18:$G18)),\"DNS\",IF(COUNT($E18:$G18)<3,MAX($E18:$G18),MEDIAN($E18:$G18))))))","v":"DNS"},null,null,null,null,null,null,null,null,null,null,null,null,"DNS",{"$f":"IF(C18=\"x\",\"x\",IF(C18=\"\",\"\",IF(OR(W18=\"NP\",W18=\"DNS\"),IF(W18=\"NP\",MAX(W$12:W$309)+COUNTIF((W$12:W$309),MAX(W$12:W$309)),MAX(W$12:W$309)+COUNTIF((W$12:W$309),MAX(W$12:W$309))+COUNTIF((W$12:W$309),\"NP\")),W18)))","v":0},{"$f":"IF(A18=\"x\",\"x\",IF(C18=\"\",\"\",IF(OR(X18=\"NP\",X18=\"DNS\"),X18,RANK(X18,X$12:X$309,1))))","v":"DNS"},{"$f":"IF(A18=\"x\",\"x\",IF(C18=\"\",\"\",IF(OR(AND(U18=\"NP\",U19=\"NP\"),AND(U18=\"DNS\",U19=\"DNS\")),U18,IF(AND(U18=\"NP\",U19=\"DNS\"),U18,IF(AND(U18=\"DNS\",U19=\"NP\"),U19,MIN(U18,U19))))))","v":"DNS"}]
[null,null,null,"II.pokus",null,null,null,{"$f":"IF($C18=\"\",\"\",IF(OR($E19=\"DNS\",$F19=\"DNS\",$G19=\"DNS\"),\"DNS\",IF(OR($E19=\"NP\",$F19=\"NP\",$G19=\"NP\"),\"NP\",IF(ISERROR(MEDIAN($E19:$G19)),\"DNS\",IF(COUNT($E19:$G19)<3,MAX($E19:$G19),MEDIAN($E19:$G19))))))","v":"DNS"},null,null,null,null,null,null,null,null,null,null,null,null,"DNS"]
[{"$f":"IF(Start!E10=\"\",\"\",\"x\")","v":""},5,{"$f":"IF(Start!C10=\"\",\"\",Start!C10)","v":"Lhota pod Radčem"},"I.pokus",null,null,null,{"$f":"IF($C20=\"\",\"\",IF(OR($E20=\"DNS\",$F20=\"DNS\",$G20=\"DNS\"),\"DNS\",IF(OR($E20=\"NP\",$F20=\"NP\",$G20=\"NP\"),\"NP\",IF(ISERROR(MEDIAN($E20:$G20)),\"DNS\",IF(COUNT($E20:$G20)<3,MAX($E20:$G20),MEDIAN($E20:$G20))))))","v":"DNS"},null,null,null,null,null,null,null,null,null,null,null,null,"DNS",{"$f":"IF(C20=\"x\",\"x\",IF(C20=\"\",\"\",IF(OR(W20=\"NP\",W20=\"DNS\"),IF(W20=\"NP\",MAX(W$12:W$309)+COUNTIF((W$12:W$309),MAX(W$12:W$309)),MAX(W$12:W$309)+COUNTIF((W$12:W$309),MAX(W$12:W$309))+COUNTIF((W$12:W$309),\"NP\")),W20)))","v":0},{"$f":"IF(A20=\"x\",\"x\",IF(C20=\"\",\"\",IF(OR(X20=\"NP\",X20=\"DNS\"),X20,RANK(X20,X$12:X$309,1))))","v":"DNS"},{"$f":"IF(A20=\"x\",\"x\",IF(C20=\"\",\"\",IF(OR(AND(U20=\"NP\",U21=\"NP\"),AND(U20=\"DNS\",U21=\"DNS\")),U20,IF(AND(U20=\"NP\",U21=\"DNS\"),U20,IF(AND(U20=\"DNS\",U21=\"NP\"),U21,MIN(U20,U21))))))","v":"DNS"}]
[null,null,null,"II.pokus",null,null,null,{"$f":"IF($C20=\"\",\"\",IF(OR($E21=\"DNS\",$F21=\"DNS\",$G21=\"DNS\"),\"DNS\",IF(OR($E21=\"NP\",$F21=\"NP\",$G21=\"NP\"),\"NP\",IF(ISERROR(MEDIAN($E21:$G21)),\"DNS\",IF(COUNT($E21:$G21)<3,MAX($E21:$G21),MEDIAN($E21:$G21))))))","v":"DNS"},null,null,null,null,null,null,null,null,null,null,null,null,"DNS"]
[{"$f":"IF(Start!E11=\"\",\"\",\"x\")","v":""},6,{"$f":"IF(Start!C11=\"\",\"\",Start!C11)","v":"Dobřív"},"I.pokus",null,null,null,{"$f":"IF($C22=\"\",\"\",IF(OR($E22=\"DNS\",$F22=\"DNS\",$G22=\"DNS\"),\"DNS\",IF(OR($E22=\"NP\",$F22=\"NP\",$G22=\"NP\"),\"NP\",IF(ISERROR(MEDIAN($E22:$G22)),\"DNS\",IF(COUNT($E22:$G22)<3,MAX($E22:$G22),MEDIAN($E22:$G22))))))","v":"DNS"},null,null,null,null,null,null,null,null,null,null,null,null,"DNS",{"$f":"IF(C22=\"x\",\"x\",IF(C22=\"\",\"\",IF(OR(W22=\"NP\",W22=\"DNS\"),IF(W22=\"NP\",MAX(W$12:W$309)+COUNTIF((W$12:W$309),MAX(W$12:W$309)),MAX(W$12:W$309)+COUNTIF((W$12:W$309),MAX(W$12:W$309))+COUNTIF((W$12:W$309),\"NP\")),W22)))","v":0},{"$f":"IF(A22=\"x\",\"x\",IF(C22=\"\",\"\",IF(OR(X22=\"NP\",X22=\"DNS\"),X22,RANK(X22,X$12:X$309,1))))","v":"DNS"},{"$f":"IF(A22=\"x\",\"x\",IF(C22=\"\",\"\",IF(OR(AND(U22=\"NP\",U23=\"NP\"),AND(U22=\"DNS\",U23=\"DNS\")),U22,IF(AND(U22=\"NP\",U23=\"DNS\"),U22,IF(AND(U22=\"DNS\",U23=\"NP\"),U23,MIN(U22,U23))))))","v":"DNS"}]
[null,null,null,"II.pokus",null,null,null,{"$f":"IF($C22=\"\",\"\",IF(OR($E23=\"DNS\",$F23=\"DNS\",$G23=\"DNS\"),\"DNS\",IF(OR($E23=\"NP\",$F23=\"NP\",$G23=\"NP\"),\"NP\",IF(ISERROR(MEDIAN($E23:$G23)),\"DNS\",IF(COUNT($E23:$G23)<3,MAX($E23:$G23),MEDIAN($E23:$G23))))))","v":"DNS"},null,null,null,null,null,null,null,null,null,null,null,null,"DNS"]
[{"$f":"IF(Start!E12=\"\",\"\",\"x\")","v":""},7,{"$f":"IF(Start!C12=\"\",\"\",Start!C12)","v":"Mirošov"},"I.pokus",null,null,null,{"$f":"IF($C24=\"\",\"\",IF(OR($E24=\"DNS\",$F24=\"DNS\",$G24=\"DNS\"),\"DNS\",IF(OR($E24=\"NP\",$F24=\"NP\",$G24=\"NP\"),\"NP\",IF(ISERROR(MEDIAN($E24:$G24)),\"DNS\",IF(COUNT($E24:$G24)<3,MAX($E24:$G24),MEDIAN($E24:$G24))))))","v":"DNS"},null,null,null,null,null,null,null,null,null,null,null,null,"DNS",{"$f":"IF(C24=\"x\",\"x\",IF(C24=\"\",\"\",IF(OR(W24=\"NP\",W24=\"DNS\"),IF(W24=\"NP\",MAX(W$12:W$309)+COUNTIF((W$12:W$309),MAX(W$12:W$309)),MAX(W$12:W$309)+COUNTIF((W$12:W$309),MAX(W$12:W$309))+COUNTIF((W$12:W$309),\"NP\")),W24)))","v":0},{"$f":"IF(A24=\"x\",\"x\",IF(C24=\"\",\"\",IF(OR(X24=\"NP\",X24=\"DNS\"),X24,RANK(X24,X$12:X$309,1))))","v":"DNS"},{"$f":"IF(A24=\"x\",\"x\",IF(C24=\"\",\"\",IF(OR(AND(U24=\"NP\",U25=\"NP\"),AND(U24=\"DNS\",U25=\"DNS\")),U24,IF(AND(U24=\"NP\",U25=\"DNS\"),U24,IF(AND(U24=\"DNS\",U25=\"NP\"),U25,MIN(U24,U25))))))","v":"DNS"}]
[null,null,null,"II.pokus",null,null,null,{"$f":"IF($C24=\"\",\"\",IF(OR($E25=\"DNS\",$F25=\"DNS\",$G25=\"DNS\"),\"DNS\",IF(OR($E25=\"NP\",$F25=\"NP\",$G25=\"NP\"),\"NP\",IF(ISERROR(MEDIAN($E25:$G25)),\"DNS\",IF(COUNT($E25:$G25)<3,MAX($E25:$G25),MEDIAN($E25:$G25))))))","v":"DNS"},null,null,null,null,null,null,null,null,null,null,null,null,"DNS"]
[{"$f":"IF(Start!E13=\"\",\"\",\"x\")","v":""},8,{"$f":"IF(Start!C13=\"\",\"\",Start!C13)","v":"Volduchy"},"I.pokus",null,null,null,{"$f":"IF($C26=\"\",\"\",IF(OR($E26=\"DNS\",$F26=\"DNS\",$G26=\"DNS\"),\"DNS\",IF(OR($E26=\"NP\",$F26=\"NP\",$G26=\"NP\"),\"NP\",IF(ISERROR(MEDIAN($E26:$G26)),\"DNS\",IF(COUNT($E26:$G26)<3,MAX($E26:$G26),MEDIAN($E26:$G26))))))","v":"DNS"},null,null,null,null,null,null,null,null,null,null,null,null,"DNS",{"$f":"IF(C26=\"x\",\"x\",IF(C26=\"\",\"\",IF(OR(W26=\"NP\",W26=\"DNS\"),IF(W26=\"NP\",MAX(W$12:W$309)+COUNTIF((W$12:W$309),MAX(W$12:W$309)),MAX(W$12:W$309)+COUNTIF((W$12:W$309),MAX(W$12:W$309))+COUNTIF((W$12:W$309),\"NP\")),W26)))","v":0},{"$f":"IF(A26=\"x\",\"x\",IF(C26=\"\",\"\",IF(OR(X26=\"NP\",X26=\"DNS\"),X26,RANK(X26,X$12:X$309,1))))","v":"DNS"},{"$f":"IF(A26=\"x\",\"x\",IF(C26=\"\",\"\",IF(OR(AND(U26=\"NP\",U27=\"NP\"),AND(U26=\"DNS\",U27=\"DNS\")),U26,IF(AND(U26=\"NP\",U27=\"DNS\"),U26,IF(AND(U26=\"DNS\",U27=\"NP\"),U27,MIN(U26,U27))))))","v":"DNS"}]
[null,null,null,"II.pokus",null,null,null,{"$f":"IF($C26=\"\",\"\",IF(OR($E27=\"DNS\",$F27=\"DNS\",$G27=\"DNS\"),\"DNS\",IF(OR($E27=\"NP\",$F27=\"NP\",$G27=\"NP\"),\"NP\",IF(ISERROR(MEDIAN($E27:$G27)),\"DNS\",IF(COUNT($E27:$G27)<3,MAX($E27:$G27),MEDIAN($E27:$G27))))))","v":"DNS"},null,null,null,null,null,null,null,null,null,null,null,null,"DNS"]
[{"$f":"IF(Start!E14=\"\",\"\",\"x\")","v":""},9,{"$f":"IF(Start!C14=\"\",\"\",Start!C14)","v":""},"I.pokus",null,null,null,{"$f":"IF($C28=\"\",\"\",IF(OR($E28=\"DNS\",$F28=\"DNS\",$G28=\"DNS\"),\"DNS\",IF(OR($E28=\"NP\",$F28=\"NP\",$G28=\"NP\"),\"NP\",IF(ISERROR(MEDIAN($E28:$G28)),\"DNS\",IF(COUNT($E28:$G28)<3,MAX($E28:$G28),MEDIAN($E28:$G28))))))","v":""},null,null,null,null,null,null,null,null,null,null,null,null,"",{"$f":"IF(C28=\"x\",\"x\",IF(C28=\"\",\"\",IF(OR(W28=\"NP\",W28=\"DNS\"),IF(W28=\"NP\",MAX(W$12:W$309)+COUNTIF((W$12:W$309),MAX(W$12:W$309)),MAX(W$12:W$309)+COUNTIF((W$12:W$309),MAX(W$12:W$309))+COUNTIF((W$12:W$309),\"NP\")),W28)))","v":""},{"$f":"IF(A28=\"x\",\"x\",IF(C28=\"\",\"\",IF(OR(X28=\"NP\",X28=\"DNS\"),X28,RANK(X28,X$12:X$309,1))))","v":""},{"$f":"IF(A28=\"x\",\"x\",IF(C28=\"\",\"\",IF(OR(AND(U28=\"NP\",U29=\"NP\"),AND(U28=\"DNS\",U29=\"DNS\")),U28,IF(AND(U28=\"NP\",U29=\"DNS\"),U28,IF(AND(U28=\"DNS\",U29=\"NP\"),U29,MIN(U28,U29))))))","v":""}]
[null,null,null,"II.pokus",null,null,null,{"$f":"IF($C28=\"\",\"\",IF(OR($E29=\"DNS\",$F29=\"DNS\",$G29=\"DNS\"),\"DNS\",IF(OR($E29=\"NP\",$F29=\"NP\",$G29=\"NP\"),\"NP\",IF(ISERROR(MEDIAN($E29:$G29)),\"DNS\",IF(COUNT($E29:$G29)<3,MAX($E29:$G29),MEDIAN($E29:$G29))))))","v":""},null,null,null,null,null,null,null,null,null,null,null,null,""]
[{"$f":"IF(Start!E15=\"\",\"\",\"x\")","v":""},10,{"$f":"IF(Start!C15=\"\",\"\",Start!C15)","v":""},"I.pokus",null,null,null,{"$f":"IF($C30=\"\",\"\",IF(OR($E30=\"DNS\",$F30=\"DNS\",$G30=\"DNS\"),\"DNS\",IF(OR($E30=\"NP\",$F30=\"NP\",$G30=\"NP\"),\"NP\",IF(ISERROR(MEDIAN($E30:$G30)),\"DNS\",IF(COUNT($E30:$G30)<3,MAX($E30:$G30),MEDIAN($E30:$G30))))))","v":""},null,null,null,null,null,null,null,null,null,null,null,null,"",{"$f":"IF(C30=\"x\",\"x\",IF(C30=\"\",\"\",IF(OR(W30=\"NP\",W30=\"DNS\"),IF(W30=\"NP\",MAX(W$12:W$309)+COUNTIF((W$12:W$309),MAX(W$12:W$309)),MAX(W$12:W$309)+COUNTIF((W$12:W$309),MAX(W$12:W$309))+COUNTIF((W$12:W$309),\"NP\")),W30)))","v":""},{"$f":"IF(A30=\"x\",\"x\",IF(C30=\"\",\"\",IF(OR(X30=\"NP\",X30=\"DNS\"),X30,RANK(X30,X$12:X$309,1))))","v":""},{"$f":"IF(A30=\"x\",\"x\",IF(C30=\"\",\"\",IF(OR(AND(U30=\"NP\",U31=\"NP\"),AND(U30=\"DNS\",U31=\"DNS\")),U30,IF(AND(U30=\"NP\",U31=\"DNS\"),U30,IF(AND(U30=\"DNS\",U31=\"NP\"),U31,MIN(U30,U31))))))","v":""}]
[null,null,null,"II.pokus",null,null,null,{"$f":"IF($C30=\"\",\"\",IF(OR($E31=\"DNS\",$F31=\"DNS\",$G31=\"DNS\"),\"DNS\",IF(OR($E31=\"NP\",$F31=\"NP\",$G31=\"NP\"),\"NP\",IF(ISERROR(MEDIAN($E31:$G31)),\"DNS\",IF(COUNT($E31:$G31)<3,MAX($E31:$G31),MEDIAN($E31:$G31))))))","v":""},null,null,null,null,null,null,null,null,null,null,null,null,""]
[null,"CELOSTÁTNÍ HRA PLAMEN"]
[]
[]
[null,"Výsledková listina č: 2"]
[null,"Štafeta 400 m CTIF",null,null,"Základem je čas naměřený od vydání signálu startéra do proběhnutí posledního člena cílem",null,null,null,"K úřednímu času se připočítávají trestné sekundy - za každý případ 10/20 sekund",null,null,null,null,null,null,null,null,null,null,null,"Výsledek soutěže"]
[null,null,null,null,null,null,null,null,"za nesprávné spojení koncovek (hadice, rozdělovač, proudnice)              (10 s)",null,null,"nesprávně překonaná překážka nebo nesprávně provedený úkon     (10 s)",null,null,"vyšlápnutí z dráhy oběma nohama     (10 s)",null,null,"mepřenesení proudnice přes cíl (20 s)"]
[null,null,null,null,null,null,null,null,null,null,null,null,null,null,null,null,null,null,null,null,"součet trest. Sekund a úředního času","počet bodů za umístění"]
[null,{"$f":"\"KATEGORIE: \"&Start!$N$2","v":"KATEGORIE: starší"},null,null,"I. časoměřič","II. časoměřič","III. časoměřič","úřední čas"]
[]
[null,"start. číslo","SOUTĚŽNÍ DRUŽSTVO","pokus"]
[]
[{"$f":"IF(Start!E16=\"\",\"\",\"x\")","v":""},11,{"$f":"IF(Start!C16=\"\",\"\",Start!C16)","v":""},"I.pokus",null,null,null,{"$f":"IF($C43=\"\",\"\",IF(OR($E43=\"DNS\",$F43=\"DNS\",$G43=\"DNS\"),\"DNS\",IF(OR($E43=\"NP\",$F43=\"NP\",$G43=\"NP\"),\"NP\",IF(ISERROR(MEDIAN($E43:$G43)),\"DNS\",IF(COUNT($E43:$G43)<3,MAX($E43:$G43),MEDIAN($E43:$G43))))))","v":""},null,null,null,null,null,null,null,null,null,null,null,null,{"$f":"IF(H43=\"\",\"\",IF(H43=\"NP\",\"NP\",IF(H43=\"DNS\",\"DNS\",SUM(I43:T43)+H43)))","v":""},{"$f":"IF(C43=\"x\",\"x\",IF(C43=\"\",\"\",IF(OR(W43=\"NP\",W43=\"DNS\"),IF(W43=\"NP\",MAX(W$12:W$309)+COUNTIF((W$12:W$309),MAX(W$12:W$309)),MAX(W$12:W$309)+COUNTIF((W$12:W$309),MAX(W$12:W$309))+COUNTIF((W$12:W$309),\"NP\")),W43)))","v":""},{"$f":"IF(A43=\"x\",\"x\",IF(C43=\"\",\"\",IF(OR(X43=\"NP\",X43=\"DNS\"),X43,RANK(X43,X$12:X$309,1))))","v":""},{"$f":"IF(A43=\"x\",\"x\",IF(C43=\"\",\"\",IF(OR(AND(U43=\"NP\",U44=\"NP\"),AND(U43=\"DNS\",U44=\"DNS\")),U43,IF(AND(U43=\"NP\",U44=\"DNS\"),U43,IF(AND(U43=\"DNS\",U44=\"NP\"),U44,MIN(U43,U44))))))","v":""}]
[null,null,null,"II.pokus",null,null,null,{"$f":"IF($C43=\"\",\"\",IF(OR($E44=\"DNS\",$F44=\"DNS\",$G44=\"DNS\"),\"DNS\",IF(OR($E44=\"NP\",$F44=\"NP\",$G44=\"NP\"),\"NP\",IF(ISERROR(MEDIAN($E44:$G44)),\"DNS\",IF(COUNT($E44:$G44)<3,MAX($E44:$G44),MEDIAN($E44:$G44))))))","v":""},null,null,null,null,null,null,null,null,null,null,null,null,""]
[{"$f":"IF(Start!E17=\"\",\"\",\"x\")","v":""},12,{"$f":"IF(Start!C17=\"\",\"\",Start!C17)","v":""},"I.pokus",null,null,null,{"$f":"IF($C45=\"\",\"\",IF(OR($E45=\"DNS\",$F45=\"DNS\",$G45=\"DNS\"),\"DNS\",IF(OR($E45=\"NP\",$F45=\"NP\",$G45=\"NP\"),\"NP\",IF(ISERROR(MEDIAN($E45:$G45)),\"DNS\",IF(COUNT($E45:$G45)<3,MAX($E45:$G45),MEDIAN($E45:$G45))))))","v":""},null,null,null,null,null,null,null,null,null,null,null,null,"",{"$f":"IF(C45=\"x\",\"x\",IF(C45=\"\",\"\",IF(OR(W45=\"NP\",W45=\"DNS\"),IF(W45=\"NP\",MAX(W$12:W$309)+COUNTIF((W$12:W$309),MAX(W$12:W$309)),MAX(W$12:W$309)+COUNTIF((W$12:W$309),MAX(W$12:W$309))+COUNTIF((W$12:W$309),\"NP\")),W45)))","v":""},{"$f":"IF(A45=\"x\",\"x\",IF(C45=\"\",\"\",IF(OR(X45=\"NP\",X45=\"DNS\"),X45,RANK(X45,X$12:X$309,1))))","v":""},{"$f":"IF(A45=\"x\",\"x\",IF(C45=\"\",\"\",IF(OR(AND(U45=\"NP\",U46=\"NP\"),AND(U45=\"DNS\",U46=\"DNS\")),U45,IF(AND(U45=\"NP\",U46=\"DNS\"),U45,IF(AND(U45=\"DNS\",U46=\"NP\"),U46,MIN(U45,U46))))))","v":""}]
[null,null,null,"II.pokus",null,null,null,{"$f":"IF($C45=\"\",\"\",IF(OR($E46=\"DNS\",$F46=\"DNS\",$G46=\"DNS\"),\"DNS\",IF(OR($E46=\"NP\",$F46=\"NP\",$G46=\"NP\"),\"NP\",IF(ISERROR(MEDIAN($E46:$G46)),\"DNS\",IF(COUNT($E46:$G46)<3,MAX($E46:$G46),MEDIAN($E46:$G46))))))","v":""},null,null,null,null,null,null,null,null,null,null,null,null,""]
[{"$f":"IF(Start!E18=\"\",\"\",\"x\")","v":""},13,{"$f":"IF(Start!C18=\"\",\"\",Start!C18)","v":""},"I.pokus",null,null,null,{"$f":"IF($C47=\"\",\"\",IF(OR($E47=\"DNS\",$F47=\"DNS\",$G47=\"DNS\"),\"DNS\",IF(OR($E47=\"NP\",$F47=\"NP\",$G47=\"NP\"),\"NP\",IF(ISERROR(MEDIAN($E47:$G47)),\"DNS\",IF(COUNT($E47:$G47)<3,MAX($E47:$G47),MEDIAN($E47:$G47))))))","v":""},null,null,null,null,null,null,null,null,null,null,null,null,"",{"$f":"IF(C47=\"x\",\"x\",IF(C47=\"\",\"\",IF(OR(W47=\"NP\",W47=\"DNS\"),IF(W47=\"NP\",MAX(W$12:W$309)+COUNTIF((W$12:W$309),MAX(W$12:W$309)),MAX(W$12:W$309)+COUNTIF((W$12:W$309),MAX(W$12:W$309))+COUNTIF((W$12:W$309),\"NP\")),W47)))","v":""},{"$f":"IF(A47=\"x\",\"x\",IF(C47=\"\",\"\",IF(OR(X47=\"NP\",X47=\"DNS\"),X47,RANK(X47,X$12:X$309,1))))","v":""},{"$f":"IF(A47=\"x\",\"x\",IF(C47=\"\",\"\",IF(OR(AND(U47=\"NP\",U48=\"NP\"),AND(U47=\"DNS\",U48=\"DNS\")),U47,IF(AND(U47=\"NP\",U48=\"DNS\"),U47,IF(AND(U47=\"DNS\",U48=\"NP\"),U48,MIN(U47,U48))))))","v":""}]
[null,null,null,"II.pokus",null,null,null,{"$f":"IF($C47=\"\",\"\",IF(OR($E48=\"DNS\",$F48=\"DNS\",$G48=\"DNS\"),\"DNS\",IF(OR($E48=\"NP\",$F48=\"NP\",$G48=\"NP\"),\"NP\",IF(ISERROR(MEDIAN($E48:$G48)),\"DNS\",IF(COUNT($E48:$G48)<3,MAX($E48:$G48),MEDIAN($E48:$G48))))))","v":""},null,null,null,null,null,null,null,null,null,null,null,null,""]
[{"$f":"IF(Start!E19=\"\",\"\",\"x\")","v":""},14,{"$f":"IF(Start!C19=\"\",\"\",Start!C19)","v":""},"I.pokus",null,null,null,{"$f":"IF($C49=\"\",\"\",IF(OR($E49=\"DNS\",$F49=\"DNS\",$G49=\"DNS\"),\"DNS\",IF(OR($E49=\"NP\",$F49=\"NP\",$G49=\"NP\"),\"NP\",IF(ISERROR(MEDIAN($E49:$G49)),\"DNS\",IF(COUNT($E49:$G49)<3,MAX($E49:$G49),MEDIAN($E49:$G49))))))","v":""},null,null,null,null,null,null,null,null,null,null,null,null,"",{"$f":"IF(C49=\"x\",\"x\",IF(C49=\"\",\"\",IF(OR(W49=\"NP\",W49=\"DNS\"),IF(W49=\"NP\",MAX(W$12:W$309)+COUNTIF((W$12:W$309),MAX(W$12:W$309)),MAX(W$12:W$309)+COUNTIF((W$12:W$309),MAX(W$12:W$309))+COUNTIF((W$12:W$309),\"NP\")),W49)))","v":""},{"$f":"IF(A49=\"x\",\"x\",IF(C49=\"\",\"\",IF(OR(X49=\"NP\",X49=\"DNS\"),X49,RANK(X49,X$12:X$309,1))))","v":""},{"$f":"IF(A49=\"x\",\"x\",IF(C49=\"\",\"\",IF(OR(AND(U49=\"NP\",U50=\"NP\"),AND(U49=\"DNS\",U50=\"DNS\")),U49,IF(AND(U49=\"NP\",U50=\"DNS\"),U49,IF(AND(U49=\"DNS\",U50=\"NP\"),U50,MIN(U49,U50))))))","v":""}]
[null,null,null,"II.pokus",null,null,null,{"$f":"IF($C49=\"\",\"\",IF(OR($E50=\"DNS\",$F50=\"DNS\",$G50=\"DNS\"),\"DNS\",IF(OR($E50=\"NP\",$F50=\"NP\",$G50=\"NP\"),\"NP\",IF(ISERROR(MEDIAN($E50:$G50)),\"DNS\",IF(COUNT($E50:$G50)<3,MAX($E50:$G50),MEDIAN($E50:$G50))))))","v":""},null,null,null,null,null,null,null,null,null,null,null,null,""]
[{"$f":"IF(Start!E20=\"\",\"\",\"x\")","v":""},15,{"$f":"IF(Start!C20=\"\",\"\",Start!C20)","v":""},"I.pokus",null,null,null,{"$f":"IF($C51=\"\",\"\",IF(OR($E51=\"DNS\",$F51=\"DNS\",$G51=\"DNS\"),\"DNS\",IF(OR($E51=\"NP\",$F51=\"NP\",$G51=\"NP\"),\"NP\",IF(ISERROR(MEDIAN($E51:$G51)),\"DNS\",IF(COUNT($E51:$G51)<3,MAX($E51:$G51),MEDIAN($E51:$G51))))))","v":""},null,null,null,null,null,null,null,null,null,null,null,null,"",{"$f":"IF(C51=\"x\",\"x\",IF(C51=\"\",\"\",IF(OR(W51=\"NP\",W51=\"DNS\"),IF(W51=\"NP\",MAX(W$12:W$309)+COUNTIF((W$12:W$309),MAX(W$12:W$309)),MAX(W$12:W$309)+COUNTIF((W$12:W$309),MAX(W$12:W$309))+COUNTIF((W$12:W$309),\"NP\")),W51)))","v":""},{"$f":"IF(A51=\"x\",\"x\",IF(C51=\"\",\"\",IF(OR(X51=\"NP\",X51=\"DNS\"),X51,RANK(X51,X$12:X$309,1))))","v":""},{"$f":"IF(A51=\"x\",\"x\",IF(C51=\"\",\"\",IF(OR(AND(U51=\"NP\",U52=\"NP\"),AND(U51=\"DNS\",U52=\"DNS\")),U51,IF(AND(U51=\"NP\",U52=\"DNS\"),U51,IF(AND(U51=\"DNS\",U52=\"NP\"),U52,MIN(U51,U52))))))","v":""}]
[null,null,null,"II.pokus",null,null,null,{"$f":"IF($C51=\"\",\"\",IF(OR($E52=\"DNS\",$F52=\"DNS\",$G52=\"DNS\"),\"DNS\",IF(OR($E52=\"NP\",$F52=\"NP\",$G52=\"NP\"),\"NP\",IF(ISERROR(MEDIAN($E52:$G52)),\"DNS\",IF(COUNT($E52:$G52)<3,MAX($E52:$G52),MEDIAN($E52:$G52))))))","v":""},null,null,null,null,null,null,null,null,null,null,null,null,""]
[{"$f":"IF(Start!E21=\"\",\"\",\"x\")","v":""},16,{"$f":"IF(Start!C21=\"\",\"\",Start!C21)","v":""},"I.pokus",null,null,null,{"$f":"IF($C53=\"\",\"\",IF(OR($E53=\"DNS\",$F53=\"DNS\",$G53=\"DNS\"),\"DNS\",IF(OR($E53=\"NP\",$F53=\"NP\",$G53=\"NP\"),\"NP\",IF(ISERROR(MEDIAN($E53:$G53)),\"DNS\",IF(COUNT($E53:$G53)<3,MAX($E53:$G53),MEDIAN($E53:$G53))))))","v":""},null,null,null,null,null,null,null,null,null,null,null,null,"",{"$f":"IF(C53=\"x\",\"x\",IF(C53=\"\",\"\",IF(OR(W53=\"NP\",W53=\"DNS\"),IF(W53=\"NP\",MAX(W$12:W$309)+COUNTIF((W$12:W$309),MAX(W$12:W$309)),MAX(W$12:W$309)+COUNTIF((W$12:W$309),MAX(W$12:W$309))+COUNTIF((W$12:W$309),\"NP\")),W53)))","v":""},{"$f":"IF(A53=\"x\",\"x\",IF(C53=\"\",\"\",IF(OR(X53=\"NP\",X53=\"DNS\"),X53,RANK(X53,X$12:X$309,1))))","v":""},{"$f":"IF(A53=\"x\",\"x\",IF(C53=\"\",\"\",IF(OR(AND(U53=\"NP\",U54=\"NP\"),AND(U53=\"DNS\",U54=\"DNS\")),U53,IF(AND(U53=\"NP\",U54=\"DNS\"),U53,IF(AND(U53=\"DNS\",U54=\"NP\"),U54,MIN(U53,U54))))))","v":""}]
[null,null,null,"II.pokus",null,null,null,{"$f":"IF($C53=\"\",\"\",IF(OR($E54=\"DNS\",$F54=\"DNS\",$G54=\"DNS\"),\"DNS\",IF(OR($E54=\"NP\",$F54=\"NP\",$G54=\"NP\"),\"NP\",IF(ISERROR(MEDIAN($E54:$G54)),\"DNS\",IF(COUNT($E54:$G54)<3,MAX($E54:$G54),MEDIAN($E54:$G54))))))","v":""},null,null,null,null,null,null,null,null,null,null,null,null,""]
[{"$f":"IF(Start!E22=\"\",\"\",\"x\")","v":""},17,{"$f":"IF(Start!C22=\"\",\"\",Start!C22)","v":""},"I.pokus",null,null,null,{"$f":"IF($C55=\"\",\"\",IF(OR($E55=\"DNS\",$F55=\"DNS\",$G55=\"DNS\"),\"DNS\",IF(OR($E55=\"NP\",$F55=\"NP\",$G55=\"NP\"),\"NP\",IF(ISERROR(MEDIAN($E55:$G55)),\"DNS\",IF(COUNT($E55:$G55)<3,MAX($E55:$G55),MEDIAN($E55:$G55))))))","v":""},null,null,null,null,null,null,null,null,null,null,null,null,"",{"$f":"IF(C55=\"x\",\"x\",IF(C55=\"\",\"\",IF(OR(W55=\"NP\",W55=\"DNS\"),IF(W55=\"NP\",MAX(W$12:W$309)+COUNTIF((W$12:W$309),MAX(W$12:W$309)),MAX(W$12:W$309)+COUNTIF((W$12:W$309),MAX(W$12:W$309))+COUNTIF((W$12:W$309),\"NP\")),W55)))","v":""},{"$f":"IF(A55=\"x\",\"x\",IF(C55=\"\",\"\",IF(OR(X55=\"NP\",X55=\"DNS\"),X55,RANK(X55,X$12:X$309,1))))","v":""},{"$f":"IF(A55=\"x\",\"x\",IF(C55=\"\",\"\",IF(OR(AND(U55=\"NP\",U56=\"NP\"),AND(U55=\"DNS\",U56=\"DNS\")),U55,IF(AND(U55=\"NP\",U56=\"DNS\"),U55,IF(AND(U55=\"DNS\",U56=\"NP\"),U56,MIN(U55,U56))))))","v":""}]
[null,null,null,"II.pokus",null,null,null,{"$f":"IF($C55=\"\",\"\",IF(OR($E56=\"DNS\",$F56=\"DNS\",$G56=\"DNS\"),\"DNS\",IF(OR($E56=\"NP\",$F56=\"NP\",$G56=\"NP\"),\"NP\",IF(ISERROR(MEDIAN($E56:$G56)),\"DNS\",IF(COUNT($E56:$G56)<3,MAX($E56:$G56),MEDIAN($E56:$G56))))))","v":""},null,null,null,null,null,null,null,null,null,null,null,null,""]
[{"$f":"IF(Start!E23=\"\",\"\",\"x\")","v":""},18,{"$f":"IF(Start!C23=\"\",\"\",Start!C23)","v":""},"I.pokus",null,null,null,{"$f":"IF($C57=\"\",\"\",IF(OR($E57=\"DNS\",$F57=\"DNS\",$G57=\"DNS\"),\"DNS\",IF(OR($E57=\"NP\",$F57=\"NP\",$G57=\"NP\"),\"NP\",IF(ISERROR(MEDIAN($E57:$G57)),\"DNS\",IF(COUNT($E57:$G57)<3,MAX($E57:$G57),MEDIAN($E57:$G57))))))","v":""},null,null,null,null,null,null,null,null,null,null,null,null,"",{"$f":"IF(C57=\"x\",\"x\",IF(C57=\"\",\"\",IF(OR(W57=\"NP\",W57=\"DNS\"),IF(W57=\"NP\",MAX(W$12:W$309)+COUNTIF((W$12:W$309),MAX(W$12:W$309)),MAX(W$12:W$309)+COUNTIF((W$12:W$309),MAX(W$12:W$309))+COUNTIF((W$12:W$309),\"NP\")),W57)))","v":""},{"$f":"IF(A57=\"x\",\"x\",IF(C57=\"\",\"\",IF(OR(X57=\"NP\",X57=\"DNS\"),X57,RANK(X57,X$12:X$309,1))))","v":""},{"$f":"IF(A57=\"x\",\"x\",IF(C57=\"\",\"\",IF(OR(AND(U57=\"NP\",U58=\"NP\"),AND(U57=\"DNS\",U58=\"DNS\")),U57,IF(AND(U57=\"NP\",U58=\"DNS\"),U57,IF(AND(U57=\"DNS\",U58=\"NP\"),U58,MIN(U57,U58))))))","v":""}]
[null,null,null,"II.pokus",null,null,null,{"$f":"IF($C57=\"\",\"\",IF(OR($E58=\"DNS\",$F58=\"DNS\",$G58=\"DNS\"),\"DNS\",IF(OR($E58=\"NP\",$F58=\"NP\",$G58=\"NP\"),\"NP\",IF(ISERROR(MEDIAN($E58:$G58)),\"DNS\",IF(COUNT($E58:$G58)<3,MAX($E58:$G58),MEDIAN($E58:$G58))))))","v":""},null,null,null,null,null,null,null,null,null,null,null,null,""]
[{"$f":"IF(Start!E24=\"\",\"\",\"x\")","v":""},19,{"$f":"IF(Start!C24=\"\",\"\",Start!C24)","v":""},"I.pokus",null,null,null,{"$f":"IF($C59=\"\",\"\",IF(OR($E59=\"DNS\",$F59=\"DNS\",$G59=\"DNS\"),\"DNS\",IF(OR($E59=\"NP\",$F59=\"NP\",$G59=\"NP\"),\"NP\",IF(ISERROR(MEDIAN($E59:$G59)),\"DNS\",IF(COUNT($E59:$G59)<3,MAX($E59:$G59),MEDIAN($E59:$G59))))))","v":""},null,null,null,null,null,null,null,null,null,null,null,null,"",{"$f":"IF(C59=\"x\",\"x\",IF(C59=\"\",\"\",IF(OR(W59=\"NP\",W59=\"DNS\"),IF(W59=\"NP\",MAX(W$12:W$309)+COUNTIF((W$12:W$309),MAX(W$12:W$309)),MAX(W$12:W$309)+COUNTIF((W$12:W$309),MAX(W$12:W$309))+COUNTIF((W$12:W$309),\"NP\")),W59)))","v":""},{"$f":"IF(A59=\"x\",\"x\",IF(C59=\"\",\"\",IF(OR(X59=\"NP\",X59=\"DNS\"),X59,RANK(X59,X$12:X$309,1))))","v":""},{"$f":"IF(A59=\"x\",\"x\",IF(C59=\"\",\"\",IF(OR(AND(U59=\"NP\",U60=\"NP\"),AND(U59=\"DNS\",U60=\"DNS\")),U59,IF(AND(U59=\"NP\",U60=\"DNS\"),U59,IF(AND(U59=\"DNS\",U60=\"NP\"),U60,MIN(U59,U60))))))","v":""}]
[null,null,null,"II.pokus",null,null,null,{"$f":"IF($C59=\"\",\"\",IF(OR($E60=\"DNS\",$F60=\"DNS\",$G60=\"DNS\"),\"DNS\",IF(OR($E60=\"NP\",$F60=\"NP\",$G60=\"NP\"),\"NP\",IF(ISERROR(MEDIAN($E60:$G60)),\"DNS\",IF(COUNT($E60:$G60)<3,MAX($E60:$G60),MEDIAN($E60:$G60))))))","v":""},null,null,null,null,null,null,null,null,null,null,null,null,""]
[{"$f":"IF(Start!E25=\"\",\"\",\"x\")","v":""},20,{"$f":"IF(Start!C25=\"\",\"\",Start!C25)","v":""},"I.pokus",null,null,null,{"$f":"IF($C61=\"\",\"\",IF(OR($E61=\"DNS\",$F61=\"DNS\",$G61=\"DNS\"),\"DNS\",IF(OR($E61=\"NP\",$F61=\"NP\",$G61=\"NP\"),\"NP\",IF(ISERROR(MEDIAN($E61:$G61)),\"DNS\",IF(COUNT($E61:$G61)<3,MAX($E61:$G61),MEDIAN($E61:$G61))))))","v":""},null,null,null,null,null,null,null,null,null,null,null,null,"",{"$f":"IF(C61=\"x\",\"x\",IF(C61=\"\",\"\",IF(OR(W61=\"NP\",W61=\"DNS\"),IF(W61=\"NP\",MAX(W$12:W$309)+COUNTIF((W$12:W$309),MAX(W$12:W$309)),MAX(W$12:W$309)+COUNTIF((W$12:W$309),MAX(W$12:W$309))+COUNTIF((W$12:W$309),\"NP\")),W61)))","v":""},{"$f":"IF(A61=\"x\",\"x\",IF(C61=\"\",\"\",IF(OR(X61=\"NP\",X61=\"DNS\"),X61,RANK(X61,X$12:X$309,1))))","v":""},{"$f":"IF(A61=\"x\",\"x\",IF(C61=\"\",\"\",IF(OR(AND(U61=\"NP\",U62=\"NP\"),AND(U61=\"DNS\",U62=\"DNS\")),U61,IF(AND(U61=\"NP\",U62=\"DNS\"),U61,IF(AND(U61=\"DNS\",U62=\"NP\"),U62,MIN(U61,U62))))))","v":""}]
[null,null,null,"II.pokus",null,null,null,{"$f":"IF($C61=\"\",\"\",IF(OR($E62=\"DNS\",$F62=\"DNS\",$G62=\"DNS\"),\"DNS\",IF(OR($E62=\"NP\",$F62=\"NP\",$G62=\"NP\"),\"NP\",IF(ISERROR(MEDIAN($E62:$G62)),\"DNS\",IF(COUNT($E62:$G62)<3,MAX($E62:$G62),MEDIAN($E62:$G62))))))","v":""},null,null,null,null,null,null,null,null,null,null,null,null,""]
[null,"CELOSTÁTNÍ HRA PLAMEN"]
[]
[]
[null,"Výsledková listina č: 3"]
[null,"Štafeta 400 m CTIF",null,null,"Základem je čas naměřený od vydání signálu startéra do proběhnutí posledního člena cílem",null,null,null,"K úřednímu času se připočítávají trestné sekundy - za každý případ 10/20 sekund",null,null,null,null,null,null,null,null,null,null,null,"Výsledek soutěže"]
[null,null,null,null,null,null,null,null,"za nesprávné spojení koncovek (hadice, rozdělovač, proudnice)              (10 s)",null,null,"nesprávně překonaná překážka nebo nesprávně provedený úkon     (10 s)",null,null,"vyšlápnutí z dráhy oběma nohama     (10 s)",null,null,"mepřenesení proudnice přes cíl (20 s)"]
[null,null,null,null,null,null,null,null,null,null,null,null,null,null,null,null,null,null,null,null,"součet trest. Sekund a úředního času","počet bodů za umístění"]
[null,{"$f":"\"KATEGORIE: \"&Start!$N$2","v":"KATEGORIE: starší"},null,null,"I. časoměřič","II. časoměřič","III. časoměřič","úřední čas"]
[]
[null,"start. číslo","SOUTĚŽNÍ DRUŽSTVO","pokus"]
[]
[{"$f":"IF(Start!E26=\"\",\"\",\"x\")","v":""},21,{"$f":"IF(Start!C26=\"\",\"\",Start!C26)","v":""},"I.pokus",null,null,null,{"$f":"IF($C74=\"\",\"\",IF(OR($E74=\"DNS\",$F74=\"DNS\",$G74=\"DNS\"),\"DNS\",IF(OR($E74=\"NP\",$F74=\"NP\",$G74=\"NP\"),\"NP\",IF(ISERROR(MEDIAN($E74:$G74)),\"DNS\",IF(COUNT($E74:$G74)<3,MAX($E74:$G74),MEDIAN($E74:$G74))))))","v":""},null,null,null,null,null,null,null,null,null,null,null,null,{"$f":"IF(H74=\"\",\"\",IF(H74=\"NP\",\"NP\",IF(H74=\"DNS\",\"DNS\",SUM(I74:T74)+H74)))","v":""},{"$f":"IF(C74=\"x\",\"x\",IF(C74=\"\",\"\",IF(OR(W74=\"NP\",W74=\"DNS\"),IF(W74=\"NP\",MAX(W$12:W$309)+COUNTIF((W$12:W$309),MAX(W$12:W$309)),MAX(W$12:W$309)+COUNTIF((W$12:W$309),MAX(W$12:W$309))+COUNTIF((W$12:W$309),\"NP\")),W74)))","v":""},{"$f":"IF(A74=\"x\",\"x\",IF(C74=\"\",\"\",IF(OR(X74=\"NP\",X74=\"DNS\"),X74,RANK(X74,X$12:X$309,1))))","v":""},{"$f":"IF(A74=\"x\",\"x\",IF(C74=\"\",\"\",IF(OR(AND(U74=\"NP\",U75=\"NP\"),AND(U74=\"DNS\",U75=\"DNS\")),U74,IF(AND(U74=\"NP\",U75=\"DNS\"),U74,IF(AND(U74=\"DNS\",U75=\"NP\"),U75,MIN(U74,U75))))))","v":""}]
[null,null,null,"II.pokus",null,null,null,{"$f":"IF($C74=\"\",\"\",IF(OR($E75=\"DNS\",$F75=\"DNS\",$G75=\"DNS\"),\"DNS\",IF(OR($E75=\"NP\",$F75=\"NP\",$G75=\"NP\"),\"NP\",IF(ISERROR(MEDIAN($E75:$G75)),\"DNS\",IF(COUNT($E75:$G75)<3,MAX($E75:$G75),MEDIAN($E75:$G75))))))","v":""},null,null,null,null,null,null,null,null,null,null,null,null,""]
[{"$f":"IF(Start!E27=\"\",\"\",\"x\")","v":""},22,{"$f":"IF(Start!C27=\"\",\"\",Start!C27)","v":""},"I.pokus",null,null,null,{"$f":"IF($C76=\"\",\"\",IF(OR($E76=\"DNS\",$F76=\"DNS\",$G76=\"DNS\"),\"DNS\",IF(OR($E76=\"NP\",$F76=\"NP\",$G76=\"NP\"),\"NP\",IF(ISERROR(MEDIAN($E76:$G76)),\"DNS\",IF(COUNT($E76:$G76)<3,MAX($E76:$G76),MEDIAN($E76:$G76))))))","v":""},null,null,null,null,null,null,null,null,null,null,null,null,"",{"$f":"IF(C76=\"x\",\"x\",IF(C76=\"\",\"\",IF(OR(W76=\"NP\",W76=\"DNS\"),IF(W76=\"NP\",MAX(W$12:W$309)+COUNTIF((W$12:W$309),MAX(W$12:W$309)),MAX(W$12:W$309)+COUNTIF((W$12:W$309),MAX(W$12:W$309))+COUNTIF((W$12:W$309),\"NP\")),W76)))","v":""},{"$f":"IF(A76=\"x\",\"x\",IF(C76=\"\",\"\",IF(OR(X76=\"NP\",X76=\"DNS\"),X76,RANK(X76,X$12:X$309,1))))","v":""},{"$f":"IF(A76=\"x\",\"x\",IF(C76=\"\",\"\",IF(OR(AND(U76=\"NP\",U77=\"NP\"),AND(U76=\"DNS\",U77=\"DNS\")),U76,IF(AND(U76=\"NP\",U77=\"DNS\"),U76,IF(AND(U76=\"DNS\",U77=\"NP\"),U77,MIN(U76,U77))))))","v":""}]
[null,null,null,"II.pokus",null,null,null,{"$f":"IF($C76=\"\",\"\",IF(OR($E77=\"DNS\",$F77=\"DNS\",$G77=\"DNS\"),\"DNS\",IF(OR($E77=\"NP\",$F77=\"NP\",$G77=\"NP\"),\"NP\",IF(ISERROR(MEDIAN($E77:$G77)),\"DNS\",IF(COUNT($E77:$G77)<3,MAX($E77:$G77),MEDIAN($E77:$G77))))))","v":""},null,null,null,null,null,null,null,null,null,null,null,null,""]
[{"$f":"IF(Start!E28=\"\",\"\",\"x\")","v":""},23,{"$f":"IF(Start!C28=\"\",\"\",Start!C28)","v":""},"I.pokus",null,null,null,{"$f":"IF($C78=\"\",\"\",IF(OR($E78=\"DNS\",$F78=\"DNS\",$G78=\"DNS\"),\"DNS\",IF(OR($E78=\"NP\",$F78=\"NP\",$G78=\"NP\"),\"NP\",IF(ISERROR(MEDIAN($E78:$G78)),\"DNS\",IF(COUNT($E78:$G78)<3,MAX($E78:$G78),MEDIAN($E78:$G78))))))","v":""},null,null,null,null,null,null,null,null,null,null,null,null,"",{"$f":"IF(C78=\"x\",\"x\",IF(C78=\"\",\"\",IF(OR(W78=\"NP\",W78=\"DNS\"),IF(W78=\"NP\",MAX(W$12:W$309)+COUNTIF((W$12:W$309),MAX(W$12:W$309)),MAX(W$12:W$309)+COUNTIF((W$12:W$309),MAX(W$12:W$309))+COUNTIF((W$12:W$309),\"NP\")),W78)))","v":""},{"$f":"IF(A78=\"x\",\"x\",IF(C78=\"\",\"\",IF(OR(X78=\"NP\",X78=\"DNS\"),X78,RANK(X78,X$12:X$309,1))))","v":""},{"$f":"IF(A78=\"x\",\"x\",IF(C78=\"\",\"\",IF(OR(AND(U78=\"NP\",U79=\"NP\"),AND(U78=\"DNS\",U79=\"DNS\")),U78,IF(AND(U78=\"NP\",U79=\"DNS\"),U78,IF(AND(U78=\"DNS\",U79=\"NP\"),U79,MIN(U78,U79))))))","v":""}]
[null,null,null,"II.pokus",null,null,null,{"$f":"IF($C78=\"\",\"\",IF(OR($E79=\"DNS\",$F79=\"DNS\",$G79=\"DNS\"),\"DNS\",IF(OR($E79=\"NP\",$F79=\"NP\",$G79=\"NP\"),\"NP\",IF(ISERROR(MEDIAN($E79:$G79)),\"DNS\",IF(COUNT($E79:$G79)<3,MAX($E79:$G79),MEDIAN($E79:$G79))))))","v":""},null,null,null,null,null,null,null,null,null,null,null,null,""]
[{"$f":"IF(Start!E29=\"\",\"\",\"x\")","v":""},24,{"$f":"IF(Start!C29=\"\",\"\",Start!C29)","v":""},"I.pokus",null,null,null,{"$f":"IF($C80=\"\",\"\",IF(OR($E80=\"DNS\",$F80=\"DNS\",$G80=\"DNS\"),\"DNS\",IF(OR($E80=\"NP\",$F80=\"NP\",$G80=\"NP\"),\"NP\",IF(ISERROR(MEDIAN($E80:$G80)),\"DNS\",IF(COUNT($E80:$G80)<3,MAX($E80:$G80),MEDIAN($E80:$G80))))))","v":""},null,null,null,null,null,null,null,null,null,null,null,null,"",{"$f":"IF(C80=\"x\",\"x\",IF(C80=\"\",\"\",IF(OR(W80=\"NP\",W80=\"DNS\"),IF(W80=\"NP\",MAX(W$12:W$309)+COUNTIF((W$12:W$309),MAX(W$12:W$309)),MAX(W$12:W$309)+COUNTIF((W$12:W$309),MAX(W$12:W$309))+COUNTIF((W$12:W$309),\"NP\")),W80)))","v":""},{"$f":"IF(A80=\"x\",\"x\",IF(C80=\"\",\"\",IF(OR(X80=\"NP\",X80=\"DNS\"),X80,RANK(X80,X$12:X$309,1))))","v":""},{"$f":"IF(A80=\"x\",\"x\",IF(C80=\"\",\"\",IF(OR(AND(U80=\"NP\",U81=\"NP\"),AND(U80=\"DNS\",U81=\"DNS\")),U80,IF(AND(U80=\"NP\",U81=\"DNS\"),U80,IF(AND(U80=\"DNS\",U81=\"NP\"),U81,MIN(U80,U81))))))","v":""}]
[null,null,null,"II.pokus",null,null,null,{"$f":"IF($C80=\"\",\"\",IF(OR($E81=\"DNS\",$F81=\"DNS\",$G81=\"DNS\"),\"DNS\",IF(OR($E81=\"NP\",$F81=\"NP\",$G81=\"NP\"),\"NP\",IF(ISERROR(MEDIAN($E81:$G81)),\"DNS\",IF(COUNT($E81:$G81)<3,MAX($E81:$G81),MEDIAN($E81:$G81))))))","v":""},null,null,null,null,null,null,null,null,null,null,null,null,""]
[{"$f":"IF(Start!E30=\"\",\"\",\"x\")","v":""},25,{"$f":"IF(Start!C30=\"\",\"\",Start!C30)","v":""},"I.pokus",null,null,null,{"$f":"IF($C82=\"\",\"\",IF(OR($E82=\"DNS\",$F82=\"DNS\",$G82=\"DNS\"),\"DNS\",IF(OR($E82=\"NP\",$F82=\"NP\",$G82=\"NP\"),\"NP\",IF(ISERROR(MEDIAN($E82:$G82)),\"DNS\",IF(COUNT($E82:$G82)<3,MAX($E82:$G82),MEDIAN($E82:$G82))))))","v":""},null,null,null,null,null,null,null,null,null,null,null,null,"",{"$f":"IF(C82=\"x\",\"x\",IF(C82=\"\",\"\",IF(OR(W82=\"NP\",W82=\"DNS\"),IF(W82=\"NP\",MAX(W$12:W$309)+COUNTIF((W$12:W$309),MAX(W$12:W$309)),MAX(W$12:W$309)+COUNTIF((W$12:W$309),MAX(W$12:W$309))+COUNTIF((W$12:W$309),\"NP\")),W82)))","v":""},{"$f":"IF(A82=\"x\",\"x\",IF(C82=\"\",\"\",IF(OR(X82=\"NP\",X82=\"DNS\"),X82,RANK(X82,X$12:X$309,1))))","v":""},{"$f":"IF(A82=\"x\",\"x\",IF(C82=\"\",\"\",IF(OR(AND(U82=\"NP\",U83=\"NP\"),AND(U82=\"DNS\",U83=\"DNS\")),U82,IF(AND(U82=\"NP\",U83=\"DNS\"),U82,IF(AND(U82=\"DNS\",U83=\"NP\"),U83,MIN(U82,U83))))))","v":""}]
[null,null,null,"II.pokus",null,null,null,{"$f":"IF($C82=\"\",\"\",IF(OR($E83=\"DNS\",$F83=\"DNS\",$G83=\"DNS\"),\"DNS\",IF(OR($E83=\"NP\",$F83=\"NP\",$G83=\"NP\"),\"NP\",IF(ISERROR(MEDIAN($E83:$G83)),\"DNS\",IF(COUNT($E83:$G83)<3,MAX($E83:$G83),MEDIAN($E83:$G83))))))","v":""},null,null,null,null,null,null,null,null,null,null,null,null,""]
[{"$f":"IF(Start!I6=\"\",\"\",\"x\")","v":""},26,{"$f":"IF(Start!G6=\"\",\"\",Start!G6)","v":""},"I.pokus",null,null,null,{"$f":"IF($C84=\"\",\"\",IF(OR($E84=\"DNS\",$F84=\"DNS\",$G84=\"DNS\"),\"DNS\",IF(OR($E84=\"NP\",$F84=\"NP\",$G84=\"NP\"),\"NP\",IF(ISERROR(MEDIAN($E84:$G84)),\"DNS\",IF(COUNT($E84:$G84)<3,MAX($E84:$G84),MEDIAN($E84:$G84))))))","v":""},null,null,null,null,null,null,null,null,null,null,null,null,"",{"$f":"IF(C84=\"x\",\"x\",IF(C84=\"\",\"\",IF(OR(W84=\"NP\",W84=\"DNS\"),IF(W84=\"NP\",MAX(W$12:W$309)+COUNTIF((W$12:W$309),MAX(W$12:W$309)),MAX(W$12:W$309)+COUNTIF((W$12:W$309),MAX(W$12:W$309))+COUNTIF((W$12:W$309),\"NP\")),W84)))","v":""},{"$f":"IF(A84=\"x\",\"x\",IF(C84=\"\",\"\",IF(OR(X84=\"NP\",X84=\"DNS\"),X84,RANK(X84,X$12:X$309,1))))","v":""},{"$f":"IF(A84=\"x\",\"x\",IF(C84=\"\",\"\",IF(OR(AND(U84=\"NP\",U85=\"NP\"),AND(U84=\"DNS\",U85=\"DNS\")),U84,IF(AND(U84=\"NP\",U85=\"DNS\"),U84,IF(AND(U84=\"DNS\",U85=\"NP\"),U85,MIN(U84,U85))))))","v":""}]
[null,null,null,"II.pokus",null,null,null,{"$f":"IF($C84=\"\",\"\",IF(OR($E85=\"DNS\",$F85=\"DNS\",$G85=\"DNS\"),\"DNS\",IF(OR($E85=\"NP\",$F85=\"NP\",$G85=\"NP\"),\"NP\",IF(ISERROR(MEDIAN($E85:$G85)),\"DNS\",IF(COUNT($E85:$G85)<3,MAX($E85:$G85),MEDIAN($E85:$G85))))))","v":""},null,null,null,null,null,null,null,null,null,null,null,null,""]
[{"$f":"IF(Start!I7=\"\",\"\",\"x\")","v":""},27,{"$f":"IF(Start!G7=\"\",\"\",Start!G7)","v":""},"I.pokus",null,null,null,{"$f":"IF($C86=\"\",\"\",IF(OR($E86=\"DNS\",$F86=\"DNS\",$G86=\"DNS\"),\"DNS\",IF(OR($E86=\"NP\",$F86=\"NP\",$G86=\"NP\"),\"NP\",IF(ISERROR(MEDIAN($E86:$G86)),\"DNS\",IF(COUNT($E86:$G86)<3,MAX($E86:$G86),MEDIAN($E86:$G86))))))","v":""},null,null,null,null,null,null,null,null,null,null,null,null,"",{"$f":"IF(C86=\"x\",\"x\",IF(C86=\"\",\"\",IF(OR(W86=\"NP\",W86=\"DNS\"),IF(W86=\"NP\",MAX(W$12:W$309)+COUNTIF((W$12:W$309),MAX(W$12:W$309)),MAX(W$12:W$309)+COUNTIF((W$12:W$309),MAX(W$12:W$309))+COUNTIF((W$12:W$309),\"NP\")),W86)))","v":""},{"$f":"IF(A86=\"x\",\"x\",IF(C86=\"\",\"\",IF(OR(X86=\"NP\",X86=\"DNS\"),X86,RANK(X86,X$12:X$309,1))))","v":""},{"$f":"IF(A86=\"x\",\"x\",IF(C86=\"\",\"\",IF(OR(AND(U86=\"NP\",U87=\"NP\"),AND(U86=\"DNS\",U87=\"DNS\")),U86,IF(AND(U86=\"NP\",U87=\"DNS\"),U86,IF(AND(U86=\"DNS\",U87=\"NP\"),U87,MIN(U86,U87))))))","v":""}]
[null,null,null,"II.pokus",null,null,null,{"$f":"IF($C86=\"\",\"\",IF(OR($E87=\"DNS\",$F87=\"DNS\",$G87=\"DNS\"),\"DNS\",IF(OR($E87=\"NP\",$F87=\"NP\",$G87=\"NP\"),\"NP\",IF(ISERROR(MEDIAN($E87:$G87)),\"DNS\",IF(COUNT($E87:$G87)<3,MAX($E87:$G87),MEDIAN($E87:$G87))))))","v":""},null,null,null,null,null,null,null,null,null,null,null,null,""]
[{"$f":"IF(Start!I8=\"\",\"\",\"x\")","v":""},28,{"$f":"IF(Start!G8=\"\",\"\",Start!G8)","v":""},"I.pokus",null,null,null,{"$f":"IF($C88=\"\",\"\",IF(OR($E88=\"DNS\",$F88=\"DNS\",$G88=\"DNS\"),\"DNS\",IF(OR($E88=\"NP\",$F88=\"NP\",$G88=\"NP\"),\"NP\",IF(ISERROR(MEDIAN($E88:$G88)),\"DNS\",IF(COUNT($E88:$G88)<3,MAX($E88:$G88),MEDIAN($E88:$G88))))))","v":""},null,null,null,null,null,null,null,null,null,null,null,null,"",{"$f":"IF(C88=\"x\",\"x\",IF(C88=\"\",\"\",IF(OR(W88=\"NP\",W88=\"DNS\"),IF(W88=\"NP\",MAX(W$12:W$309)+COUNTIF((W$12:W$309),MAX(W$12:W$309)),MAX(W$12:W$309)+COUNTIF((W$12:W$309),MAX(W$12:W$309))+COUNTIF((W$12:W$309),\"NP\")),W88)))","v":""},{"$f":"IF(A88=\"x\",\"x\",IF(C88=\"\",\"\",IF(OR(X88=\"NP\",X88=\"DNS\"),X88,RANK(X88,X$12:X$309,1))))","v":""},{"$f":"IF(A88=\"x\",\"x\",IF(C88=\"\",\"\",IF(OR(AND(U88=\"NP\",U89=\"NP\"),AND(U88=\"DNS\",U89=\"DNS\")),U88,IF(AND(U88=\"NP\",U89=\"DNS\"),U88,IF(AND(U88=\"DNS\",U89=\"NP\"),U89,MIN(U88,U89))))))","v":""}]
[null,null,null,"II.pokus",null,null,null,{"$f":"IF($C88=\"\",\"\",IF(OR($E89=\"DNS\",$F89=\"DNS\",$G89=\"DNS\"),\"DNS\",IF(OR($E89=\"NP\",$F89=\"NP\",$G89=\"NP\"),\"NP\",IF(ISERROR(MEDIAN($E89:$G89)),\"DNS\",IF(COUNT($E89:$G89)<3,MAX($E89:$G89),MEDIAN($E89:$G89))))))","v":""},null,null,null,null,null,null,null,null,null,null,null,null,""]
[{"$f":"IF(Start!I9=\"\",\"\",\"x\")","v":""},29,{"$f":"IF(Start!G9=\"\",\"\",Start!G9)","v":""},"I.pokus",null,null,null,{"$f":"IF($C90=\"\",\"\",IF(OR($E90=\"DNS\",$F90=\"DNS\",$G90=\"DNS\"),\"DNS\",IF(OR($E90=\"NP\",$F90=\"NP\",$G90=\"NP\"),\"NP\",IF(ISERROR(MEDIAN($E90:$G90)),\"DNS\",IF(COUNT($E90:$G90)<3,MAX($E90:$G90),MEDIAN($E90:$G90))))))","v":""},null,null,null,null,null,null,null,null,null,null,null,null,"",{"$f":"IF(C90=\"x\",\"x\",IF(C90=\"\",\"\",IF(OR(W90=\"NP\",W90=\"DNS\"),IF(W90=\"NP\",MAX(W$12:W$309)+COUNTIF((W$12:W$309),MAX(W$12:W$309)),MAX(W$12:W$309)+COUNTIF((W$12:W$309),MAX(W$12:W$309))+COUNTIF((W$12:W$309),\"NP\")),W90)))","v":""},{"$f":"IF(A90=\"x\",\"x\",IF(C90=\"\",\"\",IF(OR(X90=\"NP\",X90=\"DNS\"),X90,RANK(X90,X$12:X$309,1))))","v":""},{"$f":"IF(A90=\"x\",\"x\",IF(C90=\"\",\"\",IF(OR(AND(U90=\"NP\",U91=\"NP\"),AND(U90=\"DNS\",U91=\"DNS\")),U90,IF(AND(U90=\"NP\",U91=\"DNS\"),U90,IF(AND(U90=\"DNS\",U91=\"NP\"),U91,MIN(U90,U91))))))","v":""}]
[null,null,null,"II.pokus",null,null,null,{"$f":"IF($C90=\"\",\"\",IF(OR($E91=\"DNS\",$F91=\"DNS\",$G91=\"DNS\"),\"DNS\",IF(OR($E91=\"NP\",$F91=\"NP\",$G91=\"NP\"),\"NP\",IF(ISERROR(MEDIAN($E91:$G91)),\"DNS\",IF(COUNT($E91:$G91)<3,MAX($E91:$G91),MEDIAN($E91:$G91))))))","v":""},null,null,null,null,null,null,null,null,null,null,null,null,""]
[{"$f":"IF(Start!I10=\"\",\"\",\"x\")","v":""},30,{"$f":"IF(Start!G10=\"\",\"\",Start!G10)","v":""},"I.pokus",null,null,null,{"$f":"IF($C92=\"\",\"\",IF(OR($E92=\"DNS\",$F92=\"DNS\",$G92=\"DNS\"),\"DNS\",IF(OR($E92=\"NP\",$F92=\"NP\",$G92=\"NP\"),\"NP\",IF(ISERROR(MEDIAN($E92:$G92)),\"DNS\",IF(COUNT($E92:$G92)<3,MAX($E92:$G92),MEDIAN($E92:$G92))))))","v":""},null,null,null,null,null,null,null,null,null,null,null,null,"",{"$f":"IF(C92=\"x\",\"x\",IF(C92=\"\",\"\",IF(OR(W92=\"NP\",W92=\"DNS\"),IF(W92=\"NP\",MAX(W$12:W$309)+COUNTIF((W$12:W$309),MAX(W$12:W$309)),MAX(W$12:W$309)+COUNTIF((W$12:W$309),MAX(W$12:W$309))+COUNTIF((W$12:W$309),\"NP\")),W92)))","v":""},{"$f":"IF(A92=\"x\",\"x\",IF(C92=\"\",\"\",IF(OR(X92=\"NP\",X92=\"DNS\"),X92,RANK(X92,X$12:X$309,1))))","v":""},{"$f":"IF(A92=\"x\",\"x\",IF(C92=\"\",\"\",IF(OR(AND(U92=\"NP\",U93=\"NP\"),AND(U92=\"DNS\",U93=\"DNS\")),U92,IF(AND(U92=\"NP\",U93=\"DNS\"),U92,IF(AND(U92=\"DNS\",U93=\"NP\"),U93,MIN(U92,U93))))))","v":""}]
[null,null,null,"II.pokus",null,null,null,{"$f":"IF($C92=\"\",\"\",IF(OR($E93=\"DNS\",$F93=\"DNS\",$G93=\"DNS\"),\"DNS\",IF(OR($E93=\"NP\",$F93=\"NP\",$G93=\"NP\"),\"NP\",IF(ISERROR(MEDIAN($E93:$G93)),\"DNS\",IF(COUNT($E93:$G93)<3,MAX($E93:$G93),MEDIAN($E93:$G93))))))","v":""},null,null,null,null,null,null,null,null,null,null,null,null,""]
[null,"CELOSTÁTNÍ HRA PLAMEN"]
[]
[]
[null,"Výsledková listina č: 4"]
[null,"Štafeta 400 m CTIF",null,null,"Základem je čas naměřený od vydání signálu startéra do proběhnutí posledního člena cílem",null,null,null,"K úřednímu času se připočítávají trestné sekundy - za každý případ 10/20 sekund",null,null,null,null,null,null,null,null,null,null,null,"Výsledek soutěže"]
[null,null,null,null,null,null,null,null,"za nesprávné spojení koncovek (hadice, rozdělovač, proudnice)              (10 s)",null,null,"nesprávně překonaná překážka nebo nesprávně provedený úkon     (10 s)",null,null,"vyšlápnutí z dráhy oběma nohama     (10 s)",null,null,"mepřenesení proudnice přes cíl (20 s)"]
[null,null,null,null,null,null,null,null,null,null,null,null,null,null,null,null,null,null,null,null,"součet trest. Sekund a úředního času","počet bodů za umístění"]
[null,{"$f":"\"KATEGORIE: \"&Start!$N$2","v":"KATEGORIE: starší"},null,null,"I. časoměřič","II. časoměřič","III. časoměřič","úřední čas"]
[]
[null,"start. číslo","SOUTĚŽNÍ DRUŽSTVO","pokus"]
[]
[{"$f":"IF(Start!I11=\"\",\"\",\"x\")","v":""},31,{"$f":"IF(Start!G11=\"\",\"\",Start!G11)","v":""},"I.pokus",null,null,null,{"$f":"IF($C105=\"\",\"\",IF(OR($E105=\"DNS\",$F105=\"DNS\",$G105=\"DNS\"),\"DNS\",IF(OR($E105=\"NP\",$F105=\"NP\",$G105=\"NP\"),\"NP\",IF(ISERROR(MEDIAN($E105:$G105)),\"DNS\",IF(COUNT($E105:$G105)<3,MAX($E105:$G105),MEDIAN($E105:$G105))))))","v":""},null,null,null,null,null,null,null,null,null,null,null,null,{"$f":"IF(H105=\"\",\"\",IF(H105=\"NP\",\"NP\",IF(H105=\"DNS\",\"DNS\",SUM(I105:T105)+H105)))","v":""},{"$f":"IF(C105=\"x\",\"x\",IF(C105=\"\",\"\",IF(OR(W105=\"NP\",W105=\"DNS\"),IF(W105=\"NP\",MAX(W$12:W$309)+COUNTIF((W$12:W$309),MAX(W$12:W$309)),MAX(W$12:W$309)+COUNTIF((W$12:W$309),MAX(W$12:W$309))+COUNTIF((W$12:W$309),\"NP\")),W105)))","v":""},{"$f":"IF(A105=\"x\",\"x\",IF(C105=\"\",\"\",IF(OR(X105=\"NP\",X105=\"DNS\"),X105,RANK(X105,X$12:X$309,1))))","v":""},{"$f":"IF(A105=\"x\",\"x\",IF(C105=\"\",\"\",IF(OR(AND(U105=\"NP\",U106=\"NP\"),AND(U105=\"DNS\",U106=\"DNS\")),U105,IF(AND(U105=\"NP\",U106=\"DNS\"),U105,IF(AND(U105=\"DNS\",U106=\"NP\"),U106,MIN(U105,U106))))))","v":""}]
[null,null,null,"II.pokus",null,null,null,{"$f":"IF($C105=\"\",\"\",IF(OR($E106=\"DNS\",$F106=\"DNS\",$G106=\"DNS\"),\"DNS\",IF(OR($E106=\"NP\",$F106=\"NP\",$G106=\"NP\"),\"NP\",IF(ISERROR(MEDIAN($E106:$G106)),\"DNS\",IF(COUNT($E106:$G106)<3,MAX($E106:$G106),MEDIAN($E106:$G106))))))","v":""},null,null,null,null,null,null,null,null,null,null,null,null,""]
[{"$f":"IF(Start!I12=\"\",\"\",\"x\")","v":""},32,{"$f":"IF(Start!G12=\"\",\"\",Start!G12)","v":""},"I.pokus",null,null,null,{"$f":"IF($C107=\"\",\"\",IF(OR($E107=\"DNS\",$F107=\"DNS\",$G107=\"DNS\"),\"DNS\",IF(OR($E107=\"NP\",$F107=\"NP\",$G107=\"NP\"),\"NP\",IF(ISERROR(MEDIAN($E107:$G107)),\"DNS\",IF(COUNT($E107:$G107)<3,MAX($E107:$G107),MEDIAN($E107:$G107))))))","v":""},null,null,null,null,null,null,null,null,null,null,null,null,"",{"$f":"IF(C107=\"x\",\"x\",IF(C107=\"\",\"\",IF(OR(W107=\"NP\",W107=\"DNS\"),IF(W107=\"NP\",MAX(W$12:W$309)+COUNTIF((W$12:W$309),MAX(W$12:W$309)),MAX(W$12:W$309)+COUNTIF((W$12:W$309),MAX(W$12:W$309))+COUNTIF((W$12:W$309),\"NP\")),W107)))","v":""},{"$f":"IF(A107=\"x\",\"x\",IF(C107=\"\",\"\",IF(OR(X107=\"NP\",X107=\"DNS\"),X107,RANK(X107,X$12:X$309,1))))","v":""},{"$f":"IF(A107=\"x\",\"x\",IF(C107=\"\",\"\",IF(OR(AND(U107=\"NP\",U108=\"NP\"),AND(U107=\"DNS\",U108=\"DNS\")),U107,IF(AND(U107=\"NP\",U108=\"DNS\"),U107,IF(AND(U107=\"DNS\",U108=\"NP\"),U108,MIN(U107,U108))))))","v":""}]
[null,null,null,"II.pokus",null,null,null,{"$f":"IF($C107=\"\",\"\",IF(OR($E108=\"DNS\",$F108=\"DNS\",$G108=\"DNS\"),\"DNS\",IF(OR($E108=\"NP\",$F108=\"NP\",$G108=\"NP\"),\"NP\",IF(ISERROR(MEDIAN($E108:$G108)),\"DNS\",IF(COUNT($E108:$G108)<3,MAX($E108:$G108),MEDIAN($E108:$G108))))))","v":""},null,null,null,null,null,null,null,null,null,null,null,null,""]
[{"$f":"IF(Start!I13=\"\",\"\",\"x\")","v":""},33,{"$f":"IF(Start!G13=\"\",\"\",Start!G13)","v":""},"I.pokus",null,null,null,{"$f":"IF($C109=\"\",\"\",IF(OR($E109=\"DNS\",$F109=\"DNS\",$G109=\"DNS\"),\"DNS\",IF(OR($E109=\"NP\",$F109=\"NP\",$G109=\"NP\"),\"NP\",IF(ISERROR(MEDIAN($E109:$G109)),\"DNS\",IF(COUNT($E109:$G109)<3,MAX($E109:$G109),MEDIAN($E109:$G109))))))","v":""},null,null,null,null,null,null,null,null,null,null,null,null,"",{"$f":"IF(C109=\"x\",\"x\",IF(C109=\"\",\"\",IF(OR(W109=\"NP\",W109=\"DNS\"),IF(W109=\"NP\",MAX(W$12:W$309)+COUNTIF((W$12:W$309),MAX(W$12:W$309)),MAX(W$12:W$309)+COUNTIF((W$12:W$309),MAX(W$12:W$309))+COUNTIF((W$12:W$309),\"NP\")),W109)))","v":""},{"$f":"IF(A109=\"x\",\"x\",IF(C109=\"\",\"\",IF(OR(X109=\"NP\",X109=\"DNS\"),X109,RANK(X109,X$12:X$309,1))))","v":""},{"$f":"IF(A109=\"x\",\"x\",IF(C109=\"\",\"\",IF(OR(AND(U109=\"NP\",U110=\"NP\"),AND(U109=\"DNS\",U110=\"DNS\")),U109,IF(AND(U109=\"NP\",U110=\"DNS\"),U109,IF(AND(U109=\"DNS\",U110=\"NP\"),U110,MIN(U109,U110))))))","v":""}]
[null,null,null,"II.pokus",null,null,null,{"$f":"IF($C109=\"\",\"\",IF(OR($E110=\"DNS\",$F110=\"DNS\",$G110=\"DNS\"),\"DNS\",IF(OR($E110=\"NP\",$F110=\"NP\",$G110=\"NP\"),\"NP\",IF(ISERROR(MEDIAN($E110:$G110)),\"DNS\",IF(COUNT($E110:$G110)<3,MAX($E110:$G110),MEDIAN($E110:$G110))))))","v":""},null,null,null,null,null,null,null,null,null,null,null,null,""]
[{"$f":"IF(Start!I14=\"\",\"\",\"x\")","v":""},34,{"$f":"IF(Start!G14=\"\",\"\",Start!G14)","v":""},"I.pokus",null,null,null,{"$f":"IF($C111=\"\",\"\",IF(OR($E111=\"DNS\",$F111=\"DNS\",$G111=\"DNS\"),\"DNS\",IF(OR($E111=\"NP\",$F111=\"NP\",$G111=\"NP\"),\"NP\",IF(ISERROR(MEDIAN($E111:$G111)),\"DNS\",IF(COUNT($E111:$G111)<3,MAX($E111:$G111),MEDIAN($E111:$G111))))))","v":""},null,null,null,null,null,null,null,null,null,null,null,null,"",{"$f":"IF(C111=\"x\",\"x\",IF(C111=\"\",\"\",IF(OR(W111=\"NP\",W111=\"DNS\"),IF(W111=\"NP\",MAX(W$12:W$309)+COUNTIF((W$12:W$309),MAX(W$12:W$309)),MAX(W$12:W$309)+COUNTIF((W$12:W$309),MAX(W$12:W$309))+COUNTIF((W$12:W$309),\"NP\")),W111)))","v":""},{"$f":"IF(A111=\"x\",\"x\",IF(C111=\"\",\"\",IF(OR(X111=\"NP\",X111=\"DNS\"),X111,RANK(X111,X$12:X$309,1))))","v":""},{"$f":"IF(A111=\"x\",\"x\",IF(C111=\"\",\"\",IF(OR(AND(U111=\"NP\",U112=\"NP\"),AND(U111=\"DNS\",U112=\"DNS\")),U111,IF(AND(U111=\"NP\",U112=\"DNS\"),U111,IF(AND(U111=\"DNS\",U112=\"NP\"),U112,MIN(U111,U112))))))","v":""}]
[null,null,null,"II.pokus",null,null,null,{"$f":"IF($C111=\"\",\"\",IF(OR($E112=\"DNS\",$F112=\"DNS\",$G112=\"DNS\"),\"DNS\",IF(OR($E112=\"NP\",$F112=\"NP\",$G112=\"NP\"),\"NP\",IF(ISERROR(MEDIAN($E112:$G112)),\"DNS\",IF(COUNT($E112:$G112)<3,MAX($E112:$G112),MEDIAN($E112:$G112))))))","v":""},null,null,null,null,null,null,null,null,null,null,null,null,""]
[{"$f":"IF(Start!I15=\"\",\"\",\"x\")","v":""},35,{"$f":"IF(Start!G15=\"\",\"\",Start!G15)","v":""},"I.pokus",null,null,null,{"$f":"IF($C113=\"\",\"\",IF(OR($E113=\"DNS\",$F113=\"DNS\",$G113=\"DNS\"),\"DNS\",IF(OR($E113=\"NP\",$F113=\"NP\",$G113=\"NP\"),\"NP\",IF(ISERROR(MEDIAN($E113:$G113)),\"DNS\",IF(COUNT($E113:$G113)<3,MAX($E113:$G113),MEDIAN($E113:$G113))))))","v":""},null,null,null,null,null,null,null,null,null,null,null,null,"",{"$f":"IF(C113=\"x\",\"x\",IF(C113=\"\",\"\",IF(OR(W113=\"NP\",W113=\"DNS\"),IF(W113=\"NP\",MAX(W$12:W$309)+COUNTIF((W$12:W$309),MAX(W$12:W$309)),MAX(W$12:W$309)+COUNTIF((W$12:W$309),MAX(W$12:W$309))+COUNTIF((W$12:W$309),\"NP\")),W113)))","v":""},{"$f":"IF(A113=\"x\",\"x\",IF(C113=\"\",\"\",IF(OR(X113=\"NP\",X113=\"DNS\"),X113,RANK(X113,X$12:X$309,1))))","v":""},{"$f":"IF(A113=\"x\",\"x\",IF(C113=\"\",\"\",IF(OR(AND(U113=\"NP\",U114=\"NP\"),AND(U113=\"DNS\",U114=\"DNS\")),U113,IF(AND(U113=\"NP\",U114=\"DNS\"),U113,IF(AND(U113=\"DNS\",U114=\"NP\"),U114,MIN(U113,U114))))))","v":""}]
[null,null,null,"II.pokus",null,null,null,{"$f":"IF($C113=\"\",\"\",IF(OR($E114=\"DNS\",$F114=\"DNS\",$G114=\"DNS\"),\"DNS\",IF(OR($E114=\"NP\",$F114=\"NP\",$G114=\"NP\"),\"NP\",IF(ISERROR(MEDIAN($E114:$G114)),\"DNS\",IF(COUNT($E114:$G114)<3,MAX($E114:$G114),MEDIAN($E114:$G114))))))","v":""},null,null,null,null,null,null,null,null,null,null,null,null,""]
[{"$f":"IF(Start!I16=\"\",\"\",\"x\")","v":""},36,{"$f":"IF(Start!G16=\"\",\"\",Start!G16)","v":""},"I.pokus",null,null,null,{"$f":"IF($C115=\"\",\"\",IF(OR($E115=\"DNS\",$F115=\"DNS\",$G115=\"DNS\"),\"DNS\",IF(OR($E115=\"NP\",$F115=\"NP\",$G115=\"NP\"),\"NP\",IF(ISERROR(MEDIAN($E115:$G115)),\"DNS\",IF(COUNT($E115:$G115)<3,MAX($E115:$G115),MEDIAN($E115:$G115))))))","v":""},null,null,null,null,null,null,null,null,null,null,null,null,"",{"$f":"IF(C115=\"x\",\"x\",IF(C115=\"\",\"\",IF(OR(W115=\"NP\",W115=\"DNS\"),IF(W115=\"NP\",MAX(W$12:W$309)+COUNTIF((W$12:W$309),MAX(W$12:W$309)),MAX(W$12:W$309)+COUNTIF((W$12:W$309),MAX(W$12:W$309))+COUNTIF((W$12:W$309),\"NP\")),W115)))","v":""},{"$f":"IF(A115=\"x\",\"x\",IF(C115=\"\",\"\",IF(OR(X115=\"NP\",X115=\"DNS\"),X115,RANK(X115,X$12:X$309,1))))","v":""},{"$f":"IF(A115=\"x\",\"x\",IF(C115=\"\",\"\",IF(OR(AND(U115=\"NP\",U116=\"NP\"),AND(U115=\"DNS\",U116=\"DNS\")),U115,IF(AND(U115=\"NP\",U116=\"DNS\"),U115,IF(AND(U115=\"DNS\",U116=\"NP\"),U116,MIN(U115,U116))))))","v":""}]
[null,null,null,"II.pokus",null,null,null,{"$f":"IF($C115=\"\",\"\",IF(OR($E116=\"DNS\",$F116=\"DNS\",$G116=\"DNS\"),\"DNS\",IF(OR($E116=\"NP\",$F116=\"NP\",$G116=\"NP\"),\"NP\",IF(ISERROR(MEDIAN($E116:$G116)),\"DNS\",IF(COUNT($E116:$G116)<3,MAX($E116:$G116),MEDIAN($E116:$G116))))))","v":""},null,null,null,null,null,null,null,null,null,null,null,null,""]
[{"$f":"IF(Start!I17=\"\",\"\",\"x\")","v":""},37,{"$f":"IF(Start!G17=\"\",\"\",Start!G17)","v":""},"I.pokus",null,null,null,{"$f":"IF($C117=\"\",\"\",IF(OR($E117=\"DNS\",$F117=\"DNS\",$G117=\"DNS\"),\"DNS\",IF(OR($E117=\"NP\",$F117=\"NP\",$G117=\"NP\"),\"NP\",IF(ISERROR(MEDIAN($E117:$G117)),\"DNS\",IF(COUNT($E117:$G117)<3,MAX($E117:$G117),MEDIAN($E117:$G117))))))","v":""},null,null,null,null,null,null,null,null,null,null,null,null,"",{"$f":"IF(C117=\"x\",\"x\",IF(C117=\"\",\"\",IF(OR(W117=\"NP\",W117=\"DNS\"),IF(W117=\"NP\",MAX(W$12:W$309)+COUNTIF((W$12:W$309),MAX(W$12:W$309)),MAX(W$12:W$309)+COUNTIF((W$12:W$309),MAX(W$12:W$309))+COUNTIF((W$12:W$309),\"NP\")),W117)))","v":""},{"$f":"IF(A117=\"x\",\"x\",IF(C117=\"\",\"\",IF(OR(X117=\"NP\",X117=\"DNS\"),X117,RANK(X117,X$12:X$309,1))))","v":""},{"$f":"IF(A117=\"x\",\"x\",IF(C117=\"\",\"\",IF(OR(AND(U117=\"NP\",U118=\"NP\"),AND(U117=\"DNS\",U118=\"DNS\")),U117,IF(AND(U117=\"NP\",U118=\"DNS\"),U117,IF(AND(U117=\"DNS\",U118=\"NP\"),U118,MIN(U117,U118))))))","v":""}]
[null,null,null,"II.pokus",null,null,null,{"$f":"IF($C117=\"\",\"\",IF(OR($E118=\"DNS\",$F118=\"DNS\",$G118=\"DNS\"),\"DNS\",IF(OR($E118=\"NP\",$F118=\"NP\",$G118=\"NP\"),\"NP\",IF(ISERROR(MEDIAN($E118:$G118)),\"DNS\",IF(COUNT($E118:$G118)<3,MAX($E118:$G118),MEDIAN($E118:$G118))))))","v":""},null,null,null,null,null,null,null,null,null,null,null,null,""]
[{"$f":"IF(Start!I18=\"\",\"\",\"x\")","v":""},38,{"$f":"IF(Start!G18=\"\",\"\",Start!G18)","v":""},"I.pokus",null,null,null,{"$f":"IF($C119=\"\",\"\",IF(OR($E119=\"DNS\",$F119=\"DNS\",$G119=\"DNS\"),\"DNS\",IF(OR($E119=\"NP\",$F119=\"NP\",$G119=\"NP\"),\"NP\",IF(ISERROR(MEDIAN($E119:$G119)),\"DNS\",IF(COUNT($E119:$G119)<3,MAX($E119:$G119),MEDIAN($E119:$G119))))))","v":""},null,null,null,null,null,null,null,null,null,null,null,null,"",{"$f":"IF(C119=\"x\",\"x\",IF(C119=\"\",\"\",IF(OR(W119=\"NP\",W119=\"DNS\"),IF(W119=\"NP\",MAX(W$12:W$309)+COUNTIF((W$12:W$309),MAX(W$12:W$309)),MAX(W$12:W$309)+COUNTIF((W$12:W$309),MAX(W$12:W$309))+COUNTIF((W$12:W$309),\"NP\")),W119)))","v":""},{"$f":"IF(A119=\"x\",\"x\",IF(C119=\"\",\"\",IF(OR(X119=\"NP\",X119=\"DNS\"),X119,RANK(X119,X$12:X$309,1))))","v":""},{"$f":"IF(A119=\"x\",\"x\",IF(C119=\"\",\"\",IF(OR(AND(U119=\"NP\",U120=\"NP\"),AND(U119=\"DNS\",U120=\"DNS\")),U119,IF(AND(U119=\"NP\",U120=\"DNS\"),U119,IF(AND(U119=\"DNS\",U120=\"NP\"),U120,MIN(U119,U120))))))","v":""}]
[null,null,null,"II.pokus",null,null,null,{"$f":"IF($C119=\"\",\"\",IF(OR($E120=\"DNS\",$F120=\"DNS\",$G120=\"DNS\"),\"DNS\",IF(OR($E120=\"NP\",$F120=\"NP\",$G120=\"NP\"),\"NP\",IF(ISERROR(MEDIAN($E120:$G120)),\"DNS\",IF(COUNT($E120:$G120)<3,MAX($E120:$G120),MEDIAN($E120:$G120))))))","v":""},null,null,null,null,null,null,null,null,null,null,null,null,""]
[{"$f":"IF(Start!I19=\"\",\"\",\"x\")","v":""},39,{"$f":"IF(Start!G19=\"\",\"\",Start!G19)","v":""},"I.pokus",null,null,null,{"$f":"IF($C121=\"\",\"\",IF(OR($E121=\"DNS\",$F121=\"DNS\",$G121=\"DNS\"),\"DNS\",IF(OR($E121=\"NP\",$F121=\"NP\",$G121=\"NP\"),\"NP\",IF(ISERROR(MEDIAN($E121:$G121)),\"DNS\",IF(COUNT($E121:$G121)<3,MAX($E121:$G121),MEDIAN($E121:$G121))))))","v":""},null,null,null,null,null,null,null,null,null,null,null,null,"",{"$f":"IF(C121=\"x\",\"x\",IF(C121=\"\",\"\",IF(OR(W121=\"NP\",W121=\"DNS\"),IF(W121=\"NP\",MAX(W$12:W$309)+COUNTIF((W$12:W$309),MAX(W$12:W$309)),MAX(W$12:W$309)+COUNTIF((W$12:W$309),MAX(W$12:W$309))+COUNTIF((W$12:W$309),\"NP\")),W121)))","v":""},{"$f":"IF(A121=\"x\",\"x\",IF(C121=\"\",\"\",IF(OR(X121=\"NP\",X121=\"DNS\"),X121,RANK(X121,X$12:X$309,1))))","v":""},{"$f":"IF(A121=\"x\",\"x\",IF(C121=\"\",\"\",IF(OR(AND(U121=\"NP\",U122=\"NP\"),AND(U121=\"DNS\",U122=\"DNS\")),U121,IF(AND(U121=\"NP\",U122=\"DNS\"),U121,IF(AND(U121=\"DNS\",U122=\"NP\"),U122,MIN(U121,U122))))))","v":""}]
[null,null,null,"II.pokus",null,null,null,{"$f":"IF($C121=\"\",\"\",IF(OR($E122=\"DNS\",$F122=\"DNS\",$G122=\"DNS\"),\"DNS\",IF(OR($E122=\"NP\",$F122=\"NP\",$G122=\"NP\"),\"NP\",IF(ISERROR(MEDIAN($E122:$G122)),\"DNS\",IF(COUNT($E122:$G122)<3,MAX($E122:$G122),MEDIAN($E122:$G122))))))","v":""},null,null,null,null,null,null,null,null,null,null,null,null,""]
[{"$f":"IF(Start!I20=\"\",\"\",\"x\")","v":""},40,{"$f":"IF(Start!G20=\"\",\"\",Start!G20)","v":""},"I.pokus",null,null,null,{"$f":"IF($C123=\"\",\"\",IF(OR($E123=\"DNS\",$F123=\"DNS\",$G123=\"DNS\"),\"DNS\",IF(OR($E123=\"NP\",$F123=\"NP\",$G123=\"NP\"),\"NP\",IF(ISERROR(MEDIAN($E123:$G123)),\"DNS\",IF(COUNT($E123:$G123)<3,MAX($E123:$G123),MEDIAN($E123:$G123))))))","v":""},null,null,null,null,null,null,null,null,null,null,null,null,"",{"$f":"IF(C123=\"x\",\"x\",IF(C123=\"\",\"\",IF(OR(W123=\"NP\",W123=\"DNS\"),IF(W123=\"NP\",MAX(W$12:W$309)+COUNTIF((W$12:W$309),MAX(W$12:W$309)),MAX(W$12:W$309)+COUNTIF((W$12:W$309),MAX(W$12:W$309))+COUNTIF((W$12:W$309),\"NP\")),W123)))","v":""},{"$f":"IF(A123=\"x\",\"x\",IF(C123=\"\",\"\",IF(OR(X123=\"NP\",X123=\"DNS\"),X123,RANK(X123,X$12:X$309,1))))","v":""},{"$f":"IF(A123=\"x\",\"x\",IF(C123=\"\",\"\",IF(OR(AND(U123=\"NP\",U124=\"NP\"),AND(U123=\"DNS\",U124=\"DNS\")),U123,IF(AND(U123=\"NP\",U124=\"DNS\"),U123,IF(AND(U123=\"DNS\",U124=\"NP\"),U124,MIN(U123,U124))))))","v":""}]
[null,null,null,"II.pokus",null,null,null,{"$f":"IF($C123=\"\",\"\",IF(OR($E124=\"DNS\",$F124=\"DNS\",$G124=\"DNS\"),\"DNS\",IF(OR($E124=\"NP\",$F124=\"NP\",$G124=\"NP\"),\"NP\",IF(ISERROR(MEDIAN($E124:$G124)),\"DNS\",IF(COUNT($E124:$G124)<3,MAX($E124:$G124),MEDIAN($E124:$G124))))))","v":""},null,null,null,null,null,null,null,null,null,null,null,null,""]
[null,"CELOSTÁTNÍ HRA PLAMEN"]
[]
[]
[null,"Výsledková listina č: 5"]
[null,"Štafeta 400 m CTIF",null,null,"Základem je čas naměřený od vydání signálu startéra do proběhnutí posledního člena cílem",null,null,null,"K úřednímu času se připočítávají trestné sekundy - za každý případ 10/20 sekund",null,null,null,null,null,null,null,null,null,null,null,"Výsledek soutěže"]
[null,null,null,null,null,null,null,null,"za nesprávné spojení koncovek (hadice, rozdělovač, proudnice)              (10 s)",null,null,"nesprávně překonaná překážka nebo nesprávně provedený úkon     (10 s)",null,null,"vyšlápnutí z dráhy oběma nohama     (10 s)",null,null,"mepřenesení proudnice přes cíl (20 s)"]
[null,null,null,null,null,null,null,null,null,null,null,null,null,null,null,null,null,null,null,null,"součet trest. Sekund a úředního času","počet bodů za umístění"]
[null,{"$f":"\"KATEGORIE: \"&Start!$N$2","v":"KATEGORIE: starší"},null,null,"I. časoměřič","II. časoměřič","III. časoměřič","úřední čas"]
[]
[null,"start. číslo","SOUTĚŽNÍ DRUŽSTVO","pokus"]
[]
[{"$f":"IF(Start!I21=\"\",\"\",\"x\")","v":""},41,{"$f":"IF(Start!G21=\"\",\"\",Start!G21)","v":""},"I.pokus",null,null,null,{"$f":"IF($C136=\"\",\"\",IF(OR($E136=\"DNS\",$F136=\"DNS\",$G136=\"DNS\"),\"DNS\",IF(OR($E136=\"NP\",$F136=\"NP\",$G136=\"NP\"),\"NP\",IF(ISERROR(MEDIAN($E136:$G136)),\"DNS\",IF(COUNT($E136:$G136)<3,MAX($E136:$G136),MEDIAN($E136:$G136))))))","v":""},null,null,null,null,null,null,null,null,null,null,null,null,{"$f":"IF(H136=\"\",\"\",IF(H136=\"NP\",\"NP\",IF(H136=\"DNS\",\"DNS\",SUM(I136:T136)+H136)))","v":""},{"$f":"IF(C136=\"x\",\"x\",IF(C136=\"\",\"\",IF(OR(W136=\"NP\",W136=\"DNS\"),IF(W136=\"NP\",MAX(W$12:W$309)+COUNTIF((W$12:W$309),MAX(W$12:W$309)),MAX(W$12:W$309)+COUNTIF((W$12:W$309),MAX(W$12:W$309))+COUNTIF((W$12:W$309),\"NP\")),W136)))","v":""},{"$f":"IF(A136=\"x\",\"x\",IF(C136=\"\",\"\",IF(OR(X136=\"NP\",X136=\"DNS\"),X136,RANK(X136,X$12:X$309,1))))","v":""},{"$f":"IF(A136=\"x\",\"x\",IF(C136=\"\",\"\",IF(OR(AND(U136=\"NP\",U137=\"NP\"),AND(U136=\"DNS\",U137=\"DNS\")),U136,IF(AND(U136=\"NP\",U137=\"DNS\"),U136,IF(AND(U136=\"DNS\",U137=\"NP\"),U137,MIN(U136,U137))))))","v":""}]
[null,null,null,"II.pokus",null,null,null,{"$f":"IF($C136=\"\",\"\",IF(OR($E137=\"DNS\",$F137=\"DNS\",$G137=\"DNS\"),\"DNS\",IF(OR($E137=\"NP\",$F137=\"NP\",$G137=\"NP\"),\"NP\",IF(ISERROR(MEDIAN($E137:$G137)),\"DNS\",IF(COUNT($E137:$G137)<3,MAX($E137:$G137),MEDIAN($E137:$G137))))))","v":""},null,null,null,null,null,null,null,null,null,null,null,null,""]
[{"$f":"IF(Start!I22=\"\",\"\",\"x\")","v":""},42,{"$f":"IF(Start!G22=\"\",\"\",Start!G22)","v":""},"I.pokus",null,null,null,{"$f":"IF($C138=\"\",\"\",IF(OR($E138=\"DNS\",$F138=\"DNS\",$G138=\"DNS\"),\"DNS\",IF(OR($E138=\"NP\",$F138=\"NP\",$G138=\"NP\"),\"NP\",IF(ISERROR(MEDIAN($E138:$G138)),\"DNS\",IF(COUNT($E138:$G138)<3,MAX($E138:$G138),MEDIAN($E138:$G138))))))","v":""},null,null,null,null,null,null,null,null,null,null,null,null,"",{"$f":"IF(C138=\"x\",\"x\",IF(C138=\"\",\"\",IF(OR(W138=\"NP\",W138=\"DNS\"),IF(W138=\"NP\",MAX(W$12:W$309)+COUNTIF((W$12:W$309),MAX(W$12:W$309)),MAX(W$12:W$309)+COUNTIF((W$12:W$309),MAX(W$12:W$309))+COUNTIF((W$12:W$309),\"NP\")),W138)))","v":""},{"$f":"IF(A138=\"x\",\"x\",IF(C138=\"\",\"\",IF(OR(X138=\"NP\",X138=\"DNS\"),X138,RANK(X138,X$12:X$309,1))))","v":""},{"$f":"IF(A138=\"x\",\"x\",IF(C138=\"\",\"\",IF(OR(AND(U138=\"NP\",U139=\"NP\"),AND(U138=\"DNS\",U139=\"DNS\")),U138,IF(AND(U138=\"NP\",U139=\"DNS\"),U138,IF(AND(U138=\"DNS\",U139=\"NP\"),U139,MIN(U138,U139))))))","v":""}]
[null,null,null,"II.pokus",null,null,null,{"$f":"IF($C138=\"\",\"\",IF(OR($E139=\"DNS\",$F139=\"DNS\",$G139=\"DNS\"),\"DNS\",IF(OR($E139=\"NP\",$F139=\"NP\",$G139=\"NP\"),\"NP\",IF(ISERROR(MEDIAN($E139:$G139)),\"DNS\",IF(COUNT($E139:$G139)<3,MAX($E139:$G139),MEDIAN($E139:$G139))))))","v":""},null,null,null,null,null,null,null,null,null,null,null,null,""]
[{"$f":"IF(Start!I23=\"\",\"\",\"x\")","v":""},43,{"$f":"IF(Start!G23=\"\",\"\",Start!G23)","v":""},"I.pokus",null,null,null,{"$f":"IF($C140=\"\",\"\",IF(OR($E140=\"DNS\",$F140=\"DNS\",$G140=\"DNS\"),\"DNS\",IF(OR($E140=\"NP\",$F140=\"NP\",$G140=\"NP\"),\"NP\",IF(ISERROR(MEDIAN($E140:$G140)),\"DNS\",IF(COUNT($E140:$G140)<3,MAX($E140:$G140),MEDIAN($E140:$G140))))))","v":""},null,null,null,null,null,null,null,null,null,null,null,null,"",{"$f":"IF(C140=\"x\",\"x\",IF(C140=\"\",\"\",IF(OR(W140=\"NP\",W140=\"DNS\"),IF(W140=\"NP\",MAX(W$12:W$309)+COUNTIF((W$12:W$309),MAX(W$12:W$309)),MAX(W$12:W$309)+COUNTIF((W$12:W$309),MAX(W$12:W$309))+COUNTIF((W$12:W$309),\"NP\")),W140)))","v":""},{"$f":"IF(A140=\"x\",\"x\",IF(C140=\"\",\"\",IF(OR(X140=\"NP\",X140=\"DNS\"),X140,RANK(X140,X$12:X$309,1))))","v":""},{"$f":"IF(A140=\"x\",\"x\",IF(C140=\"\",\"\",IF(OR(AND(U140=\"NP\",U141=\"NP\"),AND(U140=\"DNS\",U141=\"DNS\")),U140,IF(AND(U140=\"NP\",U141=\"DNS\"),U140,IF(AND(U140=\"DNS\",U141=\"NP\"),U141,MIN(U140,U141))))))","v":""}]
[null,null,null,"II.pokus",null,null,null,{"$f":"IF($C140=\"\",\"\",IF(OR($E141=\"DNS\",$F141=\"DNS\",$G141=\"DNS\"),\"DNS\",IF(OR($E141=\"NP\",$F141=\"NP\",$G141=\"NP\"),\"NP\",IF(ISERROR(MEDIAN($E141:$G141)),\"DNS\",IF(COUNT($E141:$G141)<3,MAX($E141:$G141),MEDIAN($E141:$G141))))))","v":""},null,null,null,null,null,null,null,null,null,null,null,null,""]
[{"$f":"IF(Start!I24=\"\",\"\",\"x\")","v":""},44,{"$f":"IF(Start!G24=\"\",\"\",Start!G24)","v":""},"I.pokus",null,null,null,{"$f":"IF($C142=\"\",\"\",IF(OR($E142=\"DNS\",$F142=\"DNS\",$G142=\"DNS\"),\"DNS\",IF(OR($E142=\"NP\",$F142=\"NP\",$G142=\"NP\"),\"NP\",IF(ISERROR(MEDIAN($E142:$G142)),\"DNS\",IF(COUNT($E142:$G142)<3,MAX($E142:$G142),MEDIAN($E142:$G142))))))","v":""},null,null,null,null,null,null,null,null,null,null,null,null,"",{"$f":"IF(C142=\"x\",\"x\",IF(C142=\"\",\"\",IF(OR(W142=\"NP\",W142=\"DNS\"),IF(W142=\"NP\",MAX(W$12:W$309)+COUNTIF((W$12:W$309),MAX(W$12:W$309)),MAX(W$12:W$309)+COUNTIF((W$12:W$309),MAX(W$12:W$309))+COUNTIF((W$12:W$309),\"NP\")),W142)))","v":""},{"$f":"IF(A142=\"x\",\"x\",IF(C142=\"\",\"\",IF(OR(X142=\"NP\",X142=\"DNS\"),X142,RANK(X142,X$12:X$309,1))))","v":""},{"$f":"IF(A142=\"x\",\"x\",IF(C142=\"\",\"\",IF(OR(AND(U142=\"NP\",U143=\"NP\"),AND(U142=\"DNS\",U143=\"DNS\")),U142,IF(AND(U142=\"NP\",U143=\"DNS\"),U142,IF(AND(U142=\"DNS\",U143=\"NP\"),U143,MIN(U142,U143))))))","v":""}]
[null,null,null,"II.pokus",null,null,null,{"$f":"IF($C142=\"\",\"\",IF(OR($E143=\"DNS\",$F143=\"DNS\",$G143=\"DNS\"),\"DNS\",IF(OR($E143=\"NP\",$F143=\"NP\",$G143=\"NP\"),\"NP\",IF(ISERROR(MEDIAN($E143:$G143)),\"DNS\",IF(COUNT($E143:$G143)<3,MAX($E143:$G143),MEDIAN($E143:$G143))))))","v":""},null,null,null,null,null,null,null,null,null,null,null,null,""]
[{"$f":"IF(Start!I25=\"\",\"\",\"x\")","v":""},45,{"$f":"IF(Start!G25=\"\",\"\",Start!G25)","v":""},"I.pokus",null,null,null,{"$f":"IF($C144=\"\",\"\",IF(OR($E144=\"DNS\",$F144=\"DNS\",$G144=\"DNS\"),\"DNS\",IF(OR($E144=\"NP\",$F144=\"NP\",$G144=\"NP\"),\"NP\",IF(ISERROR(MEDIAN($E144:$G144)),\"DNS\",IF(COUNT($E144:$G144)<3,MAX($E144:$G144),MEDIAN($E144:$G144))))))","v":""},null,null,null,null,null,null,null,null,null,null,null,null,"",{"$f":"IF(C144=\"x\",\"x\",IF(C144=\"\",\"\",IF(OR(W144=\"NP\",W144=\"DNS\"),IF(W144=\"NP\",MAX(W$12:W$309)+COUNTIF((W$12:W$309),MAX(W$12:W$309)),MAX(W$12:W$309)+COUNTIF((W$12:W$309),MAX(W$12:W$309))+COUNTIF((W$12:W$309),\"NP\")),W144)))","v":""},{"$f":"IF(A144=\"x\",\"x\",IF(C144=\"\",\"\",IF(OR(X144=\"NP\",X144=\"DNS\"),X144,RANK(X144,X$12:X$309,1))))","v":""},{"$f":"IF(A144=\"x\",\"x\",IF(C144=\"\",\"\",IF(OR(AND(U144=\"NP\",U145=\"NP\"),AND(U144=\"DNS\",U145=\"DNS\")),U144,IF(AND(U144=\"NP\",U145=\"DNS\"),U144,IF(AND(U144=\"DNS\",U145=\"NP\"),U145,MIN(U144,U145))))))","v":""}]
[null,null,null,"II.pokus",null,null,null,{"$f":"IF($C144=\"\",\"\",IF(OR($E145=\"DNS\",$F145=\"DNS\",$G145=\"DNS\"),\"DNS\",IF(OR($E145=\"NP\",$F145=\"NP\",$G145=\"NP\"),\"NP\",IF(ISERROR(MEDIAN($E145:$G145)),\"DNS\",IF(COUNT($E145:$G145)<3,MAX($E145:$G145),MEDIAN($E145:$G145))))))","v":""},null,null,null,null,null,null,null,null,null,null,null,null,""]
[{"$f":"IF(Start!I26=\"\",\"\",\"x\")","v":""},46,{"$f":"IF(Start!G26=\"\",\"\",Start!G26)","v":""},"I.pokus",null,null,null,{"$f":"IF($C146=\"\",\"\",IF(OR($E146=\"DNS\",$F146=\"DNS\",$G146=\"DNS\"),\"DNS\",IF(OR($E146=\"NP\",$F146=\"NP\",$G146=\"NP\"),\"NP\",IF(ISERROR(MEDIAN($E146:$G146)),\"DNS\",IF(COUNT($E146:$G146)<3,MAX($E146:$G146),MEDIAN($E146:$G146))))))","v":""},null,null,null,null,null,null,null,null,null,null,null,null,"",{"$f":"IF(C146=\"x\",\"x\",IF(C146=\"\",\"\",IF(OR(W146=\"NP\",W146=\"DNS\"),IF(W146=\"NP\",MAX(W$12:W$309)+COUNTIF((W$12:W$309),MAX(W$12:W$309)),MAX(W$12:W$309)+COUNTIF((W$12:W$309),MAX(W$12:W$309))+COUNTIF((W$12:W$309),\"NP\")),W146)))","v":""},{"$f":"IF(A146=\"x\",\"x\",IF(C146=\"\",\"\",IF(OR(X146=\"NP\",X146=\"DNS\"),X146,RANK(X146,X$12:X$309,1))))","v":""},{"$f":"IF(A146=\"x\",\"x\",IF(C146=\"\",\"\",IF(OR(AND(U146=\"NP\",U147=\"NP\"),AND(U146=\"DNS\",U147=\"DNS\")),U146,IF(AND(U146=\"NP\",U147=\"DNS\"),U146,IF(AND(U146=\"DNS\",U147=\"NP\"),U147,MIN(U146,U147))))))","v":""}]
[null,null,null,"II.pokus",null,null,null,{"$f":"IF($C146=\"\",\"\",IF(OR($E147=\"DNS\",$F147=\"DNS\",$G147=\"DNS\"),\"DNS\",IF(OR($E147=\"NP\",$F147=\"NP\",$G147=\"NP\"),\"NP\",IF(ISERROR(MEDIAN($E147:$G147)),\"DNS\",IF(COUNT($E147:$G147)<3,MAX($E147:$G147),MEDIAN($E147:$G147))))))","v":""},null,null,null,null,null,null,null,null,null,null,null,null,""]
[{"$f":"IF(Start!I27=\"\",\"\",\"x\")","v":""},47,{"$f":"IF(Start!G27=\"\",\"\",Start!G27)","v":""},"I.pokus",null,null,null,{"$f":"IF($C148=\"\",\"\",IF(OR($E148=\"DNS\",$F148=\"DNS\",$G148=\"DNS\"),\"DNS\",IF(OR($E148=\"NP\",$F148=\"NP\",$G148=\"NP\"),\"NP\",IF(ISERROR(MEDIAN($E148:$G148)),\"DNS\",IF(COUNT($E148:$G148)<3,MAX($E148:$G148),MEDIAN($E148:$G148))))))","v":""},null,null,null,null,null,null,null,null,null,null,null,null,"",{"$f":"IF(C148=\"x\",\"x\",IF(C148=\"\",\"\",IF(OR(W148=\"NP\",W148=\"DNS\"),IF(W148=\"NP\",MAX(W$12:W$309)+COUNTIF((W$12:W$309),MAX(W$12:W$309)),MAX(W$12:W$309)+COUNTIF((W$12:W$309),MAX(W$12:W$309))+COUNTIF((W$12:W$309),\"NP\")),W148)))","v":""},{"$f":"IF(A148=\"x\",\"x\",IF(C148=\"\",\"\",IF(OR(X148=\"NP\",X148=\"DNS\"),X148,RANK(X148,X$12:X$309,1))))","v":""},{"$f":"IF(A148=\"x\",\"x\",IF(C148=\"\",\"\",IF(OR(AND(U148=\"NP\",U149=\"NP\"),AND(U148=\"DNS\",U149=\"DNS\")),U148,IF(AND(U148=\"NP\",U149=\"DNS\"),U148,IF(AND(U148=\"DNS\",U149=\"NP\"),U149,MIN(U148,U149))))))","v":""}]
[null,null,null,"II.pokus",null,null,null,{"$f":"IF($C148=\"\",\"\",IF(OR($E149=\"DNS\",$F149=\"DNS\",$G149=\"DNS\"),\"DNS\",IF(OR($E149=\"NP\",$F149=\"NP\",$G149=\"NP\"),\"NP\",IF(ISERROR(MEDIAN($E149:$G149)),\"DNS\",IF(COUNT($E149:$G149)<3,MAX($E149:$G149),MEDIAN($E149:$G149))))))","v":""},null,null,null,null,null,null,null,null,null,null,null,null,""]
[{"$f":"IF(Start!I28=\"\",\"\",\"x\")","v":""},48,{"$f":"IF(Start!G28=\"\",\"\",Start!G28)","v":""},"I.pokus",null,null,null,{"$f":"IF($C150=\"\",\"\",IF(OR($E150=\"DNS\",$F150=\"DNS\",$G150=\"DNS\"),\"DNS\",IF(OR($E150=\"NP\",$F150=\"NP\",$G150=\"NP\"),\"NP\",IF(ISERROR(MEDIAN($E150:$G150)),\"DNS\",IF(COUNT($E150:$G150)<3,MAX($E150:$G150),MEDIAN($E150:$G150))))))","v":""},null,null,null,null,null,null,null,null,null,null,null,null,"",{"$f":"IF(C150=\"x\",\"x\",IF(C150=\"\",\"\",IF(OR(W150=\"NP\",W150=\"DNS\"),IF(W150=\"NP\",MAX(W$12:W$309)+COUNTIF((W$12:W$309),MAX(W$12:W$309)),MAX(W$12:W$309)+COUNTIF((W$12:W$309),MAX(W$12:W$309))+COUNTIF((W$12:W$309),\"NP\")),W150)))","v":""},{"$f":"IF(A150=\"x\",\"x\",IF(C150=\"\",\"\",IF(OR(X150=\"NP\",X150=\"DNS\"),X150,RANK(X150,X$12:X$309,1))))","v":""},{"$f":"IF(A150=\"x\",\"x\",IF(C150=\"\",\"\",IF(OR(AND(U150=\"NP\",U151=\"NP\"),AND(U150=\"DNS\",U151=\"DNS\")),U150,IF(AND(U150=\"NP\",U151=\"DNS\"),U150,IF(AND(U150=\"DNS\",U151=\"NP\"),U151,MIN(U150,U151))))))","v":""}]
[null,null,null,"II.pokus",null,null,null,{"$f":"IF($C150=\"\",\"\",IF(OR($E151=\"DNS\",$F151=\"DNS\",$G151=\"DNS\"),\"DNS\",IF(OR($E151=\"NP\",$F151=\"NP\",$G151=\"NP\"),\"NP\",IF(ISERROR(MEDIAN($E151:$G151)),\"DNS\",IF(COUNT($E151:$G151)<3,MAX($E151:$G151),MEDIAN($E151:$G151))))))","v":""},null,null,null,null,null,null,null,null,null,null,null,null,""]
[{"$f":"IF(Start!I29=\"\",\"\",\"x\")","v":""},49,{"$f":"IF(Start!G29=\"\",\"\",Start!G29)","v":""},"I.pokus",null,null,null,{"$f":"IF($C152=\"\",\"\",IF(OR($E152=\"DNS\",$F152=\"DNS\",$G152=\"DNS\"),\"DNS\",IF(OR($E152=\"NP\",$F152=\"NP\",$G152=\"NP\"),\"NP\",IF(ISERROR(MEDIAN($E152:$G152)),\"DNS\",IF(COUNT($E152:$G152)<3,MAX($E152:$G152),MEDIAN($E152:$G152))))))","v":""},null,null,null,null,null,null,null,null,null,null,null,null,"",{"$f":"IF(C152=\"x\",\"x\",IF(C152=\"\",\"\",IF(OR(W152=\"NP\",W152=\"DNS\"),IF(W152=\"NP\",MAX(W$12:W$309)+COUNTIF((W$12:W$309),MAX(W$12:W$309)),MAX(W$12:W$309)+COUNTIF((W$12:W$309),MAX(W$12:W$309))+COUNTIF((W$12:W$309),\"NP\")),W152)))","v":""},{"$f":"IF(A152=\"x\",\"x\",IF(C152=\"\",\"\",IF(OR(X152=\"NP\",X152=\"DNS\"),X152,RANK(X152,X$12:X$309,1))))","v":""},{"$f":"IF(A152=\"x\",\"x\",IF(C152=\"\",\"\",IF(OR(AND(U152=\"NP\",U153=\"NP\"),AND(U152=\"DNS\",U153=\"DNS\")),U152,IF(AND(U152=\"NP\",U153=\"DNS\"),U152,IF(AND(U152=\"DNS\",U153=\"NP\"),U153,MIN(U152,U153))))))","v":""}]
[null,null,null,"II.pokus",null,null,null,{"$f":"IF($C152=\"\",\"\",IF(OR($E153=\"DNS\",$F153=\"DNS\",$G153=\"DNS\"),\"DNS\",IF(OR($E153=\"NP\",$F153=\"NP\",$G153=\"NP\"),\"NP\",IF(ISERROR(MEDIAN($E153:$G153)),\"DNS\",IF(COUNT($E153:$G153)<3,MAX($E153:$G153),MEDIAN($E153:$G153))))))","v":""},null,null,null,null,null,null,null,null,null,null,null,null,""]
[{"$f":"IF(Start!I30=\"\",\"\",\"x\")","v":""},50,{"$f":"IF(Start!G30=\"\",\"\",Start!G30)","v":""},"I.pokus",null,null,null,{"$f":"IF($C154=\"\",\"\",IF(OR($E154=\"DNS\",$F154=\"DNS\",$G154=\"DNS\"),\"DNS\",IF(OR($E154=\"NP\",$F154=\"NP\",$G154=\"NP\"),\"NP\",IF(ISERROR(MEDIAN($E154:$G154)),\"DNS\",IF(COUNT($E154:$G154)<3,MAX($E154:$G154),MEDIAN($E154:$G154))))))","v":""},null,null,null,null,null,null,null,null,null,null,null,null,"",{"$f":"IF(C154=\"x\",\"x\",IF(C154=\"\",\"\",IF(OR(W154=\"NP\",W154=\"DNS\"),IF(W154=\"NP\",MAX(W$12:W$309)+COUNTIF((W$12:W$309),MAX(W$12:W$309)),MAX(W$12:W$309)+COUNTIF((W$12:W$309),MAX(W$12:W$309))+COUNTIF((W$12:W$309),\"NP\")),W154)))","v":""},{"$f":"IF(A154=\"x\",\"x\",IF(C154=\"\",\"\",IF(OR(X154=\"NP\",X154=\"DNS\"),X154,RANK(X154,X$12:X$309,1))))","v":""},{"$f":"IF(A154=\"x\",\"x\",IF(C154=\"\",\"\",IF(OR(AND(U154=\"NP\",U155=\"NP\"),AND(U154=\"DNS\",U155=\"DNS\")),U154,IF(AND(U154=\"NP\",U155=\"DNS\"),U154,IF(AND(U154=\"DNS\",U155=\"NP\"),U155,MIN(U154,U155))))))","v":""}]
[null,null,null,"II.pokus",null,null,null,{"$f":"IF($C154=\"\",\"\",IF(OR($E155=\"DNS\",$F155=\"DNS\",$G155=\"DNS\"),\"DNS\",IF(OR($E155=\"NP\",$F155=\"NP\",$G155=\"NP\"),\"NP\",IF(ISERROR(MEDIAN($E155:$G155)),\"DNS\",IF(COUNT($E155:$G155)<3,MAX($E155:$G155),MEDIAN($E155:$G155))))))","v":""},null,null,null,null,null,null,null,null,null,null,null,null,""]
[null,"CELOSTÁTNÍ HRA PLAMEN"]
[]
[]
[null,"Výsledková listina č: 6"]
[null,"Štafeta 400 m CTIF",null,null,"Základem je čas naměřený od vydání signálu startéra do proběhnutí posledního člena cílem",null,null,null,"K úřednímu času se připočítávají trestné sekundy - za každý případ 10/20 sekund",null,null,null,null,null,null,null,null,null,null,null,"Výsledek soutěže"]
[null,null,null,null,null,null,null,null,"za nesprávné spojení koncovek (hadice, rozdělovač, proudnice)              (10 s)",null,null,"nesprávně překonaná překážka nebo nesprávně provedený úkon     (10 s)",null,null,"vyšlápnutí z dráhy oběma nohama     (10 s)",null,null,"mepřenesení proudnice přes cíl (20 s)"]
[null,null,null,null,null,null,null,null,null,null,null,null,null,null,null,null,null,null,null,null,"součet trest. Sekund a úředního času","počet bodů za umístění"]
[null,{"$f":"\"KATEGORIE: \"&Start!$N$2","v":"KATEGORIE: starší"},null,null,"I. časoměřič","II. časoměřič","III. časoměřič","úřední čas"]
[]
[null,"start. číslo","SOUTĚŽNÍ DRUŽSTVO","pokus"]
[]
[{"$f":"IF(Start!M6=\"\",\"\",\"x\")","v":""},51,{"$f":"IF(Start!K6=\"\",\"\",Start!K6)","v":""},"I.pokus",null,null,null,{"$f":"IF($C167=\"\",\"\",IF(OR($E167=\"DNS\",$F167=\"DNS\",$G167=\"DNS\"),\"DNS\",IF(OR($E167=\"NP\",$F167=\"NP\",$G167=\"NP\"),\"NP\",IF(ISERROR(MEDIAN($E167:$G167)),\"DNS\",IF(COUNT($E167:$G167)<3,MAX($E167:$G167),MEDIAN($E167:$G167))))))","v":""},null,null,null,null,null,null,null,null,null,null,null,null,{"$f":"IF(H167=\"\",\"\",IF(H167=\"NP\",\"NP\",IF(H167=\"DNS\",\"DNS\",SUM(I167:T167)+H167)))","v":""},{"$f":"IF(C167=\"x\",\"x\",IF(C167=\"\",\"\",IF(OR(W167=\"NP\",W167=\"DNS\"),IF(W167=\"NP\",MAX(W$12:W$309)+COUNTIF((W$12:W$309),MAX(W$12:W$309)),MAX(W$12:W$309)+COUNTIF((W$12:W$309),MAX(W$12:W$309))+COUNTIF((W$12:W$309),\"NP\")),W167)))","v":""},{"$f":"IF(A167=\"x\",\"x\",IF(C167=\"\",\"\",IF(OR(X167=\"NP\",X167=\"DNS\"),X167,RANK(X167,X$12:X$309,1))))","v":""},{"$f":"IF(A167=\"x\",\"x\",IF(C167=\"\",\"\",IF(OR(AND(U167=\"NP\",U168=\"NP\"),AND(U167=\"DNS\",U168=\"DNS\")),U167,IF(AND(U167=\"NP\",U168=\"DNS\"),U167,IF(AND(U167=\"DNS\",U168=\"NP\"),U168,MIN(U167,U168))))))","v":""}]
[null,null,null,"II.pokus",null,null,null,{"$f":"IF($C167=\"\",\"\",IF(OR($E168=\"DNS\",$F168=\"DNS\",$G168=\"DNS\"),\"DNS\",IF(OR($E168=\"NP\",$F168=\"NP\",$G168=\"NP\"),\"NP\",IF(ISERROR(MEDIAN($E168:$G168)),\"DNS\",IF(COUNT($E168:$G168)<3,MAX($E168:$G168),MEDIAN($E168:$G168))))))","v":""},null,null,null,null,null,null,null,null,null,null,null,null,""]
[{"$f":"IF(Start!M7=\"\",\"\",\"x\")","v":""},52,{"$f":"IF(Start!K7=\"\",\"\",Start!K7)","v":""},"I.pokus",null,null,null,{"$f":"IF($C169=\"\",\"\",IF(OR($E169=\"DNS\",$F169=\"DNS\",$G169=\"DNS\"),\"DNS\",IF(OR($E169=\"NP\",$F169=\"NP\",$G169=\"NP\"),\"NP\",IF(ISERROR(MEDIAN($E169:$G169)),\"DNS\",IF(COUNT($E169:$G169)<3,MAX($E169:$G169),MEDIAN($E169:$G169))))))","v":""},null,null,null,null,null,null,null,null,null,null,null,null,"",{"$f":"IF(C169=\"x\",\"x\",IF(C169=\"\",\"\",IF(OR(W169=\"NP\",W169=\"DNS\"),IF(W169=\"NP\",MAX(W$12:W$309)+COUNTIF((W$12:W$309),MAX(W$12:W$309)),MAX(W$12:W$309)+COUNTIF((W$12:W$309),MAX(W$12:W$309))+COUNTIF((W$12:W$309),\"NP\")),W169)))","v":""},{"$f":"IF(A169=\"x\",\"x\",IF(C169=\"\",\"\",IF(OR(X169=\"NP\",X169=\"DNS\"),X169,RANK(X169,X$12:X$309,1))))","v":""},{"$f":"IF(A169=\"x\",\"x\",IF(C169=\"\",\"\",IF(OR(AND(U169=\"NP\",U170=\"NP\"),AND(U169=\"DNS\",U170=\"DNS\")),U169,IF(AND(U169=\"NP\",U170=\"DNS\"),U169,IF(AND(U169=\"DNS\",U170=\"NP\"),U170,MIN(U169,U170))))))","v":""}]
[null,null,null,"II.pokus",null,null,null,{"$f":"IF($C169=\"\",\"\",IF(OR($E170=\"DNS\",$F170=\"DNS\",$G170=\"DNS\"),\"DNS\",IF(OR($E170=\"NP\",$F170=\"NP\",$G170=\"NP\"),\"NP\",IF(ISERROR(MEDIAN($E170:$G170)),\"DNS\",IF(COUNT($E170:$G170)<3,MAX($E170:$G170),MEDIAN($E170:$G170))))))","v":""},null,null,null,null,null,null,null,null,null,null,null,null,""]
[{"$f":"IF(Start!M8=\"\",\"\",\"x\")","v":""},53,{"$f":"IF(Start!K8=\"\",\"\",Start!K8)","v":""},"I.pokus",null,null,null,{"$f":"IF($C171=\"\",\"\",IF(OR($E171=\"DNS\",$F171=\"DNS\",$G171=\"DNS\"),\"DNS\",IF(OR($E171=\"NP\",$F171=\"NP\",$G171=\"NP\"),\"NP\",IF(ISERROR(MEDIAN($E171:$G171)),\"DNS\",IF(COUNT($E171:$G171)<3,MAX($E171:$G171),MEDIAN($E171:$G171))))))","v":""},null,null,null,null,null,null,null,null,null,null,null,null,"",{"$f":"IF(C171=\"x\",\"x\",IF(C171=\"\",\"\",IF(OR(W171=\"NP\",W171=\"DNS\"),IF(W171=\"NP\",MAX(W$12:W$309)+COUNTIF((W$12:W$309),MAX(W$12:W$309)),MAX(W$12:W$309)+COUNTIF((W$12:W$309),MAX(W$12:W$309))+COUNTIF((W$12:W$309),\"NP\")),W171)))","v":""},{"$f":"IF(A171=\"x\",\"x\",IF(C171=\"\",\"\",IF(OR(X171=\"NP\",X171=\"DNS\"),X171,RANK(X171,X$12:X$309,1))))","v":""},{"$f":"IF(A171=\"x\",\"x\",IF(C171=\"\",\"\",IF(OR(AND(U171=\"NP\",U172=\"NP\"),AND(U171=\"DNS\",U172=\"DNS\")),U171,IF(AND(U171=\"NP\",U172=\"DNS\"),U171,IF(AND(U171=\"DNS\",U172=\"NP\"),U172,MIN(U171,U172))))))","v":""}]
[null,null,null,"II.pokus",null,null,null,{"$f":"IF($C171=\"\",\"\",IF(OR($E172=\"DNS\",$F172=\"DNS\",$G172=\"DNS\"),\"DNS\",IF(OR($E172=\"NP\",$F172=\"NP\",$G172=\"NP\"),\"NP\",IF(ISERROR(MEDIAN($E172:$G172)),\"DNS\",IF(COUNT($E172:$G172)<3,MAX($E172:$G172),MEDIAN($E172:$G172))))))","v":""},null,null,null,null,null,null,null,null,null,null,null,null,""]
[{"$f":"IF(Start!M9=\"\",\"\",\"x\")","v":""},54,{"$f":"IF(Start!K9=\"\",\"\",Start!K9)","v":""},"I.pokus",null,null,null,{"$f":"IF($C173=\"\",\"\",IF(OR($E173=\"DNS\",$F173=\"DNS\",$G173=\"DNS\"),\"DNS\",IF(OR($E173=\"NP\",$F173=\"NP\",$G173=\"NP\"),\"NP\",IF(ISERROR(MEDIAN($E173:$G173)),\"DNS\",IF(COUNT($E173:$G173)<3,MAX($E173:$G173),MEDIAN($E173:$G173))))))","v":""},null,null,null,null,null,null,null,null,null,null,null,null,"",{"$f":"IF(C173=\"x\",\"x\",IF(C173=\"\",\"\",IF(OR(W173=\"NP\",W173=\"DNS\"),IF(W173=\"NP\",MAX(W$12:W$309)+COUNTIF((W$12:W$309),MAX(W$12:W$309)),MAX(W$12:W$309)+COUNTIF((W$12:W$309),MAX(W$12:W$309))+COUNTIF((W$12:W$309),\"NP\")),W173)))","v":""},{"$f":"IF(A173=\"x\",\"x\",IF(C173=\"\",\"\",IF(OR(X173=\"NP\",X173=\"DNS\"),X173,RANK(X173,X$12:X$309,1))))","v":""},{"$f":"IF(A173=\"x\",\"x\",IF(C173=\"\",\"\",IF(OR(AND(U173=\"NP\",U174=\"NP\"),AND(U173=\"DNS\",U174=\"DNS\")),U173,IF(AND(U173=\"NP\",U174=\"DNS\"),U173,IF(AND(U173=\"DNS\",U174=\"NP\"),U174,MIN(U173,U174))))))","v":""}]
[null,null,null,"II.pokus",null,null,null,{"$f":"IF($C173=\"\",\"\",IF(OR($E174=\"DNS\",$F174=\"DNS\",$G174=\"DNS\"),\"DNS\",IF(OR($E174=\"NP\",$F174=\"NP\",$G174=\"NP\"),\"NP\",IF(ISERROR(MEDIAN($E174:$G174)),\"DNS\",IF(COUNT($E174:$G174)<3,MAX($E174:$G174),MEDIAN($E174:$G174))))))","v":""},null,null,null,null,null,null,null,null,null,null,null,null,""]
[{"$f":"IF(Start!M10=\"\",\"\",\"x\")","v":""},55,{"$f":"IF(Start!K10=\"\",\"\",Start!K10)","v":""},"I.pokus",null,null,null,{"$f":"IF($C175=\"\",\"\",IF(OR($E175=\"DNS\",$F175=\"DNS\",$G175=\"DNS\"),\"DNS\",IF(OR($E175=\"NP\",$F175=\"NP\",$G175=\"NP\"),\"NP\",IF(ISERROR(MEDIAN($E175:$G175)),\"DNS\",IF(COUNT($E175:$G175)<3,MAX($E175:$G175),MEDIAN($E175:$G175))))))","v":""},null,null,null,null,null,null,null,null,null,null,null,null,"",{"$f":"IF(C175=\"x\",\"x\",IF(C175=\"\",\"\",IF(OR(W175=\"NP\",W175=\"DNS\"),IF(W175=\"NP\",MAX(W$12:W$309)+COUNTIF((W$12:W$309),MAX(W$12:W$309)),MAX(W$12:W$309)+COUNTIF((W$12:W$309),MAX(W$12:W$309))+COUNTIF((W$12:W$309),\"NP\")),W175)))","v":""},{"$f":"IF(A175=\"x\",\"x\",IF(C175=\"\",\"\",IF(OR(X175=\"NP\",X175=\"DNS\"),X175,RANK(X175,X$12:X$309,1))))","v":""},{"$f":"IF(A175=\"x\",\"x\",IF(C175=\"\",\"\",IF(OR(AND(U175=\"NP\",U176=\"NP\"),AND(U175=\"DNS\",U176=\"DNS\")),U175,IF(AND(U175=\"NP\",U176=\"DNS\"),U175,IF(AND(U175=\"DNS\",U176=\"NP\"),U176,MIN(U175,U176))))))","v":""}]
[null,null,null,"II.pokus",null,null,null,{"$f":"IF($C175=\"\",\"\",IF(OR($E176=\"DNS\",$F176=\"DNS\",$G176=\"DNS\"),\"DNS\",IF(OR($E176=\"NP\",$F176=\"NP\",$G176=\"NP\"),\"NP\",IF(ISERROR(MEDIAN($E176:$G176)),\"DNS\",IF(COUNT($E176:$G176)<3,MAX($E176:$G176),MEDIAN($E176:$G176))))))","v":""},null,null,null,null,null,null,null,null,null,null,null,null,""]
[{"$f":"IF(Start!M11=\"\",\"\",\"x\")","v":""},56,{"$f":"IF(Start!K11=\"\",\"\",Start!K11)","v":""},"I.pokus",null,null,null,{"$f":"IF($C177=\"\",\"\",IF(OR($E177=\"DNS\",$F177=\"DNS\",$G177=\"DNS\"),\"DNS\",IF(OR($E177=\"NP\",$F177=\"NP\",$G177=\"NP\"),\"NP\",IF(ISERROR(MEDIAN($E177:$G177)),\"DNS\",IF(COUNT($E177:$G177)<3,MAX($E177:$G177),MEDIAN($E177:$G177))))))","v":""},null,null,null,null,null,null,null,null,null,null,null,null,"",{"$f":"IF(C177=\"x\",\"x\",IF(C177=\"\",\"\",IF(OR(W177=\"NP\",W177=\"DNS\"),IF(W177=\"NP\",MAX(W$12:W$309)+COUNTIF((W$12:W$309),MAX(W$12:W$309)),MAX(W$12:W$309)+COUNTIF((W$12:W$309),MAX(W$12:W$309))+COUNTIF((W$12:W$309),\"NP\")),W177)))","v":""},{"$f":"IF(A177=\"x\",\"x\",IF(C177=\"\",\"\",IF(OR(X177=\"NP\",X177=\"DNS\"),X177,RANK(X177,X$12:X$309,1))))","v":""},{"$f":"IF(A177=\"x\",\"x\",IF(C177=\"\",\"\",IF(OR(AND(U177=\"NP\",U178=\"NP\"),AND(U177=\"DNS\",U178=\"DNS\")),U177,IF(AND(U177=\"NP\",U178=\"DNS\"),U177,IF(AND(U177=\"DNS\",U178=\"NP\"),U178,MIN(U177,U178))))))","v":""}]
[null,null,null,"II.pokus",null,null,null,{"$f":"IF($C177=\"\",\"\",IF(OR($E178=\"DNS\",$F178=\"DNS\",$G178=\"DNS\"),\"DNS\",IF(OR($E178=\"NP\",$F178=\"NP\",$G178=\"NP\"),\"NP\",IF(ISERROR(MEDIAN($E178:$G178)),\"DNS\",IF(COUNT($E178:$G178)<3,MAX($E178:$G178),MEDIAN($E178:$G178))))))","v":""},null,null,null,null,null,null,null,null,null,null,null,null,""]
[{"$f":"IF(Start!M12=\"\",\"\",\"x\")","v":""},57,{"$f":"IF(Start!K12=\"\",\"\",Start!K12)","v":""},"I.pokus",null,null,null,{"$f":"IF($C179=\"\",\"\",IF(OR($E179=\"DNS\",$F179=\"DNS\",$G179=\"DNS\"),\"DNS\",IF(OR($E179=\"NP\",$F179=\"NP\",$G179=\"NP\"),\"NP\",IF(ISERROR(MEDIAN($E179:$G179)),\"DNS\",IF(COUNT($E179:$G179)<3,MAX($E179:$G179),MEDIAN($E179:$G179))))))","v":""},null,null,null,null,null,null,null,null,null,null,null,null,"",{"$f":"IF(C179=\"x\",\"x\",IF(C179=\"\",\"\",IF(OR(W179=\"NP\",W179=\"DNS\"),IF(W179=\"NP\",MAX(W$12:W$309)+COUNTIF((W$12:W$309),MAX(W$12:W$309)),MAX(W$12:W$309)+COUNTIF((W$12:W$309),MAX(W$12:W$309))+COUNTIF((W$12:W$309),\"NP\")),W179)))","v":""},{"$f":"IF(A179=\"x\",\"x\",IF(C179=\"\",\"\",IF(OR(X179=\"NP\",X179=\"DNS\"),X179,RANK(X179,X$12:X$309,1))))","v":""},{"$f":"IF(A179=\"x\",\"x\",IF(C179=\"\",\"\",IF(OR(AND(U179=\"NP\",U180=\"NP\"),AND(U179=\"DNS\",U180=\"DNS\")),U179,IF(AND(U179=\"NP\",U180=\"DNS\"),U179,IF(AND(U179=\"DNS\",U180=\"NP\"),U180,MIN(U179,U180))))))","v":""}]
[null,null,null,"II.pokus",null,null,null,{"$f":"IF($C179=\"\",\"\",IF(OR($E180=\"DNS\",$F180=\"DNS\",$G180=\"DNS\"),\"DNS\",IF(OR($E180=\"NP\",$F180=\"NP\",$G180=\"NP\"),\"NP\",IF(ISERROR(MEDIAN($E180:$G180)),\"DNS\",IF(COUNT($E180:$G180)<3,MAX($E180:$G180),MEDIAN($E180:$G180))))))","v":""},null,null,null,null,null,null,null,null,null,null,null,null,""]
[{"$f":"IF(Start!M13=\"\",\"\",\"x\")","v":""},58,{"$f":"IF(Start!K13=\"\",\"\",Start!K13)","v":""},"I.pokus",null,null,null,{"$f":"IF($C181=\"\",\"\",IF(OR($E181=\"DNS\",$F181=\"DNS\",$G181=\"DNS\"),\"DNS\",IF(OR($E181=\"NP\",$F181=\"NP\",$G181=\"NP\"),\"NP\",IF(ISERROR(MEDIAN($E181:$G181)),\"DNS\",IF(COUNT($E181:$G181)<3,MAX($E181:$G181),MEDIAN($E181:$G181))))))","v":""},null,null,null,null,null,null,null,null,null,null,null,null,"",{"$f":"IF(C181=\"x\",\"x\",IF(C181=\"\",\"\",IF(OR(W181=\"NP\",W181=\"DNS\"),IF(W181=\"NP\",MAX(W$12:W$309)+COUNTIF((W$12:W$309),MAX(W$12:W$309)),MAX(W$12:W$309)+COUNTIF((W$12:W$309),MAX(W$12:W$309))+COUNTIF((W$12:W$309),\"NP\")),W181)))","v":""},{"$f":"IF(A181=\"x\",\"x\",IF(C181=\"\",\"\",IF(OR(X181=\"NP\",X181=\"DNS\"),X181,RANK(X181,X$12:X$309,1))))","v":""},{"$f":"IF(A181=\"x\",\"x\",IF(C181=\"\",\"\",IF(OR(AND(U181=\"NP\",U182=\"NP\"),AND(U181=\"DNS\",U182=\"DNS\")),U181,IF(AND(U181=\"NP\",U182=\"DNS\"),U181,IF(AND(U181=\"DNS\",U182=\"NP\"),U182,MIN(U181,U182))))))","v":""}]
[null,null,null,"II.pokus",null,null,null,{"$f":"IF($C181=\"\",\"\",IF(OR($E182=\"DNS\",$F182=\"DNS\",$G182=\"DNS\"),\"DNS\",IF(OR($E182=\"NP\",$F182=\"NP\",$G182=\"NP\"),\"NP\",IF(ISERROR(MEDIAN($E182:$G182)),\"DNS\",IF(COUNT($E182:$G182)<3,MAX($E182:$G182),MEDIAN($E182:$G182))))))","v":""},null,null,null,null,null,null,null,null,null,null,null,null,""]
[{"$f":"IF(Start!M14=\"\",\"\",\"x\")","v":""},59,{"$f":"IF(Start!K14=\"\",\"\",Start!K14)","v":""},"I.pokus",null,null,null,{"$f":"IF($C183=\"\",\"\",IF(OR($E183=\"DNS\",$F183=\"DNS\",$G183=\"DNS\"),\"DNS\",IF(OR($E183=\"NP\",$F183=\"NP\",$G183=\"NP\"),\"NP\",IF(ISERROR(MEDIAN($E183:$G183)),\"DNS\",IF(COUNT($E183:$G183)<3,MAX($E183:$G183),MEDIAN($E183:$G183))))))","v":""},null,null,null,null,null,null,null,null,null,null,null,null,"",{"$f":"IF(C183=\"x\",\"x\",IF(C183=\"\",\"\",IF(OR(W183=\"NP\",W183=\"DNS\"),IF(W183=\"NP\",MAX(W$12:W$309)+COUNTIF((W$12:W$309),MAX(W$12:W$309)),MAX(W$12:W$309)+COUNTIF((W$12:W$309),MAX(W$12:W$309))+COUNTIF((W$12:W$309),\"NP\")),W183)))","v":""},{"$f":"IF(A183=\"x\",\"x\",IF(C183=\"\",\"\",IF(OR(X183=\"NP\",X183=\"DNS\"),X183,RANK(X183,X$12:X$309,1))))","v":""},{"$f":"IF(A183=\"x\",\"x\",IF(C183=\"\",\"\",IF(OR(AND(U183=\"NP\",U184=\"NP\"),AND(U183=\"DNS\",U184=\"DNS\")),U183,IF(AND(U183=\"NP\",U184=\"DNS\"),U183,IF(AND(U183=\"DNS\",U184=\"NP\"),U184,MIN(U183,U184))))))","v":""}]
[null,null,null,"II.pokus",null,null,null,{"$f":"IF($C183=\"\",\"\",IF(OR($E184=\"DNS\",$F184=\"DNS\",$G184=\"DNS\"),\"DNS\",IF(OR($E184=\"NP\",$F184=\"NP\",$G184=\"NP\"),\"NP\",IF(ISERROR(MEDIAN($E184:$G184)),\"DNS\",IF(COUNT($E184:$G184)<3,MAX($E184:$G184),MEDIAN($E184:$G184))))))","v":""},null,null,null,null,null,null,null,null,null,null,null,null,""]
[{"$f":"IF(Start!M15=\"\",\"\",\"x\")","v":""},60,{"$f":"IF(Start!K15=\"\",\"\",Start!K15)","v":""},"I.pokus",null,null,null,{"$f":"IF($C185=\"\",\"\",IF(OR($E185=\"DNS\",$F185=\"DNS\",$G185=\"DNS\"),\"DNS\",IF(OR($E185=\"NP\",$F185=\"NP\",$G185=\"NP\"),\"NP\",IF(ISERROR(MEDIAN($E185:$G185)),\"DNS\",IF(COUNT($E185:$G185)<3,MAX($E185:$G185),MEDIAN($E185:$G185))))))","v":""},null,null,null,null,null,null,null,null,null,null,null,null,"",{"$f":"IF(C185=\"x\",\"x\",IF(C185=\"\",\"\",IF(OR(W185=\"NP\",W185=\"DNS\"),IF(W185=\"NP\",MAX(W$12:W$309)+COUNTIF((W$12:W$309),MAX(W$12:W$309)),MAX(W$12:W$309)+COUNTIF((W$12:W$309),MAX(W$12:W$309))+COUNTIF((W$12:W$309),\"NP\")),W185)))","v":""},{"$f":"IF(A185=\"x\",\"x\",IF(C185=\"\",\"\",IF(OR(X185=\"NP\",X185=\"DNS\"),X185,RANK(X185,X$12:X$309,1))))","v":""},{"$f":"IF(A185=\"x\",\"x\",IF(C185=\"\",\"\",IF(OR(AND(U185=\"NP\",U186=\"NP\"),AND(U185=\"DNS\",U186=\"DNS\")),U185,IF(AND(U185=\"NP\",U186=\"DNS\"),U185,IF(AND(U185=\"DNS\",U186=\"NP\"),U186,MIN(U185,U186))))))","v":""}]
[null,null,null,"II.pokus",null,null,null,{"$f":"IF($C185=\"\",\"\",IF(OR($E186=\"DNS\",$F186=\"DNS\",$G186=\"DNS\"),\"DNS\",IF(OR($E186=\"NP\",$F186=\"NP\",$G186=\"NP\"),\"NP\",IF(ISERROR(MEDIAN($E186:$G186)),\"DNS\",IF(COUNT($E186:$G186)<3,MAX($E186:$G186),MEDIAN($E186:$G186))))))","v":""},null,null,null,null,null,null,null,null,null,null,null,null,""]
[null,"CELOSTÁTNÍ HRA PLAMEN"]
[]
[]
[null,"Výsledková listina č: 7"]
[null,"Štafeta 400 m CTIF",null,null,"Základem je čas naměřený od vydání signálu startéra do proběhnutí posledního člena cílem",null,null,null,"K úřednímu času se připočítávají trestné sekundy - za každý případ 10/20 sekund",null,null,null,null,null,null,null,null,null,null,null,"Výsledek soutěže"]
[null,null,null,null,null,null,null,null,"za nesprávné spojení koncovek (hadice, rozdělovač, proudnice)              (10 s)",null,null,"nesprávně překonaná překážka nebo nesprávně provedený úkon     (10 s)",null,null,"vyšlápnutí z dráhy oběma nohama     (10 s)",null,null,"mepřenesení proudnice přes cíl (20 s)"]
[null,null,null,null,null,null,null,null,null,null,null,null,null,null,null,null,null,null,null,null,"součet trest. Sekund a úředního času","počet bodů za umístění"]
[null,{"$f":"\"KATEGORIE: \"&Start!$N$2","v":"KATEGORIE: starší"},null,null,"I. časoměřič","II. časoměřič","III. časoměřič","úřední čas"]
[]
[null,"start. číslo","SOUTĚŽNÍ DRUŽSTVO","pokus"]
[]
[{"$f":"IF(Start!M16=\"\",\"\",\"x\")","v":""},61,{"$f":"IF(Start!K16=\"\",\"\",Start!K16)","v":""},"I.pokus",null,null,null,{"$f":"IF($C198=\"\",\"\",IF(OR($E198=\"DNS\",$F198=\"DNS\",$G198=\"DNS\"),\"DNS\",IF(OR($E198=\"NP\",$F198=\"NP\",$G198=\"NP\"),\"NP\",IF(ISERROR(MEDIAN($E198:$G198)),\"DNS\",IF(COUNT($E198:$G198)<3,MAX($E198:$G198),MEDIAN($E198:$G198))))))","v":""},null,null,null,null,null,null,null,null,null,null,null,null,{"$f":"IF(H198=\"\",\"\",IF(H198=\"NP\",\"NP\",IF(H198=\"DNS\",\"DNS\",SUM(I198:T198)+H198)))","v":""},{"$f":"IF(C198=\"x\",\"x\",IF(C198=\"\",\"\",IF(OR(W198=\"NP\",W198=\"DNS\"),IF(W198=\"NP\",MAX(W$12:W$309)+COUNTIF((W$12:W$309),MAX(W$12:W$309)),MAX(W$12:W$309)+COUNTIF((W$12:W$309),MAX(W$12:W$309))+COUNTIF((W$12:W$309),\"NP\")),W198)))","v":""},{"$f":"IF(A198=\"x\",\"x\",IF(C198=\"\",\"\",IF(OR(X198=\"NP\",X198=\"DNS\"),X198,RANK(X198,X$12:X$309,1))))","v":""},{"$f":"IF(A198=\"x\",\"x\",IF(C198=\"\",\"\",IF(OR(AND(U198=\"NP\",U199=\"NP\"),AND(U198=\"DNS\",U199=\"DNS\")),U198,IF(AND(U198=\"NP\",U199=\"DNS\"),U198,IF(AND(U198=\"DNS\",U199=\"NP\"),U199,MIN(U198,U199))))))","v":""}]
[null,null,null,"II.pokus",null,null,null,{"$f":"IF($C198=\"\",\"\",IF(OR($E199=\"DNS\",$F199=\"DNS\",$G199=\"DNS\"),\"DNS\",IF(OR($E199=\"NP\",$F199=\"NP\",$G199=\"NP\"),\"NP\",IF(ISERROR(MEDIAN($E199:$G199)),\"DNS\",IF(COUNT($E199:$G199)<3,MAX($E199:$G199),MEDIAN($E199:$G199))))))","v":""},null,null,null,null,null,null,null,null,null,null,null,null,""]
[{"$f":"IF(Start!M17=\"\",\"\",\"x\")","v":""},62,{"$f":"IF(Start!K17=\"\",\"\",Start!K17)","v":""},"I.pokus",null,null,null,{"$f":"IF($C200=\"\",\"\",IF(OR($E200=\"DNS\",$F200=\"DNS\",$G200=\"DNS\"),\"DNS\",IF(OR($E200=\"NP\",$F200=\"NP\",$G200=\"NP\"),\"NP\",IF(ISERROR(MEDIAN($E200:$G200)),\"DNS\",IF(COUNT($E200:$G200)<3,MAX($E200:$G200),MEDIAN($E200:$G200))))))","v":""},null,null,null,null,null,null,null,null,null,null,null,null,"",{"$f":"IF(C200=\"x\",\"x\",IF(C200=\"\",\"\",IF(OR(W200=\"NP\",W200=\"DNS\"),IF(W200=\"NP\",MAX(W$12:W$309)+COUNTIF((W$12:W$309),MAX(W$12:W$309)),MAX(W$12:W$309)+COUNTIF((W$12:W$309),MAX(W$12:W$309))+COUNTIF((W$12:W$309),\"NP\")),W200)))","v":""},{"$f":"IF(A200=\"x\",\"x\",IF(C200=\"\",\"\",IF(OR(X200=\"NP\",X200=\"DNS\"),X200,RANK(X200,X$12:X$309,1))))","v":""},{"$f":"IF(A200=\"x\",\"x\",IF(C200=\"\",\"\",IF(OR(AND(U200=\"NP\",U201=\"NP\"),AND(U200=\"DNS\",U201=\"DNS\")),U200,IF(AND(U200=\"NP\",U201=\"DNS\"),U200,IF(AND(U200=\"DNS\",U201=\"NP\"),U201,MIN(U200,U201))))))","v":""}]
[null,null,null,"II.pokus",null,null,null,{"$f":"IF($C200=\"\",\"\",IF(OR($E201=\"DNS\",$F201=\"DNS\",$G201=\"DNS\"),\"DNS\",IF(OR($E201=\"NP\",$F201=\"NP\",$G201=\"NP\"),\"NP\",IF(ISERROR(MEDIAN($E201:$G201)),\"DNS\",IF(COUNT($E201:$G201)<3,MAX($E201:$G201),MEDIAN($E201:$G201))))))","v":""},null,null,null,null,null,null,null,null,null,null,null,null,""]
[{"$f":"IF(Start!M18=\"\",\"\",\"x\")","v":""},63,{"$f":"IF(Start!K18=\"\",\"\",Start!K18)","v":""},"I.pokus",null,null,null,{"$f":"IF($C202=\"\",\"\",IF(OR($E202=\"DNS\",$F202=\"DNS\",$G202=\"DNS\"),\"DNS\",IF(OR($E202=\"NP\",$F202=\"NP\",$G202=\"NP\"),\"NP\",IF(ISERROR(MEDIAN($E202:$G202)),\"DNS\",IF(COUNT($E202:$G202)<3,MAX($E202:$G202),MEDIAN($E202:$G202))))))","v":""},null,null,null,null,null,null,null,null,null,null,null,null,"",{"$f":"IF(C202=\"x\",\"x\",IF(C202=\"\",\"\",IF(OR(W202=\"NP\",W202=\"DNS\"),IF(W202=\"NP\",MAX(W$12:W$309)+COUNTIF((W$12:W$309),MAX(W$12:W$309)),MAX(W$12:W$309)+COUNTIF((W$12:W$309),MAX(W$12:W$309))+COUNTIF((W$12:W$309),\"NP\")),W202)))","v":""},{"$f":"IF(A202=\"x\",\"x\",IF(C202=\"\",\"\",IF(OR(X202=\"NP\",X202=\"DNS\"),X202,RANK(X202,X$12:X$309,1))))","v":""},{"$f":"IF(A202=\"x\",\"x\",IF(C202=\"\",\"\",IF(OR(AND(U202=\"NP\",U203=\"NP\"),AND(U202=\"DNS\",U203=\"DNS\")),U202,IF(AND(U202=\"NP\",U203=\"DNS\"),U202,IF(AND(U202=\"DNS\",U203=\"NP\"),U203,MIN(U202,U203))))))","v":""}]
[null,null,null,"II.pokus",null,null,null,{"$f":"IF($C202=\"\",\"\",IF(OR($E203=\"DNS\",$F203=\"DNS\",$G203=\"DNS\"),\"DNS\",IF(OR($E203=\"NP\",$F203=\"NP\",$G203=\"NP\"),\"NP\",IF(ISERROR(MEDIAN($E203:$G203)),\"DNS\",IF(COUNT($E203:$G203)<3,MAX($E203:$G203),MEDIAN($E203:$G203))))))","v":""},null,null,null,null,null,null,null,null,null,null,null,null,""]
[{"$f":"IF(Start!M19=\"\",\"\",\"x\")","v":""},64,{"$f":"IF(Start!K19=\"\",\"\",Start!K19)","v":""},"I.pokus",null,null,null,{"$f":"IF($C204=\"\",\"\",IF(OR($E204=\"DNS\",$F204=\"DNS\",$G204=\"DNS\"),\"DNS\",IF(OR($E204=\"NP\",$F204=\"NP\",$G204=\"NP\"),\"NP\",IF(ISERROR(MEDIAN($E204:$G204)),\"DNS\",IF(COUNT($E204:$G204)<3,MAX($E204:$G204),MEDIAN($E204:$G204))))))","v":""},null,null,null,null,null,null,null,null,null,null,null,null,"",{"$f":"IF(C204=\"x\",\"x\",IF(C204=\"\",\"\",IF(OR(W204=\"NP\",W204=\"DNS\"),IF(W204=\"NP\",MAX(W$12:W$309)+COUNTIF((W$12:W$309),MAX(W$12:W$309)),MAX(W$12:W$309)+COUNTIF((W$12:W$309),MAX(W$12:W$309))+COUNTIF((W$12:W$309),\"NP\")),W204)))","v":""},{"$f":"IF(A204=\"x\",\"x\",IF(C204=\"\",\"\",IF(OR(X204=\"NP\",X204=\"DNS\"),X204,RANK(X204,X$12:X$309,1))))","v":""},{"$f":"IF(A204=\"x\",\"x\",IF(C204=\"\",\"\",IF(OR(AND(U204=\"NP\",U205=\"NP\"),AND(U204=\"DNS\",U205=\"DNS\")),U204,IF(AND(U204=\"NP\",U205=\"DNS\"),U204,IF(AND(U204=\"DNS\",U205=\"NP\"),U205,MIN(U204,U205))))))","v":""}]
[null,null,null,"II.pokus",null,null,null,{"$f":"IF($C204=\"\",\"\",IF(OR($E205=\"DNS\",$F205=\"DNS\",$G205=\"DNS\"),\"DNS\",IF(OR($E205=\"NP\",$F205=\"NP\",$G205=\"NP\"),\"NP\",IF(ISERROR(MEDIAN($E205:$G205)),\"DNS\",IF(COUNT($E205:$G205)<3,MAX($E205:$G205),MEDIAN($E205:$G205))))))","v":""},null,null,null,null,null,null,null,null,null,null,null,null,""]
[{"$f":"IF(Start!M20=\"\",\"\",\"x\")","v":""},65,{"$f":"IF(Start!K20=\"\",\"\",Start!K20)","v":""},"I.pokus",null,null,null,{"$f":"IF($C206=\"\",\"\",IF(OR($E206=\"DNS\",$F206=\"DNS\",$G206=\"DNS\"),\"DNS\",IF(OR($E206=\"NP\",$F206=\"NP\",$G206=\"NP\"),\"NP\",IF(ISERROR(MEDIAN($E206:$G206)),\"DNS\",IF(COUNT($E206:$G206)<3,MAX($E206:$G206),MEDIAN($E206:$G206))))))","v":""},null,null,null,null,null,null,null,null,null,null,null,null,"",{"$f":"IF(C206=\"x\",\"x\",IF(C206=\"\",\"\",IF(OR(W206=\"NP\",W206=\"DNS\"),IF(W206=\"NP\",MAX(W$12:W$309)+COUNTIF((W$12:W$309),MAX(W$12:W$309)),MAX(W$12:W$309)+COUNTIF((W$12:W$309),MAX(W$12:W$309))+COUNTIF((W$12:W$309),\"NP\")),W206)))","v":""},{"$f":"IF(A206=\"x\",\"x\",IF(C206=\"\",\"\",IF(OR(X206=\"NP\",X206=\"DNS\"),X206,RANK(X206,X$12:X$309,1))))","v":""},{"$f":"IF(A206=\"x\",\"x\",IF(C206=\"\",\"\",IF(OR(AND(U206=\"NP\",U207=\"NP\"),AND(U206=\"DNS\",U207=\"DNS\")),U206,IF(AND(U206=\"NP\",U207=\"DNS\"),U206,IF(AND(U206=\"DNS\",U207=\"NP\"),U207,MIN(U206,U207))))))","v":""}]
[null,null,null,"II.pokus",null,null,null,{"$f":"IF($C206=\"\",\"\",IF(OR($E207=\"DNS\",$F207=\"DNS\",$G207=\"DNS\"),\"DNS\",IF(OR($E207=\"NP\",$F207=\"NP\",$G207=\"NP\"),\"NP\",IF(ISERROR(MEDIAN($E207:$G207)),\"DNS\",IF(COUNT($E207:$G207)<3,MAX($E207:$G207),MEDIAN($E207:$G207))))))","v":""},null,null,null,null,null,null,null,null,null,null,null,null,""]
[{"$f":"IF(Start!M21=\"\",\"\",\"x\")","v":""},66,{"$f":"IF(Start!K21=\"\",\"\",Start!K21)","v":""},"I.pokus",null,null,null,{"$f":"IF($C208=\"\",\"\",IF(OR($E208=\"DNS\",$F208=\"DNS\",$G208=\"DNS\"),\"DNS\",IF(OR($E208=\"NP\",$F208=\"NP\",$G208=\"NP\"),\"NP\",IF(ISERROR(MEDIAN($E208:$G208)),\"DNS\",IF(COUNT($E208:$G208)<3,MAX($E208:$G208),MEDIAN($E208:$G208))))))","v":""},null,null,null,null,null,null,null,null,null,null,null,null,"",{"$f":"IF(C208=\"x\",\"x\",IF(C208=\"\",\"\",IF(OR(W208=\"NP\",W208=\"DNS\"),IF(W208=\"NP\",MAX(W$12:W$309)+COUNTIF((W$12:W$309),MAX(W$12:W$309)),MAX(W$12:W$309)+COUNTIF((W$12:W$309),MAX(W$12:W$309))+COUNTIF((W$12:W$309),\"NP\")),W208)))","v":""},{"$f":"IF(A208=\"x\",\"x\",IF(C208=\"\",\"\",IF(OR(X208=\"NP\",X208=\"DNS\"),X208,RANK(X208,X$12:X$309,1))))","v":""},{"$f":"IF(A208=\"x\",\"x\",IF(C208=\"\",\"\",IF(OR(AND(U208=\"NP\",U209=\"NP\"),AND(U208=\"DNS\",U209=\"DNS\")),U208,IF(AND(U208=\"NP\",U209=\"DNS\"),U208,IF(AND(U208=\"DNS\",U209=\"NP\"),U209,MIN(U208,U209))))))","v":""}]
[null,null,null,"II.pokus",null,null,null,{"$f":"IF($C208=\"\",\"\",IF(OR($E209=\"DNS\",$F209=\"DNS\",$G209=\"DNS\"),\"DNS\",IF(OR($E209=\"NP\",$F209=\"NP\",$G209=\"NP\"),\"NP\",IF(ISERROR(MEDIAN($E209:$G209)),\"DNS\",IF(COUNT($E209:$G209)<3,MAX($E209:$G209),MEDIAN($E209:$G209))))))","v":""},null,null,null,null,null,null,null,null,null,null,null,null,""]
[{"$f":"IF(Start!M22=\"\",\"\",\"x\")","v":""},67,{"$f":"IF(Start!K22=\"\",\"\",Start!K22)","v":""},"I.pokus",null,null,null,{"$f":"IF($C210=\"\",\"\",IF(OR($E210=\"DNS\",$F210=\"DNS\",$G210=\"DNS\"),\"DNS\",IF(OR($E210=\"NP\",$F210=\"NP\",$G210=\"NP\"),\"NP\",IF(ISERROR(MEDIAN($E210:$G210)),\"DNS\",IF(COUNT($E210:$G210)<3,MAX($E210:$G210),MEDIAN($E210:$G210))))))","v":""},null,null,null,null,null,null,null,null,null,null,null,null,"",{"$f":"IF(C210=\"x\",\"x\",IF(C210=\"\",\"\",IF(OR(W210=\"NP\",W210=\"DNS\"),IF(W210=\"NP\",MAX(W$12:W$309)+COUNTIF((W$12:W$309),MAX(W$12:W$309)),MAX(W$12:W$309)+COUNTIF((W$12:W$309),MAX(W$12:W$309))+COUNTIF((W$12:W$309),\"NP\")),W210)))","v":""},{"$f":"IF(A210=\"x\",\"x\",IF(C210=\"\",\"\",IF(OR(X210=\"NP\",X210=\"DNS\"),X210,RANK(X210,X$12:X$309,1))))","v":""},{"$f":"IF(A210=\"x\",\"x\",IF(C210=\"\",\"\",IF(OR(AND(U210=\"NP\",U211=\"NP\"),AND(U210=\"DNS\",U211=\"DNS\")),U210,IF(AND(U210=\"NP\",U211=\"DNS\"),U210,IF(AND(U210=\"DNS\",U211=\"NP\"),U211,MIN(U210,U211))))))","v":""}]
[null,null,null,"II.pokus",null,null,null,{"$f":"IF($C210=\"\",\"\",IF(OR($E211=\"DNS\",$F211=\"DNS\",$G211=\"DNS\"),\"DNS\",IF(OR($E211=\"NP\",$F211=\"NP\",$G211=\"NP\"),\"NP\",IF(ISERROR(MEDIAN($E211:$G211)),\"DNS\",IF(COUNT($E211:$G211)<3,MAX($E211:$G211),MEDIAN($E211:$G211))))))","v":""},null,null,null,null,null,null,null,null,null,null,null,null,""]
[{"$f":"IF(Start!M23=\"\",\"\",\"x\")","v":""},68,{"$f":"IF(Start!K23=\"\",\"\",Start!K23)","v":""},"I.pokus",null,null,null,{"$f":"IF($C212=\"\",\"\",IF(OR($E212=\"DNS\",$F212=\"DNS\",$G212=\"DNS\"),\"DNS\",IF(OR($E212=\"NP\",$F212=\"NP\",$G212=\"NP\"),\"NP\",IF(ISERROR(MEDIAN($E212:$G212)),\"DNS\",IF(COUNT($E212:$G212)<3,MAX($E212:$G212),MEDIAN($E212:$G212))))))","v":""},null,null,null,null,null,null,null,null,null,null,null,null,"",{"$f":"IF(C212=\"x\",\"x\",IF(C212=\"\",\"\",IF(OR(W212=\"NP\",W212=\"DNS\"),IF(W212=\"NP\",MAX(W$12:W$309)+COUNTIF((W$12:W$309),MAX(W$12:W$309)),MAX(W$12:W$309)+COUNTIF((W$12:W$309),MAX(W$12:W$309))+COUNTIF((W$12:W$309),\"NP\")),W212)))","v":""},{"$f":"IF(A212=\"x\",\"x\",IF(C212=\"\",\"\",IF(OR(X212=\"NP\",X212=\"DNS\"),X212,RANK(X212,X$12:X$309,1))))","v":""},{"$f":"IF(A212=\"x\",\"x\",IF(C212=\"\",\"\",IF(OR(AND(U212=\"NP\",U213=\"NP\"),AND(U212=\"DNS\",U213=\"DNS\")),U212,IF(AND(U212=\"NP\",U213=\"DNS\"),U212,IF(AND(U212=\"DNS\",U213=\"NP\"),U213,MIN(U212,U213))))))","v":""}]
[null,null,null,"II.pokus",null,null,null,{"$f":"IF($C212=\"\",\"\",IF(OR($E213=\"DNS\",$F213=\"DNS\",$G213=\"DNS\"),\"DNS\",IF(OR($E213=\"NP\",$F213=\"NP\",$G213=\"NP\"),\"NP\",IF(ISERROR(MEDIAN($E213:$G213)),\"DNS\",IF(COUNT($E213:$G213)<3,MAX($E213:$G213),MEDIAN($E213:$G213))))))","v":""},null,null,null,null,null,null,null,null,null,null,null,null,""]
[{"$f":"IF(Start!M24=\"\",\"\",\"x\")","v":""},69,{"$f":"IF(Start!K24=\"\",\"\",Start!K24)","v":""},"I.pokus",null,null,null,{"$f":"IF($C214=\"\",\"\",IF(OR($E214=\"DNS\",$F214=\"DNS\",$G214=\"DNS\"),\"DNS\",IF(OR($E214=\"NP\",$F214=\"NP\",$G214=\"NP\"),\"NP\",IF(ISERROR(MEDIAN($E214:$G214)),\"DNS\",IF(COUNT($E214:$G214)<3,MAX($E214:$G214),MEDIAN($E214:$G214))))))","v":""},null,null,null,null,null,null,null,null,null,null,null,null,"",{"$f":"IF(C214=\"x\",\"x\",IF(C214=\"\",\"\",IF(OR(W214=\"NP\",W214=\"DNS\"),IF(W214=\"NP\",MAX(W$12:W$309)+COUNTIF((W$12:W$309),MAX(W$12:W$309)),MAX(W$12:W$309)+COUNTIF((W$12:W$309),MAX(W$12:W$309))+COUNTIF((W$12:W$309),\"NP\")),W214)))","v":""},{"$f":"IF(A214=\"x\",\"x\",IF(C214=\"\",\"\",IF(OR(X214=\"NP\",X214=\"DNS\"),X214,RANK(X214,X$12:X$309,1))))","v":""},{"$f":"IF(A214=\"x\",\"x\",IF(C214=\"\",\"\",IF(OR(AND(U214=\"NP\",U215=\"NP\"),AND(U214=\"DNS\",U215=\"DNS\")),U214,IF(AND(U214=\"NP\",U215=\"DNS\"),U214,IF(AND(U214=\"DNS\",U215=\"NP\"),U215,MIN(U214,U215))))))","v":""}]
[null,null,null,"II.pokus",null,null,null,{"$f":"IF($C214=\"\",\"\",IF(OR($E215=\"DNS\",$F215=\"DNS\",$G215=\"DNS\"),\"DNS\",IF(OR($E215=\"NP\",$F215=\"NP\",$G215=\"NP\"),\"NP\",IF(ISERROR(MEDIAN($E215:$G215)),\"DNS\",IF(COUNT($E215:$G215)<3,MAX($E215:$G215),MEDIAN($E215:$G215))))))","v":""},null,null,null,null,null,null,null,null,null,null,null,null,""]
[{"$f":"IF(Start!M25=\"\",\"\",\"x\")","v":""},70,{"$f":"IF(Start!K25=\"\",\"\",Start!K25)","v":""},"I.pokus",null,null,null,{"$f":"IF($C216=\"\",\"\",IF(OR($E216=\"DNS\",$F216=\"DNS\",$G216=\"DNS\"),\"DNS\",IF(OR($E216=\"NP\",$F216=\"NP\",$G216=\"NP\"),\"NP\",IF(ISERROR(MEDIAN($E216:$G216)),\"DNS\",IF(COUNT($E216:$G216)<3,MAX($E216:$G216),MEDIAN($E216:$G216))))))","v":""},null,null,null,null,null,null,null,null,null,null,null,null,"",{"$f":"IF(C216=\"x\",\"x\",IF(C216=\"\",\"\",IF(OR(W216=\"NP\",W216=\"DNS\"),IF(W216=\"NP\",MAX(W$12:W$309)+COUNTIF((W$12:W$309),MAX(W$12:W$309)),MAX(W$12:W$309)+COUNTIF((W$12:W$309),MAX(W$12:W$309))+COUNTIF((W$12:W$309),\"NP\")),W216)))","v":""},{"$f":"IF(A216=\"x\",\"x\",IF(C216=\"\",\"\",IF(OR(X216=\"NP\",X216=\"DNS\"),X216,RANK(X216,X$12:X$309,1))))","v":""},{"$f":"IF(A216=\"x\",\"x\",IF(C216=\"\",\"\",IF(OR(AND(U216=\"NP\",U217=\"NP\"),AND(U216=\"DNS\",U217=\"DNS\")),U216,IF(AND(U216=\"NP\",U217=\"DNS\"),U216,IF(AND(U216=\"DNS\",U217=\"NP\"),U217,MIN(U216,U217))))))","v":""}]
[null,null,null,"II.pokus",null,null,null,{"$f":"IF($C216=\"\",\"\",IF(OR($E217=\"DNS\",$F217=\"DNS\",$G217=\"DNS\"),\"DNS\",IF(OR($E217=\"NP\",$F217=\"NP\",$G217=\"NP\"),\"NP\",IF(ISERROR(MEDIAN($E217:$G217)),\"DNS\",IF(COUNT($E217:$G217)<3,MAX($E217:$G217),MEDIAN($E217:$G217))))))","v":""},null,null,null,null,null,null,null,null,null,null,null,null,""]
[null,"CELOSTÁTNÍ HRA PLAMEN"]
[]
[]
[null,"Výsledková listina č: 8"]
[null,"Štafeta 400 m CTIF",null,null,"Základem je čas naměřený od vydání signálu startéra do proběhnutí posledního člena cílem",null,null,null,"K úřednímu času se připočítávají trestné sekundy - za každý případ 10/20 sekund",null,null,null,null,null,null,null,null,null,null,null,"Výsledek soutěže"]
[null,null,null,null,null,null,null,null,"za nesprávné spojení koncovek (hadice, rozdělovač, proudnice)              (10 s)",null,null,"nesprávně překonaná překážka nebo nesprávně provedený úkon     (10 s)",null,null,"vyšlápnutí z dráhy oběma nohama     (10 s)",null,null,"mepřenesení proudnice přes cíl (20 s)"]
[null,null,null,null,null,null,null,null,null,null,null,null,null,null,null,null,null,null,null,null,"součet trest. Sekund a úředního času","počet bodů za umístění"]
[null,{"$f":"\"KATEGORIE: \"&Start!$N$2","v":"KATEGORIE: starší"},null,null,"I. časoměřič","II. časoměřič","III. časoměřič","úřední čas"]
[]
[null,"start. číslo","SOUTĚŽNÍ DRUŽSTVO","pokus"]
[]
[{"$f":"IF(Start!M26=\"\",\"\",\"x\")","v":""},71,{"$f":"IF(Start!K26=\"\",\"\",Start!K26)","v":""},"I.pokus",null,null,null,{"$f":"IF($C229=\"\",\"\",IF(OR($E229=\"DNS\",$F229=\"DNS\",$G229=\"DNS\"),\"DNS\",IF(OR($E229=\"NP\",$F229=\"NP\",$G229=\"NP\"),\"NP\",IF(ISERROR(MEDIAN($E229:$G229)),\"DNS\",IF(COUNT($E229:$G229)<3,MAX($E229:$G229),MEDIAN($E229:$G229))))))","v":""},null,null,null,null,null,null,null,null,null,null,null,null,{"$f":"IF(H229=\"\",\"\",IF(H229=\"NP\",\"NP\",IF(H229=\"DNS\",\"DNS\",SUM(I229:T229)+H229)))","v":""},{"$f":"IF(C229=\"x\",\"x\",IF(C229=\"\",\"\",IF(OR(W229=\"NP\",W229=\"DNS\"),IF(W229=\"NP\",MAX(W$12:W$309)+COUNTIF((W$12:W$309),MAX(W$12:W$309)),MAX(W$12:W$309)+COUNTIF((W$12:W$309),MAX(W$12:W$309))+COUNTIF((W$12:W$309),\"NP\")),W229)))","v":""},{"$f":"IF(A229=\"x\",\"x\",IF(C229=\"\",\"\",IF(OR(X229=\"NP\",X229=\"DNS\"),X229,RANK(X229,X$12:X$309,1))))","v":""},{"$f":"IF(A229=\"x\",\"x\",IF(C229=\"\",\"\",IF(OR(AND(U229=\"NP\",U230=\"NP\"),AND(U229=\"DNS\",U230=\"DNS\")),U229,IF(AND(U229=\"NP\",U230=\"DNS\"),U229,IF(AND(U229=\"DNS\",U230=\"NP\"),U230,MIN(U229,U230))))))","v":""}]
[null,null,null,"II.pokus",null,null,null,{"$f":"IF($C229=\"\",\"\",IF(OR($E230=\"DNS\",$F230=\"DNS\",$G230=\"DNS\"),\"DNS\",IF(OR($E230=\"NP\",$F230=\"NP\",$G230=\"NP\"),\"NP\",IF(ISERROR(MEDIAN($E230:$G230)),\"DNS\",IF(COUNT($E230:$G230)<3,MAX($E230:$G230),MEDIAN($E230:$G230))))))","v":""},null,null,null,null,null,null,null,null,null,null,null,null,""]
[{"$f":"IF(Start!M27=\"\",\"\",\"x\")","v":""},72,{"$f":"IF(Start!K27=\"\",\"\",Start!K27)","v":""},"I.pokus",null,null,null,{"$f":"IF($C231=\"\",\"\",IF(OR($E231=\"DNS\",$F231=\"DNS\",$G231=\"DNS\"),\"DNS\",IF(OR($E231=\"NP\",$F231=\"NP\",$G231=\"NP\"),\"NP\",IF(ISERROR(MEDIAN($E231:$G231)),\"DNS\",IF(COUNT($E231:$G231)<3,MAX($E231:$G231),MEDIAN($E231:$G231))))))","v":""},null,null,null,null,null,null,null,null,null,null,null,null,"",{"$f":"IF(C231=\"x\",\"x\",IF(C231=\"\",\"\",IF(OR(W231=\"NP\",W231=\"DNS\"),IF(W231=\"NP\",MAX(W$12:W$309)+COUNTIF((W$12:W$309),MAX(W$12:W$309)),MAX(W$12:W$309)+COUNTIF((W$12:W$309),MAX(W$12:W$309))+COUNTIF((W$12:W$309),\"NP\")),W231)))","v":""},{"$f":"IF(A231=\"x\",\"x\",IF(C231=\"\",\"\",IF(OR(X231=\"NP\",X231=\"DNS\"),X231,RANK(X231,X$12:X$309,1))))","v":""},{"$f":"IF(A231=\"x\",\"x\",IF(C231=\"\",\"\",IF(OR(AND(U231=\"NP\",U232=\"NP\"),AND(U231=\"DNS\",U232=\"DNS\")),U231,IF(AND(U231=\"NP\",U232=\"DNS\"),U231,IF(AND(U231=\"DNS\",U232=\"NP\"),U232,MIN(U231,U232))))))","v":""}]
[null,null,null,"II.pokus",null,null,null,{"$f":"IF($C231=\"\",\"\",IF(OR($E232=\"DNS\",$F232=\"DNS\",$G232=\"DNS\"),\"DNS\",IF(OR($E232=\"NP\",$F232=\"NP\",$G232=\"NP\"),\"NP\",IF(ISERROR(MEDIAN($E232:$G232)),\"DNS\",IF(COUNT($E232:$G232)<3,MAX($E232:$G232),MEDIAN($E232:$G232))))))","v":""},null,null,null,null,null,null,null,null,null,null,null,null,""]
[{"$f":"IF(Start!M28=\"\",\"\",\"x\")","v":""},73,{"$f":"IF(Start!K28=\"\",\"\",Start!K28)","v":""},"I.pokus",null,null,null,{"$f":"IF($C233=\"\",\"\",IF(OR($E233=\"DNS\",$F233=\"DNS\",$G233=\"DNS\"),\"DNS\",IF(OR($E233=\"NP\",$F233=\"NP\",$G233=\"NP\"),\"NP\",IF(ISERROR(MEDIAN($E233:$G233)),\"DNS\",IF(COUNT($E233:$G233)<3,MAX($E233:$G233),MEDIAN($E233:$G233))))))","v":""},null,null,null,null,null,null,null,null,null,null,null,null,"",{"$f":"IF(C233=\"x\",\"x\",IF(C233=\"\",\"\",IF(OR(W233=\"NP\",W233=\"DNS\"),IF(W233=\"NP\",MAX(W$12:W$309)+COUNTIF((W$12:W$309),MAX(W$12:W$309)),MAX(W$12:W$309)+COUNTIF((W$12:W$309),MAX(W$12:W$309))+COUNTIF((W$12:W$309),\"NP\")),W233)))","v":""},{"$f":"IF(A233=\"x\",\"x\",IF(C233=\"\",\"\",IF(OR(X233=\"NP\",X233=\"DNS\"),X233,RANK(X233,X$12:X$309,1))))","v":""},{"$f":"IF(A233=\"x\",\"x\",IF(C233=\"\",\"\",IF(OR(AND(U233=\"NP\",U234=\"NP\"),AND(U233=\"DNS\",U234=\"DNS\")),U233,IF(AND(U233=\"NP\",U234=\"DNS\"),U233,IF(AND(U233=\"DNS\",U234=\"NP\"),U234,MIN(U233,U234))))))","v":""}]
[null,null,null,"II.pokus",null,null,null,{"$f":"IF($C233=\"\",\"\",IF(OR($E234=\"DNS\",$F234=\"DNS\",$G234=\"DNS\"),\"DNS\",IF(OR($E234=\"NP\",$F234=\"NP\",$G234=\"NP\"),\"NP\",IF(ISERROR(MEDIAN($E234:$G234)),\"DNS\",IF(COUNT($E234:$G234)<3,MAX($E234:$G234),MEDIAN($E234:$G234))))))","v":""},null,null,null,null,null,null,null,null,null,null,null,null,""]
[{"$f":"IF(Start!M29=\"\",\"\",\"x\")","v":""},74,{"$f":"IF(Start!K29=\"\",\"\",Start!K29)","v":""},"I.pokus",null,null,null,{"$f":"IF($C235=\"\",\"\",IF(OR($E235=\"DNS\",$F235=\"DNS\",$G235=\"DNS\"),\"DNS\",IF(OR($E235=\"NP\",$F235=\"NP\",$G235=\"NP\"),\"NP\",IF(ISERROR(MEDIAN($E235:$G235)),\"DNS\",IF(COUNT($E235:$G235)<3,MAX($E235:$G235),MEDIAN($E235:$G235))))))","v":""},null,null,null,null,null,null,null,null,null,null,null,null,"",{"$f":"IF(C235=\"x\",\"x\",IF(C235=\"\",\"\",IF(OR(W235=\"NP\",W235=\"DNS\"),IF(W235=\"NP\",MAX(W$12:W$309)+COUNTIF((W$12:W$309),MAX(W$12:W$309)),MAX(W$12:W$309)+COUNTIF((W$12:W$309),MAX(W$12:W$309))+COUNTIF((W$12:W$309),\"NP\")),W235)))","v":""},{"$f":"IF(A235=\"x\",\"x\",IF(C235=\"\",\"\",IF(OR(X235=\"NP\",X235=\"DNS\"),X235,RANK(X235,X$12:X$309,1))))","v":""},{"$f":"IF(A235=\"x\",\"x\",IF(C235=\"\",\"\",IF(OR(AND(U235=\"NP\",U236=\"NP\"),AND(U235=\"DNS\",U236=\"DNS\")),U235,IF(AND(U235=\"NP\",U236=\"DNS\"),U235,IF(AND(U235=\"DNS\",U236=\"NP\"),U236,MIN(U235,U236))))))","v":""}]
[null,null,null,"II.pokus",null,null,null,{"$f":"IF($C235=\"\",\"\",IF(OR($E236=\"DNS\",$F236=\"DNS\",$G236=\"DNS\"),\"DNS\",IF(OR($E236=\"NP\",$F236=\"NP\",$G236=\"NP\"),\"NP\",IF(ISERROR(MEDIAN($E236:$G236)),\"DNS\",IF(COUNT($E236:$G236)<3,MAX($E236:$G236),MEDIAN($E236:$G236))))))","v":""},null,null,null,null,null,null,null,null,null,null,null,null,""]
[{"$f":"IF(Start!M30=\"\",\"\",\"x\")","v":""},75,{"$f":"IF(Start!K30=\"\",\"\",Start!K30)","v":""},"I.pokus",null,null,null,{"$f":"IF($C237=\"\",\"\",IF(OR($E237=\"DNS\",$F237=\"DNS\",$G237=\"DNS\"),\"DNS\",IF(OR($E237=\"NP\",$F237=\"NP\",$G237=\"NP\"),\"NP\",IF(ISERROR(MEDIAN($E237:$G237)),\"DNS\",IF(COUNT($E237:$G237)<3,MAX($E237:$G237),MEDIAN($E237:$G237))))))","v":""},null,null,null,null,null,null,null,null,null,null,null,null,"",{"$f":"IF(C237=\"x\",\"x\",IF(C237=\"\",\"\",IF(OR(W237=\"NP\",W237=\"DNS\"),IF(W237=\"NP\",MAX(W$12:W$309)+COUNTIF((W$12:W$309),MAX(W$12:W$309)),MAX(W$12:W$309)+COUNTIF((W$12:W$309),MAX(W$12:W$309))+COUNTIF((W$12:W$309),\"NP\")),W237)))","v":""},{"$f":"IF(A237=\"x\",\"x\",IF(C237=\"\",\"\",IF(OR(X237=\"NP\",X237=\"DNS\"),X237,RANK(X237,X$12:X$309,1))))","v":""},{"$f":"IF(A237=\"x\",\"x\",IF(C237=\"\",\"\",IF(OR(AND(U237=\"NP\",U238=\"NP\"),AND(U237=\"DNS\",U238=\"DNS\")),U237,IF(AND(U237=\"NP\",U238=\"DNS\"),U237,IF(AND(U237=\"DNS\",U238=\"NP\"),U238,MIN(U237,U238))))))","v":""}]
[null,null,null,"II.pokus",null,null,null,{"$f":"IF($C237=\"\",\"\",IF(OR($E238=\"DNS\",$F238=\"DNS\",$G238=\"DNS\"),\"DNS\",IF(OR($E238=\"NP\",$F238=\"NP\",$G238=\"NP\"),\"NP\",IF(ISERROR(MEDIAN($E238:$G238)),\"DNS\",IF(COUNT($E238:$G238)<3,MAX($E238:$G238),MEDIAN($E238:$G238))))))","v":""},null,null,null,null,null,null,null,null,null,null,null,null,""]
[{"$f":"IF(Start!Q6=\"\",\"\",\"x\")","v":""},76,{"$f":"IF(Start!O6=\"\",\"\",Start!O6)","v":""},"I.pokus",null,null,null,{"$f":"IF($C239=\"\",\"\",IF(OR($E239=\"DNS\",$F239=\"DNS\",$G239=\"DNS\"),\"DNS\",IF(OR($E239=\"NP\",$F239=\"NP\",$G239=\"NP\"),\"NP\",IF(ISERROR(MEDIAN($E239:$G239)),\"DNS\",IF(COUNT($E239:$G239)<3,MAX($E239:$G239),MEDIAN($E239:$G239))))))","v":""},null,null,null,null,null,null,null,null,null,null,null,null,"",{"$f":"IF(C239=\"x\",\"x\",IF(C239=\"\",\"\",IF(OR(W239=\"NP\",W239=\"DNS\"),IF(W239=\"NP\",MAX(W$12:W$309)+COUNTIF((W$12:W$309),MAX(W$12:W$309)),MAX(W$12:W$309)+COUNTIF((W$12:W$309),MAX(W$12:W$309))+COUNTIF((W$12:W$309),\"NP\")),W239)))","v":""},{"$f":"IF(A239=\"x\",\"x\",IF(C239=\"\",\"\",IF(OR(X239=\"NP\",X239=\"DNS\"),X239,RANK(X239,X$12:X$309,1))))","v":""},{"$f":"IF(A239=\"x\",\"x\",IF(C239=\"\",\"\",IF(OR(AND(U239=\"NP\",U240=\"NP\"),AND(U239=\"DNS\",U240=\"DNS\")),U239,IF(AND(U239=\"NP\",U240=\"DNS\"),U239,IF(AND(U239=\"DNS\",U240=\"NP\"),U240,MIN(U239,U240))))))","v":""}]
[null,null,null,"II.pokus",null,null,null,{"$f":"IF($C239=\"\",\"\",IF(OR($E240=\"DNS\",$F240=\"DNS\",$G240=\"DNS\"),\"DNS\",IF(OR($E240=\"NP\",$F240=\"NP\",$G240=\"NP\"),\"NP\",IF(ISERROR(MEDIAN($E240:$G240)),\"DNS\",IF(COUNT($E240:$G240)<3,MAX($E240:$G240),MEDIAN($E240:$G240))))))","v":""},null,null,null,null,null,null,null,null,null,null,null,null,""]
[{"$f":"IF(Start!Q7=\"\",\"\",\"x\")","v":""},77,{"$f":"IF(Start!O7=\"\",\"\",Start!O7)","v":""},"I.pokus",null,null,null,{"$f":"IF($C241=\"\",\"\",IF(OR($E241=\"DNS\",$F241=\"DNS\",$G241=\"DNS\"),\"DNS\",IF(OR($E241=\"NP\",$F241=\"NP\",$G241=\"NP\"),\"NP\",IF(ISERROR(MEDIAN($E241:$G241)),\"DNS\",IF(COUNT($E241:$G241)<3,MAX($E241:$G241),MEDIAN($E241:$G241))))))","v":""},null,null,null,null,null,null,null,null,null,null,null,null,"",{"$f":"IF(C241=\"x\",\"x\",IF(C241=\"\",\"\",IF(OR(W241=\"NP\",W241=\"DNS\"),IF(W241=\"NP\",MAX(W$12:W$309)+COUNTIF((W$12:W$309),MAX(W$12:W$309)),MAX(W$12:W$309)+COUNTIF((W$12:W$309),MAX(W$12:W$309))+COUNTIF((W$12:W$309),\"NP\")),W241)))","v":""},{"$f":"IF(A241=\"x\",\"x\",IF(C241=\"\",\"\",IF(OR(X241=\"NP\",X241=\"DNS\"),X241,RANK(X241,X$12:X$309,1))))","v":""},{"$f":"IF(A241=\"x\",\"x\",IF(C241=\"\",\"\",IF(OR(AND(U241=\"NP\",U242=\"NP\"),AND(U241=\"DNS\",U242=\"DNS\")),U241,IF(AND(U241=\"NP\",U242=\"DNS\"),U241,IF(AND(U241=\"DNS\",U242=\"NP\"),U242,MIN(U241,U242))))))","v":""}]
[null,null,null,"II.pokus",null,null,null,{"$f":"IF($C241=\"\",\"\",IF(OR($E242=\"DNS\",$F242=\"DNS\",$G242=\"DNS\"),\"DNS\",IF(OR($E242=\"NP\",$F242=\"NP\",$G242=\"NP\"),\"NP\",IF(ISERROR(MEDIAN($E242:$G242)),\"DNS\",IF(COUNT($E242:$G242)<3,MAX($E242:$G242),MEDIAN($E242:$G242))))))","v":""},null,null,null,null,null,null,null,null,null,null,null,null,""]
[{"$f":"IF(Start!Q8=\"\",\"\",\"x\")","v":""},78,{"$f":"IF(Start!O8=\"\",\"\",Start!O8)","v":""},"I.pokus",null,null,null,{"$f":"IF($C243=\"\",\"\",IF(OR($E243=\"DNS\",$F243=\"DNS\",$G243=\"DNS\"),\"DNS\",IF(OR($E243=\"NP\",$F243=\"NP\",$G243=\"NP\"),\"NP\",IF(ISERROR(MEDIAN($E243:$G243)),\"DNS\",IF(COUNT($E243:$G243)<3,MAX($E243:$G243),MEDIAN($E243:$G243))))))","v":""},null,null,null,null,null,null,null,null,null,null,null,null,"",{"$f":"IF(C243=\"x\",\"x\",IF(C243=\"\",\"\",IF(OR(W243=\"NP\",W243=\"DNS\"),IF(W243=\"NP\",MAX(W$12:W$309)+COUNTIF((W$12:W$309),MAX(W$12:W$309)),MAX(W$12:W$309)+COUNTIF((W$12:W$309),MAX(W$12:W$309))+COUNTIF((W$12:W$309),\"NP\")),W243)))","v":""},{"$f":"IF(A243=\"x\",\"x\",IF(C243=\"\",\"\",IF(OR(X243=\"NP\",X243=\"DNS\"),X243,RANK(X243,X$12:X$309,1))))","v":""},{"$f":"IF(A243=\"x\",\"x\",IF(C243=\"\",\"\",IF(OR(AND(U243=\"NP\",U244=\"NP\"),AND(U243=\"DNS\",U244=\"DNS\")),U243,IF(AND(U243=\"NP\",U244=\"DNS\"),U243,IF(AND(U243=\"DNS\",U244=\"NP\"),U244,MIN(U243,U244))))))","v":""}]
[null,null,null,"II.pokus",null,null,null,{"$f":"IF($C243=\"\",\"\",IF(OR($E244=\"DNS\",$F244=\"DNS\",$G244=\"DNS\"),\"DNS\",IF(OR($E244=\"NP\",$F244=\"NP\",$G244=\"NP\"),\"NP\",IF(ISERROR(MEDIAN($E244:$G244)),\"DNS\",IF(COUNT($E244:$G244)<3,MAX($E244:$G244),MEDIAN($E244:$G244))))))","v":""},null,null,null,null,null,null,null,null,null,null,null,null,""]
[{"$f":"IF(Start!Q9=\"\",\"\",\"x\")","v":""},79,{"$f":"IF(Start!O9=\"\",\"\",Start!O9)","v":""},"I.pokus",null,null,null,{"$f":"IF($C245=\"\",\"\",IF(OR($E245=\"DNS\",$F245=\"DNS\",$G245=\"DNS\"),\"DNS\",IF(OR($E245=\"NP\",$F245=\"NP\",$G245=\"NP\"),\"NP\",IF(ISERROR(MEDIAN($E245:$G245)),\"DNS\",IF(COUNT($E245:$G245)<3,MAX($E245:$G245),MEDIAN($E245:$G245))))))","v":""},null,null,null,null,null,null,null,null,null,null,null,null,"",{"$f":"IF(C245=\"x\",\"x\",IF(C245=\"\",\"\",IF(OR(W245=\"NP\",W245=\"DNS\"),IF(W245=\"NP\",MAX(W$12:W$309)+COUNTIF((W$12:W$309),MAX(W$12:W$309)),MAX(W$12:W$309)+COUNTIF((W$12:W$309),MAX(W$12:W$309))+COUNTIF((W$12:W$309),\"NP\")),W245)))","v":""},{"$f":"IF(A245=\"x\",\"x\",IF(C245=\"\",\"\",IF(OR(X245=\"NP\",X245=\"DNS\"),X245,RANK(X245,X$12:X$309,1))))","v":""},{"$f":"IF(A245=\"x\",\"x\",IF(C245=\"\",\"\",IF(OR(AND(U245=\"NP\",U246=\"NP\"),AND(U245=\"DNS\",U246=\"DNS\")),U245,IF(AND(U245=\"NP\",U246=\"DNS\"),U245,IF(AND(U245=\"DNS\",U246=\"NP\"),U246,MIN(U245,U246))))))","v":""}]
[null,null,null,"II.pokus",null,null,null,{"$f":"IF($C245=\"\",\"\",IF(OR($E246=\"DNS\",$F246=\"DNS\",$G246=\"DNS\"),\"DNS\",IF(OR($E246=\"NP\",$F246=\"NP\",$G246=\"NP\"),\"NP\",IF(ISERROR(MEDIAN($E246:$G246)),\"DNS\",IF(COUNT($E246:$G246)<3,MAX($E246:$G246),MEDIAN($E246:$G246))))))","v":""},null,null,null,null,null,null,null,null,null,null,null,null,""]
[{"$f":"IF(Start!Q10=\"\",\"\",\"x\")","v":""},80,{"$f":"IF(Start!O10=\"\",\"\",Start!O10)","v":""},"I.pokus",null,null,null,{"$f":"IF($C247=\"\",\"\",IF(OR($E247=\"DNS\",$F247=\"DNS\",$G247=\"DNS\"),\"DNS\",IF(OR($E247=\"NP\",$F247=\"NP\",$G247=\"NP\"),\"NP\",IF(ISERROR(MEDIAN($E247:$G247)),\"DNS\",IF(COUNT($E247:$G247)<3,MAX($E247:$G247),MEDIAN($E247:$G247))))))","v":""},null,null,null,null,null,null,null,null,null,null,null,null,"",{"$f":"IF(C247=\"x\",\"x\",IF(C247=\"\",\"\",IF(OR(W247=\"NP\",W247=\"DNS\"),IF(W247=\"NP\",MAX(W$12:W$309)+COUNTIF((W$12:W$309),MAX(W$12:W$309)),MAX(W$12:W$309)+COUNTIF((W$12:W$309),MAX(W$12:W$309))+COUNTIF((W$12:W$309),\"NP\")),W247)))","v":""},{"$f":"IF(A247=\"x\",\"x\",IF(C247=\"\",\"\",IF(OR(X247=\"NP\",X247=\"DNS\"),X247,RANK(X247,X$12:X$309,1))))","v":""},{"$f":"IF(A247=\"x\",\"x\",IF(C247=\"\",\"\",IF(OR(AND(U247=\"NP\",U248=\"NP\"),AND(U247=\"DNS\",U248=\"DNS\")),U247,IF(AND(U247=\"NP\",U248=\"DNS\"),U247,IF(AND(U247=\"DNS\",U248=\"NP\"),U248,MIN(U247,U248))))))","v":""}]
[null,null,null,"II.pokus",null,null,null,{"$f":"IF($C247=\"\",\"\",IF(OR($E248=\"DNS\",$F248=\"DNS\",$G248=\"DNS\"),\"DNS\",IF(OR($E248=\"NP\",$F248=\"NP\",$G248=\"NP\"),\"NP\",IF(ISERROR(MEDIAN($E248:$G248)),\"DNS\",IF(COUNT($E248:$G248)<3,MAX($E248:$G248),MEDIAN($E248:$G248))))))","v":""},null,null,null,null,null,null,null,null,null,null,null,null,""]
[null,"CELOSTÁTNÍ HRA PLAMEN"]
[]
[]
[null,"Výsledková listina č: 9"]
[null,"Štafeta 400 m CTIF",null,null,"Základem je čas naměřený od vydání signálu startéra do proběhnutí posledního člena cílem",null,null,null,"K úřednímu času se připočítávají trestné sekundy - za každý případ 10/20 sekund",null,null,null,null,null,null,null,null,null,null,null,"Výsledek soutěže"]
[null,null,null,null,null,null,null,null,"za nesprávné spojení koncovek (hadice, rozdělovač, proudnice)              (10 s)",null,null,"nesprávně překonaná překážka nebo nesprávně provedený úkon     (10 s)",null,null,"vyšlápnutí z dráhy oběma nohama     (10 s)",null,null,"mepřenesení proudnice přes cíl (20 s)"]
[null,null,null,null,null,null,null,null,null,null,null,null,null,null,null,null,null,null,null,null,"součet trest. Sekund a úředního času","počet bodů za umístění"]
[null,{"$f":"\"KATEGORIE: \"&Start!$N$2","v":"KATEGORIE: starší"},null,null,"I. časoměřič","II. časoměřič","III. časoměřič","úřední čas"]
[]
[null,"start. číslo","SOUTĚŽNÍ DRUŽSTVO","pokus"]
[]
[{"$f":"IF(Start!Q11=\"\",\"\",\"x\")","v":""},81,{"$f":"IF(Start!O11=\"\",\"\",Start!O11)","v":""},"I.pokus",null,null,null,{"$f":"IF($C260=\"\",\"\",IF(OR($E260=\"DNS\",$F260=\"DNS\",$G260=\"DNS\"),\"DNS\",IF(OR($E260=\"NP\",$F260=\"NP\",$G260=\"NP\"),\"NP\",IF(ISERROR(MEDIAN($E260:$G260)),\"DNS\",IF(COUNT($E260:$G260)<3,MAX($E260:$G260),MEDIAN($E260:$G260))))))","v":""},null,null,null,null,null,null,null,null,null,null,null,null,{"$f":"IF(H260=\"\",\"\",IF(H260=\"NP\",\"NP\",IF(H260=\"DNS\",\"DNS\",SUM(I260:T260)+H260)))","v":""},{"$f":"IF(C260=\"x\",\"x\",IF(C260=\"\",\"\",IF(OR(W260=\"NP\",W260=\"DNS\"),IF(W260=\"NP\",MAX(W$12:W$309)+COUNTIF((W$12:W$309),MAX(W$12:W$309)),MAX(W$12:W$309)+COUNTIF((W$12:W$309),MAX(W$12:W$309))+COUNTIF((W$12:W$309),\"NP\")),W260)))","v":""},{"$f":"IF(A260=\"x\",\"x\",IF(C260=\"\",\"\",IF(OR(X260=\"NP\",X260=\"DNS\"),X260,RANK(X260,X$12:X$309,1))))","v":""},{"$f":"IF(A260=\"x\",\"x\",IF(C260=\"\",\"\",IF(OR(AND(U260=\"NP\",U261=\"NP\"),AND(U260=\"DNS\",U261=\"DNS\")),U260,IF(AND(U260=\"NP\",U261=\"DNS\"),U260,IF(AND(U260=\"DNS\",U261=\"NP\"),U261,MIN(U260,U261))))))","v":""}]
[null,null,null,"II.pokus",null,null,null,{"$f":"IF($C260=\"\",\"\",IF(OR($E261=\"DNS\",$F261=\"DNS\",$G261=\"DNS\"),\"DNS\",IF(OR($E261=\"NP\",$F261=\"NP\",$G261=\"NP\"),\"NP\",IF(ISERROR(MEDIAN($E261:$G261)),\"DNS\",IF(COUNT($E261:$G261)<3,MAX($E261:$G261),MEDIAN($E261:$G261))))))","v":""},null,null,null,null,null,null,null,null,null,null,null,null,""]
[{"$f":"IF(Start!Q12=\"\",\"\",\"x\")","v":""},82,{"$f":"IF(Start!O12=\"\",\"\",Start!O12)","v":""},"I.pokus",null,null,null,{"$f":"IF($C262=\"\",\"\",IF(OR($E262=\"DNS\",$F262=\"DNS\",$G262=\"DNS\"),\"DNS\",IF(OR($E262=\"NP\",$F262=\"NP\",$G262=\"NP\"),\"NP\",IF(ISERROR(MEDIAN($E262:$G262)),\"DNS\",IF(COUNT($E262:$G262)<3,MAX($E262:$G262),MEDIAN($E262:$G262))))))","v":""},null,null,null,null,null,null,null,null,null,null,null,null,"",{"$f":"IF(C262=\"x\",\"x\",IF(C262=\"\",\"\",IF(OR(W262=\"NP\",W262=\"DNS\"),IF(W262=\"NP\",MAX(W$12:W$309)+COUNTIF((W$12:W$309),MAX(W$12:W$309)),MAX(W$12:W$309)+COUNTIF((W$12:W$309),MAX(W$12:W$309))+COUNTIF((W$12:W$309),\"NP\")),W262)))","v":""},{"$f":"IF(A262=\"x\",\"x\",IF(C262=\"\",\"\",IF(OR(X262=\"NP\",X262=\"DNS\"),X262,RANK(X262,X$12:X$309,1))))","v":""},{"$f":"IF(A262=\"x\",\"x\",IF(C262=\"\",\"\",IF(OR(AND(U262=\"NP\",U263=\"NP\"),AND(U262=\"DNS\",U263=\"DNS\")),U262,IF(AND(U262=\"NP\",U263=\"DNS\"),U262,IF(AND(U262=\"DNS\",U263=\"NP\"),U263,MIN(U262,U263))))))","v":""}]
[null,null,null,"II.pokus",null,null,null,{"$f":"IF($C262=\"\",\"\",IF(OR($E263=\"DNS\",$F263=\"DNS\",$G263=\"DNS\"),\"DNS\",IF(OR($E263=\"NP\",$F263=\"NP\",$G263=\"NP\"),\"NP\",IF(ISERROR(MEDIAN($E263:$G263)),\"DNS\",IF(COUNT($E263:$G263)<3,MAX($E263:$G263),MEDIAN($E263:$G263))))))","v":""},null,null,null,null,null,null,null,null,null,null,null,null,""]
[{"$f":"IF(Start!Q13=\"\",\"\",\"x\")","v":""},83,{"$f":"IF(Start!O13=\"\",\"\",Start!O13)","v":""},"I.pokus",null,null,null,{"$f":"IF($C264=\"\",\"\",IF(OR($E264=\"DNS\",$F264=\"DNS\",$G264=\"DNS\"),\"DNS\",IF(OR($E264=\"NP\",$F264=\"NP\",$G264=\"NP\"),\"NP\",IF(ISERROR(MEDIAN($E264:$G264)),\"DNS\",IF(COUNT($E264:$G264)<3,MAX($E264:$G264),MEDIAN($E264:$G264))))))","v":""},null,null,null,null,null,null,null,null,null,null,null,null,"",{"$f":"IF(C264=\"x\",\"x\",IF(C264=\"\",\"\",IF(OR(W264=\"NP\",W264=\"DNS\"),IF(W264=\"NP\",MAX(W$12:W$309)+COUNTIF((W$12:W$309),MAX(W$12:W$309)),MAX(W$12:W$309)+COUNTIF((W$12:W$309),MAX(W$12:W$309))+COUNTIF((W$12:W$309),\"NP\")),W264)))","v":""},{"$f":"IF(A264=\"x\",\"x\",IF(C264=\"\",\"\",IF(OR(X264=\"NP\",X264=\"DNS\"),X264,RANK(X264,X$12:X$309,1))))","v":""},{"$f":"IF(A264=\"x\",\"x\",IF(C264=\"\",\"\",IF(OR(AND(U264=\"NP\",U265=\"NP\"),AND(U264=\"DNS\",U265=\"DNS\")),U264,IF(AND(U264=\"NP\",U265=\"DNS\"),U264,IF(AND(U264=\"DNS\",U265=\"NP\"),U265,MIN(U264,U265))))))","v":""}]
[null,null,null,"II.pokus",null,null,null,{"$f":"IF($C264=\"\",\"\",IF(OR($E265=\"DNS\",$F265=\"DNS\",$G265=\"DNS\"),\"DNS\",IF(OR($E265=\"NP\",$F265=\"NP\",$G265=\"NP\"),\"NP\",IF(ISERROR(MEDIAN($E265:$G265)),\"DNS\",IF(COUNT($E265:$G265)<3,MAX($E265:$G265),MEDIAN($E265:$G265))))))","v":""},null,null,null,null,null,null,null,null,null,null,null,null,""]
[{"$f":"IF(Start!Q14=\"\",\"\",\"x\")","v":""},84,{"$f":"IF(Start!O14=\"\",\"\",Start!O14)","v":""},"I.pokus",null,null,null,{"$f":"IF($C266=\"\",\"\",IF(OR($E266=\"DNS\",$F266=\"DNS\",$G266=\"DNS\"),\"DNS\",IF(OR($E266=\"NP\",$F266=\"NP\",$G266=\"NP\"),\"NP\",IF(ISERROR(MEDIAN($E266:$G266)),\"DNS\",IF(COUNT($E266:$G266)<3,MAX($E266:$G266),MEDIAN($E266:$G266))))))","v":""},null,null,null,null,null,null,null,null,null,null,null,null,"",{"$f":"IF(C266=\"x\",\"x\",IF(C266=\"\",\"\",IF(OR(W266=\"NP\",W266=\"DNS\"),IF(W266=\"NP\",MAX(W$12:W$309)+COUNTIF((W$12:W$309),MAX(W$12:W$309)),MAX(W$12:W$309)+COUNTIF((W$12:W$309),MAX(W$12:W$309))+COUNTIF((W$12:W$309),\"NP\")),W266)))","v":""},{"$f":"IF(A266=\"x\",\"x\",IF(C266=\"\",\"\",IF(OR(X266=\"NP\",X266=\"DNS\"),X266,RANK(X266,X$12:X$309,1))))","v":""},{"$f":"IF(A266=\"x\",\"x\",IF(C266=\"\",\"\",IF(OR(AND(U266=\"NP\",U267=\"NP\"),AND(U266=\"DNS\",U267=\"DNS\")),U266,IF(AND(U266=\"NP\",U267=\"DNS\"),U266,IF(AND(U266=\"DNS\",U267=\"NP\"),U267,MIN(U266,U267))))))","v":""}]
[null,null,null,"II.pokus",null,null,null,{"$f":"IF($C266=\"\",\"\",IF(OR($E267=\"DNS\",$F267=\"DNS\",$G267=\"DNS\"),\"DNS\",IF(OR($E267=\"NP\",$F267=\"NP\",$G267=\"NP\"),\"NP\",IF(ISERROR(MEDIAN($E267:$G267)),\"DNS\",IF(COUNT($E267:$G267)<3,MAX($E267:$G267),MEDIAN($E267:$G267))))))","v":""},null,null,null,null,null,null,null,null,null,null,null,null,""]
[{"$f":"IF(Start!Q15=\"\",\"\",\"x\")","v":""},85,{"$f":"IF(Start!O15=\"\",\"\",Start!O15)","v":""},"I.pokus",null,null,null,{"$f":"IF($C268=\"\",\"\",IF(OR($E268=\"DNS\",$F268=\"DNS\",$G268=\"DNS\"),\"DNS\",IF(OR($E268=\"NP\",$F268=\"NP\",$G268=\"NP\"),\"NP\",IF(ISERROR(MEDIAN($E268:$G268)),\"DNS\",IF(COUNT($E268:$G268)<3,MAX($E268:$G268),MEDIAN($E268:$G268))))))","v":""},null,null,null,null,null,null,null,null,null,null,null,null,"",{"$f":"IF(C268=\"x\",\"x\",IF(C268=\"\",\"\",IF(OR(W268=\"NP\",W268=\"DNS\"),IF(W268=\"NP\",MAX(W$12:W$309)+COUNTIF((W$12:W$309),MAX(W$12:W$309)),MAX(W$12:W$309)+COUNTIF((W$12:W$309),MAX(W$12:W$309))+COUNTIF((W$12:W$309),\"NP\")),W268)))","v":""},{"$f":"IF(A268=\"x\",\"x\",IF(C268=\"\",\"\",IF(OR(X268=\"NP\",X268=\"DNS\"),X268,RANK(X268,X$12:X$309,1))))","v":""},{"$f":"IF(A268=\"x\",\"x\",IF(C268=\"\",\"\",IF(OR(AND(U268=\"NP\",U269=\"NP\"),AND(U268=\"DNS\",U269=\"DNS\")),U268,IF(AND(U268=\"NP\",U269=\"DNS\"),U268,IF(AND(U268=\"DNS\",U269=\"NP\"),U269,MIN(U268,U269))))))","v":""}]
[null,null,null,"II.pokus",null,null,null,{"$f":"IF($C268=\"\",\"\",IF(OR($E269=\"DNS\",$F269=\"DNS\",$G269=\"DNS\"),\"DNS\",IF(OR($E269=\"NP\",$F269=\"NP\",$G269=\"NP\"),\"NP\",IF(ISERROR(MEDIAN($E269:$G269)),\"DNS\",IF(COUNT($E269:$G269)<3,MAX($E269:$G269),MEDIAN($E269:$G269))))))","v":""},null,null,null,null,null,null,null,null,null,null,null,null,""]
[{"$f":"IF(Start!Q16=\"\",\"\",\"x\")","v":""},86,{"$f":"IF(Start!O16=\"\",\"\",Start!O16)","v":""},"I.pokus",null,null,null,{"$f":"IF($C270=\"\",\"\",IF(OR($E270=\"DNS\",$F270=\"DNS\",$G270=\"DNS\"),\"DNS\",IF(OR($E270=\"NP\",$F270=\"NP\",$G270=\"NP\"),\"NP\",IF(ISERROR(MEDIAN($E270:$G270)),\"DNS\",IF(COUNT($E270:$G270)<3,MAX($E270:$G270),MEDIAN($E270:$G270))))))","v":""},null,null,null,null,null,null,null,null,null,null,null,null,"",{"$f":"IF(C270=\"x\",\"x\",IF(C270=\"\",\"\",IF(OR(W270=\"NP\",W270=\"DNS\"),IF(W270=\"NP\",MAX(W$12:W$309)+COUNTIF((W$12:W$309),MAX(W$12:W$309)),MAX(W$12:W$309)+COUNTIF((W$12:W$309),MAX(W$12:W$309))+COUNTIF((W$12:W$309),\"NP\")),W270)))","v":""},{"$f":"IF(A270=\"x\",\"x\",IF(C270=\"\",\"\",IF(OR(X270=\"NP\",X270=\"DNS\"),X270,RANK(X270,X$12:X$309,1))))","v":""},{"$f":"IF(A270=\"x\",\"x\",IF(C270=\"\",\"\",IF(OR(AND(U270=\"NP\",U271=\"NP\"),AND(U270=\"DNS\",U271=\"DNS\")),U270,IF(AND(U270=\"NP\",U271=\"DNS\"),U270,IF(AND(U270=\"DNS\",U271=\"NP\"),U271,MIN(U270,U271))))))","v":""}]
[null,null,null,"II.pokus",null,null,null,{"$f":"IF($C270=\"\",\"\",IF(OR($E271=\"DNS\",$F271=\"DNS\",$G271=\"DNS\"),\"DNS\",IF(OR($E271=\"NP\",$F271=\"NP\",$G271=\"NP\"),\"NP\",IF(ISERROR(MEDIAN($E271:$G271)),\"DNS\",IF(COUNT($E271:$G271)<3,MAX($E271:$G271),MEDIAN($E271:$G271))))))","v":""},null,null,null,null,null,null,null,null,null,null,null,null,""]
[{"$f":"IF(Start!Q17=\"\",\"\",\"x\")","v":""},87,{"$f":"IF(Start!O17=\"\",\"\",Start!O17)","v":""},"I.pokus",null,null,null,{"$f":"IF($C272=\"\",\"\",IF(OR($E272=\"DNS\",$F272=\"DNS\",$G272=\"DNS\"),\"DNS\",IF(OR($E272=\"NP\",$F272=\"NP\",$G272=\"NP\"),\"NP\",IF(ISERROR(MEDIAN($E272:$G272)),\"DNS\",IF(COUNT($E272:$G272)<3,MAX($E272:$G272),MEDIAN($E272:$G272))))))","v":""},null,null,null,null,null,null,null,null,null,null,null,null,"",{"$f":"IF(C272=\"x\",\"x\",IF(C272=\"\",\"\",IF(OR(W272=\"NP\",W272=\"DNS\"),IF(W272=\"NP\",MAX(W$12:W$309)+COUNTIF((W$12:W$309),MAX(W$12:W$309)),MAX(W$12:W$309)+COUNTIF((W$12:W$309),MAX(W$12:W$309))+COUNTIF((W$12:W$309),\"NP\")),W272)))","v":""},{"$f":"IF(A272=\"x\",\"x\",IF(C272=\"\",\"\",IF(OR(X272=\"NP\",X272=\"DNS\"),X272,RANK(X272,X$12:X$309,1))))","v":""},{"$f":"IF(A272=\"x\",\"x\",IF(C272=\"\",\"\",IF(OR(AND(U272=\"NP\",U273=\"NP\"),AND(U272=\"DNS\",U273=\"DNS\")),U272,IF(AND(U272=\"NP\",U273=\"DNS\"),U272,IF(AND(U272=\"DNS\",U273=\"NP\"),U273,MIN(U272,U273))))))","v":""}]
[null,null,null,"II.pokus",null,null,null,{"$f":"IF($C272=\"\",\"\",IF(OR($E273=\"DNS\",$F273=\"DNS\",$G273=\"DNS\"),\"DNS\",IF(OR($E273=\"NP\",$F273=\"NP\",$G273=\"NP\"),\"NP\",IF(ISERROR(MEDIAN($E273:$G273)),\"DNS\",IF(COUNT($E273:$G273)<3,MAX($E273:$G273),MEDIAN($E273:$G273))))))","v":""},null,null,null,null,null,null,null,null,null,null,null,null,""]
[{"$f":"IF(Start!Q18=\"\",\"\",\"x\")","v":""},88,{"$f":"IF(Start!O18=\"\",\"\",Start!O18)","v":""},"I.pokus",null,null,null,{"$f":"IF($C274=\"\",\"\",IF(OR($E274=\"DNS\",$F274=\"DNS\",$G274=\"DNS\"),\"DNS\",IF(OR($E274=\"NP\",$F274=\"NP\",$G274=\"NP\"),\"NP\",IF(ISERROR(MEDIAN($E274:$G274)),\"DNS\",IF(COUNT($E274:$G274)<3,MAX($E274:$G274),MEDIAN($E274:$G274))))))","v":""},null,null,null,null,null,null,null,null,null,null,null,null,"",{"$f":"IF(C274=\"x\",\"x\",IF(C274=\"\",\"\",IF(OR(W274=\"NP\",W274=\"DNS\"),IF(W274=\"NP\",MAX(W$12:W$309)+COUNTIF((W$12:W$309),MAX(W$12:W$309)),MAX(W$12:W$309)+COUNTIF((W$12:W$309),MAX(W$12:W$309))+COUNTIF((W$12:W$309),\"NP\")),W274)))","v":""},{"$f":"IF(A274=\"x\",\"x\",IF(C274=\"\",\"\",IF(OR(X274=\"NP\",X274=\"DNS\"),X274,RANK(X274,X$12:X$309,1))))","v":""},{"$f":"IF(A274=\"x\",\"x\",IF(C274=\"\",\"\",IF(OR(AND(U274=\"NP\",U275=\"NP\"),AND(U274=\"DNS\",U275=\"DNS\")),U274,IF(AND(U274=\"NP\",U275=\"DNS\"),U274,IF(AND(U274=\"DNS\",U275=\"NP\"),U275,MIN(U274,U275))))))","v":""}]
[null,null,null,"II.pokus",null,null,null,{"$f":"IF($C274=\"\",\"\",IF(OR($E275=\"DNS\",$F275=\"DNS\",$G275=\"DNS\"),\"DNS\",IF(OR($E275=\"NP\",$F275=\"NP\",$G275=\"NP\"),\"NP\",IF(ISERROR(MEDIAN($E275:$G275)),\"DNS\",IF(COUNT($E275:$G275)<3,MAX($E275:$G275),MEDIAN($E275:$G275))))))","v":""},null,null,null,null,null,null,null,null,null,null,null,null,""]
[{"$f":"IF(Start!Q19=\"\",\"\",\"x\")","v":""},89,{"$f":"IF(Start!O19=\"\",\"\",Start!O19)","v":""},"I.pokus",null,null,null,{"$f":"IF($C276=\"\",\"\",IF(OR($E276=\"DNS\",$F276=\"DNS\",$G276=\"DNS\"),\"DNS\",IF(OR($E276=\"NP\",$F276=\"NP\",$G276=\"NP\"),\"NP\",IF(ISERROR(MEDIAN($E276:$G276)),\"DNS\",IF(COUNT($E276:$G276)<3,MAX($E276:$G276),MEDIAN($E276:$G276))))))","v":""},null,null,null,null,null,null,null,null,null,null,null,null,"",{"$f":"IF(C276=\"x\",\"x\",IF(C276=\"\",\"\",IF(OR(W276=\"NP\",W276=\"DNS\"),IF(W276=\"NP\",MAX(W$12:W$309)+COUNTIF((W$12:W$309),MAX(W$12:W$309)),MAX(W$12:W$309)+COUNTIF((W$12:W$309),MAX(W$12:W$309))+COUNTIF((W$12:W$309),\"NP\")),W276)))","v":""},{"$f":"IF(A276=\"x\",\"x\",IF(C276=\"\",\"\",IF(OR(X276=\"NP\",X276=\"DNS\"),X276,RANK(X276,X$12:X$309,1))))","v":""},{"$f":"IF(A276=\"x\",\"x\",IF(C276=\"\",\"\",IF(OR(AND(U276=\"NP\",U277=\"NP\"),AND(U276=\"DNS\",U277=\"DNS\")),U276,IF(AND(U276=\"NP\",U277=\"DNS\"),U276,IF(AND(U276=\"DNS\",U277=\"NP\"),U277,MIN(U276,U277))))))","v":""}]
[null,null,null,"II.pokus",null,null,null,{"$f":"IF($C276=\"\",\"\",IF(OR($E277=\"DNS\",$F277=\"DNS\",$G277=\"DNS\"),\"DNS\",IF(OR($E277=\"NP\",$F277=\"NP\",$G277=\"NP\"),\"NP\",IF(ISERROR(MEDIAN($E277:$G277)),\"DNS\",IF(COUNT($E277:$G277)<3,MAX($E277:$G277),MEDIAN($E277:$G277))))))","v":""},null,null,null,null,null,null,null,null,null,null,null,null,""]
[{"$f":"IF(Start!Q20=\"\",\"\",\"x\")","v":""},90,{"$f":"IF(Start!O20=\"\",\"\",Start!O20)","v":""},"I.pokus",null,null,null,{"$f":"IF($C278=\"\",\"\",IF(OR($E278=\"DNS\",$F278=\"DNS\",$G278=\"DNS\"),\"DNS\",IF(OR($E278=\"NP\",$F278=\"NP\",$G278=\"NP\"),\"NP\",IF(ISERROR(MEDIAN($E278:$G278)),\"DNS\",IF(COUNT($E278:$G278)<3,MAX($E278:$G278),MEDIAN($E278:$G278))))))","v":""},null,null,null,null,null,null,null,null,null,null,null,null,"",{"$f":"IF(C278=\"x\",\"x\",IF(C278=\"\",\"\",IF(OR(W278=\"NP\",W278=\"DNS\"),IF(W278=\"NP\",MAX(W$12:W$309)+COUNTIF((W$12:W$309),MAX(W$12:W$309)),MAX(W$12:W$309)+COUNTIF((W$12:W$309),MAX(W$12:W$309))+COUNTIF((W$12:W$309),\"NP\")),W278)))","v":""},{"$f":"IF(A278=\"x\",\"x\",IF(C278=\"\",\"\",IF(OR(X278=\"NP\",X278=\"DNS\"),X278,RANK(X278,X$12:X$309,1))))","v":""},{"$f":"IF(A278=\"x\",\"x\",IF(C278=\"\",\"\",IF(OR(AND(U278=\"NP\",U279=\"NP\"),AND(U278=\"DNS\",U279=\"DNS\")),U278,IF(AND(U278=\"NP\",U279=\"DNS\"),U278,IF(AND(U278=\"DNS\",U279=\"NP\"),U279,MIN(U278,U279))))))","v":""}]
[null,null,null,"II.pokus",null,null,null,{"$f":"IF($C278=\"\",\"\",IF(OR($E279=\"DNS\",$F279=\"DNS\",$G279=\"DNS\"),\"DNS\",IF(OR($E279=\"NP\",$F279=\"NP\",$G279=\"NP\"),\"NP\",IF(ISERROR(MEDIAN($E279:$G279)),\"DNS\",IF(COUNT($E279:$G279)<3,MAX($E279:$G279),MEDIAN($E279:$G279))))))","v":""},null,null,null,null,null,null,null,null,null,null,null,null,""]
[null,"CELOSTÁTNÍ HRA PLAMEN"]
[]
[]
[null,"Výsledková listina č: 10"]
[null,"Štafeta 400 m CTIF",null,null,"Základem je čas naměřený od vydání signálu startéra do proběhnutí posledního člena cílem",null,null,null,"K úřednímu času se připočítávají trestné sekundy - za každý případ 10/20 sekund",null,null,null,null,null,null,null,null,null,null,null,"Výsledek soutěže"]
[null,null,null,null,null,null,null,null,"za nesprávné spojení koncovek (hadice, rozdělovač, proudnice)              (10 s)",null,null,"nesprávně překonaná překážka nebo nesprávně provedený úkon     (10 s)",null,null,"vyšlápnutí z dráhy oběma nohama     (10 s)",null,null,"mepřenesení proudnice přes cíl (20 s)"]
[null,null,null,null,null,null,null,null,null,null,null,null,null,null,null,null,null,null,null,null,"součet trest. Sekund a úředního času","počet bodů za umístění"]
[null,{"$f":"\"KATEGORIE: \"&Start!$N$2","v":"KATEGORIE: starší"},null,null,"I. časoměřič","II. časoměřič","III. časoměřič","úřední čas"]
[]
[null,"start. číslo","SOUTĚŽNÍ DRUŽSTVO","pokus"]
[]
[{"$f":"IF(Start!Q21=\"\",\"\",\"x\")","v":""},91,{"$f":"IF(Start!O21=\"\",\"\",Start!O21)","v":""},"I.pokus",null,null,null,{"$f":"IF($C291=\"\",\"\",IF(OR($E291=\"DNS\",$F291=\"DNS\",$G291=\"DNS\"),\"DNS\",IF(OR($E291=\"NP\",$F291=\"NP\",$G291=\"NP\"),\"NP\",IF(ISERROR(MEDIAN($E291:$G291)),\"DNS\",IF(COUNT($E291:$G291)<3,MAX($E291:$G291),MEDIAN($E291:$G291))))))","v":""},null,null,null,null,null,null,null,null,null,null,null,null,{"$f":"IF(H291=\"\",\"\",IF(H291=\"NP\",\"NP\",IF(H291=\"DNS\",\"DNS\",SUM(I291:T291)+H291)))","v":""},{"$f":"IF(C291=\"x\",\"x\",IF(C291=\"\",\"\",IF(OR(W291=\"NP\",W291=\"DNS\"),IF(W291=\"NP\",MAX(W$12:W$309)+COUNTIF((W$12:W$309),MAX(W$12:W$309)),MAX(W$12:W$309)+COUNTIF((W$12:W$309),MAX(W$12:W$309))+COUNTIF((W$12:W$309),\"NP\")),W291)))","v":""},{"$f":"IF(A291=\"x\",\"x\",IF(C291=\"\",\"\",IF(OR(X291=\"NP\",X291=\"DNS\"),X291,RANK(X291,X$12:X$61,1))))","v":""},{"$f":"IF(A291=\"x\",\"x\",IF(C291=\"\",\"\",IF(OR(AND(U291=\"NP\",U292=\"NP\"),AND(U291=\"DNS\",U292=\"DNS\")),U291,IF(AND(U291=\"NP\",U292=\"DNS\"),U291,IF(AND(U291=\"DNS\",U292=\"NP\"),U292,MIN(U291,U292))))))","v":""}]
[null,null,null,"II.pokus",null,null,null,{"$f":"IF($C291=\"\",\"\",IF(OR($E292=\"DNS\",$F292=\"DNS\",$G292=\"DNS\"),\"DNS\",IF(OR($E292=\"NP\",$F292=\"NP\",$G292=\"NP\"),\"NP\",IF(ISERROR(MEDIAN($E292:$G292)),\"DNS\",IF(COUNT($E292:$G292)<3,MAX($E292:$G292),MEDIAN($E292:$G292))))))","v":""},null,null,null,null,null,null,null,null,null,null,null,null,""]
[{"$f":"IF(Start!Q22=\"\",\"\",\"x\")","v":""},92,{"$f":"IF(Start!O22=\"\",\"\",Start!O22)","v":""},"I.pokus",null,null,null,{"$f":"IF($C293=\"\",\"\",IF(OR($E293=\"DNS\",$F293=\"DNS\",$G293=\"DNS\"),\"DNS\",IF(OR($E293=\"NP\",$F293=\"NP\",$G293=\"NP\"),\"NP\",IF(ISERROR(MEDIAN($E293:$G293)),\"DNS\",IF(COUNT($E293:$G293)<3,MAX($E293:$G293),MEDIAN($E293:$G293))))))","v":""},null,null,null,null,null,null,null,null,null,null,null,null,"",{"$f":"IF(C293=\"x\",\"x\",IF(C293=\"\",\"\",IF(OR(W293=\"NP\",W293=\"DNS\"),IF(W293=\"NP\",MAX(W$12:W$309)+COUNTIF((W$12:W$309),MAX(W$12:W$309)),MAX(W$12:W$309)+COUNTIF((W$12:W$309),MAX(W$12:W$309))+COUNTIF((W$12:W$309),\"NP\")),W293)))","v":""},{"$f":"IF(A293=\"x\",\"x\",IF(C293=\"\",\"\",IF(OR(X293=\"NP\",X293=\"DNS\"),X293,RANK(X293,X$12:X$61,1))))","v":""},{"$f":"IF(A293=\"x\",\"x\",IF(C293=\"\",\"\",IF(OR(AND(U293=\"NP\",U294=\"NP\"),AND(U293=\"DNS\",U294=\"DNS\")),U293,IF(AND(U293=\"NP\",U294=\"DNS\"),U293,IF(AND(U293=\"DNS\",U294=\"NP\"),U294,MIN(U293,U294))))))","v":""}]
[null,null,null,"II.pokus",null,null,null,{"$f":"IF($C293=\"\",\"\",IF(OR($E294=\"DNS\",$F294=\"DNS\",$G294=\"DNS\"),\"DNS\",IF(OR($E294=\"NP\",$F294=\"NP\",$G294=\"NP\"),\"NP\",IF(ISERROR(MEDIAN($E294:$G294)),\"DNS\",IF(COUNT($E294:$G294)<3,MAX($E294:$G294),MEDIAN($E294:$G294))))))","v":""},null,null,null,null,null,null,null,null,null,null,null,null,""]
[{"$f":"IF(Start!Q23=\"\",\"\",\"x\")","v":""},93,{"$f":"IF(Start!O23=\"\",\"\",Start!O23)","v":""},"I.pokus",null,null,null,{"$f":"IF($C295=\"\",\"\",IF(OR($E295=\"DNS\",$F295=\"DNS\",$G295=\"DNS\"),\"DNS\",IF(OR($E295=\"NP\",$F295=\"NP\",$G295=\"NP\"),\"NP\",IF(ISERROR(MEDIAN($E295:$G295)),\"DNS\",IF(COUNT($E295:$G295)<3,MAX($E295:$G295),MEDIAN($E295:$G295))))))","v":""},null,null,null,null,null,null,null,null,null,null,null,null,"",{"$f":"IF(C295=\"x\",\"x\",IF(C295=\"\",\"\",IF(OR(W295=\"NP\",W295=\"DNS\"),IF(W295=\"NP\",MAX(W$12:W$309)+COUNTIF((W$12:W$309),MAX(W$12:W$309)),MAX(W$12:W$309)+COUNTIF((W$12:W$309),MAX(W$12:W$309))+COUNTIF((W$12:W$309),\"NP\")),W295)))","v":""},{"$f":"IF(A295=\"x\",\"x\",IF(C295=\"\",\"\",IF(OR(X295=\"NP\",X295=\"DNS\"),X295,RANK(X295,X$12:X$61,1))))","v":""},{"$f":"IF(A295=\"x\",\"x\",IF(C295=\"\",\"\",IF(OR(AND(U295=\"NP\",U296=\"NP\"),AND(U295=\"DNS\",U296=\"DNS\")),U295,IF(AND(U295=\"NP\",U296=\"DNS\"),U295,IF(AND(U295=\"DNS\",U296=\"NP\"),U296,MIN(U295,U296))))))","v":""}]
[null,null,null,"II.pokus",null,null,null,{"$f":"IF($C295=\"\",\"\",IF(OR($E296=\"DNS\",$F296=\"DNS\",$G296=\"DNS\"),\"DNS\",IF(OR($E296=\"NP\",$F296=\"NP\",$G296=\"NP\"),\"NP\",IF(ISERROR(MEDIAN($E296:$G296)),\"DNS\",IF(COUNT($E296:$G296)<3,MAX($E296:$G296),MEDIAN($E296:$G296))))))","v":""},null,null,null,null,null,null,null,null,null,null,null,null,""]
[{"$f":"IF(Start!Q24=\"\",\"\",\"x\")","v":""},94,{"$f":"IF(Start!O24=\"\",\"\",Start!O24)","v":""},"I.pokus",null,null,null,{"$f":"IF($C297=\"\",\"\",IF(OR($E297=\"DNS\",$F297=\"DNS\",$G297=\"DNS\"),\"DNS\",IF(OR($E297=\"NP\",$F297=\"NP\",$G297=\"NP\"),\"NP\",IF(ISERROR(MEDIAN($E297:$G297)),\"DNS\",IF(COUNT($E297:$G297)<3,MAX($E297:$G297),MEDIAN($E297:$G297))))))","v":""},null,null,null,null,null,null,null,null,null,null,null,null,"",{"$f":"IF(C297=\"x\",\"x\",IF(C297=\"\",\"\",IF(OR(W297=\"NP\",W297=\"DNS\"),IF(W297=\"NP\",MAX(W$12:W$309)+COUNTIF((W$12:W$309),MAX(W$12:W$309)),MAX(W$12:W$309)+COUNTIF((W$12:W$309),MAX(W$12:W$309))+COUNTIF((W$12:W$309),\"NP\")),W297)))","v":""},{"$f":"IF(A297=\"x\",\"x\",IF(C297=\"\",\"\",IF(OR(X297=\"NP\",X297=\"DNS\"),X297,RANK(X297,X$12:X$61,1))))","v":""},{"$f":"IF(A297=\"x\",\"x\",IF(C297=\"\",\"\",IF(OR(AND(U297=\"NP\",U298=\"NP\"),AND(U297=\"DNS\",U298=\"DNS\")),U297,IF(AND(U297=\"NP\",U298=\"DNS\"),U297,IF(AND(U297=\"DNS\",U298=\"NP\"),U298,MIN(U297,U298))))))","v":""}]
[null,null,null,"II.pokus",null,null,null,{"$f":"IF($C297=\"\",\"\",IF(OR($E298=\"DNS\",$F298=\"DNS\",$G298=\"DNS\"),\"DNS\",IF(OR($E298=\"NP\",$F298=\"NP\",$G298=\"NP\"),\"NP\",IF(ISERROR(MEDIAN($E298:$G298)),\"DNS\",IF(COUNT($E298:$G298)<3,MAX($E298:$G298),MEDIAN($E298:$G298))))))","v":""},null,null,null,null,null,null,null,null,null,null,null,null,""]
[{"$f":"IF(Start!Q25=\"\",\"\",\"x\")","v":""},95,{"$f":"IF(Start!O25=\"\",\"\",Start!O25)","v":""},"I.pokus",null,null,null,{"$f":"IF($C299=\"\",\"\",IF(OR($E299=\"DNS\",$F299=\"DNS\",$G299=\"DNS\"),\"DNS\",IF(OR($E299=\"NP\",$F299=\"NP\",$G299=\"NP\"),\"NP\",IF(ISERROR(MEDIAN($E299:$G299)),\"DNS\",IF(COUNT($E299:$G299)<3,MAX($E299:$G299),MEDIAN($E299:$G299))))))","v":""},null,null,null,null,null,null,null,null,null,null,null,null,"",{"$f":"IF(C299=\"x\",\"x\",IF(C299=\"\",\"\",IF(OR(W299=\"NP\",W299=\"DNS\"),IF(W299=\"NP\",MAX(W$12:W$309)+COUNTIF((W$12:W$309),MAX(W$12:W$309)),MAX(W$12:W$309)+COUNTIF((W$12:W$309),MAX(W$12:W$309))+COUNTIF((W$12:W$309),\"NP\")),W299)))","v":""},{"$f":"IF(A299=\"x\",\"x\",IF(C299=\"\",\"\",IF(OR(X299=\"NP\",X299=\"DNS\"),X299,RANK(X299,X$12:X$61,1))))","v":""},{"$f":"IF(A299=\"x\",\"x\",IF(C299=\"\",\"\",IF(OR(AND(U299=\"NP\",U300=\"NP\"),AND(U299=\"DNS\",U300=\"DNS\")),U299,IF(AND(U299=\"NP\",U300=\"DNS\"),U299,IF(AND(U299=\"DNS\",U300=\"NP\"),U300,MIN(U299,U300))))))","v":""}]
[null,null,null,"II.pokus",null,null,null,{"$f":"IF($C299=\"\",\"\",IF(OR($E300=\"DNS\",$F300=\"DNS\",$G300=\"DNS\"),\"DNS\",IF(OR($E300=\"NP\",$F300=\"NP\",$G300=\"NP\"),\"NP\",IF(ISERROR(MEDIAN($E300:$G300)),\"DNS\",IF(COUNT($E300:$G300)<3,MAX($E300:$G300),MEDIAN($E300:$G300))))))","v":""},null,null,null,null,null,null,null,null,null,null,null,null,""]
[{"$f":"IF(Start!Q26=\"\",\"\",\"x\")","v":""},96,{"$f":"IF(Start!O26=\"\",\"\",Start!O26)","v":""},"I.pokus",null,null,null,{"$f":"IF($C301=\"\",\"\",IF(OR($E301=\"DNS\",$F301=\"DNS\",$G301=\"DNS\"),\"DNS\",IF(OR($E301=\"NP\",$F301=\"NP\",$G301=\"NP\"),\"NP\",IF(ISERROR(MEDIAN($E301:$G301)),\"DNS\",IF(COUNT($E301:$G301)<3,MAX($E301:$G301),MEDIAN($E301:$G301))))))","v":""},null,null,null,null,null,null,null,null,null,null,null,null,"",{"$f":"IF(C301=\"x\",\"x\",IF(C301=\"\",\"\",IF(OR(W301=\"NP\",W301=\"DNS\"),IF(W301=\"NP\",MAX(W$12:W$309)+COUNTIF((W$12:W$309),MAX(W$12:W$309)),MAX(W$12:W$309)+COUNTIF((W$12:W$309),MAX(W$12:W$309))+COUNTIF((W$12:W$309),\"NP\")),W301)))","v":""},{"$f":"IF(A301=\"x\",\"x\",IF(C301=\"\",\"\",IF(OR(X301=\"NP\",X301=\"DNS\"),X301,RANK(X301,X$12:X$61,1))))","v":""},{"$f":"IF(A301=\"x\",\"x\",IF(C301=\"\",\"\",IF(OR(AND(U301=\"NP\",U302=\"NP\"),AND(U301=\"DNS\",U302=\"DNS\")),U301,IF(AND(U301=\"NP\",U302=\"DNS\"),U301,IF(AND(U301=\"DNS\",U302=\"NP\"),U302,MIN(U301,U302))))))","v":""}]
[null,null,null,"II.pokus",null,null,null,{"$f":"IF($C301=\"\",\"\",IF(OR($E302=\"DNS\",$F302=\"DNS\",$G302=\"DNS\"),\"DNS\",IF(OR($E302=\"NP\",$F302=\"NP\",$G302=\"NP\"),\"NP\",IF(ISERROR(MEDIAN($E302:$G302)),\"DNS\",IF(COUNT($E302:$G302)<3,MAX($E302:$G302),MEDIAN($E302:$G302))))))","v":""},null,null,null,null,null,null,null,null,null,null,null,null,""]
[{"$f":"IF(Start!Q27=\"\",\"\",\"x\")","v":""},97,{"$f":"IF(Start!O27=\"\",\"\",Start!O27)","v":""},"I.pokus",null,null,null,{"$f":"IF($C303=\"\",\"\",IF(OR($E303=\"DNS\",$F303=\"DNS\",$G303=\"DNS\"),\"DNS\",IF(OR($E303=\"NP\",$F303=\"NP\",$G303=\"NP\"),\"NP\",IF(ISERROR(MEDIAN($E303:$G303)),\"DNS\",IF(COUNT($E303:$G303)<3,MAX($E303:$G303),MEDIAN($E303:$G303))))))","v":""},null,null,null,null,null,null,null,null,null,null,null,null,"",{"$f":"IF(C303=\"x\",\"x\",IF(C303=\"\",\"\",IF(OR(W303=\"NP\",W303=\"DNS\"),IF(W303=\"NP\",MAX(W$12:W$309)+COUNTIF((W$12:W$309),MAX(W$12:W$309)),MAX(W$12:W$309)+COUNTIF((W$12:W$309),MAX(W$12:W$309))+COUNTIF((W$12:W$309),\"NP\")),W303)))","v":""},{"$f":"IF(A303=\"x\",\"x\",IF(C303=\"\",\"\",IF(OR(X303=\"NP\",X303=\"DNS\"),X303,RANK(X303,X$12:X$61,1))))","v":""},{"$f":"IF(A303=\"x\",\"x\",IF(C303=\"\",\"\",IF(OR(AND(U303=\"NP\",U304=\"NP\"),AND(U303=\"DNS\",U304=\"DNS\")),U303,IF(AND(U303=\"NP\",U304=\"DNS\"),U303,IF(AND(U303=\"DNS\",U304=\"NP\"),U304,MIN(U303,U304))))))","v":""}]
[null,null,null,"II.pokus",null,null,null,{"$f":"IF($C303=\"\",\"\",IF(OR($E304=\"DNS\",$F304=\"DNS\",$G304=\"DNS\"),\"DNS\",IF(OR($E304=\"NP\",$F304=\"NP\",$G304=\"NP\"),\"NP\",IF(ISERROR(MEDIAN($E304:$G304)),\"DNS\",IF(COUNT($E304:$G304)<3,MAX($E304:$G304),MEDIAN($E304:$G304))))))","v":""},null,null,null,null,null,null,null,null,null,null,null,null,""]
[{"$f":"IF(Start!Q28=\"\",\"\",\"x\")","v":""},98,{"$f":"IF(Start!O28=\"\",\"\",Start!O28)","v":""},"I.pokus",null,null,null,{"$f":"IF($C305=\"\",\"\",IF(OR($E305=\"DNS\",$F305=\"DNS\",$G305=\"DNS\"),\"DNS\",IF(OR($E305=\"NP\",$F305=\"NP\",$G305=\"NP\"),\"NP\",IF(ISERROR(MEDIAN($E305:$G305)),\"DNS\",IF(COUNT($E305:$G305)<3,MAX($E305:$G305),MEDIAN($E305:$G305))))))","v":""},null,null,null,null,null,null,null,null,null,null,null,null,"",{"$f":"IF(C305=\"x\",\"x\",IF(C305=\"\",\"\",IF(OR(W305=\"NP\",W305=\"DNS\"),IF(W305=\"NP\",MAX(W$12:W$309)+COUNTIF((W$12:W$309),MAX(W$12:W$309)),MAX(W$12:W$309)+COUNTIF((W$12:W$309),MAX(W$12:W$309))+COUNTIF((W$12:W$309),\"NP\")),W305)))","v":""},{"$f":"IF(A305=\"x\",\"x\",IF(C305=\"\",\"\",IF(OR(X305=\"NP\",X305=\"DNS\"),X305,RANK(X305,X$12:X$61,1))))","v":""},{"$f":"IF(A305=\"x\",\"x\",IF(C305=\"\",\"\",IF(OR(AND(U305=\"NP\",U306=\"NP\"),AND(U305=\"DNS\",U306=\"DNS\")),U305,IF(AND(U305=\"NP\",U306=\"DNS\"),U305,IF(AND(U305=\"DNS\",U306=\"NP\"),U306,MIN(U305,U306))))))","v":""}]
[null,null,null,"II.pokus",null,null,null,{"$f":"IF($C305=\"\",\"\",IF(OR($E306=\"DNS\",$F306=\"DNS\",$G306=\"DNS\"),\"DNS\",IF(OR($E306=\"NP\",$F306=\"NP\",$G306=\"NP\"),\"NP\",IF(ISERROR(MEDIAN($E306:$G306)),\"DNS\",IF(COUNT($E306:$G306)<3,MAX($E306:$G306),MEDIAN($E306:$G306))))))","v":""},null,null,null,null,null,null,null,null,null,null,null,null,""]
[{"$f":"IF(Start!Q29=\"\",\"\",\"x\")","v":""},99,{"$f":"IF(Start!O29=\"\",\"\",Start!O29)","v":""},"I.pokus",null,null,null,{"$f":"IF($C307=\"\",\"\",IF(OR($E307=\"DNS\",$F307=\"DNS\",$G307=\"DNS\"),\"DNS\",IF(OR($E307=\"NP\",$F307=\"NP\",$G307=\"NP\"),\"NP\",IF(ISERROR(MEDIAN($E307:$G307)),\"DNS\",IF(COUNT($E307:$G307)<3,MAX($E307:$G307),MEDIAN($E307:$G307))))))","v":""},null,null,null,null,null,null,null,null,null,null,null,null,"",{"$f":"IF(C307=\"x\",\"x\",IF(C307=\"\",\"\",IF(OR(W307=\"NP\",W307=\"DNS\"),IF(W307=\"NP\",MAX(W$12:W$309)+COUNTIF((W$12:W$309),MAX(W$12:W$309)),MAX(W$12:W$309)+COUNTIF((W$12:W$309),MAX(W$12:W$309))+COUNTIF((W$12:W$309),\"NP\")),W307)))","v":""},{"$f":"IF(A307=\"x\",\"x\",IF(C307=\"\",\"\",IF(OR(X307=\"NP\",X307=\"DNS\"),X307,RANK(X307,X$12:X$61,1))))","v":""},{"$f":"IF(A307=\"x\",\"x\",IF(C307=\"\",\"\",IF(OR(AND(U307=\"NP\",U308=\"NP\"),AND(U307=\"DNS\",U308=\"DNS\")),U307,IF(AND(U307=\"NP\",U308=\"DNS\"),U307,IF(AND(U307=\"DNS\",U308=\"NP\"),U308,MIN(U307,U308))))))","v":""}]
[null,null,null,"II.pokus",null,null,null,{"$f":"IF($C307=\"\",\"\",IF(OR($E308=\"DNS\",$F308=\"DNS\",$G308=\"DNS\"),\"DNS\",IF(OR($E308=\"NP\",$F308=\"NP\",$G308=\"NP\"),\"NP\",IF(ISERROR(MEDIAN($E308:$G308)),\"DNS\",IF(COUNT($E308:$G308)<3,MAX($E308:$G308),MEDIAN($E308:$G308))))))","v":""},null,null,null,null,null,null,null,null,null,null,null,null,""]
[{"$f":"IF(Start!Q30=\"\",\"\",\"x\")","v":""},100,{"$f":"IF(Start!O30=\"\",\"\",Start!O30)","v":""},"I.pokus",null,null,null,{"$f":"IF($C309=\"\",\"\",IF(OR($E309=\"DNS\",$F309=\"DNS\",$G309=\"DNS\"),\"DNS\",IF(OR($E309=\"NP\",$F309=\"NP\",$G309=\"NP\"),\"NP\",IF(ISERROR(MEDIAN($E309:$G309)),\"DNS\",IF(COUNT($E309:$G309)<3,MAX($E309:$G309),MEDIAN($E309:$G309))))))","v":""},null,null,null,null,null,null,null,null,null,null,null,null,"",{"$f":"IF(C309=\"x\",\"x\",IF(C309=\"\",\"\",IF(OR(W309=\"NP\",W309=\"DNS\"),IF(W309=\"NP\",MAX(W$12:W$309)+COUNTIF((W$12:W$309),MAX(W$12:W$309)),MAX(W$12:W$309)+COUNTIF((W$12:W$309),MAX(W$12:W$309))+COUNTIF((W$12:W$309),\"NP\")),W309)))","v":""},{"$f":"IF(A309=\"x\",\"x\",IF(C309=\"\",\"\",IF(OR(X309=\"NP\",X309=\"DNS\"),X309,RANK(X309,X$12:X$61,1))))","v":""},{"$f":"IF(A309=\"x\",\"x\",IF(C309=\"\",\"\",IF(OR(AND(U309=\"NP\",U310=\"NP\"),AND(U309=\"DNS\",U310=\"DNS\")),U309,IF(AND(U309=\"NP\",U310=\"DNS\"),U309,IF(AND(U309=\"DNS\",U310=\"NP\"),U310,MIN(U309,U310))))))","v":""}]
[null,null,null,"II.pokus",null,null,null,{"$f":"IF($C309=\"\",\"\",IF(OR($E310=\"DNS\",$F310=\"DNS\",$G310=\"DNS\"),\"DNS\",IF(OR($E310=\"NP\",$F310=\"NP\",$G310=\"NP\"),\"NP\",IF(ISERROR(MEDIAN($E310:$G310)),\"DNS\",IF(COUNT($E310:$G310)<3,MAX($E310:$G310),MEDIAN($E310:$G310))))))","v":""},null,null,null,null,null,null,null,null,null,null,null,null,""]

{"sheet":"PÚ CTIF","index":8,"n_rows":310,"n_cols":21,"rows_kept":310,"cut":false,"hidden":false,"merged":[[302,20,303,20],[304,19,305,19],[304,20,305,20],[308,19,309,19],[308,20,309,20],[302,0,303,0],[302,1,303,1],[302,2,303,2],[302,18,303,18],[306,19,307,19],[306,20,307,20],[304,0,305,0],[304,1,305,1],[304,2,305,2],[304,18,305,18],[306,0,307,0],[306,1,307,1],[308,0,309,0],[308,1,309,1],[308,2,309,2],[308,18,309,18],[306,2,307,2],[306,18,307,18],[302,19,303,19],[294,20,295,20],[296,19,297,19],[296,20,297,20],[300,19,301,19],[300,20,301,20],[298,19,299,19],[298,20,299,20],[296,0,297,0],[296,1,297,1],[296,2,297,2],[296,18,297,18],[298,0,299,0],[298,1,299,1],[290,1,291,1],[294,0,295,0],[294,1,295,1],[294,2,295,2],[294,18,295,18],[286,5,289,5],[286,6,289,6],[290,19,291,19],[300,0,301,0],[300,1,301,1],[300,2,301,2],[300,18,301,18],[298,2,299,2],[298,18,299,18],[294,19,295,19],[290,20,291,20],[292,0,293,0],[292,1,293,1],[292,2,293,2],[292,18,293,18],[292,19,293,19],[292,20,293,20],[285,17,289,17],[285,18,289,18],[290,2,291,2],[290,18,291,18],[286,7,289,7],[288,1,289,1],[288,2,289,2],[288,3,289,3],[286,1,287,3],[286,4,289,4],[284,11,289,11],[284,12,289,12],[284,13,289,13],[284,14,289,14],[284,15,289,15],[284,16,289,16],[290,0,291,0],[279,1,281,13],[279,14,282,18],[282,1,282,13],[283,1,285,3],[283,4,285,7],[283,8,283,16],[283,17,284,18],[284,8,289,8],[284,9,289,9],[284,10,289,10],[271,20,272,20],[273,19,274,19],[273,20,274,20],[277,19,278,19],[277,20,278,20],[271,0,272,0],[271,1,272,1],[271,2,272,2],[271,18,272,18],[275,19,276,19],[275,20,276,20],[273,0,274,0],[273,1,274,1],[273,2,274,2],[273,18,274,18],[275,0,276,0],[275,1,276,1],[277,0,278,0],[277,1,278,1],[277,2,278,2],[277,18,278,18],[275,2,276,2],[275,18,276,18],[271,19,272,19],[263,20,264,20],[265,19,266,19],[265,20,266,20],[269,19,270,19],[269,20,270,20],[267,19,268,19],[267,20,268,20],[265,0,266,0],[265,1,266,1],[265,2,266,2],[265,18,266,18],[267,0,268,0],[267,1,268,1],[259,1,260,1],[263,0,264,0],[263,1,264,1],[263,2,264,2],[263,18,264,18],[255,5,258,5],[255,6,258,6],[259,19,260,19],[269,0,270,0],[269,1,270,1],[269,2,270,2],[269,18,270,18],[267,2,268,2],[267,18,268,18],[263,19,264,19],[259,20,260,20],[261,0,262,0],[261,1,262,1],[261,2,262,2],[261,18,262,18],[261,19,262,19],[261,20,262,20],[254,17,258,17],[254,18,258,18],[259,2,260,2],[259,18,260,18],[255,7,258,7],[257,1,258,1],[257,2,258,2],[257,3,258,3],[255,1,256,3],[255,4,258,4],[253,11,258,11],[253,12,258,12],[253,13,258,13],[253,14,258,14],[253,15,258,15],[253,16,258,16],[259,0,260,0],[248,1,250,13],[248,14,251,18],[251,1,251,13],[252,1,254,3],[252,4,254,7],[252,8,252,16],[252,17,253,18],[253,8,258,8],[253,9,258,9],[253,10,258,10],[240,20,241,20],[242,19,243,19],[242,20,243,20],[246,19,247,19],[246,20,247,20],[240,0,241,0],[240,1,241,1],[240,2,241,2],[240,18,241,18],[244,19,245,19],[244,20,245,20],[242,0,243,0],[242,1,243,1],[242,2,243,2],[242,18,243,18],[244,0,245,0],[244,1,245,1],[246,0,247,0],[246,1,247,1],[246,2,247,2],[246,18,247,18],[244,2,245,2],[244,18,245,18],[240,19,241,19],[232,20,233,20],[234,19,235,19],[234,20,235,20],[238,19,239,19],[238,20,239,20],[236,19,237,19],[236,20,237,20],[234,0,235,0],[234,1,235,1],[234,2,235,2],[234,18,235,18],[236,0,237,0],[236,1,237,1],[228,1,229,1],[232,0,233,0],[232,1,233,1],[232,2,233,2],[232,18,233,18],[224,5,227,5],[224,6,227,6],[228,19,229,19],[238,0,239,0],[238,1,239,1],[238,2,239,2],[238,18,239,18],[236,2,237,2],[236,18,237,18],[232,19,233,19],[228,20,229,20],[230,0,231,0],[230,1,231,1],[230,2,231,2],[230,18,231,18],[230,19,231,19],[230,20,231,20],[223,17,227,17],[223,18,227,18],[228,2,229,2],[228,18,229,18],[224,7,227,7],[226,1,227,1],[226,2,227,2],[226,3,227,3],[224,1,225,3],[224,4,227,4],[222,11,227,11],[222,12,227,12],[222,13,227,13],[222,14,227,14],[222,15,227,15],[222,16,227,16],[228,0,229,0],[217,1,219,13],[217,14,220,18],[220,1,220,13],[221,1,223,3],[221,4,223,7],[221,8,221,16],[221,17,222,18],[222,8,227,8],[222,9,227,9],[222,10,227,10],[209,20,210,20],[211,19,212,19],[211,20,212,20],[215,19,216,19],[215,20,216,20],[209,0,210,0],[209,1,210,1],[209,2,210,2],[209,18,210,18],[213,19,214,19],[213,20,214,20],[211,0,212,0],[211,1,212,1],[211,2,212,2],[211,18,212,18],[213,0,214,0],[213,1,214,1],[215,0,216,0],[215,1,216,1],[215,2,216,2],[215,18,216,18],[213,2,214,2],[213,18,214,18],[209,19,210,19],[201,20,202,20],[203,19,204,19],[203,20,204,20],[207,19,208,19],[207,20,208,20],[205,19,206,19],[205,20,206,20],[203,0,204,0],[203,1,204,1],[203,2,204,2],[203,18,204,18],[205,0,206,0],[205,1,206,1],[197,1,198,1],[201,0,202,0],[201,1,202,1],[201,2,202,2],[201,18,202,18],[193,5,196,5],[193,6,196,6],[197,19,198,19],[207,0,208,0],[207,1,208,1],[207,2,208,2],[207,18,208,18],[205,2,206,2],[205,18,206,18],[201,19,202,19],[197,20,198,20],[199,0,200,0],[199,1,200,1],[199,2,200,2],[199,18,200,18],[199,19,200,19],[199,20,200,20],[192,17,196,17],[192,18,196,18],[197,2,198,2],[197,18,198,18],[193,7,196,7],[195,1,196,1],[195,2,196,2],[195,3,196,3],[193,1,194,3],[193,4,196,4],[191,11,196,11],[191,12,196,12],[191,13,196,13],[191,14,196,14],[191,15,196,15],[191,16,196,16],[197,0,198,0],[186,1,188,13],[186,14,189,18],[189,1,189,13],[190,1,192,3],[190,4,192,7],[190,8,190,16],[190,17,191,18],[191,8,196,8],[191,9,196,9],[191,10,196,10],[178,20,179,20],[180,19,181,19],[180,20,181,20],[184,19,185,19],[184,20,185,20],[178,0,179,0],[178,1,179,1],[178,2,179,2],[178,18,179,18],[182,19,183,19],[182,20,183,20],[180,0,181,0],[180,1,181,1],[180,2,181,2],[180,18,181,18],[182,0,183,0],[182,1,183,1],[184,0,185,0],[184,1,185,1],[184,2,185,2],[184,18,185,18],[182,2,183,2],[182,18,183,18],[178,19,179,19],[170,20,171,20],[172,19,173,19],[172,20,173,20],[176,19,177,19],[176,20,177,20],[174,19,175,19],[174,20,175,20],[172,0,173,0],[172,1,173,1],[172,2,173,2],[172,18,173,18],[174,0,175,0],[174,1,175,1],[166,1,167,1],[170,0,171,0],[170,1,171,1],[170,2,171,2],[170,18,171,18],[162,5,165,5],[162,6,165,6],[166,19,167,19],[176,0,177,0],[176,1,177,1],[176,2,177,2],[176,18,177,18],[174,2,175,2],[174,18,175,18],[170,19,171,19],[166,20,167,20],[168,0,169,0],[168,1,169,1],[168,2,169,2],[168,18,169,18],[168,19,169,19],[168,20,169,20],[161,17,165,17],[161,18,165,18],[166,2,167,2],[166,18,167,18],[162,7,165,7],[164,1,165,1],[164,2,165,2],[164,3,165,3],[162,1,163,3],[162,4,165,4],[160,11,165,11],[160,12,165,12],[160,13,165,13],[160,14,165,14],[160,15,165,15],[160,16,165,16],[166,0,167,0],[155,1,157,13],[155,14,158,18],[158,1,158,13],[159,1,161,3],[159,4,161,7],[159,8,159,16],[159,17,160,18],[160,8,165,8],[160,9,165,9],[160,10,165,10],[147,20,148,20],[149,19,150,19],[149,20,150,20],[153,19,154,19],[153,20,154,20],[147,0,148,0],[147,1,148,1],[147,2,148,2],[147,18,148,18],[151,19,152,19],[151,20,152,20],[149,0,150,0],[149,1,150,1],[149,2,150,2],[149,18,150,18],[151,0,152,0],[151,1,152,1],[153,0,154,0],[153,1,154,1],[153,2,154,2],[153,18,154,18],[151,2,152,2],[151,18,152,18],[147,19,148,19],[139,20,140,20],[141,19,142,19],[141,20,142,20],[145,19,146,19],[145,20,146,20],[143,19,144,19],[143,20,144,20],[141,0,142,0],[141,1,142,1],[141,2,142,2],[141,18,142,18],[143,0,144,0],[143,1,144,1],[135,1,136,1],[139,0,140,0],[139,1,140,1],[139,2,140,2],[139,18,140,18],[131,5,134,5],[131,6,134,6],[135,19,136,19],[145,0,146,0],[145,1,146,1],[145,2,146,2],[145,18,146,18],[143,2,144,2],[143,18,144,18],[139,19,140,19],[135,20,136,20],[137,0,138,0],[137,1,138,1],[137,2,138,2],[137,18,138,18],[137,19,138,19],[137,20,138,20],[130,17,134,17],[130,18,134,18],[135,2,136,2],[135,18,136,18],[131,7,134,7],[133,1,134,1],[133,2,134,2],[133,3,134,3],[131,1,132,3],[131,4,134,4],[129,11,134,11],[129,12,134,12],[129,13,134,13],[129,14,134,14],[129,15,134,15],[129,16,134,16],[135,0,136,0],[124,1,126,13],[124,14,127,18],[127,1,127,13],[128,1,130,3],[128,4,130,7],[128,8,128,16],[128,17,129,18],[129,8,134,8],[129,9,134,9],[129,10,134,10],[116,20,117,20],[118,19,119,19],[118,20,119,20],[122,19,123,19],[122,20,123,20],[116,0,117,0],[116,1,117,1],[116,2,117,2],[116,18,117,18],[120,19,121,19],[120,20,121,20],[118,0,119,0],[118,1,119,1],[118,2,119,2],[118,18,119,18],[120,0,121,0],[120,1,121,1],[122,0,123,0],[122,1,123,1],[122,2,123,2],[122,18,123,18],[120,2,121,2],[120,18,121,18],[116,19,117,19],[108,20,109,20],[110,19,111,19],[110,20,111,20],[114,19,115,19],[114,20,115,20],[112,19,113,19],[112,20,113,20],[110,0,111,0],[110,1,111,1],[110,2,111,2],[110,18,111,18],[112,0,113,0],[112,1,113,1],[104,1,105,1],[108,0,109,0],[108,1,109,1],[108,2,109,2],[108,18,109,18],[100,5,103,5],[100,6,103,6],[104,19,105,19],[114,0,115,0],[114,1,115,1],[114,2,115,2],[114,18,115,18],[112,2,113,2],[112,18,113,18],[108,19,109,19],[104,20,105,20],[106,0,107,0],[106,1,107,1],[106,2,107,2],[106,18,107,18],[106,19,107,19],[106,20,107,20],[99,17,103,17],[99,18,103,18],[104,2,105,2],[104,18,105,18],[100,7,103,7],[102,1,103,1],[102,2,103,2],[102,3,103,3],[100,1,101,3],[100,4,103,4],[98,11,103,11],[98,12,103,12],[98,13,103,13],[98,14,103,14],[98,15,103,15],[98,16,103,16],[104,0,105,0],[93,1,95,13],[93,14,96,18],[96,1,96,13],[97,1,99,3],[97,4,99,7],[97,8,97,16],[97,17,98,18],[98,8,103,8],[98,9,103,9],[98,10,103,10],[85,20,86,20],[87,19,88,19],[87,20,88,20],[91,19,92,19],[91,20,92,20],[85,0,86,0],[85,1,86,1],[85,2,86,2],[85,18,86,18],[89,19,90,19],[89,20,90,20],[87,0,88,0],[87,1,88,1],[87,2,88,2],[87,18,88,18],[89,0,90,0],[89,1,90,1],[91,0,92,0],[91,1,92,1],[91,2,92,2],[91,18,92,18],[89,2,90,2],[89,18,90,18],[85,19,86,19],[77,20,78,20],[79,19,80,19],[79,20,80,20],[83,19,84,19],[83,20,84,20],[81,19,82,19],[81,20,82,20],[79,0,80,0],[79,1,80,1],[79,2,80,2],[79,18,80,18],[81,0,82,0],[81,1,82,1],[73,1,74,1],[77,0,78,0],[77,1,78,1],[77,2,78,2],[77,18,78,18],[69,5,72,5],[69,6,72,6],[73,19,74,19],[83,0,84,0],[83,1,84,1],[83,2,84,2],[83,18,84,18],[81,2,82,2],[81,18,82,18],[77,19,78,19],[73,20,74,20],[75,0,76,0],[75,1,76,1],[75,2,76,2],[75,18,76,18],[75,19,76,19],[75,20,76,20],[68,17,72,17],[68,18,72,18],[73,2,74,2],[73,18,74,18],[69,7,72,7],[71,1,72,1],[71,2,72,2],[71,3,72,3],[69,1,70,3],[69,4,72,4],[67,11,72,11],[67,12,72,12],[67,13,72,13],[67,14,72,14],[67,15,72,15],[67,16,72,16],[73,0,74,0],[62,1,64,13],[62,14,65,18],[65,1,65,13],[66,1,68,3],[66,4,68,7],[66,8,66,16],[66,17,67,18],[67,8,72,8],[67,9,72,9],[67,10,72,10],[54,20,55,20],[56,19,57,19],[56,20,57,20],[60,19,61,19],[60,20,61,20],[54,0,55,0],[54,1,55,1],[54,2,55,2],[54,18,55,18],[58,19,59,19],[58,20,59,20],[56,0,57,0],[56,1,57,1],[56,2,57,2],[56,18,57,18],[58,0,59,0],[58,1,59,1],[60,0,61,0],[60,1,61,1],[60,2,61,2],[60,18,61,18],[58,2,59,2],[58,18,59,18],[54,19,55,19],[46,20,47,20],[48,19,49,19],[48,20,49,20],[52,19,53,19],[52,20,53,20],[50,19,51,19],[50,20,51,20],[48,0,49,0],[48,1,49,1],[48,2,49,2],[48,18,49,18],[50,0,51,0],[50,1,51,1],[46,0,47,0],[46,1,47,1],[46,2,47,2],[46,18,47,18],[38,7,41,7],[40,1,41,1],[42,19,43,19],[52,0,53,0],[52,1,53,1],[52,2,53,2],[52,18,53,18],[50,2,51,2],[50,18,51,18],[46,19,47,19],[40,2,41,2],[40,3,41,3],[36,11,41,11],[36,12,41,12],[36,15,41,15],[36,14,41,14],[36,13,41,13],[36,16,41,16],[42,20,43,20],[44,0,45,0],[44,1,45,1],[44,2,45,2],[44,18,45,18],[44,19,45,19],[44,20,45,20],[36,9,41,9],[36,10,41,10],[42,2,43,2],[42,18,43,18],[37,17,41,17],[37,18,41,18],[38,1,39,3],[38,4,41,4],[38,5,41,5],[38,6,41,6],[42,0,43,0],[42,1,43,1],[35,1,37,3],[35,4,37,7],[35,8,35,16],[35,17,36,18],[36,8,41,8],[23,20,24,20],[25,19,26,19],[25,20,26,20],[29,19,30,19],[29,20,30,20],[23,0,24,0],[23,1,24,1],[23,2,24,2],[23,18,24,18],[27,19,28,19],[27,20,28,20],[25,0,26,0],[25,1,26,1],[25,2,26,2],[25,18,26,18],[27,0,28,0],[27,1,28,1],[29,0,30,0],[29,1,30,1],[29,2,30,2],[29,18,30,18],[27,2,28,2],[27,18,28,18],[23,19,24,19],[21,0,22,0],[21,1,22,1],[21,2,22,2],[21,18,22,18],[19,2,20,2],[19,18,20,18],[15,19,16,19],[15,20,16,20],[17,19,18,19],[17,20,18,20],[21,19,22,19],[21,20,22,20],[19,19,20,19],[19,20,20,20],[17,0,18,0],[17,1,18,1],[17,2,18,2],[17,18,18,18],[19,0,20,0],[19,1,20,1],[11,0,12,0],[11,1,12,1],[15,0,16,0],[15,1,16,1],[15,2,16,2],[15,18,16,18],[13,0,14,0],[13,1,14,1],[13,2,14,2],[13,18,14,18],[13,19,14,19],[13,20,14,20],[7,5,10,5],[7,6,10,6],[7,7,10,7],[9,1,10,1],[11,19,12,19],[11,20,12,20],[5,11,10,11],[5,12,10,12],[5,9,10,9],[5,10,10,10],[11,2,12,2],[11,18,12,18],[6,17,10,17],[6,18,10,18],[7,1,8,3],[7,4,10,4],[31,1,33,13],[31,14,34,18],[0,1,2,13],[0,14,3,18],[3,1,3,13],[4,1,6,3],[4,4,6,7],[4,8,4,16],[4,17,5,18],[5,8,10,8],[9,2,10,2],[9,3,10,3],[5,15,10,15],[5,14,10,14],[5,13,10,13],[5,16,10,16],[34,1,34,13]]}
[null,"CELOSTÁTNÍ HRA PLAMEN"]
[]
[]
[null,"Výsledková listina č: 1"]
[null,"Požární útok CTIF",null,null,"Základem je čas naměřený       od startu po signál velitele            o ukončení pokusu",null,null,null,"K úřednímu času se připočítávají trestné sekundy",null,null,null,null,null,null,null,null,"Výsledek soutěže"]
[null,null,null,null,null,null,null,null,"nesprávné překonání překážek\n10 tb. = sekund","celé přetočení hadice\n(každá hadice se posuzuje samostatně)\n5 tb. = sekund","rozpojení spojky nebo zapojení na 1 ozub\nza každý případ\n20 tb. = sekund","nesprávné rozložení hadice nesprávné položení hadic u překážek\n10 tb. = sekund","zapomenuté, ztracené nebo špatně odložené nářadí\n5 tb. = sekund","nesprávné zařazení technického prostředku\nu stojanu\n10 tb. = sekund","nesprávné uvázaný uzel   10 tb. = sekund","nesprávná práce\n10 tb. = sekund"]
[null,null,null,null,null,null,null,null,null,null,null,null,null,null,null,null,null,"součet trest. Sekund a úředního času","počet bodů za umístění"]
[null,{"$f":"\"KATEGORIE: \"&Start!$N$2","v":"KATEGORIE: starší"},null,null,"I. časoměřič","II. časoměřič","III. časoměřič","úřední čas"]
[]
[null,"start. číslo","SOUTĚŽNÍ DRUŽSTVO","pokus"]
[]
[{"$f":"IF(Start!E6=\"\",\"\",\"x\")","v":""},1,{"$f":"IF(Start!C6=\"\",\"\",Start!C6)","v":"Zbiroh"},"I.pokus",null,null,null,{"$f":"IF($C12=\"\",\"\",IF(OR($E12=\"DNS\",$F12=\"DNS\",$G12=\"DNS\"),\"DNS\",IF(OR($E12=\"NP\",$F12=\"NP\",$G12=\"NP\"),\"NP\",IF(ISERROR(MEDIAN($E12:$G12)),\"DNS\",IF(COUNT($E12:$G12)<3,MAX($E12:$G12),MEDIAN($E12:$G12))))))","v":"DNS"},null,null,null,null,null,null,null,null,null,{"$f":"IF(H12=\"\",\"\",IF(H12=\"NP\",\"NP\",IF(H12=\"DNS\",\"DNS\",SUM(I12:Q12)+H12)))","v":"DNS"},{"$f":"IF(C12=\"x\",\"x\",IF(C12=\"\",\"\",IF(OR(T12=\"NP\",T12=\"DNS\"),IF(T12=\"NP\",MAX(T$12:T$309)+COUNTIF((T$12:T$309),MAX(T$12:T$309)),MAX(T$12:T$309)+COUNTIF((T$12:T$309),MAX(T$12:T$309))+COUNTIF((T$12:T$309),\"NP\")),T12)))","v":0},{"$f":"IF(A12=\"x\",\"x\",IF(C12=\"\",\"\",IF(OR(U12=\"NP\",U12=\"DNS\"),U12,RANK(U12,U$12:U$309,1))))","v":"DNS"},{"$f":"IF(A12=\"x\",\"x\",IF(C12=\"\",\"\",IF(OR(AND(R12=\"NP\",R13=\"NP\"),AND(R12=\"DNS\",R13=\"DNS\")),R12,IF(AND(R12=\"NP\",R13=\"DNS\"),R12,IF(AND(R12=\"DNS\",R13=\"NP\"),R13,MIN(R12,R13))))))","v":"DNS"}]
[null,null,null,"II.pokus",null,null,null,{"$f":"IF($C12=\"\",\"\",IF(OR($E13=\"DNS\",$F13=\"DNS\",$G13=\"DNS\"),\"DNS\",IF(OR($E13=\"NP\",$F13=\"NP\",$G13=\"NP\"),\"NP\",IF(ISERROR(MEDIAN($E13:$G13)),\"DNS\",IF(COUNT($E13:$G13)<3,MAX($E13:$G13),MEDIAN($E13:$G13))))))","v":"DNS"},null,null,null,null,null,null,null,null,null,"DNS"]
[{"$f":"IF(Start!E7=\"\",\"\",\"x\")","v":""},2,{"$f":"IF(Start!C7=\"\",\"\",Start!C7)","v":"Holoubkov"},"I.pokus",null,null,null,{"$f":"IF($C14=\"\",\"\",IF(OR($E14=\"DNS\",$F14=\"DNS\",$G14=\"DNS\"),\"DNS\",IF(OR($E14=\"NP\",$F14=\"NP\",$G14=\"NP\"),\"NP\",IF(ISERROR(MEDIAN($E14:$G14)),\"DNS\",IF(COUNT($E14:$G14)<3,MAX($E14:$G14),MEDIAN($E14:$G14))))))","v":"DNS"},null,null,null,null,null,null,null,null,null,"DNS",{"$f":"IF(C14=\"x\",\"x\",IF(C14=\"\",\"\",IF(OR(T14=\"NP\",T14=\"DNS\"),IF(T14=\"NP\",MAX(T$12:T$309)+COUNTIF((T$12:T$309),MAX(T$12:T$309)),MAX(T$12:T$309)+COUNTIF((T$12:T$309),MAX(T$12:T$309))+COUNTIF((T$12:T$309),\"NP\")),T14)))","v":0},{"$f":"IF(A14=\"x\",\"x\",IF(C14=\"\",\"\",IF(OR(U14=\"NP\",U14=\"DNS\"),U14,RANK(U14,U$12:U$309,1))))","v":"DNS"},{"$f":"IF(A14=\"x\",\"x\",IF(C14=\"\",\"\",IF(OR(AND(R14=\"NP\",R15=\"NP\"),AND(R14=\"DNS\",R15=\"DNS\")),R14,IF(AND(R14=\"NP\",R15=\"DNS\"),R14,IF(AND(R14=\"DNS\",R15=\"NP\"),R15,MIN(R14,R15))))))","v":"DNS"}]
[null,null,null,"II.pokus",null,null,null,{"$f":"IF($C14=\"\",\"\",IF(OR($E15=\"DNS\",$F15=\"DNS\",$G15=\"DNS\"),\"DNS\",IF(OR($E15=\"NP\",$F15=\"NP\",$G15=\"NP\"),\"NP\",IF(ISERROR(MEDIAN($E15:$G15)),\"DNS\",IF(COUNT($E15:$G15)<3,MAX($E15:$G15),MEDIAN($E15:$G15))))))","v":"DNS"},null,null,null,null,null,null,null,null,null,"DNS"]
[{"$f":"IF(Start!E8=\"\",\"\",\"x\")","v":""},3,{"$f":"IF(Start!C8=\"\",\"\",Start!C8)","v":"Raková"},"I.pokus",null,null,null,{"$f":"IF($C16=\"\",\"\",IF(OR($E16=\"DNS\",$F16=\"DNS\",$G16=\"DNS\"),\"DNS\",IF(OR($E16=\"NP\",$F16=\"NP\",$G16=\"NP\"),\"NP\",IF(ISERROR(MEDIAN($E16:$G16)),\"DNS\",IF(COUNT($E16:$G16)<3,MAX($E16:$G16),MEDIAN($E16:$G16))))))","v":"DNS"},null,null,null,null,null,null,null,null,null,"DNS",{"$f":"IF(C16=\"x\",\"x\",IF(C16=\"\",\"\",IF(OR(T16=\"NP\",T16=\"DNS\"),IF(T16=\"NP\",MAX(T$12:T$309)+COUNTIF((T$12:T$309),MAX(T$12:T$309)),MAX(T$12:T$309)+COUNTIF((T$12:T$309),MAX(T$12:T$309))+COUNTIF((T$12:T$309),\"NP\")),T16)))","v":0},{"$f":"IF(A16=\"x\",\"x\",IF(C16=\"\",\"\",IF(OR(U16=\"NP\",U16=\"DNS\"),U16,RANK(U16,U$12:U$309,1))))","v":"DNS"},{"$f":"IF(A16=\"x\",\"x\",IF(C16=\"\",\"\",IF(OR(AND(R16=\"NP\",R17=\"NP\"),AND(R16=\"DNS\",R17=\"DNS\")),R16,IF(AND(R16=\"NP\",R17=\"DNS\"),R16,IF(AND(R16=\"DNS\",R17=\"NP\"),R17,MIN(R16,R17))))))","v":"DNS"}]
[null,null,null,"II.pokus",null,null,null,{"$f":"IF($C16=\"\",\"\",IF(OR($E17=\"DNS\",$F17=\"DNS\",$G17=\"DNS\"),\"DNS\",IF(OR($E17=\"NP\",$F17=\"NP\",$G17=\"NP\"),\"NP\",IF(ISERROR(MEDIAN($E17:$G17)),\"DNS\",IF(COUNT($E17:$G17)<3,MAX($E17:$G17),MEDIAN($E17:$G17))))))","v":"DNS"},null,null,null,null,null,null,null,null,null,"DNS"]
[{"$f":"IF(Start!E9=\"\",\"\",\"x\")","v":""},4,{"$f":"IF(Start!C9=\"\",\"\",Start!C9)","v":"Osek"},"I.pokus",null,null,null,{"$f":"IF($C18=\"\",\"\",IF(OR($E18=\"DNS\",$F18=\"DNS\",$G18=\"DNS\"),\"DNS\",IF(OR($E18=\"NP\",$F18=\"NP\",$G18=\"NP\"),\"NP\",IF(ISERROR(MEDIAN($E18:$G18)),\"DNS\",IF(COUNT($E18:$G18)<3,MAX($E18:$G18),MEDIAN($E18:$G18))))))","v":"DNS"},null,null,null,null,null,null,null,null,null,"DNS",{"$f":"IF(C18=\"x\",\"x\",IF(C18=\"\",\"\",IF(OR(T18=\"NP\",T18=\"DNS\"),IF(T18=\"NP\",MAX(T$12:T$309)+COUNTIF((T$12:T$309),MAX(T$12:T$309)),MAX(T$12:T$309)+COUNTIF((T$12:T$309),MAX(T$12:T$309))+COUNTIF((T$12:T$309),\"NP\")),T18)))","v":0},{"$f":"IF(A18=\"x\",\"x\",IF(C18=\"\",\"\",IF(OR(U18=\"NP\",U18=\"DNS\"),U18,RANK(U18,U$12:U$309,1))))","v":"DNS"},{"$f":"IF(A18=\"x\",\"x\",IF(C18=\"\",\"\",IF(OR(AND(R18=\"NP\",R19=\"NP\"),AND(R18=\"DNS\",R19=\"DNS\")),R18,IF(AND(R18=\"NP\",R19=\"DNS\"),R18,IF(AND(R18=\"DNS\",R19=\"NP\"),R19,MIN(R18,R19))))))","v":"DNS"}]
[null,null,null,"II.pokus",null,null,null,{"$f":"IF($C18=\"\",\"\",IF(OR($E19=\"DNS\",$F19=\"DNS\",$G19=\"DNS\"),\"DNS\",IF(OR($E19=\"NP\",$F19=\"NP\",$G19=\"NP\"),\"NP\",IF(ISERROR(MEDIAN($E19:$G19)),\"DNS\",IF(COUNT($E19:$G19)<3,MAX($E19:$G19),MEDIAN($E19:$G19))))))","v":"DNS"},null,null,null,null,null,null,null,null,null,"DNS"]
[{"$f":"IF(Start!E10=\"\",\"\",\"x\")","v":""},5,{"$f":"IF(Start!C10=\"\",\"\",Start!C10)","v":"Lhota pod Radčem"},"I.pokus",null,null,null,{"$f":"IF($C20=\"\",\"\",IF(OR($E20=\"DNS\",$F20=\"DNS\",$G20=\"DNS\"),\"DNS\",IF(OR($E20=\"NP\",$F20=\"NP\",$G20=\"NP\"),\"NP\",IF(ISERROR(MEDIAN($E20:$G20)),\"DNS\",IF(COUNT($E20:$G20)<3,MAX($E20:$G20),MEDIAN($E20:$G20))))))","v":"DNS"},null,null,null,null,null,null,null,null,null,"DNS",{"$f":"IF(C20=\"x\",\"x\",IF(C20=\"\",\"\",IF(OR(T20=\"NP\",T20=\"DNS\"),IF(T20=\"NP\",MAX(T$12:T$309)+COUNTIF((T$12:T$309),MAX(T$12:T$309)),MAX(T$12:T$309)+COUNTIF((T$12:T$309),MAX(T$12:T$309))+COUNTIF((T$12:T$309),\"NP\")),T20)))","v":0},{"$f":"IF(A20=\"x\",\"x\",IF(C20=\"\",\"\",IF(OR(U20=\"NP\",U20=\"DNS\"),U20,RANK(U20,U$12:U$309,1))))","v":"DNS"},{"$f":"IF(A20=\"x\",\"x\",IF(C20=\"\",\"\",IF(OR(AND(R20=\"NP\",R21=\"NP\"),AND(R20=\"DNS\",R21=\"DNS\")),R20,IF(AND(R20=\"NP\",R21=\"DNS\"),R20,IF(AND(R20=\"DNS\",R21=\"NP\"),R21,MIN(R20,R21))))))","v":"DNS"}]
[null,null,null,"II.pokus",null,null,null,{"$f":"IF($C20=\"\",\"\",IF(OR($E21=\"DNS\",$F21=\"DNS\",$G21=\"DNS\"),\"DNS\",IF(OR($E21=\"NP\",$F21=\"NP\",$G21=\"NP\"),\"NP\",IF(ISERROR(MEDIAN($E21:$G21)),\"DNS\",IF(COUNT($E21:$G21)<3,MAX($E21:$G21),MEDIAN($E21:$G21))))))","v":"DNS"},null,null,null,null,null,null,null,null,null,"DNS"]
[{"$f":"IF(Start!E11=\"\",\"\",\"x\")","v":""},6,{"$f":"IF(Start!C11=\"\",\"\",Start!C11)","v":"Dobřív"},"I.pokus",null,null,null,{"$f":"IF($C22=\"\",\"\",IF(OR($E22=\"DNS\",$F22=\"DNS\",$G22=\"DNS\"),\"DNS\",IF(OR($E22=\"NP\",$F22=\"NP\",$G22=\"NP\"),\"NP\",IF(ISERROR(MEDIAN($E22:$G22)),\"DNS\",IF(COUNT($E22:$G22)<3,MAX($E22:$G22),MEDIAN($E22:$G22))))))","v":"DNS"},null,null,null,null,null,null,null,null,null,"DNS",{"$f":"IF(C22=\"x\",\"x\",IF(C22=\"\",\"\",IF(OR(T22=\"NP\",T22=\"DNS\"),IF(T22=\"NP\",MAX(T$12:T$309)+COUNTIF((T$12:T$309),MAX(T$12:T$309)),MAX(T$12:T$309)+COUNTIF((T$12:T$309),MAX(T$12:T$309))+COUNTIF((T$12:T$309),\"NP\")),T22)))","v":0},{"$f":"IF(A22=\"x\",\"x\",IF(C22=\"\",\"\",IF(OR(U22=\"NP\",U22=\"DNS\"),U22,RANK(U22,U$12:U$309,1))))","v":"DNS"},{"$f":"IF(A22=\"x\",\"x\",IF(C22=\"\",\"\",IF(OR(AND(R22=\"NP\",R23=\"NP\"),AND(R22=\"DNS\",R23=\"DNS\")),R22,IF(AND(R22=\"NP\",R23=\"DNS\"),R22,IF(AND(R22=\"DNS\",R23=\"NP\"),R23,MIN(R22,R23))))))","v":"DNS"}]
[null,null,null,"II.pokus",null,null,null,{"$f":"IF($C22=\"\",\"\",IF(OR($E23=\"DNS\",$F23=\"DNS\",$G23=\"DNS\"),\"DNS\",IF(OR($E23=\"NP\",$F23=\"NP\",$G23=\"NP\"),\"NP\",IF(ISERROR(MEDIAN($E23:$G23)),\"DNS\",IF(COUNT($E23:$G23)<3,MAX($E23:$G23),MEDIAN($E23:$G23))))))","v":"DNS"},null,null,null,null,null,null,null,null,null,"DNS"]
[{"$f":"IF(Start!E12=\"\",\"\",\"x\")","v":""},7,{"$f":"IF(Start!C12=\"\",\"\",Start!C12)","v":"Mirošov"},"I.pokus",null,null,null,{"$f":"IF($C24=\"\",\"\",IF(OR($E24=\"DNS\",$F24=\"DNS\",$G24=\"DNS\"),\"DNS\",IF(OR($E24=\"NP\",$F24=\"NP\",$G24=\"NP\"),\"NP\",IF(ISERROR(MEDIAN($E24:$G24)),\"DNS\",IF(COUNT($E24:$G24)<3,MAX($E24:$G24),MEDIAN($E24:$G24))))))","v":"DNS"},null,null,null,null,null,null,null,null,null,"DNS",{"$f":"IF(C24=\"x\",\"x\",IF(C24=\"\",\"\",IF(OR(T24=\"NP\",T24=\"DNS\"),IF(T24=\"NP\",MAX(T$12:T$309)+COUNTIF((T$12:T$309),MAX(T$12:T$309)),MAX(T$12:T$309)+COUNTIF((T$12:T$309),MAX(T$12:T$309))+COUNTIF((T$12:T$309),\"NP\")),T24)))","v":0},{"$f":"IF(A24=\"x\",\"x\",IF(C24=\"\",\"\",IF(OR(U24=\"NP\",U24=\"DNS\"),U24,RANK(U24,U$12:U$309,1))))","v":"DNS"},{"$f":"IF(A24=\"x\",\"x\",IF(C24=\"\",\"\",IF(OR(AND(R24=\"NP\",R25=\"NP\"),AND(R24=\"DNS\",R25=\"DNS\")),R24,IF(AND(R24=\"NP\",R25=\"DNS\"),R24,IF(AND(R24=\"DNS\",R25=\"NP\"),R25,MIN(R24,R25))))))","v":"DNS"}]
[null,null,null,"II.pokus",null,null,null,{"$f":"IF($C24=\"\",\"\",IF(OR($E25=\"DNS\",$F25=\"DNS\",$G25=\"DNS\"),\"DNS\",IF(OR($E25=\"NP\",$F25=\"NP\",$G25=\"NP\"),\"NP\",IF(ISERROR(MEDIAN($E25:$G25)),\"DNS\",IF(COUNT($E25:$G25)<3,MAX($E25:$G25),MEDIAN($E25:$G25))))))","v":"DNS"},null,null,null,null,null,null,null,null,null,"DNS"]
[{"$f":"IF(Start!E13=\"\",\"\",\"x\")","v":""},8,{"$f":"IF(Start!C13=\"\",\"\",Start!C13)","v":"Volduchy"},"I.pokus",null,null,null,{"$f":"IF($C26=\"\",\"\",IF(OR($E26=\"DNS\",$F26=\"DNS\",$G26=\"DNS\"),\"DNS\",IF(OR($E26=\"NP\",$F26=\"NP\",$G26=\"NP\"),\"NP\",IF(ISERROR(MEDIAN($E26:$G26)),\"DNS\",IF(COUNT($E26:$G26)<3,MAX($E26:$G26),MEDIAN($E26:$G26))))))","v":"DNS"},null,null,null,null,null,null,null,null,null,"DNS",{"$f":"IF(C26=\"x\",\"x\",IF(C26=\"\",\"\",IF(OR(T26=\"NP\",T26=\"DNS\"),IF(T26=\"NP\",MAX(T$12:T$309)+COUNTIF((T$12:T$309),MAX(T$12:T$309)),MAX(T$12:T$309)+COUNTIF((T$12:T$309),MAX(T$12:T$309))+COUNTIF((T$12:T$309),\"NP\")),T26)))","v":0},{"$f":"IF(A26=\"x\",\"x\",IF(C26=\"\",\"\",IF(OR(U26=\"NP\",U26=\"DNS\"),U26,RANK(U26,U$12:U$309,1))))","v":"DNS"},{"$f":"IF(A26=\"x\",\"x\",IF(C26=\"\",\"\",IF(OR(AND(R26=\"NP\",R27=\"NP\"),AND(R26=\"DNS\",R27=\"DNS\")),R26,IF(AND(R26=\"NP\",R27=\"DNS\"),R26,IF(AND(R26=\"DNS\",R27=\"NP\"),R27,MIN(R26,R27))))))","v":"DNS"}]
[null,null,null,"II.pokus",null,null,null,{"$f":"IF($C26=\"\",\"\",IF(OR($E27=\"DNS\",$F27=\"DNS\",$G27=\"DNS\"),\"DNS\",IF(OR($E27=\"NP\",$F27=\"NP\",$G27=\"NP\"),\"NP\",IF(ISERROR(MEDIAN($E27:$G27)),\"DNS\",IF(COUNT($E27:$G27)<3,MAX($E27:$G27),MEDIAN($E27:$G27))))))","v":"DNS"},null,null,null,null,null,null,null,null,null,"DNS"]
[{"$f":"IF(Start!E14=\"\",\"\",\"x\")","v":""},9,{"$f":"IF(Start!C14=\"\",\"\",Start!C14)","v":""},"I.pokus",null,null,null,{"$f":"IF($C28=\"\",\"\",IF(OR($E28=\"DNS\",$F28=\"DNS\",$G28=\"DNS\"),\"DNS\",IF(OR($E28=\"NP\",$F28=\"NP\",$G28=\"NP\"),\"NP\",IF(ISERROR(MEDIAN($E28:$G28)),\"DNS\",IF(COUNT($E28:$G28)<3,MAX($E28:$G28),MEDIAN($E28:$G28))))))","v":""},null,null,null,null,null,null,null,null,null,"",{"$f":"IF(C28=\"x\",\"x\",IF(C28=\"\",\"\",IF(OR(T28=\"NP\",T28=\"DNS\"),IF(T28=\"NP\",MAX(T$12:T$309)+COUNTIF((T$12:T$309),MAX(T$12:T$309)),MAX(T$12:T$309)+COUNTIF((T$12:T$309),MAX(T$12:T$309))+COUNTIF((T$12:T$309),\"NP\")),T28)))","v":""},{"$f":"IF(A28=\"x\",\"x\",IF(C28=\"\",\"\",IF(OR(U28=\"NP\",U28=\"DNS\"),U28,RANK(U28,U$12:U$309,1))))","v":""},{"$f":"IF(A28=\"x\",\"x\",IF(C28=\"\",\"\",IF(OR(AND(R28=\"NP\",R29=\"NP\"),AND(R28=\"DNS\",R29=\"DNS\")),R28,IF(AND(R28=\"NP\",R29=\"DNS\"),R28,IF(AND(R28=\"DNS\",R29=\"NP\"),R29,MIN(R28,R29))))))","v":""}]
[null,null,null,"II.pokus",null,null,null,{"$f":"IF($C28=\"\",\"\",IF(OR($E29=\"DNS\",$F29=\"DNS\",$G29=\"DNS\"),\"DNS\",IF(OR($E29=\"NP\",$F29=\"NP\",$G29=\"NP\"),\"NP\",IF(ISERROR(MEDIAN($E29:$G29)),\"DNS\",IF(COUNT($E29:$G29)<3,MAX($E29:$G29),MEDIAN($E29:$G29))))))","v":""},null,null,null,null,null,null,null,null,null,""]
[{"$f":"IF(Start!E15=\"\",\"\",\"x\")","v":""},10,{"$f":"IF(Start!C15=\"\",\"\",Start!C15)","v":""},"I.pokus",null,null,null,{"$f":"IF($C30=\"\",\"\",IF(OR($E30=\"DNS\",$F30=\"DNS\",$G30=\"DNS\"),\"DNS\",IF(OR($E30=\"NP\",$F30=\"NP\",$G30=\"NP\"),\"NP\",IF(ISERROR(MEDIAN($E30:$G30)),\"DNS\",IF(COUNT($E30:$G30)<3,MAX($E30:$G30),MEDIAN($E30:$G30))))))","v":""},null,null,null,null,null,null,null,null,null,"",{"$f":"IF(C30=\"x\",\"x\",IF(C30=\"\",\"\",IF(OR(T30=\"NP\",T30=\"DNS\"),IF(T30=\"NP\",MAX(T$12:T$309)+COUNTIF((T$12:T$309),MAX(T$12:T$309)),MAX(T$12:T$309)+COUNTIF((T$12:T$309),MAX(T$12:T$309))+COUNTIF((T$12:T$309),\"NP\")),T30)))","v":""},{"$f":"IF(A30=\"x\",\"x\",IF(C30=\"\",\"\",IF(OR(U30=\"NP\",U30=\"DNS\"),U30,RANK(U30,U$12:U$309,1))))","v":""},{"$f":"IF(A30=\"x\",\"x\",IF(C30=\"\",\"\",IF(OR(AND(R30=\"NP\",R31=\"NP\"),AND(R30=\"DNS\",R31=\"DNS\")),R30,IF(AND(R30=\"NP\",R31=\"DNS\"),R30,IF(AND(R30=\"DNS\",R31=\"NP\"),R31,MIN(R30,R31))))))","v":""}]
[null,null,null,"II.pokus",null,null,null,{"$f":"IF($C30=\"\",\"\",IF(OR($E31=\"DNS\",$F31=\"DNS\",$G31=\"DNS\"),\"DNS\",IF(OR($E31=\"NP\",$F31=\"NP\",$G31=\"NP\"),\"NP\",IF(ISERROR(MEDIAN($E31:$G31)),\"DNS\",IF(COUNT($E31:$G31)<3,MAX($E31:$G31),MEDIAN($E31:$G31))))))","v":""},null,null,null,null,null,null,null,null,null,""]
[null,"CELOSTÁTNÍ HRA PLAMEN"]
[]
[]
[null,"Výsledková listina č: 2"]
[null,"Požární útok CTIF",null,null,"Základem je čas naměřený       od startu po signál velitele            o ukončení pokusu",null,null,null,"K úřednímu času se připočítávají trestné sekundy",null,null,null,null,null,null,null,null,"Výsledek soutěže"]
[null,null,null,null,null,null,null,null,"nesprávné překonání překážek\n10 tb. = sekund","celé přetočení hadice\n(každá hadice se posuzuje samostatně)\n5 tb. = sekund","rozpojení spojky nebo zapojení na 1 ozub\nza každý případ\n20 tb. = sekund","nesprávné rozložení hadice nesprávné položení hadic u překážek\n10 tb. = sekund","zapomenuté, ztracené nebo špatně odložené nářadí\n5 tb. = sekund","nesprávné zařazení technického prostředku\nu stojanu\n10 tb. = sekund","nesprávné uvázaný uzel   10 tb. = sekund","nesprávná práce\n10 tb. = sekund"]
[null,null,null,null,null,null,null,null,null,null,null,null,null,null,null,null,null,"součet trest. Sekund a úředního času","počet bodů za umístění"]
[null,{"$f":"\"KATEGORIE: \"&Start!$N$2","v":"KATEGORIE: starší"},null,null,"I. časoměřič","II. časoměřič","III. časoměřič","úřední čas"]
[]
[null,"start. číslo","SOUTĚŽNÍ DRUŽSTVO","pokus"]
[]
[{"$f":"IF(Start!E16=\"\",\"\",\"x\")","v":""},11,{"$f":"IF(Start!C16=\"\",\"\",Start!C16)","v":""},"I.pokus",null,null,null,{"$f":"IF($C43=\"\",\"\",IF(OR($E43=\"DNS\",$F43=\"DNS\",$G43=\"DNS\"),\"DNS\",IF(OR($E43=\"NP\",$F43=\"NP\",$G43=\"NP\"),\"NP\",IF(ISERROR(MEDIAN($E43:$G43)),\"DNS\",IF(COUNT($E43:$G43)<3,MAX($E43:$G43),MEDIAN($E43:$G43))))))","v":""},null,null,null,null,null,null,null,null,null,{"$f":"IF(H43=\"\",\"\",IF(H43=\"NP\",\"NP\",IF(H43=\"DNS\",\"DNS\",SUM(I43:Q43)+H43)))","v":""},{"$f":"IF(C43=\"x\",\"x\",IF(C43=\"\",\"\",IF(OR(T43=\"NP\",T43=\"DNS\"),IF(T43=\"NP\",MAX(T$12:T$309)+COUNTIF((T$12:T$309),MAX(T$12:T$309)),MAX(T$12:T$309)+COUNTIF((T$12:T$309),MAX(T$12:T$309))+COUNTIF((T$12:T$309),\"NP\")),T43)))","v":""},{"$f":"IF(A43=\"x\",\"x\",IF(C43=\"\",\"\",IF(OR(U43=\"NP\",U43=\"DNS\"),U43,RANK(U43,U$12:U$309,1))))","v":""},{"$f":"IF(A43=\"x\",\"x\",IF(C43=\"\",\"\",IF(OR(AND(R43=\"NP\",R44=\"NP\"),AND(R43=\"DNS\",R44=\"DNS\")),R43,IF(AND(R43=\"NP\",R44=\"DNS\"),R43,IF(AND(R43=\"DNS\",R44=\"NP\"),R44,MIN(R43,R44))))))","v":""}]
[null,null,null,"II.pokus",null,null,null,{"$f":"IF($C43=\"\",\"\",IF(OR($E44=\"DNS\",$F44=\"DNS\",$G44=\"DNS\"),\"DNS\",IF(OR($E44=\"NP\",$F44=\"NP\",$G44=\"NP\"),\"NP\",IF(ISERROR(MEDIAN($E44:$G44)),\"DNS\",IF(COUNT($E44:$G44)<3,MAX($E44:$G44),MEDIAN($E44:$G44))))))","v":""},null,null,null,null,null,null,null,null,null,""]
[{"$f":"IF(Start!E17=\"\",\"\",\"x\")","v":""},12,{"$f":"IF(Start!C17=\"\",\"\",Start!C17)","v":""},"I.pokus",null,null,null,{"$f":"IF($C45=\"\",\"\",IF(OR($E45=\"DNS\",$F45=\"DNS\",$G45=\"DNS\"),\"DNS\",IF(OR($E45=\"NP\",$F45=\"NP\",$G45=\"NP\"),\"NP\",IF(ISERROR(MEDIAN($E45:$G45)),\"DNS\",IF(COUNT($E45:$G45)<3,MAX($E45:$G45),MEDIAN($E45:$G45))))))","v":""},null,null,null,null,null,null,null,null,null,"",{"$f":"IF(C45=\"x\",\"x\",IF(C45=\"\",\"\",IF(OR(T45=\"NP\",T45=\"DNS\"),IF(T45=\"NP\",MAX(T$12:T$309)+COUNTIF((T$12:T$309),MAX(T$12:T$309)),MAX(T$12:T$309)+COUNTIF((T$12:T$309),MAX(T$12:T$309))+COUNTIF((T$12:T$309),\"NP\")),T45)))","v":""},{"$f":"IF(A45=\"x\",\"x\",IF(C45=\"\",\"\",IF(OR(U45=\"NP\",U45=\"DNS\"),U45,RANK(U45,U$12:U$309,1))))","v":""},{"$f":"IF(A45=\"x\",\"x\",IF(C45=\"\",\"\",IF(OR(AND(R45=\"NP\",R46=\"NP\"),AND(R45=\"DNS\",R46=\"DNS\")),R45,IF(AND(R45=\"NP\",R46=\"DNS\"),R45,IF(AND(R45=\"DNS\",R46=\"NP\"),R46,MIN(R45,R46))))))","v":""}]
[null,null,null,"II.pokus",null,null,null,{"$f":"IF($C45=\"\",\"\",IF(OR($E46=\"DNS\",$F46=\"DNS\",$G46=\"DNS\"),\"DNS\",IF(OR($E46=\"NP\",$F46=\"NP\",$G46=\"NP\"),\"NP\",IF(ISERROR(MEDIAN($E46:$G46)),\"DNS\",IF(COUNT($E46:$G46)<3,MAX($E46:$G46),MEDIAN($E46:$G46))))))","v":""},null,null,null,null,null,null,null,null,null,""]
[{"$f":"IF(Start!E18=\"\",\"\",\"x\")","v":""},13,{"$f":"IF(Start!C18=\"\",\"\",Start!C18)","v":""},"I.pokus",null,null,null,{"$f":"IF($C47=\"\",\"\",IF(OR($E47=\"DNS\",$F47=\"DNS\",$G47=\"DNS\"),\"DNS\",IF(OR($E47=\"NP\",$F47=\"NP\",$G47=\"NP\"),\"NP\",IF(ISERROR(MEDIAN($E47:$G47)),\"DNS\",IF(COUNT($E47:$G47)<3,MAX($E47:$G47),MEDIAN($E47:$G47))))))","v":""},null,null,null,null,null,null,null,null,null,"",{"$f":"IF(C47=\"x\",\"x\",IF(C47=\"\",\"\",IF(OR(T47=\"NP\",T47=\"DNS\"),IF(T47=\"NP\",MAX(T$12:T$309)+COUNTIF((T$12:T$309),MAX(T$12:T$309)),MAX(T$12:T$309)+COUNTIF((T$12:T$309),MAX(T$12:T$309))+COUNTIF((T$12:T$309),\"NP\")),T47)))","v":""},{"$f":"IF(A47=\"x\",\"x\",IF(C47=\"\",\"\",IF(OR(U47=\"NP\",U47=\"DNS\"),U47,RANK(U47,U$12:U$309,1))))","v":""},{"$f":"IF(A47=\"x\",\"x\",IF(C47=\"\",\"\",IF(OR(AND(R47=\"NP\",R48=\"NP\"),AND(R47=\"DNS\",R48=\"DNS\")),R47,IF(AND(R47=\"NP\",R48=\"DNS\"),R47,IF(AND(R47=\"DNS\",R48=\"NP\"),R48,MIN(R47,R48))))))","v":""}]
[null,null,null,"II.pokus",null,null,null,{"$f":"IF($C47=\"\",\"\",IF(OR($E48=\"DNS\",$F48=\"DNS\",$G48=\"DNS\"),\"DNS\",IF(OR($E48=\"NP\",$F48=\"NP\",$G48=\"NP\"),\"NP\",IF(ISERROR(MEDIAN($E48:$G48)),\"DNS\",IF(COUNT($E48:$G48)<3,MAX($E48:$G48),MEDIAN($E48:$G48))))))","v":""},null,null,null,null,null,null,null,null,null,""]
[{"$f":"IF(Start!E19=\"\",\"\",\"x\")","v":""},14,{"$f":"IF(Start!C19=\"\",\"\",Start!C19)","v":""},"I.pokus",null,null,null,{"$f":"IF($C49=\"\",\"\",IF(OR($E49=\"DNS\",$F49=\"DNS\",$G49=\"DNS\"),\"DNS\",IF(OR($E49=\"NP\",$F49=\"NP\",$G49=\"NP\"),\"NP\",IF(ISERROR(MEDIAN($E49:$G49)),\"DNS\",IF(COUNT($E49:$G49)<3,MAX($E49:$G49),MEDIAN($E49:$G49))))))","v":""},null,null,null,null,null,null,null,null,null,"",{"$f":"IF(C49=\"x\",\"x\",IF(C49=\"\",\"\",IF(OR(T49=\"NP\",T49=\"DNS\"),IF(T49=\"NP\",MAX(T$12:T$309)+COUNTIF((T$12:T$309),MAX(T$12:T$309)),MAX(T$12:T$309)+COUNTIF((T$12:T$309),MAX(T$12:T$309))+COUNTIF((T$12:T$309),\"NP\")),T49)))","v":""},{"$f":"IF(A49=\"x\",\"x\",IF(C49=\"\",\"\",IF(OR(U49=\"NP\",U49=\"DNS\"),U49,RANK(U49,U$12:U$309,1))))","v":""},{"$f":"IF(A49=\"x\",\"x\",IF(C49=\"\",\"\",IF(OR(AND(R49=\"NP\",R50=\"NP\"),AND(R49=\"DNS\",R50=\"DNS\")),R49,IF(AND(R49=\"NP\",R50=\"DNS\"),R49,IF(AND(R49=\"DNS\",R50=\"NP\"),R50,MIN(R49,R50))))))","v":""}]
[null,null,null,"II.pokus",null,null,null,{"$f":"IF($C49=\"\",\"\",IF(OR($E50=\"DNS\",$F50=\"DNS\",$G50=\"DNS\"),\"DNS\",IF(OR($E50=\"NP\",$F50=\"NP\",$G50=\"NP\"),\"NP\",IF(ISERROR(MEDIAN($E50:$G50)),\"DNS\",IF(COUNT($E50:$G50)<3,MAX($E50:$G50),MEDIAN($E50:$G50))))))","v":""},null,null,null,null,null,null,null,null,null,""]
[{"$f":"IF(Start!E20=\"\",\"\",\"x\")","v":""},15,{"$f":"IF(Start!C20=\"\",\"\",Start!C20)","v":""},"I.pokus",null,null,null,{"$f":"IF($C51=\"\",\"\",IF(OR($E51=\"DNS\",$F51=\"DNS\",$G51=\"DNS\"),\"DNS\",IF(OR($E51=\"NP\",$F51=\"NP\",$G51=\"NP\"),\"NP\",IF(ISERROR(MEDIAN($E51:$G51)),\"DNS\",IF(COUNT($E51:$G51)<3,MAX($E51:$G51),MEDIAN($E51:$G51))))))","v":""},null,null,null,null,null,null,null,null,null,"",{"$f":"IF(C51=\"x\",\"x\",IF(C51=\"\",\"\",IF(OR(T51=\"NP\",T51=\"DNS\"),IF(T51=\"NP\",MAX(T$12:T$309)+COUNTIF((T$12:T$309),MAX(T$12:T$309)),MAX(T$12:T$309)+COUNTIF((T$12:T$309),MAX(T$12:T$309))+COUNTIF((T$12:T$309),\"NP\")),T51)))","v":""},{"$f":"IF(A51=\"x\",\"x\",IF(C51=\"\",\"\",IF(OR(U51=\"NP\",U51=\"DNS\"),U51,RANK(U51,U$12:U$309,1))))","v":""},{"$f":"IF(A51=\"x\",\"x\",IF(C51=\"\",\"\",IF(OR(AND(R51=\"NP\",R52=\"NP\"),AND(R51=\"DNS\",R52=\"DNS\")),R51,IF(AND(R51=\"NP\",R52=\"DNS\"),R51,IF(AND(R51=\"DNS\",R52=\"NP\"),R52,MIN(R51,R52))))))","v":""}]
[null,null,null,"II.pokus",null,null,null,{"$f":"IF($C51=\"\",\"\",IF(OR($E52=\"DNS\",$F52=\"DNS\",$G52=\"DNS\"),\"DNS\",IF(OR($E52=\"NP\",$F52=\"NP\",$G52=\"NP\"),\"NP\",IF(ISERROR(MEDIAN($E52:$G52)),\"DNS\",IF(COUNT($E52:$G52)<3,MAX($E52:$G52),MEDIAN($E52:$G52))))))","v":""},null,null,null,null,null,null,null,null,null,""]
[{"$f":"IF(Start!E21=\"\",\"\",\"x\")","v":""},16,{"$f":"IF(Start!C21=\"\",\"\",Start!C21)","v":""},"I.pokus",null,null,null,{"$f":"IF($C53=\"\",\"\",IF(OR($E53=\"DNS\",$F53=\"DNS\",$G53=\"DNS\"),\"DNS\",IF(OR($E53=\"NP\",$F53=\"NP\",$G53=\"NP\"),\"NP\",IF(ISERROR(MEDIAN($E53:$G53)),\"DNS\",IF(COUNT($E53:$G53)<3,MAX($E53:$G53),MEDIAN($E53:$G53))))))","v":""},null,null,null,null,null,null,null,null,null,"",{"$f":"IF(C53=\"x\",\"x\",IF(C53=\"\",\"\",IF(OR(T53=\"NP\",T53=\"DNS\"),IF(T53=\"NP\",MAX(T$12:T$309)+COUNTIF((T$12:T$309),MAX(T$12:T$309)),MAX(T$12:T$309)+COUNTIF((T$12:T$309),MAX(T$12:T$309))+COUNTIF((T$12:T$309),\"NP\")),T53)))","v":""},{"$f":"IF(A53=\"x\",\"x\",IF(C53=\"\",\"\",IF(OR(U53=\"NP\",U53=\"DNS\"),U53,RANK(U53,U$12:U$309,1))))","v":""},{"$f":"IF(A53=\"x\",\"x\",IF(C53=\"\",\"\",IF(OR(AND(R53=\"NP\",R54=\"NP\"),AND(R53=\"DNS\",R54=\"DNS\")),R53,IF(AND(R53=\"NP\",R54=\"DNS\"),R53,IF(AND(R53=\"DNS\",R54=\"NP\"),R54,MIN(R53,R54))))))","v":""}]
[null,null,null,"II.pokus",null,null,null,{"$f":"IF($C53=\"\",\"\",IF(OR($E54=\"DNS\",$F54=\"DNS\",$G54=\"DNS\"),\"DNS\",IF(OR($E54=\"NP\",$F54=\"NP\",$G54=\"NP\"),\"NP\",IF(ISERROR(MEDIAN($E54:$G54)),\"DNS\",IF(COUNT($E54:$G54)<3,MAX($E54:$G54),MEDIAN($E54:$G54))))))","v":""},null,null,null,null,null,null,null,null,null,""]
[{"$f":"IF(Start!E22=\"\",\"\",\"x\")","v":""},17,{"$f":"IF(Start!C22=\"\",\"\",Start!C22)","v":""},"I.pokus",null,null,null,{"$f":"IF($C55=\"\",\"\",IF(OR($E55=\"DNS\",$F55=\"DNS\",$G55=\"DNS\"),\"DNS\",IF(OR($E55=\"NP\",$F55=\"NP\",$G55=\"NP\"),\"NP\",IF(ISERROR(MEDIAN($E55:$G55)),\"DNS\",IF(COUNT($E55:$G55)<3,MAX($E55:$G55),MEDIAN($E55:$G55))))))","v":""},null,null,null,null,null,null,null,null,null,"",{"$f":"IF(C55=\"x\",\"x\",IF(C55=\"\",\"\",IF(OR(T55=\"NP\",T55=\"DNS\"),IF(T55=\"NP\",MAX(T$12:T$309)+COUNTIF((T$12:T$309),MAX(T$12:T$309)),MAX(T$12:T$309)+COUNTIF((T$12:T$309),MAX(T$12:T$309))+COUNTIF((T$12:T$309),\"NP\")),T55)))","v":""},{"$f":"IF(A55=\"x\",\"x\",IF(C55=\"\",\"\",IF(OR(U55=\"NP\",U55=\"DNS\"),U55,RANK(U55,U$12:U$309,1))))","v":""},{"$f":"IF(A55=\"x\",\"x\",IF(C55=\"\",\"\",IF(OR(AND(R55=\"NP\",R56=\"NP\"),AND(R55=\"DNS\",R56=\"DNS\")),R55,IF(AND(R55=\"NP\",R56=\"DNS\"),R55,IF(AND(R55=\"DNS\",R56=\"NP\"),R56,MIN(R55,R56))))))","v":""}]
[null,null,null,"II.pokus",null,null,null,{"$f":"IF($C55=\"\",\"\",IF(OR($E56=\"DNS\",$F56=\"DNS\",$G56=\"DNS\"),\"DNS\",IF(OR($E56=\"NP\",$F56=\"NP\",$G56=\"NP\"),\"NP\",IF(ISERROR(MEDIAN($E56:$G56)),\"DNS\",IF(COUNT($E56:$G56)<3,MAX($E56:$G56),MEDIAN($E56:$G56))))))","v":""},null,null,null,null,null,null,null,null,null,""]
[{"$f":"IF(Start!E23=\"\",\"\",\"x\")","v":""},18,{"$f":"IF(Start!C23=\"\",\"\",Start!C23)","v":""},"I.pokus",null,null,null,{"$f":"IF($C57=\"\",\"\",IF(OR($E57=\"DNS\",$F57=\"DNS\",$G57=\"DNS\"),\"DNS\",IF(OR($E57=\"NP\",$F57=\"NP\",$G57=\"NP\"),\"NP\",IF(ISERROR(MEDIAN($E57:$G57)),\"DNS\",IF(COUNT($E57:$G57)<3,MAX($E57:$G57),MEDIAN($E57:$G57))))))","v":""},null,null,null,null,null,null,null,null,null,"",{"$f":"IF(C57=\"x\",\"x\",IF(C57=\"\",\"\",IF(OR(T57=\"NP\",T57=\"DNS\"),IF(T57=\"NP\",MAX(T$12:T$309)+COUNTIF((T$12:T$309),MAX(T$12:T$309)),MAX(T$12:T$309)+COUNTIF((T$12:T$309),MAX(T$12:T$309))+COUNTIF((T$12:T$309),\"NP\")),T57)))","v":""},{"$f":"IF(A57=\"x\",\"x\",IF(C57=\"\",\"\",IF(OR(U57=\"NP\",U57=\"DNS\"),U57,RANK(U57,U$12:U$309,1))))","v":""},{"$f":"IF(A57=\"x\",\"x\",IF(C57=\"\",\"\",IF(OR(AND(R57=\"NP\",R58=\"NP\"),AND(R57=\"DNS\",R58=\"DNS\")),R57,IF(AND(R57=\"NP\",R58=\"DNS\"),R57,IF(AND(R57=\"DNS\",R58=\"NP\"),R58,MIN(R57,R58))))))","v":""}]
[null,null,null,"II.pokus",null,null,null,{"$f":"IF($C57=\"\",\"\",IF(OR($E58=\"DNS\",$F58=\"DNS\",$G58=\"DNS\"),\"DNS\",IF(OR($E58=\"NP\",$F58=\"NP\",$G58=\"NP\"),\"NP\",IF(ISERROR(MEDIAN($E58:$G58)),\"DNS\",IF(COUNT($E58:$G58)<3,MAX($E58:$G58),MEDIAN($E58:$G58))))))","v":""},null,null,null,null,null,null,null,null,null,""]
[{"$f":"IF(Start!E24=\"\",\"\",\"x\")","v":""},19,{"$f":"IF(Start!C24=\"\",\"\",Start!C24)","v":""},"I.pokus",null,null,null,{"$f":"IF($C59=\"\",\"\",IF(OR($E59=\"DNS\",$F59=\"DNS\",$G59=\"DNS\"),\"DNS\",IF(OR($E59=\"NP\",$F59=\"NP\",$G59=\"NP\"),\"NP\",IF(ISERROR(MEDIAN($E59:$G59)),\"DNS\",IF(COUNT($E59:$G59)<3,MAX($E59:$G59),MEDIAN($E59:$G59))))))","v":""},null,null,null,null,null,null,null,null,null,"",{"$f":"IF(C59=\"x\",\"x\",IF(C59=\"\",\"\",IF(OR(T59=\"NP\",T59=\"DNS\"),IF(T59=\"NP\",MAX(T$12:T$309)+COUNTIF((T$12:T$309),MAX(T$12:T$309)),MAX(T$12:T$309)+COUNTIF((T$12:T$309),MAX(T$12:T$309))+COUNTIF((T$12:T$309),\"NP\")),T59)))","v":""},{"$f":"IF(A59=\"x\",\"x\",IF(C59=\"\",\"\",IF(OR(U59=\"NP\",U59=\"DNS\"),U59,RANK(U59,U$12:U$309,1))))","v":""},{"$f":"IF(A59=\"x\",\"x\",IF(C59=\"\",\"\",IF(OR(AND(R59=\"NP\",R60=\"NP\"),AND(R59=\"DNS\",R60=\"DNS\")),R59,IF(AND(R59=\"NP\",R60=\"DNS\"),R59,IF(AND(R59=\"DNS\",R60=\"NP\"),R60,MIN(R59,R60))))))","v":""}]
[null,null,null,"II.pokus",null,null,null,{"$f":"IF($C59=\"\",\"\",IF(OR($E60=\"DNS\",$F60=\"DNS\",$G60=\"DNS\"),\"DNS\",IF(OR($E60=\"NP\",$F60=\"NP\",$G60=\"NP\"),\"NP\",IF(ISERROR(MEDIAN($E60:$G60)),\"DNS\",IF(COUNT($E60:$G60)<3,MAX($E60:$G60),MEDIAN($E60:$G60))))))","v":""},null,null,null,null,null,null,null,null,null,""]
[{"$f":"IF(Start!E25=\"\",\"\",\"x\")","v":""},20,{"$f":"IF(Start!C25=\"\",\"\",Start!C25)","v":""},"I.pokus",null,null,null,{"$f":"IF($C61=\"\",\"\",IF(OR($E61=\"DNS\",$F61=\"DNS\",$G61=\"DNS\"),\"DNS\",IF(OR($E61=\"NP\",$F61=\"NP\",$G61=\"NP\"),\"NP\",IF(ISERROR(MEDIAN($E61:$G61)),\"DNS\",IF(COUNT($E61:$G61)<3,MAX($E61:$G61),MEDIAN($E61:$G61))))))","v":""},null,null,null,null,null,null,null,null,null,"",{"$f":"IF(C61=\"x\",\"x\",IF(C61=\"\",\"\",IF(OR(T61=\"NP\",T61=\"DNS\"),IF(T61=\"NP\",MAX(T$12:T$309)+COUNTIF((T$12:T$309),MAX(T$12:T$309)),MAX(T$12:T$309)+COUNTIF((T$12:T$309),MAX(T$12:T$309))+COUNTIF((T$12:T$309),\"NP\")),T61)))","v":""},{"$f":"IF(A61=\"x\",\"x\",IF(C61=\"\",\"\",IF(OR(U61=\"NP\",U61=\"DNS\"),U61,RANK(U61,U$12:U$309,1))))","v":""},{"$f":"IF(A61=\"x\",\"x\",IF(C61=\"\",\"\",IF(OR(AND(R61=\"NP\",R62=\"NP\"),AND(R61=\"DNS\",R62=\"DNS\")),R61,IF(AND(R61=\"NP\",R62=\"DNS\"),R61,IF(AND(R61=\"DNS\",R62=\"NP\"),R62,MIN(R61,R62))))))","v":""}]
[null,null,null,"II.pokus",null,null,null,{"$f":"IF($C61=\"\",\"\",IF(OR($E62=\"DNS\",$F62=\"DNS\",$G62=\"DNS\"),\"DNS\",IF(OR($E62=\"NP\",$F62=\"NP\",$G62=\"NP\"),\"NP\",IF(ISERROR(MEDIAN($E62:$G62)),\"DNS\",IF(COUNT($E62:$G62)<3,MAX($E62:$G62),MEDIAN($E62:$G62))))))","v":""},null,null,null,null,null,null,null,null,null,""]
[null,"CELOSTÁTNÍ HRA PLAMEN"]
[]
[]
[null,"Výsledková listina č: 3"]
[null,"Požární útok CTIF",null,null,"Základem je čas naměřený       od startu po signál velitele            o ukončení pokusu",null,null,null,"K úřednímu času se připočítávají trestné sekundy",null,null,null,null,null,null,null,null,"Výsledek soutěže"]
[null,null,null,null,null,null,null,null,"nesprávné překonání překážek\n10 tb. = sekund","celé přetočení hadice\n(každá hadice se posuzuje samostatně)\n5 tb. = sekund","rozpojení spojky nebo zapojení na 1 ozub\nza každý případ\n20 tb. = sekund","nesprávné rozložení hadice nesprávné položení hadic u překážek\n10 tb. = sekund","zapomenuté, ztracené nebo špatně odložené nářadí\n5 tb. = sekund","nesprávné zařazení technického prostředku\nu stojanu\n10 tb. = sekund","nesprávné uvázaný uzel   10 tb. = sekund","nesprávná práce\n10 tb. = sekund"]
[null,null,null,null,null,null,null,null,null,null,null,null,null,null,null,null,null,"součet trest. Sekund a úředního času","počet bodů za umístění"]
[null,{"$f":"\"KATEGORIE: \"&Start!$N$2","v":"KATEGORIE: starší"},null,null,"I. časoměřič","II. časoměřič","III. časoměřič","úřední čas"]
[]
[null,"start. číslo","SOUTĚŽNÍ DRUŽSTVO","pokus"]
[]
[{"$f":"IF(Start!E26=\"\",\"\",\"x\")","v":""},21,{"$f":"IF(Start!C26=\"\",\"\",Start!C26)","v":""},"I.pokus",null,null,null,{"$f":"IF($C74=\"\",\"\",IF(OR($E74=\"DNS\",$F74=\"DNS\",$G74=\"DNS\"),\"DNS\",IF(OR($E74=\"NP\",$F74=\"NP\",$G74=\"NP\"),\"NP\",IF(ISERROR(MEDIAN($E74:$G74)),\"DNS\",IF(COUNT($E74:$G74)<3,MAX($E74:$G74),MEDIAN($E74:$G74))))))","v":""},null,null,null,null,null,null,null,null,null,{"$f":"IF(H74=\"\",\"\",IF(H74=\"NP\",\"NP\",IF(H74=\"DNS\",\"DNS\",SUM(I74:Q74)+H74)))","v":""},{"$f":"IF(C74=\"x\",\"x\",IF(C74=\"\",\"\",IF(OR(T74=\"NP\",T74=\"DNS\"),IF(T74=\"NP\",MAX(T$12:T$309)+COUNTIF((T$12:T$309),MAX(T$12:T$309)),MAX(T$12:T$309)+COUNTIF((T$12:T$309),MAX(T$12:T$309))+COUNTIF((T$12:T$309),\"NP\")),T74)))","v":""},{"$f":"IF(A74=\"x\",\"x\",IF(C74=\"\",\"\",IF(OR(U74=\"NP\",U74=\"DNS\"),U74,RANK(U74,U$12:U$309,1))))","v":""},{"$f":"IF(A74=\"x\",\"x\",IF(C74=\"\",\"\",IF(OR(AND(R74=\"NP\",R75=\"NP\"),AND(R74=\"DNS\",R75=\"DNS\")),R74,IF(AND(R74=\"NP\",R75=\"DNS\"),R74,IF(AND(R74=\"DNS\",R75=\"NP\"),R75,MIN(R74,R75))))))","v":""}]
[null,null,null,"II.pokus",null,null,null,{"$f":"IF($C74=\"\",\"\",IF(OR($E75=\"DNS\",$F75=\"DNS\",$G75=\"DNS\"),\"DNS\",IF(OR($E75=\"NP\",$F75=\"NP\",$G75=\"NP\"),\"NP\",IF(ISERROR(MEDIAN($E75:$G75)),\"DNS\",IF(COUNT($E75:$G75)<3,MAX($E75:$G75),MEDIAN($E75:$G75))))))","v":""},null,null,null,null,null,null,null,null,null,""]
[{"$f":"IF(Start!E27=\"\",\"\",\"x\")","v":""},22,{"$f":"IF(Start!C27=\"\",\"\",Start!C27)","v":""},"I.pokus",null,null,null,{"$f":"IF($C76=\"\",\"\",IF(OR($E76=\"DNS\",$F76=\"DNS\",$G76=\"DNS\"),\"DNS\",IF(OR($E76=\"NP\",$F76=\"NP\",$G76=\"NP\"),\"NP\",IF(ISERROR(MEDIAN($E76:$G76)),\"DNS\",IF(COUNT($E76:$G76)<3,MAX($E76:$G76),MEDIAN($E76:$G76))))))","v":""},null,null,null,null,null,null,null,null,null,"",{"$f":"IF(C76=\"x\",\"x\",IF(C76=\"\",\"\",IF(OR(T76=\"NP\",T76=\"DNS\"),IF(T76=\"NP\",MAX(T$12:T$309)+COUNTIF((T$12:T$309),MAX(T$12:T$309)),MAX(T$12:T$309)+COUNTIF((T$12:T$309),MAX(T$12:T$309))+COUNTIF((T$12:T$309),\"NP\")),T76)))","v":""},{"$f":"IF(A76=\"x\",\"x\",IF(C76=\"\",\"\",IF(OR(U76=\"NP\",U76=\"DNS\"),U76,RANK(U76,U$12:U$309,1))))","v":""},{"$f":"IF(A76=\"x\",\"x\",IF(C76=\"\",\"\",IF(OR(AND(R76=\"NP\",R77=\"NP\"),AND(R76=\"DNS\",R77=\"DNS\")),R76,IF(AND(R76=\"NP\",R77=\"DNS\"),R76,IF(AND(R76=\"DNS\",R77=\"NP\"),R77,MIN(R76,R77))))))","v":""}]
[null,null,null,"II.pokus",null,null,null,{"$f":"IF($C76=\"\",\"\",IF(OR($E77=\"DNS\",$F77=\"DNS\",$G77=\"DNS\"),\"DNS\",IF(OR($E77=\"NP\",$F77=\"NP\",$G77=\"NP\"),\"NP\",IF(ISERROR(MEDIAN($E77:$G77)),\"DNS\",IF(COUNT($E77:$G77)<3,MAX($E77:$G77),MEDIAN($E77:$G77))))))","v":""},null,null,null,null,null,null,null,null,null,""]
[{"$f":"IF(Start!E28=\"\",\"\",\"x\")","v":""},23,{"$f":"IF(Start!C28=\"\",\"\",Start!C28)","v":""},"I.pokus",null,null,null,{"$f":"IF($C78=\"\",\"\",IF(OR($E78=\"DNS\",$F78=\"DNS\",$G78=\"DNS\"),\"DNS\",IF(OR($E78=\"NP\",$F78=\"NP\",$G78=\"NP\"),\"NP\",IF(ISERROR(MEDIAN($E78:$G78)),\"DNS\",IF(COUNT($E78:$G78)<3,MAX($E78:$G78),MEDIAN($E78:$G78))))))","v":""},null,null,null,null,null,null,null,null,null,"",{"$f":"IF(C78=\"x\",\"x\",IF(C78=\"\",\"\",IF(OR(T78=\"NP\",T78=\"DNS\"),IF(T78=\"NP\",MAX(T$12:T$309)+COUNTIF((T$12:T$309),MAX(T$12:T$309)),MAX(T$12:T$309)+COUNTIF((T$12:T$309),MAX(T$12:T$309))+COUNTIF((T$12:T$309),\"NP\")),T78)))","v":""},{"$f":"IF(A78=\"x\",\"x\",IF(C78=\"\",\"\",IF(OR(U78=\"NP\",U78=\"DNS\"),U78,RANK(U78,U$12:U$309,1))))","v":""},{"$f":"IF(A78=\"x\",\"x\",IF(C78=\"\",\"\",IF(OR(AND(R78=\"NP\",R79=\"NP\"),AND(R78=\"DNS\",R79=\"DNS\")),R78,IF(AND(R78=\"NP\",R79=\"DNS\"),R78,IF(AND(R78=\"DNS\",R79=\"NP\"),R79,MIN(R78,R79))))))","v":""}]
[null,null,null,"II.pokus",null,null,null,{"$f":"IF($C78=\"\",\"\",IF(OR($E79=\"DNS\",$F79=\"DNS\",$G79=\"DNS\"),\"DNS\",IF(OR($E79=\"NP\",$F79=\"NP\",$G79=\"NP\"),\"NP\",IF(ISERROR(MEDIAN($E79:$G79)),\"DNS\",IF(COUNT($E79:$G79)<3,MAX($E79:$G79),MEDIAN($E79:$G79))))))","v":""},null,null,null,null,null,null,null,null,null,""]
[{"$f":"IF(Start!E29=\"\",\"\",\"x\")","v":""},24,{"$f":"IF(Start!C29=\"\",\"\",Start!C29)","v":""},"I.pokus",null,null,null,{"$f":"IF($C80=\"\",\"\",IF(OR($E80=\"DNS\",$F80=\"DNS\",$G80=\"DNS\"),\"DNS\",IF(OR($E80=\"NP\",$F80=\"NP\",$G80=\"NP\"),\"NP\",IF(ISERROR(MEDIAN($E80:$G80)),\"DNS\",IF(COUNT($E80:$G80)<3,MAX($E80:$G80),MEDIAN($E80:$G80))))))","v":""},null,null,null,null,null,null,null,null,null,"",{"$f":"IF(C80=\"x\",\"x\",IF(C80=\"\",\"\",IF(OR(T80=\"NP\",T80=\"DNS\"),IF(T80=\"NP\",MAX(T$12:T$309)+COUNTIF((T$12:T$309),MAX(T$12:T$309)),MAX(T$12:T$309)+COUNTIF((T$12:T$309),MAX(T$12:T$309))+COUNTIF((T$12:T$309),\"NP\")),T80)))","v":""},{"$f":"IF(A80=\"x\",\"x\",IF(C80=\"\",\"\",IF(OR(U80=\"NP\",U80=\"DNS\"),U80,RANK(U80,U$12:U$309,1))))","v":""},{"$f":"IF(A80=\"x\",\"x\",IF(C80=\"\",\"\",IF(OR(AND(R80=\"NP\",R81=\"NP\"),AND(R80=\"DNS\",R81=\"DNS\")),R80,IF(AND(R80=\"NP\",R81=\"DNS\"),R80,IF(AND(R80=\"DNS\",R81=\"NP\"),R81,MIN(R80,R81))))))","v":""}]
[null,null,null,"II.pokus",null,null,null,{"$f":"IF($C80=\"\",\"\",IF(OR($E81=\"DNS\",$F81=\"DNS\",$G81=\"DNS\"),\"DNS\",IF(OR($E81=\"NP\",$F81=\"NP\",$G81=\"NP\"),\"NP\",IF(ISERROR(MEDIAN($E81:$G81)),\"DNS\",IF(COUNT($E81:$G81)<3,MAX($E81:$G81),MEDIAN($E81:$G81))))))","v":""},null,null,null,null,null,null,null,null,null,""]
[{"$f":"IF(Start!E30=\"\",\"\",\"x\")","v":""},25,{"$f":"IF(Start!C30=\"\",\"\",Start!C30)","v":""},"I.pokus",null,null,null,{"$f":"IF($C82=\"\",\"\",IF(OR($E82=\"DNS\",$F82=\"DNS\",$G82=\"DNS\"),\"DNS\",IF(OR($E82=\"NP\",$F82=\"NP\",$G82=\"NP\"),\"NP\",IF(ISERROR(MEDIAN($E82:$G82)),\"DNS\",IF(COUNT($E82:$G82)<3,MAX($E82:$G82),MEDIAN($E82:$G82))))))","v":""},null,null,null,null,null,null,null,null,null,"",{"$f":"IF(C82=\"x\",\"x\",IF(C82=\"\",\"\",IF(OR(T82=\"NP\",T82=\"DNS\"),IF(T82=\"NP\",MAX(T$12:T$309)+COUNTIF((T$12:T$309),MAX(T$12:T$309)),MAX(T$12:T$309)+COUNTIF((T$12:T$309),MAX(T$12:T$309))+COUNTIF((T$12:T$309),\"NP\")),T82)))","v":""},{"$f":"IF(A82=\"x\",\"x\",IF(C82=\"\",\"\",IF(OR(U82=\"NP\",U82=\"DNS\"),U82,RANK(U82,U$12:U$309,1))))","v":""},{"$f":"IF(A82=\"x\",\"x\",IF(C82=\"\",\"\",IF(OR(AND(R82=\"NP\",R83=\"NP\"),AND(R82=\"DNS\",R83=\"DNS\")),R82,IF(AND(R82=\"NP\",R83=\"DNS\"),R82,IF(AND(R82=\"DNS\",R83=\"NP\"),R83,MIN(R82,R83))))))","v":""}]
[null,null,null,"II.pokus",null,null,null,{"$f":"IF($C82=\"\",\"\",IF(OR($E83=\"DNS\",$F83=\"DNS\",$G83=\"DNS\"),\"DNS\",IF(OR($E83=\"NP\",$F83=\"NP\",$G83=\"NP\"),\"NP\",IF(ISERROR(MEDIAN($E83:$G83)),\"DNS\",IF(COUNT($E83:$G83)<3,MAX($E83:$G83),MEDIAN($E83:$G83))))))","v":""},null,null,null,null,null,null,null,null,null,""]
[{"$f":"IF(Start!I6=\"\",\"\",\"x\")","v":""},26,{"$f":"IF(Start!G6=\"\",\"\",Start!G6)","v":""},"I.pokus",null,null,null,{"$f":"IF($C84=\"\",\"\",IF(OR($E84=\"DNS\",$F84=\"DNS\",$G84=\"DNS\"),\"DNS\",IF(OR($E84=\"NP\",$F84=\"NP\",$G84=\"NP\"),\"NP\",IF(ISERROR(MEDIAN($E84:$G84)),\"DNS\",IF(COUNT($E84:$G84)<3,MAX($E84:$G84),MEDIAN($E84:$G84))))))","v":""},null,null,null,null,null,null,null,null,null,"",{"$f":"IF(C84=\"x\",\"x\",IF(C84=\"\",\"\",IF(OR(T84=\"NP\",T84=\"DNS\"),IF(T84=\"NP\",MAX(T$12:T$309)+COUNTIF((T$12:T$309),MAX(T$12:T$309)),MAX(T$12:T$309)+COUNTIF((T$12:T$309),MAX(T$12:T$309))+COUNTIF((T$12:T$309),\"NP\")),T84)))","v":""},{"$f":"IF(A84=\"x\",\"x\",IF(C84=\"\",\"\",IF(OR(U84=\"NP\",U84=\"DNS\"),U84,RANK(U84,U$12:U$309,1))))","v":""},{"$f":"IF(A84=\"x\",\"x\",IF(C84=\"\",\"\",IF(OR(AND(R84=\"NP\",R85=\"NP\"),AND(R84=\"DNS\",R85=\"DNS\")),R84,IF(AND(R84=\"NP\",R85=\"DNS\"),R84,IF(AND(R84=\"DNS\",R85=\"NP\"),R85,MIN(R84,R85))))))","v":""}]
[null,null,null,"II.pokus",null,null,null,{"$f":"IF($C84=\"\",\"\",IF(OR($E85=\"DNS\",$F85=\"DNS\",$G85=\"DNS\"),\"DNS\",IF(OR($E85=\"NP\",$F85=\"NP\",$G85=\"NP\"),\"NP\",IF(ISERROR(MEDIAN($E85:$G85)),\"DNS\",IF(COUNT($E85:$G85)<3,MAX($E85:$G85),MEDIAN($E85:$G85))))))","v":""},null,null,null,null,null,null,null,null,null,""]
[{"$f":"IF(Start!I7=\"\",\"\",\"x\")","v":""},27,{"$f":"IF(Start!G7=\"\",\"\",Start!G7)","v":""},"I.pokus",null,null,null,{"$f":"IF($C86=\"\",\"\",IF(OR($E86=\"DNS\",$F86=\"DNS\",$G86=\"DNS\"),\"DNS\",IF(OR($E86=\"NP\",$F86=\"NP\",$G86=\"NP\"),\"NP\",IF(ISERROR(MEDIAN($E86:$G86)),\"DNS\",IF(COUNT($E86:$G86)<3,MAX($E86:$G86),MEDIAN($E86:$G86))))))","v":""},null,null,null,null,null,null,null,null,null,"",{"$f":"IF(C86=\"x\",\"x\",IF(C86=\"\",\"\",IF(OR(T86=\"NP\",T86=\"DNS\"),IF(T86=\"NP\",MAX(T$12:T$309)+COUNTIF((T$12:T$309),MAX(T$12:T$309)),MAX(T$12:T$309)+COUNTIF((T$12:T$309),MAX(T$12:T$309))+COUNTIF((T$12:T$309),\"NP\")),T86)))","v":""},{"$f":"IF(A86=\"x\",\"x\",IF(C86=\"\",\"\",IF(OR(U86=\"NP\",U86=\"DNS\"),U86,RANK(U86,U$12:U$309,1))))","v":""},{"$f":"IF(A86=\"x\",\"x\",IF(C86=\"\",\"\",IF(OR(AND(R86=\"NP\",R87=\"NP\"),AND(R86=\"DNS\",R87=\"DNS\")),R86,IF(AND(R86=\"NP\",R87=\"DNS\"),R86,IF(AND(R86=\"DNS\",R87=\"NP\"),R87,MIN(R86,R87))))))","v":""}]
[null,null,null,"II.pokus",null,null,null,{"$f":"IF($C86=\"\",\"\",IF(OR($E87=\"DNS\",$F87=\"DNS\",$G87=\"DNS\"),\"DNS\",IF(OR($E87=\"NP\",$F87=\"NP\",$G87=\"NP\"),\"NP\",IF(ISERROR(MEDIAN($E87:$G87)),\"DNS\",IF(COUNT($E87:$G87)<3,MAX($E87:$G87),MEDIAN($E87:$G87))))))","v":""},null,null,null,null,null,null,null,null,null,""]
[{"$f":"IF(Start!I8=\"\",\"\",\"x\")","v":""},28,{"$f":"IF(Start!G8=\"\",\"\",Start!G8)","v":""},"I.pokus",null,null,null,{"$f":"IF($C88=\"\",\"\",IF(OR($E88=\"DNS\",$F88=\"DNS\",$G88=\"DNS\"),\"DNS\",IF(OR($E88=\"NP\",$F88=\"NP\",$G88=\"NP\"),\"NP\",IF(ISERROR(MEDIAN($E88:$G88)),\"DNS\",IF(COUNT($E88:$G88)<3,MAX($E88:$G88),MEDIAN($E88:$G88))))))","v":""},null,null,null,null,null,null,null,null,null,"",{"$f":"IF(C88=\"x\",\"x\",IF(C88=\"\",\"\",IF(OR(T88=\"NP\",T88=\"DNS\"),IF(T88=\"NP\",MAX(T$12:T$309)+COUNTIF((T$12:T$309),MAX(T$12:T$309)),MAX(T$12:T$309)+COUNTIF((T$12:T$309),MAX(T$12:T$309))+COUNTIF((T$12:T$309),\"NP\")),T88)))","v":""},{"$f":"IF(A88=\"x\",\"x\",IF(C88=\"\",\"\",IF(OR(U88=\"NP\",U88=\"DNS\"),U88,RANK(U88,U$12:U$309,1))))","v":""},{"$f":"IF(A88=\"x\",\"x\",IF(C88=\"\",\"\",IF(OR(AND(R88=\"NP\",R89=\"NP\"),AND(R88=\"DNS\",R89=\"DNS\")),R88,IF(AND(R88=\"NP\",R89=\"DNS\"),R88,IF(AND(R88=\"DNS\",R89=\"NP\"),R89,MIN(R88,R89))))))","v":""}]
[null,null,null,"II.pokus",null,null,null,{"$f":"IF($C88=\"\",\"\",IF(OR($E89=\"DNS\",$F89=\"DNS\",$G89=\"DNS\"),\"DNS\",IF(OR($E89=\"NP\",$F89=\"NP\",$G89=\"NP\"),\"NP\",IF(ISERROR(MEDIAN($E89:$G89)),\"DNS\",IF(COUNT($E89:$G89)<3,MAX($E89:$G89),MEDIAN($E89:$G89))))))","v":""},null,null,null,null,null,null,null,null,null,""]
[{"$f":"IF(Start!I9=\"\",\"\",\"x\")","v":""},29,{"$f":"IF(Start!G9=\"\",\"\",Start!G9)","v":""},"I.pokus",null,null,null,{"$f":"IF($C90=\"\",\"\",IF(OR($E90=\"DNS\",$F90=\"DNS\",$G90=\"DNS\"),\"DNS\",IF(OR($E90=\"NP\",$F90=\"NP\",$G90=\"NP\"),\"NP\",IF(ISERROR(MEDIAN($E90:$G90)),\"DNS\",IF(COUNT($E90:$G90)<3,MAX($E90:$G90),MEDIAN($E90:$G90))))))","v":""},null,null,null,null,null,null,null,null,null,"",{"$f":"IF(C90=\"x\",\"x\",IF(C90=\"\",\"\",IF(OR(T90=\"NP\",T90=\"DNS\"),IF(T90=\"NP\",MAX(T$12:T$309)+COUNTIF((T$12:T$309),MAX(T$12:T$309)),MAX(T$12:T$309)+COUNTIF((T$12:T$309),MAX(T$12:T$309))+COUNTIF((T$12:T$309),\"NP\")),T90)))","v":""},{"$f":"IF(A90=\"x\",\"x\",IF(C90=\"\",\"\",IF(OR(U90=\"NP\",U90=\"DNS\"),U90,RANK(U90,U$12:U$309,1))))","v":""},{"$f":"IF(A90=\"x\",\"x\",IF(C90=\"\",\"\",IF(OR(AND(R90=\"NP\",R91=\"NP\"),AND(R90=\"DNS\",R91=\"DNS\")),R90,IF(AND(R90=\"NP\",R91=\"DNS\"),R90,IF(AND(R90=\"DNS\",R91=\"NP\"),R91,MIN(R90,R91))))))","v":""}]
[null,null,null,"II.pokus",null,null,null,{"$f":"IF($C90=\"\",\"\",IF(OR($E91=\"DNS\",$F91=\"DNS\",$G91=\"DNS\"),\"DNS\",IF(OR($E91=\"NP\",$F91=\"NP\",$G91=\"NP\"),\"NP\",IF(ISERROR(MEDIAN($E91:$G91)),\"DNS\",IF(COUNT($E91:$G91)<3,MAX($E91:$G91),MEDIAN($E91:$G91))))))","v":""},null,null,null,null,null,null,null,null,null,""]
[{"$f":"IF(Start!I10=\"\",\"\",\"x\")","v":""},30,{"$f":"IF(Start!G10=\"\",\"\",Start!G10)","v":""},"I.pokus",null,null,null,{"$f":"IF($C92=\"\",\"\",IF(OR($E92=\"DNS\",$F92=\"DNS\",$G92=\"DNS\"),\"DNS\",IF(OR($E92=\"NP\",$F92=\"NP\",$G92=\"NP\"),\"NP\",IF(ISERROR(MEDIAN($E92:$G92)),\"DNS\",IF(COUNT($E92:$G92)<3,MAX($E92:$G92),MEDIAN($E92:$G92))))))","v":""},null,null,null,null,null,null,null,null,null,"",{"$f":"IF(C92=\"x\",\"x\",IF(C92=\"\",\"\",IF(OR(T92=\"NP\",T92=\"DNS\"),IF(T92=\"NP\",MAX(T$12:T$309)+COUNTIF((T$12:T$309),MAX(T$12:T$309)),MAX(T$12:T$309)+COUNTIF((T$12:T$309),MAX(T$12:T$309))+COUNTIF((T$12:T$309),\"NP\")),T92)))","v":""},{"$f":"IF(A92=\"x\",\"x\",IF(C92=\"\",\"\",IF(OR(U92=\"NP\",U92=\"DNS\"),U92,RANK(U92,U$12:U$309,1))))","v":""},{"$f":"IF(A92=\"x\",\"x\",IF(C92=\"\",\"\",IF(OR(AND(R92=\"NP\",R93=\"NP\"),AND(R92=\"DNS\",R93=\"DNS\")),R92,IF(AND(R92=\"NP\",R93=\"DNS\"),R92,IF(AND(R92=\"DNS\",R93=\"NP\"),R93,MIN(R92,R93))))))","v":""}]
[null,null,null,"II.pokus",null,null,null,{"$f":"IF($C92=\"\",\"\",IF(OR($E93=\"DNS\",$F93=\"DNS\",$G93=\"DNS\"),\"DNS\",IF(OR($E93=\"NP\",$F93=\"NP\",$G93=\"NP\"),\"NP\",IF(ISERROR(MEDIAN($E93:$G93)),\"DNS\",IF(COUNT($E93:$G93)<3,MAX($E93:$G93),MEDIAN($E93:$G93))))))","v":""},null,null,null,null,null,null,null,null,null,""]
[null,"CELOSTÁTNÍ HRA PLAMEN"]
[]
[]
[null,"Výsledková listina č: 4"]
[null,"Požární útok CTIF",null,null,"Základem je čas naměřený       od startu po signál velitele            o ukončení pokusu",null,null,null,"K úřednímu času se připočítávají trestné sekundy",null,null,null,null,null,null,null,null,"Výsledek soutěže"]
[null,null,null,null,null,null,null,null,"nesprávné překonání překážek\n10 tb. = sekund","celé přetočení hadice\n(každá hadice se posuzuje samostatně)\n5 tb. = sekund","rozpojení spojky nebo zapojení na 1 ozub\nza každý případ\n20 tb. = sekund","nesprávné rozložení hadice nesprávné položení hadic u překážek\n10 tb. = sekund","zapomenuté, ztracené nebo špatně odložené nářadí\n5 tb. = sekund","nesprávné zařazení technického prostředku\nu stojanu\n10 tb. = sekund","nesprávné uvázaný uzel   10 tb. = sekund","nesprávná práce\n10 tb. = sekund"]
[null,null,null,null,null,null,null,null,null,null,null,null,null,null,null,null,null,"součet trest. Sekund a úředního času","počet bodů za umístění"]
[null,{"$f":"\"KATEGORIE: \"&Start!$N$2","v":"KATEGORIE: starší"},null,null,"I. časoměřič","II. časoměřič","III. časoměřič","úřední čas"]
[]
[null,"start. číslo","SOUTĚŽNÍ DRUŽSTVO","pokus"]
[]
[{"$f":"IF(Start!I11=\"\",\"\",\"x\")","v":""},31,{"$f":"IF(Start!G11=\"\",\"\",Start!G11)","v":""},"I.pokus",null,null,null,{"$f":"IF($C105=\"\",\"\",IF(OR($E105=\"DNS\",$F105=\"DNS\",$G105=\"DNS\"),\"DNS\",IF(OR($E105=\"NP\",$F105=\"NP\",$G105=\"NP\"),\"NP\",IF(ISERROR(MEDIAN($E105:$G105)),\"DNS\",IF(COUNT($E105:$G105)<3,MAX($E105:$G105),MEDIAN($E105:$G105))))))","v":""},null,null,null,null,null,null,null,null,null,{"$f":"IF(H105=\"\",\"\",IF(H105=\"NP\",\"NP\",IF(H105=\"DNS\",\"DNS\",SUM(I105:Q105)+H105)))","v":""},{"$f":"IF(C105=\"x\",\"x\",IF(C105=\"\",\"\",IF(OR(T105=\"NP\",T105=\"DNS\"),IF(T105=\"NP\",MAX(T$12:T$309)+COUNTIF((T$12:T$309),MAX(T$12:T$309)),MAX(T$12:T$309)+COUNTIF((T$12:T$309),MAX(T$12:T$309))+COUNTIF((T$12:T$309),\"NP\")),T105)))","v":""},{"$f":"IF(A105=\"x\",\"x\",IF(C105=\"\",\"\",IF(OR(U105=\"NP\",U105=\"DNS\"),U105,RANK(U105,U$12:U$309,1))))","v":""},{"$f":"IF(A105=\"x\",\"x\",IF(C105=\"\",\"\",IF(OR(AND(R105=\"NP\",R106=\"NP\"),AND(R105=\"DNS\",R106=\"DNS\")),R105,IF(AND(R105=\"NP\",R106=\"DNS\"),R105,IF(AND(R105=\"DNS\",R106=\"NP\"),R106,MIN(R105,R106))))))","v":""}]
[null,null,null,"II.pokus",null,null,null,{"$f":"IF($C105=\"\",\"\",IF(OR($E106=\"DNS\",$F106=\"DNS\",$G106=\"DNS\"),\"DNS\",IF(OR($E106=\"NP\",$F106=\"NP\",$G106=\"NP\"),\"NP\",IF(ISERROR(MEDIAN($E106:$G106)),\"DNS\",IF(COUNT($E106:$G106)<3,MAX($E106:$G106),MEDIAN($E106:$G106))))))","v":""},null,null,null,null,null,null,null,null,null,""]
[{"$f":"IF(Start!I12=\"\",\"\",\"x\")","v":""},32,{"$f":"IF(Start!G12=\"\",\"\",Start!G12)","v":""},"I.pokus",null,null,null,{"$f":"IF($C107=\"\",\"\",IF(OR($E107=\"DNS\",$F107=\"DNS\",$G107=\"DNS\"),\"DNS\",IF(OR($E107=\"NP\",$F107=\"NP\",$G107=\"NP\"),\"NP\",IF(ISERROR(MEDIAN($E107:$G107)),\"DNS\",IF(COUNT($E107:$G107)<3,MAX($E107:$G107),MEDIAN($E107:$G107))))))","v":""},null,null,null,null,null,null,null,null,null,"",{"$f":"IF(C107=\"x\",\"x\",IF(C107=\"\",\"\",IF(OR(T107=\"NP\",T107=\"DNS\"),IF(T107=\"NP\",MAX(T$12:T$309)+COUNTIF((T$12:T$309),MAX(T$12:T$309)),MAX(T$12:T$309)+COUNTIF((T$12:T$309),MAX(T$12:T$309))+COUNTIF((T$12:T$309),\"NP\")),T107)))","v":""},{"$f":"IF(A107=\"x\",\"x\",IF(C107=\"\",\"\",IF(OR(U107=\"NP\",U107=\"DNS\"),U107,RANK(U107,U$12:U$309,1))))","v":""},{"$f":"IF(A107=\"x\",\"x\",IF(C107=\"\",\"\",IF(OR(AND(R107=\"NP\",R108=\"NP\"),AND(R107=\"DNS\",R108=\"DNS\")),R107,IF(AND(R107=\"NP\",R108=\"DNS\"),R107,IF(AND(R107=\"DNS\",R108=\"NP\"),R108,MIN(R107,R108))))))","v":""}]
[null,null,null,"II.pokus",null,null,null,{"$f":"IF($C107=\"\",\"\",IF(OR($E108=\"DNS\",$F108=\"DNS\",$G108=\"DNS\"),\"DNS\",IF(OR($E108=\"NP\",$F108=\"NP\",$G108=\"NP\"),\"NP\",IF(ISERROR(MEDIAN($E108:$G108)),\"DNS\",IF(COUNT($E108:$G108)<3,MAX($E108:$G108),MEDIAN($E108:$G108))))))","v":""},null,null,null,null,null,null,null,null,null,""]
[{"$f":"IF(Start!I13=\"\",\"\",\"x\")","v":""},33,{"$f":"IF(Start!G13=\"\",\"\",Start!G13)","v":""},"I.pokus",null,null,null,{"$f":"IF($C109=\"\",\"\",IF(OR($E109=\"DNS\",$F109=\"DNS\",$G109=\"DNS\"),\"DNS\",IF(OR($E109=\"NP\",$F109=\"NP\",$G109=\"NP\"),\"NP\",IF(ISERROR(MEDIAN($E109:$G109)),\"DNS\",IF(COUNT($E109:$G109)<3,MAX($E109:$G109),MEDIAN($E109:$G109))))))","v":""},null,null,null,null,null,null,null,null,null,"",{"$f":"IF(C109=\"x\",\"x\",IF(C109=\"\",\"\",IF(OR(T109=\"NP\",T109=\"DNS\"),IF(T109=\"NP\",MAX(T$12:T$309)+COUNTIF((T$12:T$309),MAX(T$12:T$309)),MAX(T$12:T$309)+COUNTIF((T$12:T$309),MAX(T$12:T$309))+COUNTIF((T$12:T$309),\"NP\")),T109)))","v":""},{"$f":"IF(A109=\"x\",\"x\",IF(C109=\"\",\"\",IF(OR(U109=\"NP\",U109=\"DNS\"),U109,RANK(U109,U$12:U$309,1))))","v":""},{"$f":"IF(A109=\"x\",\"x\",IF(C109=\"\",\"\",IF(OR(AND(R109=\"NP\",R110=\"NP\"),AND(R109=\"DNS\",R110=\"DNS\")),R109,IF(AND(R109=\"NP\",R110=\"DNS\"),R109,IF(AND(R109=\"DNS\",R110=\"NP\"),R110,MIN(R109,R110))))))","v":""}]
[null,null,null,"II.pokus",null,null,null,{"$f":"IF($C109=\"\",\"\",IF(OR($E110=\"DNS\",$F110=\"DNS\",$G110=\"DNS\"),\"DNS\",IF(OR($E110=\"NP\",$F110=\"NP\",$G110=\"NP\"),\"NP\",IF(ISERROR(MEDIAN($E110:$G110)),\"DNS\",IF(COUNT($E110:$G110)<3,MAX($E110:$G110),MEDIAN($E110:$G110))))))","v":""},null,null,null,null,null,null,null,null,null,""]
[{"$f":"IF(Start!I14=\"\",\"\",\"x\")","v":""},34,{"$f":"IF(Start!G14=\"\",\"\",Start!G14)","v":""},"I.pokus",null,null,null,{"$f":"IF($C111=\"\",\"\",IF(OR($E111=\"DNS\",$F111=\"DNS\",$G111=\"DNS\"),\"DNS\",IF(OR($E111=\"NP\",$F111=\"NP\",$G111=\"NP\"),\"NP\",IF(ISERROR(MEDIAN($E111:$G111)),\"DNS\",IF(COUNT($E111:$G111)<3,MAX($E111:$G111),MEDIAN($E111:$G111))))))","v":""},null,null,null,null,null,null,null,null,null,"",{"$f":"IF(C111=\"x\",\"x\",IF(C111=\"\",\"\",IF(OR(T111=\"NP\",T111=\"DNS\"),IF(T111=\"NP\",MAX(T$12:T$309)+COUNTIF((T$12:T$309),MAX(T$12:T$309)),MAX(T$12:T$309)+COUNTIF((T$12:T$309),MAX(T$12:T$309))+COUNTIF((T$12:T$309),\"NP\")),T111)))","v":""},{"$f":"IF(A111=\"x\",\"x\",IF(C111=\"\",\"\",IF(OR(U111=\"NP\",U111=\"DNS\"),U111,RANK(U111,U$12:U$309,1))))","v":""},{"$f":"IF(A111=\"x\",\"x\",IF(C111=\"\",\"\",IF(OR(AND(R111=\"NP\",R112=\"NP\"),AND(R111=\"DNS\",R112=\"DNS\")),R111,IF(AND(R111=\"NP\",R112=\"DNS\"),R111,IF(AND(R111=\"DNS\",R112=\"NP\"),R112,MIN(R111,R112))))))","v":""}]
[null,null,null,"II.pokus",null,null,null,{"$f":"IF($C111=\"\",\"\",IF(OR($E112=\"DNS\",$F112=\"DNS\",$G112=\"DNS\"),\"DNS\",IF(OR($E112=\"NP\",$F112=\"NP\",$G112=\"NP\"),\"NP\",IF(ISERROR(MEDIAN($E112:$G112)),\"DNS\",IF(COUNT($E112:$G112)<3,MAX($E112:$G112),MEDIAN($E112:$G112))))))","v":""},null,null,null,null,null,null,null,null,null,""]
[{"$f":"IF(Start!I15=\"\",\"\",\"x\")","v":""},35,{"$f":"IF(Start!G15=\"\",\"\",Start!G15)","v":""},"I.pokus",null,null,null,{"$f":"IF($C113=\"\",\"\",IF(OR($E113=\"DNS\",$F113=\"DNS\",$G113=\"DNS\"),\"DNS\",IF(OR($E113=\"NP\",$F113=\"NP\",$G113=\"NP\"),\"NP\",IF(ISERROR(MEDIAN($E113:$G113)),\"DNS\",IF(COUNT($E113:$G113)<3,MAX($E113:$G113),MEDIAN($E113:$G113))))))","v":""},null,null,null,null,null,null,null,null,null,"",{"$f":"IF(C113=\"x\",\"x\",IF(C113=\"\",\"\",IF(OR(T113=\"NP\",T113=\"DNS\"),IF(T113=\"NP\",MAX(T$12:T$309)+COUNTIF((T$12:T$309),MAX(T$12:T$309)),MAX(T$12:T$309)+COUNTIF((T$12:T$309),MAX(T$12:T$309))+COUNTIF((T$12:T$309),\"NP\")),T113)))","v":""},{"$f":"IF(A113=\"x\",\"x\",IF(C113=\"\",\"\",IF(OR(U113=\"NP\",U113=\"DNS\"),U113,RANK(U113,U$12:U$309,1))))","v":""},{"$f":"IF(A113=\"x\",\"x\",IF(C113=\"\",\"\",IF(OR(AND(R113=\"NP\",R114=\"NP\"),AND(R113=\"DNS\",R114=\"DNS\")),R113,IF(AND(R113=\"NP\",R114=\"DNS\"),R113,IF(AND(R113=\"DNS\",R114=\"NP\"),R114,MIN(R113,R114))))))","v":""}]
[null,null,null,"II.pokus",null,null,null,{"$f":"IF($C113=\"\",\"\",IF(OR($E114=\"DNS\",$F114=\"DNS\",$G114=\"DNS\"),\"DNS\",IF(OR($E114=\"NP\",$F114=\"NP\",$G114=\"NP\"),\"NP\",IF(ISERROR(MEDIAN($E114:$G114)),\"DNS\",IF(COUNT($E114:$G114)<3,MAX($E114:$G114),MEDIAN($E114:$G114))))))","v":""},null,null,null,null,null,null,null,null,null,""]
[{"$f":"IF(Start!I16=\"\",\"\",\"x\")","v":""},36,{"$f":"IF(Start!G16=\"\",\"\",Start!G16)","v":""},"I.pokus",null,null,null,{"$f":"IF($C115=\"\",\"\",IF(OR($E115=\"DNS\",$F115=\"DNS\",$G115=\"DNS\"),\"DNS\",IF(OR($E115=\"NP\",$F115=\"NP\",$G115=\"NP\"),\"NP\",IF(ISERROR(MEDIAN($E115:$G115)),\"DNS\",IF(COUNT($E115:$G115)<3,MAX($E115:$G115),MEDIAN($E115:$G115))))))","v":""},null,null,null,null,null,null,null,null,null,"",{"$f":"IF(C115=\"x\",\"x\",IF(C115=\"\",\"\",IF(OR(T115=\"NP\",T115=\"DNS\"),IF(T115=\"NP\",MAX(T$12:T$309)+COUNTIF((T$12:T$309),MAX(T$12:T$309)),MAX(T$12:T$309)+COUNTIF((T$12:T$309),MAX(T$12:T$309))+COUNTIF((T$12:T$309),\"NP\")),T115)))","v":""},{"$f":"IF(A115=\"x\",\"x\",IF(C115=\"\",\"\",IF(OR(U115=\"NP\",U115=\"DNS\"),U115,RANK(U115,U$12:U$309,1))))","v":""},{"$f":"IF(A115=\"x\",\"x\",IF(C115=\"\",\"\",IF(OR(AND(R115=\"NP\",R116=\"NP\"),AND(R115=\"DNS\",R116=\"DNS\")),R115,IF(AND(R115=\"NP\",R116=\"DNS\"),R115,IF(AND(R115=\"DNS\",R116=\"NP\"),R116,MIN(R115,R116))))))","v":""}]
[null,null,null,"II.pokus",null,null,null,{"$f":"IF($C115=\"\",\"\",IF(OR($E116=\"DNS\",$F116=\"DNS\",$G116=\"DNS\"),\"DNS\",IF(OR($E116=\"NP\",$F116=\"NP\",$G116=\"NP\"),\"NP\",IF(ISERROR(MEDIAN($E116:$G116)),\"DNS\",IF(COUNT($E116:$G116)<3,MAX($E116:$G116),MEDIAN($E116:$G116))))))","v":""},null,null,null,null,null,null,null,null,null,""]
[{"$f":"IF(Start!I17=\"\",\"\",\"x\")","v":""},37,{"$f":"IF(Start!G17=\"\",\"\",Start!G17)","v":""},"I.pokus",null,null,null,{"$f":"IF($C117=\"\",\"\",IF(OR($E117=\"DNS\",$F117=\"DNS\",$G117=\"DNS\"),\"DNS\",IF(OR($E117=\"NP\",$F117=\"NP\",$G117=\"NP\"),\"NP\",IF(ISERROR(MEDIAN($E117:$G117)),\"DNS\",IF(COUNT($E117:$G117)<3,MAX($E117:$G117),MEDIAN($E117:$G117))))))","v":""},null,null,null,null,null,null,null,null,null,"",{"$f":"IF(C117=\"x\",\"x\",IF(C117=\"\",\"\",IF(OR(T117=\"NP\",T117=\"DNS\"),IF(T117=\"NP\",MAX(T$12:T$309)+COUNTIF((T$12:T$309),MAX(T$12:T$309)),MAX(T$12:T$309)+COUNTIF((T$12:T$309),MAX(T$12:T$309))+COUNTIF((T$12:T$309),\"NP\")),T117)))","v":""},{"$f":"IF(A117=\"x\",\"x\",IF(C117=\"\",\"\",IF(OR(U117=\"NP\",U117=\"DNS\"),U117,RANK(U117,U$12:U$309,1))))","v":""},{"$f":"IF(A117=\"x\",\"x\",IF(C117=\"\",\"\",IF(OR(AND(R117=\"NP\",R118=\"NP\"),AND(R117=\"DNS\",R118=\"DNS\")),R117,IF(AND(R117=\"NP\",R118=\"DNS\"),R117,IF(AND(R117=\"DNS\",R118=\"NP\"),R118,MIN(R117,R118))))))","v":""}]
[null,null,null,"II.pokus",null,null,null,{"$f":"IF($C117=\"\",\"\",IF(OR($E118=\"DNS\",$F118=\"DNS\",$G118=\"DNS\"),\"DNS\",IF(OR($E118=\"NP\",$F118=\"NP\",$G118=\"NP\"),\"NP\",IF(ISERROR(MEDIAN($E118:$G118)),\"DNS\",IF(COUNT($E118:$G118)<3,MAX($E118:$G118),MEDIAN($E118:$G118))))))","v":""},null,null,null,null,null,null,null,null,null,""]
[{"$f":"IF(Start!I18=\"\",\"\",\"x\")","v":""},38,{"$f":"IF(Start!G18=\"\",\"\",Start!G18)","v":""},"I.pokus",null,null,null,{"$f":"IF($C119=\"\",\"\",IF(OR($E119=\"DNS\",$F119=\"DNS\",$G119=\"DNS\"),\"DNS\",IF(OR($E119=\"NP\",$F119=\"NP\",$G119=\"NP\"),\"NP\",IF(ISERROR(MEDIAN($E119:$G119)),\"DNS\",IF(COUNT($E119:$G119)<3,MAX($E119:$G119),MEDIAN($E119:$G119))))))","v":""},null,null,null,null,null,null,null,null,null,"",{"$f":"IF(C119=\"x\",\"x\",IF(C119=\"\",\"\",IF(OR(T119=\"NP\",T119=\"DNS\"),IF(T119=\"NP\",MAX(T$12:T$309)+COUNTIF((T$12:T$309),MAX(T$12:T$309)),MAX(T$12:T$309)+COUNTIF((T$12:T$309),MAX(T$12:T$309))+COUNTIF((T$12:T$309),\"NP\")),T119)))","v":""},{"$f":"IF(A119=\"x\",\"x\",IF(C119=\"\",\"\",IF(OR(U119=\"NP\",U119=\"DNS\"),U119,RANK(U119,U$12:U$309,1))))","v":""},{"$f":"IF(A119=\"x\",\"x\",IF(C119=\"\",\"\",IF(OR(AND(R119=\"NP\",R120=\"NP\"),AND(R119=\"DNS\",R120=\"DNS\")),R119,IF(AND(R119=\"NP\",R120=\"DNS\"),R119,IF(AND(R119=\"DNS\",R120=\"NP\"),R120,MIN(R119,R120))))))","v":""}]
[null,null,null,"II.pokus",null,null,null,{"$f":"IF($C119=\"\",\"\",IF(OR($E120=\"DNS\",$F120=\"DNS\",$G120=\"DNS\"),\"DNS\",IF(OR($E120=\"NP\",$F120=\"NP\",$G120=\"NP\"),\"NP\",IF(ISERROR(MEDIAN($E120:$G120)),\"DNS\",IF(COUNT($E120:$G120)<3,MAX($E120:$G120),MEDIAN($E120:$G120))))))","v":""},null,null,null,null,null,null,null,null,null,""]
[{"$f":"IF(Start!I19=\"\",\"\",\"x\")","v":""},39,{"$f":"IF(Start!G19=\"\",\"\",Start!G19)","v":""},"I.pokus",null,null,null,{"$f":"IF($C121=\"\",\"\",IF(OR($E121=\"DNS\",$F121=\"DNS\",$G121=\"DNS\"),\"DNS\",IF(OR($E121=\"NP\",$F121=\"NP\",$G121=\"NP\"),\"NP\",IF(ISERROR(MEDIAN($E121:$G121)),\"DNS\",IF(COUNT($E121:$G121)<3,MAX($E121:$G121),MEDIAN($E121:$G121))))))","v":""},null,null,null,null,null,null,null,null,null,"",{"$f":"IF(C121=\"x\",\"x\",IF(C121=\"\",\"\",IF(OR(T121=\"NP\",T121=\"DNS\"),IF(T121=\"NP\",MAX(T$12:T$309)+COUNTIF((T$12:T$309),MAX(T$12:T$309)),MAX(T$12:T$309)+COUNTIF((T$12:T$309),MAX(T$12:T$309))+COUNTIF((T$12:T$309),\"NP\")),T121)))","v":""},{"$f":"IF(A121=\"x\",\"x\",IF(C121=\"\",\"\",IF(OR(U121=\"NP\",U121=\"DNS\"),U121,RANK(U121,U$12:U$309,1))))","v":""},{"$f":"IF(A121=\"x\",\"x\",IF(C121=\"\",\"\",IF(OR(AND(R121=\"NP\",R122=\"NP\"),AND(R121=\"DNS\",R122=\"DNS\")),R121,IF(AND(R121=\"NP\",R122=\"DNS\"),R121,IF(AND(R121=\"DNS\",R122=\"NP\"),R122,MIN(R121,R122))))))","v":""}]
[null,null,null,"II.pokus",null,null,null,{"$f":"IF($C121=\"\",\"\",IF(OR($E122=\"DNS\",$F122=\"DNS\",$G122=\"DNS\"),\"DNS\",IF(OR($E122=\"NP\",$F122=\"NP\",$G122=\"NP\"),\"NP\",IF(ISERROR(MEDIAN($E122:$G122)),\"DNS\",IF(COUNT($E122:$G122)<3,MAX($E122:$G122),MEDIAN($E122:$G122))))))","v":""},null,null,null,null,null,null,null,null,null,""]
[{"$f":"IF(Start!I20=\"\",\"\",\"x\")","v":""},40,{"$f":"IF(Start!G20=\"\",\"\",Start!G20)","v":""},"I.pokus",null,null,null,{"$f":"IF($C123=\"\",\"\",IF(OR($E123=\"DNS\",$F123=\"DNS\",$G123=\"DNS\"),\"DNS\",IF(OR($E123=\"NP\",$F123=\"NP\",$G123=\"NP\"),\"NP\",IF(ISERROR(MEDIAN($E123:$G123)),\"DNS\",IF(COUNT($E123:$G123)<3,MAX($E123:$G123),MEDIAN($E123:$G123))))))","v":""},null,null,null,null,null,null,null,null,null,"",{"$f":"IF(C123=\"x\",\"x\",IF(C123=\"\",\"\",IF(OR(T123=\"NP\",T123=\"DNS\"),IF(T123=\"NP\",MAX(T$12:T$309)+COUNTIF((T$12:T$309),MAX(T$12:T$309)),MAX(T$12:T$309)+COUNTIF((T$12:T$309),MAX(T$12:T$309))+COUNTIF((T$12:T$309),\"NP\")),T123)))","v":""},{"$f":"IF(A123=\"x\",\"x\",IF(C123=\"\",\"\",IF(OR(U123=\"NP\",U123=\"DNS\"),U123,RANK(U123,U$12:U$309,1))))","v":""},{"$f":"IF(A123=\"x\",\"x\",IF(C123=\"\",\"\",IF(OR(AND(R123=\"NP\",R124=\"NP\"),AND(R123=\"DNS\",R124=\"DNS\")),R123,IF(AND(R123=\"NP\",R124=\"DNS\"),R123,IF(AND(R123=\"DNS\",R124=\"NP\"),R124,MIN(R123,R124))))))","v":""}]
[null,null,null,"II.pokus",null,null,null,{"$f":"IF($C123=\"\",\"\",IF(OR($E124=\"DNS\",$F124=\"DNS\",$G124=\"DNS\"),\"DNS\",IF(OR($E124=\"NP\",$F124=\"NP\",$G124=\"NP\"),\"NP\",IF(ISERROR(MEDIAN($E124:$G124)),\"DNS\",IF(COUNT($E124:$G124)<3,MAX($E124:$G124),MEDIAN($E124:$G124))))))","v":""},null,null,null,null,null,null,null,null,null,""]
[null,"CELOSTÁTNÍ HRA PLAMEN"]
[]
[]
[null,"Výsledková listina č: 5"]
[null,"Požární útok CTIF",null,null,"Základem je čas naměřený       od startu po signál velitele            o ukončení pokusu",null,null,null,"K úřednímu času se připočítávají trestné sekundy",null,null,null,null,null,null,null,null,"Výsledek soutěže"]
[null,null,null,null,null,null,null,null,"nesprávné překonání překážek\n10 tb. = sekund","celé přetočení hadice\n(každá hadice se posuzuje samostatně)\n5 tb. = sekund","rozpojení spojky nebo zapojení na 1 ozub\nza každý případ\n20 tb. = sekund","nesprávné rozložení hadice nesprávné položení hadic u překážek\n10 tb. = sekund","zapomenuté, ztracené nebo špatně odložené nářadí\n5 tb. = sekund","nesprávné zařazení technického prostředku\nu stojanu\n10 tb. = sekund","nesprávné uvázaný uzel   10 tb. = sekund","nesprávná práce\n10 tb. = sekund"]
[null,null,null,null,null,null,null,null,null,null,null,null,null,null,null,null,null,"součet trest. Sekund a úředního času","počet bodů za umístění"]
[null,{"$f":"\"KATEGORIE: \"&Start!$N$2","v":"KATEGORIE: starší"},null,null,"I. časoměřič","II. časoměřič","III. časoměřič","úřední čas"]
[]
[null,"start. číslo","SOUTĚŽNÍ DRUŽSTVO","pokus"]
[]
[{"$f":"IF(Start!I21=\"\",\"\",\"x\")","v":""},41,{"$f":"IF(Start!G21=\"\",\"\",Start!G21)","v":""},"I.pokus",null,null,null,{"$f":"IF($C136=\"\",\"\",IF(OR($E136=\"DNS\",$F136=\"DNS\",$G136=\"DNS\"),\"DNS\",IF(OR($E136=\"NP\",$F136=\"NP\",$G136=\"NP\"),\"NP\",IF(ISERROR(MEDIAN($E136:$G136)),\"DNS\",IF(COUNT($E136:$G136)<3,MAX($E136:$G136),MEDIAN($E136:$G136))))))","v":""},null,null,null,null,null,null,null,null,null,{"$f":"IF(H136=\"\",\"\",IF(H136=\"NP\",\"NP\",IF(H136=\"DNS\",\"DNS\",SUM(I136:Q136)+H136)))","v":""},{"$f":"IF(C136=\"x\",\"x\",IF(C136=\"\",\"\",IF(OR(T136=\"NP\",T136=\"DNS\"),IF(T136=\"NP\",MAX(T$12:T$309)+COUNTIF((T$12:T$309),MAX(T$12:T$309)),MAX(T$12:T$309)+COUNTIF((T$12:T$309),MAX(T$12:T$309))+COUNTIF((T$12:T$309),\"NP\")),T136)))","v":""},{"$f":"IF(A136=\"x\",\"x\",IF(C136=\"\",\"\",IF(OR(U136=\"NP\",U136=\"DNS\"),U136,RANK(U136,U$12:U$309,1))))","v":""},{"$f":"IF(A136=\"x\",\"x\",IF(C136=\"\",\"\",IF(OR(AND(R136=\"NP\",R137=\"NP\"),AND(R136=\"DNS\",R137=\"DNS\")),R136,IF(AND(R136=\"NP\",R137=\"DNS\"),R136,IF(AND(R136=\"DNS\",R137=\"NP\"),R137,MIN(R136,R137))))))","v":""}]
[null,null,null,"II.pokus",null,null,null,{"$f":"IF($C136=\"\",\"\",IF(OR($E137=\"DNS\",$F137=\"DNS\",$G137=\"DNS\"),\"DNS\",IF(OR($E137=\"NP\",$F137=\"NP\",$G137=\"NP\"),\"NP\",IF(ISERROR(MEDIAN($E137:$G137)),\"DNS\",IF(COUNT($E137:$G137)<3,MAX($E137:$G137),MEDIAN($E137:$G137))))))","v":""},null,null,null,null,null,null,null,null,null,""]
[{"$f":"IF(Start!I22=\"\",\"\",\"x\")","v":""},42,{"$f":"IF(Start!G22=\"\",\"\",Start!G22)","v":""},"I.pokus",null,null,null,{"$f":"IF($C138=\"\",\"\",IF(OR($E138=\"DNS\",$F138=\"DNS\",$G138=\"DNS\"),\"DNS\",IF(OR($E138=\"NP\",$F138=\"NP\",$G138=\"NP\"),\"NP\",IF(ISERROR(MEDIAN($E138:$G138)),\"DNS\",IF(COUNT($E138:$G138)<3,MAX($E138:$G138),MEDIAN($E138:$G138))))))","v":""},null,null,null,null,null,null,null,null,null,"",{"$f":"IF(C138=\"x\",\"x\",IF(C138=\"\",\"\",IF(OR(T138=\"NP\",T138=\"DNS\"),IF(T138=\"NP\",MAX(T$12:T$309)+COUNTIF((T$12:T$309),MAX(T$12:T$309)),MAX(T$12:T$309)+COUNTIF((T$12:T$309),MAX(T$12:T$309))+COUNTIF((T$12:T$309),\"NP\")),T138)))","v":""},{"$f":"IF(A138=\"x\",\"x\",IF(C138=\"\",\"\",IF(OR(U138=\"NP\",U138=\"DNS\"),U138,RANK(U138,U$12:U$309,1))))","v":""},{"$f":"IF(A138=\"x\",\"x\",IF(C138=\"\",\"\",IF(OR(AND(R138=\"NP\",R139=\"NP\"),AND(R138=\"DNS\",R139=\"DNS\")),R138,IF(AND(R138=\"NP\",R139=\"DNS\"),R138,IF(AND(R138=\"DNS\",R139=\"NP\"),R139,MIN(R138,R139))))))","v":""}]
[null,null,null,"II.pokus",null,null,null,{"$f":"IF($C138=\"\",\"\",IF(OR($E139=\"DNS\",$F139=\"DNS\",$G139=\"DNS\"),\"DNS\",IF(OR($E139=\"NP\",$F139=\"NP\",$G139=\"NP\"),\"NP\",IF(ISERROR(MEDIAN($E139:$G139)),\"DNS\",IF(COUNT($E139:$G139)<3,MAX($E139:$G139),MEDIAN($E139:$G139))))))","v":""},null,null,null,null,null,null,null,null,null,""]
[{"$f":"IF(Start!I23=\"\",\"\",\"x\")","v":""},43,{"$f":"IF(Start!G23=\"\",\"\",Start!G23)","v":""},"I.pokus",null,null,null,{"$f":"IF($C140=\"\",\"\",IF(OR($E140=\"DNS\",$F140=\"DNS\",$G140=\"DNS\"),\"DNS\",IF(OR($E140=\"NP\",$F140=\"NP\",$G140=\"NP\"),\"NP\",IF(ISERROR(MEDIAN($E140:$G140)),\"DNS\",IF(COUNT($E140:$G140)<3,MAX($E140:$G140),MEDIAN($E140:$G140))))))","v":""},null,null,null,null,null,null,null,null,null,"",{"$f":"IF(C140=\"x\",\"x\",IF(C140=\"\",\"\",IF(OR(T140=\"NP\",T140=\"DNS\"),IF(T140=\"NP\",MAX(T$12:T$309)+COUNTIF((T$12:T$309),MAX(T$12:T$309)),MAX(T$12:T$309)+COUNTIF((T$12:T$309),MAX(T$12:T$309))+COUNTIF((T$12:T$309),\"NP\")),T140)))","v":""},{"$f":"IF(A140=\"x\",\"x\",IF(C140=\"\",\"\",IF(OR(U140=\"NP\",U140=\"DNS\"),U140,RANK(U140,U$12:U$309,1))))","v":""},{"$f":"IF(A140=\"x\",\"x\",IF(C140=\"\",\"\",IF(OR(AND(R140=\"NP\",R141=\"NP\"),AND(R140=\"DNS\",R141=\"DNS\")),R140,IF(AND(R140=\"NP\",R141=\"DNS\"),R140,IF(AND(R140=\"DNS\",R141=\"NP\"),R141,MIN(R140,R141))))))","v":""}]
[null,null,null,"II.pokus",null,null,null,{"$f":"IF($C140=\"\",\"\",IF(OR($E141=\"DNS\",$F141=\"DNS\",$G141=\"DNS\"),\"DNS\",IF(OR($E141=\"NP\",$F141=\"NP\",$G141=\"NP\"),\"NP\",IF(ISERROR(MEDIAN($E141:$G141)),\"DNS\",IF(COUNT($E141:$G141)<3,MAX($E141:$G141),MEDIAN($E141:$G141))))))","v":""},null,null,null,null,null,null,null,null,null,""]
[{"$f":"IF(Start!I24=\"\",\"\",\"x\")","v":""},44,{"$f":"IF(Start!G24=\"\",\"\",Start!G24)","v":""},"I.pokus",null,null,null,{"$f":"IF($C142=\"\",\"\",IF(OR($E142=\"DNS\",$F142=\"DNS\",$G142=\"DNS\"),\"DNS\",IF(OR($E142=\"NP\",$F142=\"NP\",$G142=\"NP\"),\"NP\",IF(ISERROR(MEDIAN($E142:$G142)),\"DNS\",IF(COUNT($E142:$G142)<3,MAX($E142:$G142),MEDIAN($E142:$G142))))))","v":""},null,null,null,null,null,null,null,null,null,"",{"$f":"IF(C142=\"x\",\"x\",IF(C142=\"\",\"\",IF(OR(T142=\"NP\",T142=\"DNS\"),IF(T142=\"NP\",MAX(T$12:T$309)+COUNTIF((T$12:T$309),MAX(T$12:T$309)),MAX(T$12:T$309)+COUNTIF((T$12:T$309),MAX(T$12:T$309))+COUNTIF((T$12:T$309),\"NP\")),T142)))","v":""},{"$f":"IF(A142=\"x\",\"x\",IF(C142=\"\",\"\",IF(OR(U142=\"NP\",U142=\"DNS\"),U142,RANK(U142,U$12:U$309,1))))","v":""},{"$f":"IF(A142=\"x\",\"x\",IF(C142=\"\",\"\",IF(OR(AND(R142=\"NP\",R143=\"NP\"),AND(R142=\"DNS\",R143=\"DNS\")),R142,IF(AND(R142=\"NP\",R143=\"DNS\"),R142,IF(AND(R142=\"DNS\",R143=\"NP\"),R143,MIN(R142,R143))))))","v":""}]
[null,null,null,"II.pokus",null,null,null,{"$f":"IF($C142=\"\",\"\",IF(OR($E143=\"DNS\",$F143=\"DNS\",$G143=\"DNS\"),\"DNS\",IF(OR($E143=\"NP\",$F143=\"NP\",$G143=\"NP\"),\"NP\",IF(ISERROR(MEDIAN($E143:$G143)),\"DNS\",IF(COUNT($E143:$G143)<3,MAX($E143:$G143),MEDIAN($E143:$G143))))))","v":""},null,null,null,null,null,null,null,null,null,""]
[{"$f":"IF(Start!I25=\"\",\"\",\"x\")","v":""},45,{"$f":"IF(Start!G25=\"\",\"\",Start!G25)","v":""},"I.pokus",null,null,null,{"$f":"IF($C144=\"\",\"\",IF(OR($E144=\"DNS\",$F144=\"DNS\",$G144=\"DNS\"),\"DNS\",IF(OR($E144=\"NP\",$F144=\"NP\",$G144=\"NP\"),\"NP\",IF(ISERROR(MEDIAN($E144:$G144)),\"DNS\",IF(COUNT($E144:$G144)<3,MAX($E144:$G144),MEDIAN($E144:$G144))))))","v":""},null,null,null,null,null,null,null,null,null,"",{"$f":"IF(C144=\"x\",\"x\",IF(C144=\"\",\"\",IF(OR(T144=\"NP\",T144=\"DNS\"),IF(T144=\"NP\",MAX(T$12:T$309)+COUNTIF((T$12:T$309),MAX(T$12:T$309)),MAX(T$12:T$309)+COUNTIF((T$12:T$309),MAX(T$12:T$309))+COUNTIF((T$12:T$309),\"NP\")),T144)))","v":""},{"$f":"IF(A144=\"x\",\"x\",IF(C144=\"\",\"\",IF(OR(U144=\"NP\",U144=\"DNS\"),U144,RANK(U144,U$12:U$309,1))))","v":""},{"$f":"IF(A144=\"x\",\"x\",IF(C144=\"\",\"\",IF(OR(AND(R144=\"NP\",R145=\"NP\"),AND(R144=\"DNS\",R145=\"DNS\")),R144,IF(AND(R144=\"NP\",R145=\"DNS\"),R144,IF(AND(R144=\"DNS\",R145=\"NP\"),R145,MIN(R144,R145))))))","v":""}]
[null,null,null,"II.pokus",null,null,null,{"$f":"IF($C144=\"\",\"\",IF(OR($E145=\"DNS\",$F145=\"DNS\",$G145=\"DNS\"),\"DNS\",IF(OR($E145=\"NP\",$F145=\"NP\",$G145=\"NP\"),\"NP\",IF(ISERROR(MEDIAN($E145:$G145)),\"DNS\",IF(COUNT($E145:$G145)<3,MAX($E145:$G145),MEDIAN($E145:$G145))))))","v":""},null,null,null,null,null,null,null,null,null,""]
[{"$f":"IF(Start!I26=\"\",\"\",\"x\")","v":""},46,{"$f":"IF(Start!G26=\"\",\"\",Start!G26)","v":""},"I.pokus",null,null,null,{"$f":"IF($C146=\"\",\"\",IF(OR($E146=\"DNS\",$F146=\"DNS\",$G146=\"DNS\"),\"DNS\",IF(OR($E146=\"NP\",$F146=\"NP\",$G146=\"NP\"),\"NP\",IF(ISERROR(MEDIAN($E146:$G146)),\"DNS\",IF(COUNT($E146:$G146)<3,MAX($E146:$G146),MEDIAN($E146:$G146))))))","v":""},null,null,null,null,null,null,null,null,null,"",{"$f":"IF(C146=\"x\",\"x\",IF(C146=\"\",\"\",IF(OR(T146=\"NP\",T146=\"DNS\"),IF(T146=\"NP\",MAX(T$12:T$309)+COUNTIF((T$12:T$309),MAX(T$12:T$309)),MAX(T$12:T$309)+COUNTIF((T$12:T$309),MAX(T$12:T$309))+COUNTIF((T$12:T$309),\"NP\")),T146)))","v":""},{"$f":"IF(A146=\"x\",\"x\",IF(C146=\"\",\"\",IF(OR(U146=\"NP\",U146=\"DNS\"),U146,RANK(U146,U$12:U$309,1))))","v":""},{"$f":"IF(A146=\"x\",\"x\",IF(C146=\"\",\"\",IF(OR(AND(R146=\"NP\",R147=\"NP\"),AND(R146=\"DNS\",R147=\"DNS\")),R146,IF(AND(R146=\"NP\",R147=\"DNS\"),R146,IF(AND(R146=\"DNS\",R147=\"NP\"),R147,MIN(R146,R147))))))","v":""}]
[null,null,null,"II.pokus",null,null,null,{"$f":"IF($C146=\"\",\"\",IF(OR($E147=\"DNS\",$F147=\"DNS\",$G147=\"DNS\"),\"DNS\",IF(OR($E147=\"NP\",$F147=\"NP\",$G147=\"NP\"),\"NP\",IF(ISERROR(MEDIAN($E147:$G147)),\"DNS\",IF(COUNT($E147:$G147)<3,MAX($E147:$G147),MEDIAN($E147:$G147))))))","v":""},null,null,null,null,null,null,null,null,null,""]
[{"$f":"IF(Start!I27=\"\",\"\",\"x\")","v":""},47,{"$f":"IF(Start!G27=\"\",\"\",Start!G27)","v":""},"I.pokus",null,null,null,{"$f":"IF($C148=\"\",\"\",IF(OR($E148=\"DNS\",$F148=\"DNS\",$G148=\"DNS\"),\"DNS\",IF(OR($E148=\"NP\",$F148=\"NP\",$G148=\"NP\"),\"NP\",IF(ISERROR(MEDIAN($E148:$G148)),\"DNS\",IF(COUNT($E148:$G148)<3,MAX($E148:$G148),MEDIAN($E148:$G148))))))","v":""},null,null,null,null,null,null,null,null,null,"",{"$f":"IF(C148=\"x\",\"x\",IF(C148=\"\",\"\",IF(OR(T148=\"NP\",T148=\"DNS\"),IF(T148=\"NP\",MAX(T$12:T$309)+COUNTIF((T$12:T$309),MAX(T$12:T$309)),MAX(T$12:T$309)+COUNTIF((T$12:T$309),MAX(T$12:T$309))+COUNTIF((T$12:T$309),\"NP\")),T148)))","v":""},{"$f":"IF(A148=\"x\",\"x\",IF(C148=\"\",\"\",IF(OR(U148=\"NP\",U148=\"DNS\"),U148,RANK(U148,U$12:U$309,1))))","v":""},{"$f":"IF(A148=\"x\",\"x\",IF(C148=\"\",\"\",IF(OR(AND(R148=\"NP\",R149=\"NP\"),AND(R148=\"DNS\",R149=\"DNS\")),R148,IF(AND(R148=\"NP\",R149=\"DNS\"),R148,IF(AND(R148=\"DNS\",R149=\"NP\"),R149,MIN(R148,R149))))))","v":""}]
[null,null,null,"II.pokus",null,null,null,{"$f":"IF($C148=\"\",\"\",IF(OR($E149=\"DNS\",$F149=\"DNS\",$G149=\"DNS\"),\"DNS\",IF(OR($E149=\"NP\",$F149=\"NP\",$G149=\"NP\"),\"NP\",IF(ISERROR(MEDIAN($E149:$G149)),\"DNS\",IF(COUNT($E149:$G149)<3,MAX($E149:$G149),MEDIAN($E149:$G149))))))","v":""},null,null,null,null,null,null,null,null,null,""]
[{"$f":"IF(Start!I28=\"\",\"\",\"x\")","v":""},48,{"$f":"IF(Start!G28=\"\",\"\",Start!G28)","v":""},"I.pokus",null,null,null,{"$f":"IF($C150=\"\",\"\",IF(OR($E150=\"DNS\",$F150=\"DNS\",$G150=\"DNS\"),\"DNS\",IF(OR($E150=\"NP\",$F150=\"NP\",$G150=\"NP\"),\"NP\",IF(ISERROR(MEDIAN($E150:$G150)),\"DNS\",IF(COUNT($E150:$G150)<3,MAX($E150:$G150),MEDIAN($E150:$G150))))))","v":""},null,null,null,null,null,null,null,null,null,"",{"$f":"IF(C150=\"x\",\"x\",IF(C150=\"\",\"\",IF(OR(T150=\"NP\",T150=\"DNS\"),IF(T150=\"NP\",MAX(T$12:T$309)+COUNTIF((T$12:T$309),MAX(T$12:T$309)),MAX(T$12:T$309)+COUNTIF((T$12:T$309),MAX(T$12:T$309))+COUNTIF((T$12:T$309),\"NP\")),T150)))","v":""},{"$f":"IF(A150=\"x\",\"x\",IF(C150=\"\",\"\",IF(OR(U150=\"NP\",U150=\"DNS\"),U150,RANK(U150,U$12:U$309,1))))","v":""},{"$f":"IF(A150=\"x\",\"x\",IF(C150=\"\",\"\",IF(OR(AND(R150=\"NP\",R151=\"NP\"),AND(R150=\"DNS\",R151=\"DNS\")),R150,IF(AND(R150=\"NP\",R151=\"DNS\"),R150,IF(AND(R150=\"DNS\",R151=\"NP\"),R151,MIN(R150,R151))))))","v":""}]
[null,null,null,"II.pokus",null,null,null,{"$f":"IF($C150=\"\",\"\",IF(OR($E151=\"DNS\",$F151=\"DNS\",$G151=\"DNS\"),\"DNS\",IF(OR($E151=\"NP\",$F151=\"NP\",$G151=\"NP\"),\"NP\",IF(ISERROR(MEDIAN($E151:$G151)),\"DNS\",IF(COUNT($E151:$G151)<3,MAX($E151:$G151),MEDIAN($E151:$G151))))))","v":""},null,null,null,null,null,null,null,null,null,""]
[{"$f":"IF(Start!I29=\"\",\"\",\"x\")","v":""},49,{"$f":"IF(Start!G29=\"\",\"\",Start!G29)","v":""},"I.pokus",null,null,null,{"$f":"IF($C152=\"\",\"\",IF(OR($E152=\"DNS\",$F152=\"DNS\",$G152=\"DNS\"),\"DNS\",IF(OR($E152=\"NP\",$F152=\"NP\",$G152=\"NP\"),\"NP\",IF(ISERROR(MEDIAN($E152:$G152)),\"DNS\",IF(COUNT($E152:$G152)<3,MAX($E152:$G152),MEDIAN($E152:$G152))))))","v":""},null,null,null,null,null,null,null,null,null,"",{"$f":"IF(C152=\"x\",\"x\",IF(C152=\"\",\"\",IF(OR(T152=\"NP\",T152=\"DNS\"),IF(T152=\"NP\",MAX(T$12:T$309)+COUNTIF((T$12:T$309),MAX(T$12:T$309)),MAX(T$12:T$309)+COUNTIF((T$12:T$309),MAX(T$12:T$309))+COUNTIF((T$12:T$309),\"NP\")),T152)))","v":""},{"$f":"IF(A152=\"x\",\"x\",IF(C152=\"\",\"\",IF(OR(U152=\"NP\",U152=\"DNS\"),U152,RANK(U152,U$12:U$309,1))))","v":""},{"$f":"IF(A152=\"x\",\"x\",IF(C152=\"\",\"\",IF(OR(AND(R152=\"NP\",R153=\"NP\"),AND(R152=\"DNS\",R153=\"DNS\")),R152,IF(AND(R152=\"NP\",R153=\"DNS\"),R152,IF(AND(R152=\"DNS\",R153=\"NP\"),R153,MIN(R152,R153))))))","v":""}]
[null,null,null,"II.pokus",null,null,null,{"$f":"IF($C152=\"\",\"\",IF(OR($E153=\"DNS\",$F153=\"DNS\",$G153=\"DNS\"),\"DNS\",IF(OR($E153=\"NP\",$F153=\"NP\",$G153=\"NP\"),\"NP\",IF(ISERROR(MEDIAN($E153:$G153)),\"DNS\",IF(COUNT($E153:$G153)<3,MAX($E153:$G153),MEDIAN($E153:$G153))))))","v":""},null,null,null,null,null,null,null,null,null,""]
[{"$f":"IF(Start!I30=\"\",\"\",\"x\")","v":""},50,{"$f":"IF(Start!G30=\"\",\"\",Start!G30)","v":""},"I.pokus",null,null,null,{"$f":"IF($C154=\"\",\"\",IF(OR($E154=\"DNS\",$F154=\"DNS\",$G154=\"DNS\"),\"DNS\",IF(OR($E154=\"NP\",$F154=\"NP\",$G154=\"NP\"),\"NP\",IF(ISERROR(MEDIAN($E154:$G154)),\"DNS\",IF(COUNT($E154:$G154)<3,MAX($E154:$G154),MEDIAN($E154:$G154))))))","v":""},null,null,null,null,null,null,null,null,null,"",{"$f":"IF(C154=\"x\",\"x\",IF(C154=\"\",\"\",IF(OR(T154=\"NP\",T154=\"DNS\"),IF(T154=\"NP\",MAX(T$12:T$309)+COUNTIF((T$12:T$309),MAX(T$12:T$309)),MAX(T$12:T$309)+COUNTIF((T$12:T$309),MAX(T$12:T$309))+COUNTIF((T$12:T$309),\"NP\")),T154)))","v":""},{"$f":"IF(A154=\"x\",\"x\",IF(C154=\"\",\"\",IF(OR(U154=\"NP\",U154=\"DNS\"),U154,RANK(U154,U$12:U$309,1))))","v":""},{"$f":"IF(A154=\"x\",\"x\",IF(C154=\"\",\"\",IF(OR(AND(R154=\"NP\",R155=\"NP\"),AND(R154=\"DNS\",R155=\"DNS\")),R154,IF(AND(R154=\"NP\",R155=\"DNS\"),R154,IF(AND(R154=\"DNS\",R155=\"NP\"),R155,MIN(R154,R155))))))","v":""}]
[null,null,null,"II.pokus",null,null,null,{"$f":"IF($C154=\"\",\"\",IF(OR($E155=\"DNS\",$F155=\"DNS\",$G155=\"DNS\"),\"DNS\",IF(OR($E155=\"NP\",$F155=\"NP\",$G155=\"NP\"),\"NP\",IF(ISERROR(MEDIAN($E155:$G155)),\"DNS\",IF(COUNT($E155:$G155)<3,MAX($E155:$G155),MEDIAN($E155:$G155))))))","v":""},null,null,null,null,null,null,null,null,null,""]
[null,"CELOSTÁTNÍ HRA PLAMEN"]
[]
[]
[null,"Výsledková listina č: 6"]
[null,"Požární útok CTIF",null,null,"Základem je čas naměřený       od startu po signál velitele            o ukončení pokusu",null,null,null,"K úřednímu času se připočítávají trestné sekundy",null,null,null,null,null,null,null,null,"Výsledek soutěže"]
[null,null,null,null,null,null,null,null,"nesprávné překonání překážek\n10 tb. = sekund","celé přetočení hadice\n(každá hadice se posuzuje samostatně)\n5 tb. = sekund","rozpojení spojky nebo zapojení na 1 ozub\nza každý případ\n20 tb. = sekund","nesprávné rozložení hadice nesprávné položení hadic u překážek\n10 tb. = sekund","zapomenuté, ztracené nebo špatně odložené nářadí\n5 tb. = sekund","nesprávné zařazení technického prostředku\nu stojanu\n10 tb. = sekund","nesprávné uvázaný uzel   10 tb. = sekund","nesprávná práce\n10 tb. = sekund"]
[null,null,null,null,null,null,null,null,null,null,null,null,null,null,null,null,null,"součet trest. Sekund a úředního času","počet bodů za umístění"]
[null,{"$f":"\"KATEGORIE: \"&Start!$N$2","v":"KATEGORIE: starší"},null,null,"I. časoměřič","II. časoměřič","III. časoměřič","úřední čas"]
[]
[null,"start. číslo","SOUTĚŽNÍ DRUŽSTVO","pokus"]
[]
[{"$f":"IF(Start!M6=\"\",\"\",\"x\")","v":""},51,{"$f":"IF(Start!K6=\"\",\"\",Start!K6)","v":""},"I.pokus",null,null,null,{"$f":"IF($C167=\"\",\"\",IF(OR($E167=\"DNS\",$F167=\"DNS\",$G167=\"DNS\"),\"DNS\",IF(OR($E167=\"NP\",$F167=\"NP\",$G167=\"NP\"),\"NP\",IF(ISERROR(MEDIAN($E167:$G167)),\"DNS\",IF(COUNT($E167:$G167)<3,MAX($E167:$G167),MEDIAN($E167:$G167))))))","v":""},null,null,null,null,null,null,null,null,null,{"$f":"IF(H167=\"\",\"\",IF(H167=\"NP\",\"NP\",IF(H167=\"DNS\",\"DNS\",SUM(I167:Q167)+H167)))","v":""},{"$f":"IF(C167=\"x\",\"x\",IF(C167=\"\",\"\",IF(OR(T167=\"NP\",T167=\"DNS\"),IF(T167=\"NP\",MAX(T$12:T$309)+COUNTIF((T$12:T$309),MAX(T$12:T$309)),MAX(T$12:T$309)+COUNTIF((T$12:T$309),MAX(T$12:T$309))+COUNTIF((T$12:T$309),\"NP\")),T167)))","v":""},{"$f":"IF(A167=\"x\",\"x\",IF(C167=\"\",\"\",IF(OR(U167=\"NP\",U167=\"DNS\"),U167,RANK(U167,U$12:U$309,1))))","v":""},{"$f":"IF(A167=\"x\",\"x\",IF(C167=\"\",\"\",IF(OR(AND(R167=\"NP\",R168=\"NP\"),AND(R167=\"DNS\",R168=\"DNS\")),R167,IF(AND(R167=\"NP\",R168=\"DNS\"),R167,IF(AND(R167=\"DNS\",R168=\"NP\"),R168,MIN(R167,R168))))))","v":""}]
[null,null,null,"II.pokus",null,null,null,{"$f":"IF($C167=\"\",\"\",IF(OR($E168=\"DNS\",$F168=\"DNS\",$G168=\"DNS\"),\"DNS\",IF(OR($E168=\"NP\",$F168=\"NP\",$G168=\"NP\"),\"NP\",IF(ISERROR(MEDIAN($E168:$G168)),\"DNS\",IF(COUNT($E168:$G168)<3,MAX($E168:$G168),MEDIAN($E168:$G168))))))","v":""},null,null,null,null,null,null,null,null,null,""]
[{"$f":"IF(Start!M7=\"\",\"\",\"x\")","v":""},52,{"$f":"IF(Start!K7=\"\",\"\",Start!K7)","v":""},"I.pokus",null,null,null,{"$f":"IF($C169=\"\",\"\",IF(OR($E169=\"DNS\",$F169=\"DNS\",$G169=\"DNS\"),\"DNS\",IF(OR($E169=\"NP\",$F169=\"NP\",$G169=\"NP\"),\"NP\",IF(ISERROR(MEDIAN($E169:$G169)),\"DNS\",IF(COUNT($E169:$G169)<3,MAX($E169:$G169),MEDIAN($E169:$G169))))))","v":""},null,null,null,null,null,null,null,null,null,"",{"$f":"IF(C169=\"x\",\"x\",IF(C169=\"\",\"\",IF(OR(T169=\"NP\",T169=\"DNS\"),IF(T169=\"NP\",MAX(T$12:T$309)+COUNTIF((T$12:T$309),MAX(T$12:T$309)),MAX(T$12:T$309)+COUNTIF((T$12:T$309),MAX(T$12:T$309))+COUNTIF((T$12:T$309),\"NP\")),T169)))","v":""},{"$f":"IF(A169=\"x\",\"x\",IF(C169=\"\",\"\",IF(OR(U169=\"NP\",U169=\"DNS\"),U169,RANK(U169,U$12:U$309,1))))","v":""},{"$f":"IF(A169=\"x\",\"x\",IF(C169=\"\",\"\",IF(OR(AND(R169=\"NP\",R170=\"NP\"),AND(R169=\"DNS\",R170=\"DNS\")),R169,IF(AND(R169=\"NP\",R170=\"DNS\"),R169,IF(AND(R169=\"DNS\",R170=\"NP\"),R170,MIN(R169,R170))))))","v":""}]
[null,null,null,"II.pokus",null,null,null,{"$f":"IF($C169=\"\",\"\",IF(OR($E170=\"DNS\",$F170=\"DNS\",$G170=\"DNS\"),\"DNS\",IF(OR($E170=\"NP\",$F170=\"NP\",$G170=\"NP\"),\"NP\",IF(ISERROR(MEDIAN($E170:$G170)),\"DNS\",IF(COUNT($E170:$G170)<3,MAX($E170:$G170),MEDIAN($E170:$G170))))))","v":""},null,null,null,null,null,null,null,null,null,""]
[{"$f":"IF(Start!M8=\"\",\"\",\"x\")","v":""},53,{"$f":"IF(Start!K8=\"\",\"\",Start!K8)","v":""},"I.pokus",null,null,null,{"$f":"IF($C171=\"\",\"\",IF(OR($E171=\"DNS\",$F171=\"DNS\",$G171=\"DNS\"),\"DNS\",IF(OR($E171=\"NP\",$F171=\"NP\",$G171=\"NP\"),\"NP\",IF(ISERROR(MEDIAN($E171:$G171)),\"DNS\",IF(COUNT($E171:$G171)<3,MAX($E171:$G171),MEDIAN($E171:$G171))))))","v":""},null,null,null,null,null,null,null,null,null,"",{"$f":"IF(C171=\"x\",\"x\",IF(C171=\"\",\"\",IF(OR(T171=\"NP\",T171=\"DNS\"),IF(T171=\"NP\",MAX(T$12:T$309)+COUNTIF((T$12:T$309),MAX(T$12:T$309)),MAX(T$12:T$309)+COUNTIF((T$12:T$309),MAX(T$12:T$309))+COUNTIF((T$12:T$309),\"NP\")),T171)))","v":""},{"$f":"IF(A171=\"x\",\"x\",IF(C171=\"\",\"\",IF(OR(U171=\"NP\",U171=\"DNS\"),U171,RANK(U171,U$12:U$309,1))))","v":""},{"$f":"IF(A171=\"x\",\"x\",IF(C171=\"\",\"\",IF(OR(AND(R171=\"NP\",R172=\"NP\"),AND(R171=\"DNS\",R172=\"DNS\")),R171,IF(AND(R171=\"NP\",R172=\"DNS\"),R171,IF(AND(R171=\"DNS\",R172=\"NP\"),R172,MIN(R171,R172))))))","v":""}]
[null,null,null,"II.pokus",null,null,null,{"$f":"IF($C171=\"\",\"\",IF(OR($E172=\"DNS\",$F172=\"DNS\",$G172=\"DNS\"),\"DNS\",IF(OR($E172=\"NP\",$F172=\"NP\",$G172=\"NP\"),\"NP\",IF(ISERROR(MEDIAN($E172:$G172)),\"DNS\",IF(COUNT($E172:$G172)<3,MAX($E172:$G172),MEDIAN($E172:$G172))))))","v":""},null,null,null,null,null,null,null,null,null,""]
[{"$f":"IF(Start!M9=\"\",\"\",\"x\")","v":""},54,{"$f":"IF(Start!K9=\"\",\"\",Start!K9)","v":""},"I.pokus",null,null,null,{"$f":"IF($C173=\"\",\"\",IF(OR($E173=\"DNS\",$F173=\"DNS\",$G173=\"DNS\"),\"DNS\",IF(OR($E173=\"NP\",$F173=\"NP\",$G173=\"NP\"),\"NP\",IF(ISERROR(MEDIAN($E173:$G173)),\"DNS\",IF(COUNT($E173:$G173)<3,MAX($E173:$G173),MEDIAN($E173:$G173))))))","v":""},null,null,null,null,null,null,null,null,null,"",{"$f":"IF(C173=\"x\",\"x\",IF(C173=\"\",\"\",IF(OR(T173=\"NP\",T173=\"DNS\"),IF(T173=\"NP\",MAX(T$12:T$309)+COUNTIF((T$12:T$309),MAX(T$12:T$309)),MAX(T$12:T$309)+COUNTIF((T$12:T$309),MAX(T$12:T$309))+COUNTIF((T$12:T$309),\"NP\")),T173)))","v":""},{"$f":"IF(A173=\"x\",\"x\",IF(C173=\"\",\"\",IF(OR(U173=\"NP\",U173=\"DNS\"),U173,RANK(U173,U$12:U$309,1))))","v":""},{"$f":"IF(A173=\"x\",\"x\",IF(C173=\"\",\"\",IF(OR(AND(R173=\"NP\",R174=\"NP\"),AND(R173=\"DNS\",R174=\"DNS\")),R173,IF(AND(R173=\"NP\",R174=\"DNS\"),R173,IF(AND(R173=\"DNS\",R174=\"NP\"),R174,MIN(R173,R174))))))","v":""}]
[null,null,null,"II.pokus",null,null,null,{"$f":"IF($C173=\"\",\"\",IF(OR($E174=\"DNS\",$F174=\"DNS\",$G174=\"DNS\"),\"DNS\",IF(OR($E174=\"NP\",$F174=\"NP\",$G174=\"NP\"),\"NP\",IF(ISERROR(MEDIAN($E174:$G174)),\"DNS\",IF(COUNT($E174:$G174)<3,MAX($E174:$G174),MEDIAN($E174:$G174))))))","v":""},null,null,null,null,null,null,null,null,null,""]
[{"$f":"IF(Start!M10=\"\",\"\",\"x\")","v":""},55,{"$f":"IF(Start!K10=\"\",\"\",Start!K10)","v":""},"I.pokus",null,null,null,{"$f":"IF($C175=\"\",\"\",IF(OR($E175=\"DNS\",$F175=\"DNS\",$G175=\"DNS\"),\"DNS\",IF(OR($E175=\"NP\",$F175=\"NP\",$G175=\"NP\"),\"NP\",IF(ISERROR(MEDIAN($E175:$G175)),\"DNS\",IF(COUNT($E175:$G175)<3,MAX($E175:$G175),MEDIAN($E175:$G175))))))","v":""},null,null,null,null,null,null,null,null,null,"",{"$f":"IF(C175=\"x\",\"x\",IF(C175=\"\",\"\",IF(OR(T175=\"NP\",T175=\"DNS\"),IF(T175=\"NP\",MAX(T$12:T$309)+COUNTIF((T$12:T$309),MAX(T$12:T$309)),MAX(T$12:T$309)+COUNTIF((T$12:T$309),MAX(T$12:T$309))+COUNTIF((T$12:T$309),\"NP\")),T175)))","v":""},{"$f":"IF(A175=\"x\",\"x\",IF(C175=\"\",\"\",IF(OR(U175=\"NP\",U175=\"DNS\"),U175,RANK(U175,U$12:U$309,1))))","v":""},{"$f":"IF(A175=\"x\",\"x\",IF(C175=\"\",\"\",IF(OR(AND(R175=\"NP\",R176=\"NP\"),AND(R175=\"DNS\",R176=\"DNS\")),R175,IF(AND(R175=\"NP\",R176=\"DNS\"),R175,IF(AND(R175=\"DNS\",R176=\"NP\"),R176,MIN(R175,R176))))))","v":""}]
[null,null,null,"II.pokus",null,null,null,{"$f":"IF($C175=\"\",\"\",IF(OR($E176=\"DNS\",$F176=\"DNS\",$G176=\"DNS\"),\"DNS\",IF(OR($E176=\"NP\",$F176=\"NP\",$G176=\"NP\"),\"NP\",IF(ISERROR(MEDIAN($E176:$G176)),\"DNS\",IF(COUNT($E176:$G176)<3,MAX($E176:$G176),MEDIAN($E176:$G176))))))","v":""},null,null,null,null,null,null,null,null,null,""]
[{"$f":"IF(Start!M11=\"\",\"\",\"x\")","v":""},56,{"$f":"IF(Start!K11=\"\",\"\",Start!K11)","v":""},"I.pokus",null,null,null,{"$f":"IF($C177=\"\",\"\",IF(OR($E177=\"DNS\",$F177=\"DNS\",$G177=\"DNS\"),\"DNS\",IF(OR($E177=\"NP\",$F177=\"NP\",$G177=\"NP\"),\"NP\",IF(ISERROR(MEDIAN($E177:$G177)),\"DNS\",IF(COUNT($E177:$G177)<3,MAX($E177:$G177),MEDIAN($E177:$G177))))))","v":""},null,null,null,null,null,null,null,null,null,"",{"$f":"IF(C177=\"x\",\"x\",IF(C177=\"\",\"\",IF(OR(T177=\"NP\",T177=\"DNS\"),IF(T177=\"NP\",MAX(T$12:T$309)+COUNTIF((T$12:T$309),MAX(T$12:T$309)),MAX(T$12:T$309)+COUNTIF((T$12:T$309),MAX(T$12:T$309))+COUNTIF((T$12:T$309),\"NP\")),T177)))","v":""},{"$f":"IF(A177=\"x\",\"x\",IF(C177=\"\",\"\",IF(OR(U177=\"NP\",U177=\"DNS\"),U177,RANK(U177,U$12:U$309,1))))","v":""},{"$f":"IF(A177=\"x\",\"x\",IF(C177=\"\",\"\",IF(OR(AND(R177=\"NP\",R178=\"NP\"),AND(R177=\"DNS\",R178=\"DNS\")),R177,IF(AND(R177=\"NP\",R178=\"DNS\"),R177,IF(AND(R177=\"DNS\",R178=\"NP\"),R178,MIN(R177,R178))))))","v":""}]
[null,null,null,"II.pokus",null,null,null,{"$f":"IF($C177=\"\",\"\",IF(OR($E178=\"DNS\",$F178=\"DNS\",$G178=\"DNS\"),\"DNS\",IF(OR($E178=\"NP\",$F178=\"NP\",$G178=\"NP\"),\"NP\",IF(ISERROR(MEDIAN($E178:$G178)),\"DNS\",IF(COUNT($E178:$G178)<3,MAX($E178:$G178),MEDIAN($E178:$G178))))))","v":""},null,null,null,null,null,null,null,null,null,""]
[{"$f":"IF(Start!M12=\"\",\"\",\"x\")","v":""},57,{"$f":"IF(Start!K12=\"\",\"\",Start!K12)","v":""},"I.pokus",null,null,null,{"$f":"IF($C179=\"\",\"\",IF(OR($E179=\"DNS\",$F179=\"DNS\",$G179=\"DNS\"),\"DNS\",IF(OR($E179=\"NP\",$F179=\"NP\",$G179=\"NP\"),\"NP\",IF(ISERROR(MEDIAN($E179:$G179)),\"DNS\",IF(COUNT($E179:$G179)<3,MAX($E179:$G179),MEDIAN($E179:$G179))))))","v":""},null,null,null,null,null,null,null,null,null,"",{"$f":"IF(C179=\"x\",\"x\",IF(C179=\"\",\"\",IF(OR(T179=\"NP\",T179=\"DNS\"),IF(T179=\"NP\",MAX(T$12:T$309)+COUNTIF((T$12:T$309),MAX(T$12:T$309)),MAX(T$12:T$309)+COUNTIF((T$12:T$309),MAX(T$12:T$309))+COUNTIF((T$12:T$309),\"NP\")),T179)))","v":""},{"$f":"IF(A179=\"x\",\"x\",IF(C179=\"\",\"\",IF(OR(U179=\"NP\",U179=\"DNS\"),U179,RANK(U179,U$12:U$309,1))))","v":""},{"$f":"IF(A179=\"x\",\"x\",IF(C179=\"\",\"\",IF(OR(AND(R179=\"NP\",R180=\"NP\"),AND(R179=\"DNS\",R180=\"DNS\")),R179,IF(AND(R179=\"NP\",R180=\"DNS\"),R179,IF(AND(R179=\"DNS\",R180=\"NP\"),R180,MIN(R179,R180))))))","v":""}]
[null,null,null,"II.pokus",null,null,null,{"$f":"IF($C179=\"\",\"\",IF(OR($E180=\"DNS\",$F180=\"DNS\",$G180=\"DNS\"),\"DNS\",IF(OR($E180=\"NP\",$F180=\"NP\",$G180=\"NP\"),\"NP\",IF(ISERROR(MEDIAN($E180:$G180)),\"DNS\",IF(COUNT($E180:$G180)<3,MAX($E180:$G180),MEDIAN($E180:$G180))))))","v":""},null,null,null,null,null,null,null,null,null,""]
[{"$f":"IF(Start!M13=\"\",\"\",\"x\")","v":""},58,{"$f":"IF(Start!K13=\"\",\"\",Start!K13)","v":""},"I.pokus",null,null,null,{"$f":"IF($C181=\"\",\"\",IF(OR($E181=\"DNS\",$F181=\"DNS\",$G181=\"DNS\"),\"DNS\",IF(OR($E181=\"NP\",$F181=\"NP\",$G181=\"NP\"),\"NP\",IF(ISERROR(MEDIAN($E181:$G181)),\"DNS\",IF(COUNT($E181:$G181)<3,MAX($E181:$G181),MEDIAN($E181:$G181))))))","v":""},null,null,null,null,null,null,null,null,null,"",{"$f":"IF(C181=\"x\",\"x\",IF(C181=\"\",\"\",IF(OR(T181=\"NP\",T181=\"DNS\"),IF(T181=\"NP\",MAX(T$12:T$309)+COUNTIF((T$12:T$309),MAX(T$12:T$309)),MAX(T$12:T$309)+COUNTIF((T$12:T$309),MAX(T$12:T$309))+COUNTIF((T$12:T$309),\"NP\")),T181)))","v":""},{"$f":"IF(A181=\"x\",\"x\",IF(C181=\"\",\"\",IF(OR(U181=\"NP\",U181=\"DNS\"),U181,RANK(U181,U$12:U$309,1))))","v":""},{"$f":"IF(A181=\"x\",\"x\",IF(C181=\"\",\"\",IF(OR(AND(R181=\"NP\",R182=\"NP\"),AND(R181=\"DNS\",R182=\"DNS\")),R181,IF(AND(R181=\"NP\",R182=\"DNS\"),R181,IF(AND(R181=\"DNS\",R182=\"NP\"),R182,MIN(R181,R182))))))","v":""}]
[null,null,null,"II.pokus",null,null,null,{"$f":"IF($C181=\"\",\"\",IF(OR($E182=\"DNS\",$F182=\"DNS\",$G182=\"DNS\"),\"DNS\",IF(OR($E182=\"NP\",$F182=\"NP\",$G182=\"NP\"),\"NP\",IF(ISERROR(MEDIAN($E182:$G182)),\"DNS\",IF(COUNT($E182:$G182)<3,MAX($E182:$G182),MEDIAN($E182:$G182))))))","v":""},null,null,null,null,null,null,null,null,null,""]
[{"$f":"IF(Start!M14=\"\",\"\",\"x\")","v":""},59,{"$f":"IF(Start!K14=\"\",\"\",Start!K14)","v":""},"I.pokus",null,null,null,{"$f":"IF($C183=\"\",\"\",IF(OR($E183=\"DNS\",$F183=\"DNS\",$G183=\"DNS\"),\"DNS\",IF(OR($E183=\"NP\",$F183=\"NP\",$G183=\"NP\"),\"NP\",IF(ISERROR(MEDIAN($E183:$G183)),\"DNS\",IF(COUNT($E183:$G183)<3,MAX($E183:$G183),MEDIAN($E183:$G183))))))","v":""},null,null,null,null,null,null,null,null,null,"",{"$f":"IF(C183=\"x\",\"x\",IF(C183=\"\",\"\",IF(OR(T183=\"NP\",T183=\"DNS\"),IF(T183=\"NP\",MAX(T$12:T$309)+COUNTIF((T$12:T$309),MAX(T$12:T$309)),MAX(T$12:T$309)+COUNTIF((T$12:T$309),MAX(T$12:T$309))+COUNTIF((T$12:T$309),\"NP\")),T183)))","v":""},{"$f":"IF(A183=\"x\",\"x\",IF(C183=\"\",\"\",IF(OR(U183=\"NP\",U183=\"DNS\"),U183,RANK(U183,U$12:U$309,1))))","v":""},{"$f":"IF(A183=\"x\",\"x\",IF(C183=\"\",\"\",IF(OR(AND(R183=\"NP\",R184=\"NP\"),AND(R183=\"DNS\",R184=\"DNS\")),R183,IF(AND(R183=\"NP\",R184=\"DNS\"),R183,IF(AND(R183=\"DNS\",R184=\"NP\"),R184,MIN(R183,R184))))))","v":""}]
[null,null,null,"II.pokus",null,null,null,{"$f":"IF($C183=\"\",\"\",IF(OR($E184=\"DNS\",$F184=\"DNS\",$G184=\"DNS\"),\"DNS\",IF(OR($E184=\"NP\",$F184=\"NP\",$G184=\"NP\"),\"NP\",IF(ISERROR(MEDIAN($E184:$G184)),\"DNS\",IF(COUNT($E184:$G184)<3,MAX($E184:$G184),MEDIAN($E184:$G184))))))","v":""},null,null,null,null,null,null,null,null,null,""]
[{"$f":"IF(Start!M15=\"\",\"\",\"x\")","v":""},60,{"$f":"IF(Start!K15=\"\",\"\",Start!K15)","v":""},"I.pokus",null,null,null,{"$f":"IF($C185=\"\",\"\",IF(OR($E185=\"DNS\",$F185=\"DNS\",$G185=\"DNS\"),\"DNS\",IF(OR($E185=\"NP\",$F185=\"NP\",$G185=\"NP\"),\"NP\",IF(ISERROR(MEDIAN($E185:$G185)),\"DNS\",IF(COUNT($E185:$G185)<3,MAX($E185:$G185),MEDIAN($E185:$G185))))))","v":""},null,null,null,null,null,null,null,null,null,"",{"$f":"IF(C185=\"x\",\"x\",IF(C185=\"\",\"\",IF(OR(T185=\"NP\",T185=\"DNS\"),IF(T185=\"NP\",MAX(T$12:T$309)+COUNTIF((T$12:T$309),MAX(T$12:T$309)),MAX(T$12:T$309)+COUNTIF((T$12:T$309),MAX(T$12:T$309))+COUNTIF((T$12:T$309),\"NP\")),T185)))","v":""},{"$f":"IF(A185=\"x\",\"x\",IF(C185=\"\",\"\",IF(OR(U185=\"NP\",U185=\"DNS\"),U185,RANK(U185,U$12:U$309,1))))","v":""},{"$f":"IF(A185=\"x\",\"x\",IF(C185=\"\",\"\",IF(OR(AND(R185=\"NP\",R186=\"NP\"),AND(R185=\"DNS\",R186=\"DNS\")),R185,IF(AND(R185=\"NP\",R186=\"DNS\"),R185,IF(AND(R185=\"DNS\",R186=\"NP\"),R186,MIN(R185,R186))))))","v":""}]
[null,null,null,"II.pokus",null,null,null,{"$f":"IF($C185=\"\",\"\",IF(OR($E186=\"DNS\",$F186=\"DNS\",$G186=\"DNS\"),\"DNS\",IF(OR($E186=\"NP\",$F186=\"NP\",$G186=\"NP\"),\"NP\",IF(ISERROR(MEDIAN($E186:$G186)),\"DNS\",IF(COUNT($E186:$G186)<3,MAX($E186:$G186),MEDIAN($E186:$G186))))))","v":""},null,null,null,null,null,null,null,null,null,""]
[null,"CELOSTÁTNÍ HRA PLAMEN"]
[]
[]
[null,"Výsledková listina č: 7"]
[null,"Požární útok CTIF",null,null,"Základem je čas naměřený       od startu po signál velitele            o ukončení pokusu",null,null,null,"K úřednímu času se připočítávají trestné sekundy",null,null,null,null,null,null,null,null,"Výsledek soutěže"]
[null,null,null,null,null,null,null,null,"nesprávné překonání překážek\n10 tb. = sekund","celé přetočení hadice\n(každá hadice se posuzuje samostatně)\n5 tb. = sekund","rozpojení spojky nebo zapojení na 1 ozub\nza každý případ\n20 tb. = sekund","nesprávné rozložení hadice nesprávné položení hadic u překážek\n10 tb. = sekund","zapomenuté, ztracené nebo špatně odložené nářadí\n5 tb. = sekund","nesprávné zařazení technického prostředku\nu stojanu\n10 tb. = sekund","nesprávné uvázaný uzel   10 tb. = sekund","nesprávná práce\n10 tb. = sekund"]
[null,null,null,null,null,null,null,null,null,null,null,null,null,null,null,null,null,"součet trest. Sekund a úředního času","počet bodů za umístění"]
[null,{"$f":"\"KATEGORIE: \"&Start!$N$2","v":"KATEGORIE: starší"},null,null,"I. časoměřič","II. časoměřič","III. časoměřič","úřední čas"]
[]
[null,"start. číslo","SOUTĚŽNÍ DRUŽSTVO","pokus"]
[]
[{"$f":"IF(Start!M16=\"\",\"\",\"x\")","v":""},61,{"$f":"IF(Start!K16=\"\",\"\",Start!K16)","v":""},"I.pokus",null,null,null,{"$f":"IF($C198=\"\",\"\",IF(OR($E198=\"DNS\",$F198=\"DNS\",$G198=\"DNS\"),\"DNS\",IF(OR($E198=\"NP\",$F198=\"NP\",$G198=\"NP\"),\"NP\",IF(ISERROR(MEDIAN($E198:$G198)),\"DNS\",IF(COUNT($E198:$G198)<3,MAX($E198:$G198),MEDIAN($E198:$G198))))))","v":""},null,null,null,null,null,null,null,null,null,{"$f":"IF(H198=\"\",\"\",IF(H198=\"NP\",\"NP\",IF(H198=\"DNS\",\"DNS\",SUM(I198:Q198)+H198)))","v":""},{"$f":"IF(C198=\"x\",\"x\",IF(C198=\"\",\"\",IF(OR(T198=\"NP\",T198=\"DNS\"),IF(T198=\"NP\",MAX(T$12:T$309)+COUNTIF((T$12:T$309),MAX(T$12:T$309)),MAX(T$12:T$309)+COUNTIF((T$12:T$309),MAX(T$12:T$309))+COUNTIF((T$12:T$309),\"NP\")),T198)))","v":""},{"$f":"IF(A198=\"x\",\"x\",IF(C198=\"\",\"\",IF(OR(U198=\"NP\",U198=\"DNS\"),U198,RANK(U198,U$12:U$309,1))))","v":""},{"$f":"IF(A198=\"x\",\"x\",IF(C198=\"\",\"\",IF(OR(AND(R198=\"NP\",R199=\"NP\"),AND(R198=\"DNS\",R199=\"DNS\")),R198,IF(AND(R198=\"NP\",R199=\"DNS\"),R198,IF(AND(R198=\"DNS\",R199=\"NP\"),R199,MIN(R198,R199))))))","v":""}]
[null,null,null,"II.pokus",null,null,null,{"$f":"IF($C198=\"\",\"\",IF(OR($E199=\"DNS\",$F199=\"DNS\",$G199=\"DNS\"),\"DNS\",IF(OR($E199=\"NP\",$F199=\"NP\",$G199=\"NP\"),\"NP\",IF(ISERROR(MEDIAN($E199:$G199)),\"DNS\",IF(COUNT($E199:$G199)<3,MAX($E199:$G199),MEDIAN($E199:$G199))))))","v":""},null,null,null,null,null,null,null,null,null,""]
[{"$f":"IF(Start!M17=\"\",\"\",\"x\")","v":""},62,{"$f":"IF(Start!K17=\"\",\"\",Start!K17)","v":""},"I.pokus",null,null,null,{"$f":"IF($C200=\"\",\"\",IF(OR($E200=\"DNS\",$F200=\"DNS\",$G200=\"DNS\"),\"DNS\",IF(OR($E200=\"NP\",$F200=\"NP\",$G200=\"NP\"),\"NP\",IF(ISERROR(MEDIAN($E200:$G200)),\"DNS\",IF(COUNT($E200:$G200)<3,MAX($E200:$G200),MEDIAN($E200:$G200))))))","v":""},null,null,null,null,null,null,null,null,null,"",{"$f":"IF(C200=\"x\",\"x\",IF(C200=\"\",\"\",IF(OR(T200=\"NP\",T200=\"DNS\"),IF(T200=\"NP\",MAX(T$12:T$309)+COUNTIF((T$12:T$309),MAX(T$12:T$309)),MAX(T$12:T$309)+COUNTIF((T$12:T$309),MAX(T$12:T$309))+COUNTIF((T$12:T$309),\"NP\")),T200)))","v":""},{"$f":"IF(A200=\"x\",\"x\",IF(C200=\"\",\"\",IF(OR(U200=\"NP\",U200=\"DNS\"),U200,RANK(U200,U$12:U$309,1))))","v":""},{"$f":"IF(A200=\"x\",\"x\",IF(C200=\"\",\"\",IF(OR(AND(R200=\"NP\",R201=\"NP\"),AND(R200=\"DNS\",R201=\"DNS\")),R200,IF(AND(R200=\"NP\",R201=\"DNS\"),R200,IF(AND(R200=\"DNS\",R201=\"NP\"),R201,MIN(R200,R201))))))","v":""}]
[null,null,null,"II.pokus",null,null,null,{"$f":"IF($C200=\"\",\"\",IF(OR($E201=\"DNS\",$F201=\"DNS\",$G201=\"DNS\"),\"DNS\",IF(OR($E201=\"NP\",$F201=\"NP\",$G201=\"NP\"),\"NP\",IF(ISERROR(MEDIAN($E201:$G201)),\"DNS\",IF(COUNT($E201:$G201)<3,MAX($E201:$G201),MEDIAN($E201:$G201))))))","v":""},null,null,null,null,null,null,null,null,null,""]
[{"$f":"IF(Start!M18=\"\",\"\",\"x\")","v":""},63,{"$f":"IF(Start!K18=\"\",\"\",Start!K18)","v":""},"I.pokus",null,null,null,{"$f":"IF($C202=\"\",\"\",IF(OR($E202=\"DNS\",$F202=\"DNS\",$G202=\"DNS\"),\"DNS\",IF(OR($E202=\"NP\",$F202=\"NP\",$G202=\"NP\"),\"NP\",IF(ISERROR(MEDIAN($E202:$G202)),\"DNS\",IF(COUNT($E202:$G202)<3,MAX($E202:$G202),MEDIAN($E202:$G202))))))","v":""},null,null,null,null,null,null,null,null,null,"",{"$f":"IF(C202=\"x\",\"x\",IF(C202=\"\",\"\",IF(OR(T202=\"NP\",T202=\"DNS\"),IF(T202=\"NP\",MAX(T$12:T$309)+COUNTIF((T$12:T$309),MAX(T$12:T$309)),MAX(T$12:T$309)+COUNTIF((T$12:T$309),MAX(T$12:T$309))+COUNTIF((T$12:T$309),\"NP\")),T202)))","v":""},{"$f":"IF(A202=\"x\",\"x\",IF(C202=\"\",\"\",IF(OR(U202=\"NP\",U202=\"DNS\"),U202,RANK(U202,U$12:U$309,1))))","v":""},{"$f":"IF(A202=\"x\",\"x\",IF(C202=\"\",\"\",IF(OR(AND(R202=\"NP\",R203=\"NP\"),AND(R202=\"DNS\",R203=\"DNS\")),R202,IF(AND(R202=\"NP\",R203=\"DNS\"),R202,IF(AND(R202=\"DNS\",R203=\"NP\"),R203,MIN(R202,R203))))))","v":""}]
[null,null,null,"II.pokus",null,null,null,{"$f":"IF($C202=\"\",\"\",IF(OR($E203=\"DNS\",$F203=\"DNS\",$G203=\"DNS\"),\"DNS\",IF(OR($E203=\"NP\",$F203=\"NP\",$G203=\"NP\"),\"NP\",IF(ISERROR(MEDIAN($E203:$G203)),\"DNS\",IF(COUNT($E203:$G203)<3,MAX($E203:$G203),MEDIAN($E203:$G203))))))","v":""},null,null,null,null,null,null,null,null,null,""]
[{"$f":"IF(Start!M19=\"\",\"\",\"x\")","v":""},64,{"$f":"IF(Start!K19=\"\",\"\",Start!K19)","v":""},"I.pokus",null,null,null,{"$f":"IF($C204=\"\",\"\",IF(OR($E204=\"DNS\",$F204=\"DNS\",$G204=\"DNS\"),\"DNS\",IF(OR($E204=\"NP\",$F204=\"NP\",$G204=\"NP\"),\"NP\",IF(ISERROR(MEDIAN($E204:$G204)),\"DNS\",IF(COUNT($E204:$G204)<3,MAX($E204:$G204),MEDIAN($E204:$G204))))))","v":""},null,null,null,null,null,null,null,null,null,"",{"$f":"IF(C204=\"x\",\"x\",IF(C204=\"\",\"\",IF(OR(T204=\"NP\",T204=\"DNS\"),IF(T204=\"NP\",MAX(T$12:T$309)+COUNTIF((T$12:T$309),MAX(T$12:T$309)),MAX(T$12:T$309)+COUNTIF((T$12:T$309),MAX(T$12:T$309))+COUNTIF((T$12:T$309),\"NP\")),T204)))","v":""},{"$f":"IF(A204=\"x\",\"x\",IF(C204=\"\",\"\",IF(OR(U204=\"NP\",U204=\"DNS\"),U204,RANK(U204,U$12:U$309,1))))","v":""},{"$f":"IF(A204=\"x\",\"x\",IF(C204=\"\",\"\",IF(OR(AND(R204=\"NP\",R205=\"NP\"),AND(R204=\"DNS\",R205=\"DNS\")),R204,IF(AND(R204=\"NP\",R205=\"DNS\"),R204,IF(AND(R204=\"DNS\",R205=\"NP\"),R205,MIN(R204,R205))))))","v":""}]
[null,null,null,"II.pokus",null,null,null,{"$f":"IF($C204=\"\",\"\",IF(OR($E205=\"DNS\",$F205=\"DNS\",$G205=\"DNS\"),\"DNS\",IF(OR($E205=\"NP\",$F205=\"NP\",$G205=\"NP\"),\"NP\",IF(ISERROR(MEDIAN($E205:$G205)),\"DNS\",IF(COUNT($E205:$G205)<3,MAX($E205:$G205),MEDIAN($E205:$G205))))))","v":""},null,null,null,null,null,null,null,null,null,""]
[{"$f":"IF(Start!M20=\"\",\"\",\"x\")","v":""},65,{"$f":"IF(Start!K20=\"\",\"\",Start!K20)","v":""},"I.pokus",null,null,null,{"$f":"IF($C206=\"\",\"\",IF(OR($E206=\"DNS\",$F206=\"DNS\",$G206=\"DNS\"),\"DNS\",IF(OR($E206=\"NP\",$F206=\"NP\",$G206=\"NP\"),\"NP\",IF(ISERROR(MEDIAN($E206:$G206)),\"DNS\",IF(COUNT($E206:$G206)<3,MAX($E206:$G206),MEDIAN($E206:$G206))))))","v":""},null,null,null,null,null,null,null,null,null,"",{"$f":"IF(C206=\"x\",\"x\",IF(C206=\"\",\"\",IF(OR(T206=\"NP\",T206=\"DNS\"),IF(T206=\"NP\",MAX(T$12:T$309)+COUNTIF((T$12:T$309),MAX(T$12:T$309)),MAX(T$12:T$309)+COUNTIF((T$12:T$309),MAX(T$12:T$309))+COUNTIF((T$12:T$309),\"NP\")),T206)))","v":""},{"$f":"IF(A206=\"x\",\"x\",IF(C206=\"\",\"\",IF(OR(U206=\"NP\",U206=\"DNS\"),U206,RANK(U206,U$12:U$309,1))))","v":""},{"$f":"IF(A206=\"x\",\"x\",IF(C206=\"\",\"\",IF(OR(AND(R206=\"NP\",R207=\"NP\"),AND(R206=\"DNS\",R207=\"DNS\")),R206,IF(AND(R206=\"NP\",R207=\"DNS\"),R206,IF(AND(R206=\"DNS\",R207=\"NP\"),R207,MIN(R206,R207))))))","v":""}]
[null,null,null,"II.pokus",null,null,null,{"$f":"IF($C206=\"\",\"\",IF(OR($E207=\"DNS\",$F207=\"DNS\",$G207=\"DNS\"),\"DNS\",IF(OR($E207=\"NP\",$F207=\"NP\",$G207=\"NP\"),\"NP\",IF(ISERROR(MEDIAN($E207:$G207)),\"DNS\",IF(COUNT($E207:$G207)<3,MAX($E207:$G207),MEDIAN($E207:$G207))))))","v":""},null,null,null,null,null,null,null,null,null,""]
[{"$f":"IF(Start!M21=\"\",\"\",\"x\")","v":""},66,{"$f":"IF(Start!K21=\"\",\"\",Start!K21)","v":""},"I.pokus",null,null,null,{"$f":"IF($C208=\"\",\"\",IF(OR($E208=\"DNS\",$F208=\"DNS\",$G208=\"DNS\"),\"DNS\",IF(OR($E208=\"NP\",$F208=\"NP\",$G208=\"NP\"),\"NP\",IF(ISERROR(MEDIAN($E208:$G208)),\"DNS\",IF(COUNT($E208:$G208)<3,MAX($E208:$G208),MEDIAN($E208:$G208))))))","v":""},null,null,null,null,null,null,null,null,null,"",{"$f":"IF(C208=\"x\",\"x\",IF(C208=\"\",\"\",IF(OR(T208=\"NP\",T208=\"DNS\"),IF(T208=\"NP\",MAX(T$12:T$309)+COUNTIF((T$12:T$309),MAX(T$12:T$309)),MAX(T$12:T$309)+COUNTIF((T$12:T$309),MAX(T$12:T$309))+COUNTIF((T$12:T$309),\"NP\")),T208)))","v":""},{"$f":"IF(A208=\"x\",\"x\",IF(C208=\"\",\"\",IF(OR(U208=\"NP\",U208=\"DNS\"),U208,RANK(U208,U$12:U$309,1))))","v":""},{"$f":"IF(A208=\"x\",\"x\",IF(C208=\"\",\"\",IF(OR(AND(R208=\"NP\",R209=\"NP\"),AND(R208=\"DNS\",R209=\"DNS\")),R208,IF(AND(R208=\"NP\",R209=\"DNS\"),R208,IF(AND(R208=\"DNS\",R209=\"NP\"),R209,MIN(R208,R209))))))","v":""}]
[null,null,null,"II.pokus",null,null,null,{"$f":"IF($C208=\"\",\"\",IF(OR($E209=\"DNS\",$F209=\"DNS\",$G209=\"DNS\"),\"DNS\",IF(OR($E209=\"NP\",$F209=\"NP\",$G209=\"NP\"),\"NP\",IF(ISERROR(MEDIAN($E209:$G209)),\"DNS\",IF(COUNT($E209:$G209)<3,MAX($E209:$G209),MEDIAN($E209:$G209))))))","v":""},null,null,null,null,null,null,null,null,null,""]
[{"$f":"IF(Start!M22=\"\",\"\",\"x\")","v":""},67,{"$f":"IF(Start!K22=\"\",\"\",Start!K22)","v":""},"I.pokus",null,null,null,{"$f":"IF($C210=\"\",\"\",IF(OR($E210=\"DNS\",$F210=\"DNS\",$G210=\"DNS\"),\"DNS\",IF(OR($E210=\"NP\",$F210=\"NP\",$G210=\"NP\"),\"NP\",IF(ISERROR(MEDIAN($E210:$G210)),\"DNS\",IF(COUNT($E210:$G210)<3,MAX($E210:$G210),MEDIAN($E210:$G210))))))","v":""},null,null,null,null,null,null,null,null,null,"",{"$f":"IF(C210=\"x\",\"x\",IF(C210=\"\",\"\",IF(OR(T210=\"NP\",T210=\"DNS\"),IF(T210=\"NP\",MAX(T$12:T$309)+COUNTIF((T$12:T$309),MAX(T$12:T$309)),MAX(T$12:T$309)+COUNTIF((T$12:T$309),MAX(T$12:T$309))+COUNTIF((T$12:T$309),\"NP\")),T210)))","v":""},{"$f":"IF(A210=\"x\",\"x\",IF(C210=\"\",\"\",IF(OR(U210=\"NP\",U210=\"DNS\"),U210,RANK(U210,U$12:U$309,1))))","v":""},{"$f":"IF(A210=\"x\",\"x\",IF(C210=\"\",\"\",IF(OR(AND(R210=\"NP\",R211=\"NP\"),AND(R210=\"DNS\",R211=\"DNS\")),R210,IF(AND(R210=\"NP\",R211=\"DNS\"),R210,IF(AND(R210=\"DNS\",R211=\"NP\"),R211,MIN(R210,R211))))))","v":""}]
[null,null,null,"II.pokus",null,null,null,{"$f":"IF($C210=\"\",\"\",IF(OR($E211=\"DNS\",$F211=\"DNS\",$G211=\"DNS\"),\"DNS\",IF(OR($E211=\"NP\",$F211=\"NP\",$G211=\"NP\"),\"NP\",IF(ISERROR(MEDIAN($E211:$G211)),\"DNS\",IF(COUNT($E211:$G211)<3,MAX($E211:$G211),MEDIAN($E211:$G211))))))","v":""},null,null,null,null,null,null,null,null,null,""]
[{"$f":"IF(Start!M23=\"\",\"\",\"x\")","v":""},68,{"$f":"IF(Start!K23=\"\",\"\",Start!K23)","v":""},"I.pokus",null,null,null,{"$f":"IF($C212=\"\",\"\",IF(OR($E212=\"DNS\",$F212=\"DNS\",$G212=\"DNS\"),\"DNS\",IF(OR($E212=\"NP\",$F212=\"NP\",$G212=\"NP\"),\"NP\",IF(ISERROR(MEDIAN($E212:$G212)),\"DNS\",IF(COUNT($E212:$G212)<3,MAX($E212:$G212),MEDIAN($E212:$G212))))))","v":""},null,null,null,null,null,null,null,null,null,"",{"$f":"IF(C212=\"x\",\"x\",IF(C212=\"\",\"\",IF(OR(T212=\"NP\",T212=\"DNS\"),IF(T212=\"NP\",MAX(T$12:T$309)+COUNTIF((T$12:T$309),MAX(T$12:T$309)),MAX(T$12:T$309)+COUNTIF((T$12:T$309),MAX(T$12:T$309))+COUNTIF((T$12:T$309),\"NP\")),T212)))","v":""},{"$f":"IF(A212=\"x\",\"x\",IF(C212=\"\",\"\",IF(OR(U212=\"NP\",U212=\"DNS\"),U212,RANK(U212,U$12:U$309,1))))","v":""},{"$f":"IF(A212=\"x\",\"x\",IF(C212=\"\",\"\",IF(OR(AND(R212=\"NP\",R213=\"NP\"),AND(R212=\"DNS\",R213=\"DNS\")),R212,IF(AND(R212=\"NP\",R213=\"DNS\"),R212,IF(AND(R212=\"DNS\",R213=\"NP\"),R213,MIN(R212,R213))))))","v":""}]
[null,null,null,"II.pokus",null,null,null,{"$f":"IF($C212=\"\",\"\",IF(OR($E213=\"DNS\",$F213=\"DNS\",$G213=\"DNS\"),\"DNS\",IF(OR($E213=\"NP\",$F213=\"NP\",$G213=\"NP\"),\"NP\",IF(ISERROR(MEDIAN($E213:$G213)),\"DNS\",IF(COUNT($E213:$G213)<3,MAX($E213:$G213),MEDIAN($E213:$G213))))))","v":""},null,null,null,null,null,null,null,null,null,""]
[{"$f":"IF(Start!M24=\"\",\"\",\"x\")","v":""},69,{"$f":"IF(Start!K24=\"\",\"\",Start!K24)","v":""},"I.pokus",null,null,null,{"$f":"IF($C214=\"\",\"\",IF(OR($E214=\"DNS\",$F214=\"DNS\",$G214=\"DNS\"),\"DNS\",IF(OR($E214=\"NP\",$F214=\"NP\",$G214=\"NP\"),\"NP\",IF(ISERROR(MEDIAN($E214:$G214)),\"DNS\",IF(COUNT($E214:$G214)<3,MAX($E214:$G214),MEDIAN($E214:$G214))))))","v":""},null,null,null,null,null,null,null,null,null,"",{"$f":"IF(C214=\"x\",\"x\",IF(C214=\"\",\"\",IF(OR(T214=\"NP\",T214=\"DNS\"),IF(T214=\"NP\",MAX(T$12:T$309)+COUNTIF((T$12:T$309),MAX(T$12:T$309)),MAX(T$12:T$309)+COUNTIF((T$12:T$309),MAX(T$12:T$309))+COUNTIF((T$12:T$309),\"NP\")),T214)))","v":""},{"$f":"IF(A214=\"x\",\"x\",IF(C214=\"\",\"\",IF(OR(U214=\"NP\",U214=\"DNS\"),U214,RANK(U214,U$12:U$309,1))))","v":""},{"$f":"IF(A214=\"x\",\"x\",IF(C214=\"\",\"\",IF(OR(AND(R214=\"NP\",R215=\"NP\"),AND(R214=\"DNS\",R215=\"DNS\")),R214,IF(AND(R214=\"NP\",R215=\"DNS\"),R214,IF(AND(R214=\"DNS\",R215=\"NP\"),R215,MIN(R214,R215))))))","v":""}]
[null,null,null,"II.pokus",null,null,null,{"$f":"IF($C214=\"\",\"\",IF(OR($E215=\"DNS\",$F215=\"DNS\",$G215=\"DNS\"),\"DNS\",IF(OR($E215=\"NP\",$F215=\"NP\",$G215=\"NP\"),\"NP\",IF(ISERROR(MEDIAN($E215:$G215)),\"DNS\",IF(COUNT($E215:$G215)<3,MAX($E215:$G215),MEDIAN($E215:$G215))))))","v":""},null,null,null,null,null,null,null,null,null,""]
[{"$f":"IF(Start!M25=\"\",\"\",\"x\")","v":""},70,{"$f":"IF(Start!K25=\"\",\"\",Start!K25)","v":""},"I.pokus",null,null,null,{"$f":"IF($C216=\"\",\"\",IF(OR($E216=\"DNS\",$F216=\"DNS\",$G216=\"DNS\"),\"DNS\",IF(OR($E216=\"NP\",$F216=\"NP\",$G216=\"NP\"),\"NP\",IF(ISERROR(MEDIAN($E216:$G216)),\"DNS\",IF(COUNT($E216:$G216)<3,MAX($E216:$G216),MEDIAN($E216:$G216))))))","v":""},null,null,null,null,null,null,null,null,null,"",{"$f":"IF(C216=\"x\",\"x\",IF(C216=\"\",\"\",IF(OR(T216=\"NP\",T216=\"DNS\"),IF(T216=\"NP\",MAX(T$12:T$309)+COUNTIF((T$12:T$309),MAX(T$12:T$309)),MAX(T$12:T$309)+COUNTIF((T$12:T$309),MAX(T$12:T$309))+COUNTIF((T$12:T$309),\"NP\")),T216)))","v":""},{"$f":"IF(A216=\"x\",\"x\",IF(C216=\"\",\"\",IF(OR(U216=\"NP\",U216=\"DNS\"),U216,RANK(U216,U$12:U$309,1))))","v":""},{"$f":"IF(A216=\"x\",\"x\",IF(C216=\"\",\"\",IF(OR(AND(R216=\"NP\",R217=\"NP\"),AND(R216=\"DNS\",R217=\"DNS\")),R216,IF(AND(R216=\"NP\",R217=\"DNS\"),R216,IF(AND(R216=\"DNS\",R217=\"NP\"),R217,MIN(R216,R217))))))","v":""}]
[null,null,null,"II.pokus",null,null,null,{"$f":"IF($C216=\"\",\"\",IF(OR($E217=\"DNS\",$F217=\"DNS\",$G217=\"DNS\"),\"DNS\",IF(OR($E217=\"NP\",$F217=\"NP\",$G217=\"NP\"),\"NP\",IF(ISERROR(MEDIAN($E217:$G217)),\"DNS\",IF(COUNT($E217:$G217)<3,MAX($E217:$G217),MEDIAN($E217:$G217))))))","v":""},null,null,null,null,null,null,null,null,null,""]
[null,"CELOSTÁTNÍ HRA PLAMEN"]
[]
[]
[null,"Výsledková listina č: 8"]
[null,"Požární útok CTIF",null,null,"Základem je čas naměřený       od startu po signál velitele            o ukončení pokusu",null,null,null,"K úřednímu času se připočítávají trestné sekundy",null,null,null,null,null,null,null,null,"Výsledek soutěže"]
[null,null,null,null,null,null,null,null,"nesprávné překonání překážek\n10 tb. = sekund","celé přetočení hadice\n(každá hadice se posuzuje samostatně)\n5 tb. = sekund","rozpojení spojky nebo zapojení na 1 ozub\nza každý případ\n20 tb. = sekund","nesprávné rozložení hadice nesprávné položení hadic u překážek\n10 tb. = sekund","zapomenuté, ztracené nebo špatně odložené nářadí\n5 tb. = sekund","nesprávné zařazení technického prostředku\nu stojanu\n10 tb. = sekund","nesprávné uvázaný uzel   10 tb. = sekund","nesprávná práce\n10 tb. = sekund"]
[null,null,null,null,null,null,null,null,null,null,null,null,null,null,null,null,null,"součet trest. Sekund a úředního času","počet bodů za umístění"]
[null,{"$f":"\"KATEGORIE: \"&Start!$N$2","v":"KATEGORIE: starší"},null,null,"I. časoměřič","II. časoměřič","III. časoměřič","úřední čas"]
[]
[null,"start. číslo","SOUTĚŽNÍ DRUŽSTVO","pokus"]
[]
[{"$f":"IF(Start!M26=\"\",\"\",\"x\")","v":""},71,{"$f":"IF(Start!K26=\"\",\"\",Start!K26)","v":""},"I.pokus",null,null,null,{"$f":"IF($C229=\"\",\"\",IF(OR($E229=\"DNS\",$F229=\"DNS\",$G229=\"DNS\"),\"DNS\",IF(OR($E229=\"NP\",$F229=\"NP\",$G229=\"NP\"),\"NP\",IF(ISERROR(MEDIAN($E229:$G229)),\"DNS\",IF(COUNT($E229:$G229)<3,MAX($E229:$G229),MEDIAN($E229:$G229))))))","v":""},null,null,null,null,null,null,null,null,null,{"$f":"IF(H229=\"\",\"\",IF(H229=\"NP\",\"NP\",IF(H229=\"DNS\",\"DNS\",SUM(I229:Q229)+H229)))","v":""},{"$f":"IF(C229=\"x\",\"x\",IF(C229=\"\",\"\",IF(OR(T229=\"NP\",T229=\"DNS\"),IF(T229=\"NP\",MAX(T$12:T$309)+COUNTIF((T$12:T$309),MAX(T$12:T$309)),MAX(T$12:T$309)+COUNTIF((T$12:T$309),MAX(T$12:T$309))+COUNTIF((T$12:T$309),\"NP\")),T229)))","v":""},{"$f":"IF(A229=\"x\",\"x\",IF(C229=\"\",\"\",IF(OR(U229=\"NP\",U229=\"DNS\"),U229,RANK(U229,U$12:U$309,1))))","v":""},{"$f":"IF(A229=\"x\",\"x\",IF(C229=\"\",\"\",IF(OR(AND(R229=\"NP\",R230=\"NP\"),AND(R229=\"DNS\",R230=\"DNS\")),R229,IF(AND(R229=\"NP\",R230=\"DNS\"),R229,IF(AND(R229=\"DNS\",R230=\"NP\"),R230,MIN(R229,R230))))))","v":""}]
[null,null,null,"II.pokus",null,null,null,{"$f":"IF($C229=\"\",\"\",IF(OR($E230=\"DNS\",$F230=\"DNS\",$G230=\"DNS\"),\"DNS\",IF(OR($E230=\"NP\",$F230=\"NP\",$G230=\"NP\"),\"NP\",IF(ISERROR(MEDIAN($E230:$G230)),\"DNS\",IF(COUNT($E230:$G230)<3,MAX($E230:$G230),MEDIAN($E230:$G230))))))","v":""},null,null,null,null,null,null,null,null,null,""]
[{"$f":"IF(Start!M27=\"\",\"\",\"x\")","v":""},72,{"$f":"IF(Start!K27=\"\",\"\",Start!K27)","v":""},"I.pokus",null,null,null,{"$f":"IF($C231=\"\",\"\",IF(OR($E231=\"DNS\",$F231=\"DNS\",$G231=\"DNS\"),\"DNS\",IF(OR($E231=\"NP\",$F231=\"NP\",$G231=\"NP\"),\"NP\",IF(ISERROR(MEDIAN($E231:$G231)),\"DNS\",IF(COUNT($E231:$G231)<3,MAX($E231:$G231),MEDIAN($E231:$G231))))))","v":""},null,null,null,null,null,null,null,null,null,"",{"$f":"IF(C231=\"x\",\"x\",IF(C231=\"\",\"\",IF(OR(T231=\"NP\",T231=\"DNS\"),IF(T231=\"NP\",MAX(T$12:T$309)+COUNTIF((T$12:T$309),MAX(T$12:T$309)),MAX(T$12:T$309)+COUNTIF((T$12:T$309),MAX(T$12:T$309))+COUNTIF((T$12:T$309),\"NP\")),T231)))","v":""},{"$f":"IF(A231=\"x\",\"x\",IF(C231=\"\",\"\",IF(OR(U231=\"NP\",U231=\"DNS\"),U231,RANK(U231,U$12:U$309,1))))","v":""},{"$f":"IF(A231=\"x\",\"x\",IF(C231=\"\",\"\",IF(OR(AND(R231=\"NP\",R232=\"NP\"),AND(R231=\"DNS\",R232=\"DNS\")),R231,IF(AND(R231=\"NP\",R232=\"DNS\"),R231,IF(AND(R231=\"DNS\",R232=\"NP\"),R232,MIN(R231,R232))))))","v":""}]
[null,null,null,"II.pokus",null,null,null,{"$f":"IF($C231=\"\",\"\",IF(OR($E232=\"DNS\",$F232=\"DNS\",$G232=\"DNS\"),\"DNS\",IF(OR($E232=\"NP\",$F232=\"NP\",$G232=\"NP\"),\"NP\",IF(ISERROR(MEDIAN($E232:$G232)),\"DNS\",IF(COUNT($E232:$G232)<3,MAX($E232:$G232),MEDIAN($E232:$G232))))))","v":""},null,null,null,null,null,null,null,null,null,""]
[{"$f":"IF(Start!M28=\"\",\"\",\"x\")","v":""},73,{"$f":"IF(Start!K28=\"\",\"\",Start!K28)","v":""},"I.pokus",null,null,null,{"$f":"IF($C233=\"\",\"\",IF(OR($E233=\"DNS\",$F233=\"DNS\",$G233=\"DNS\"),\"DNS\",IF(OR($E233=\"NP\",$F233=\"NP\",$G233=\"NP\"),\"NP\",IF(ISERROR(MEDIAN($E233:$G233)),\"DNS\",IF(COUNT($E233:$G233)<3,MAX($E233:$G233),MEDIAN($E233:$G233))))))","v":""},null,null,null,null,null,null,null,null,null,"",{"$f":"IF(C233=\"x\",\"x\",IF(C233=\"\",\"\",IF(OR(T233=\"NP\",T233=\"DNS\"),IF(T233=\"NP\",MAX(T$12:T$309)+COUNTIF((T$12:T$309),MAX(T$12:T$309)),MAX(T$12:T$309)+COUNTIF((T$12:T$309),MAX(T$12:T$309))+COUNTIF((T$12:T$309),\"NP\")),T233)))","v":""},{"$f":"IF(A233=\"x\",\"x\",IF(C233=\"\",\"\",IF(OR(U233=\"NP\",U233=\"DNS\"),U233,RANK(U233,U$12:U$309,1))))","v":""},{"$f":"IF(A233=\"x\",\"x\",IF(C233=\"\",\"\",IF(OR(AND(R233=\"NP\",R234=\"NP\"),AND(R233=\"DNS\",R234=\"DNS\")),R233,IF(AND(R233=\"NP\",R234=\"DNS\"),R233,IF(AND(R233=\"DNS\",R234=\"NP\"),R234,MIN(R233,R234))))))","v":""}]
[null,null,null,"II.pokus",null,null,null,{"$f":"IF($C233=\"\",\"\",IF(OR($E234=\"DNS\",$F234=\"DNS\",$G234=\"DNS\"),\"DNS\",IF(OR($E234=\"NP\",$F234=\"NP\",$G234=\"NP\"),\"NP\",IF(ISERROR(MEDIAN($E234:$G234)),\"DNS\",IF(COUNT($E234:$G234)<3,MAX($E234:$G234),MEDIAN($E234:$G234))))))","v":""},null,null,null,null,null,null,null,null,null,""]
[{"$f":"IF(Start!M29=\"\",\"\",\"x\")","v":""},74,{"$f":"IF(Start!K29=\"\",\"\",Start!K29)","v":""},"I.pokus",null,null,null,{"$f":"IF($C235=\"\",\"\",IF(OR($E235=\"DNS\",$F235=\"DNS\",$G235=\"DNS\"),\"DNS\",IF(OR($E235=\"NP\",$F235=\"NP\",$G235=\"NP\"),\"NP\",IF(ISERROR(MEDIAN($E235:$G235)),\"DNS\",IF(COUNT($E235:$G235)<3,MAX($E235:$G235),MEDIAN($E235:$G235))))))","v":""},null,null,null,null,null,null,null,null,null,"",{"$f":"IF(C235=\"x\",\"x\",IF(C235=\"\",\"\",IF(OR(T235=\"NP\",T235=\"DNS\"),IF(T235=\"NP\",MAX(T$12:T$309)+COUNTIF((T$12:T$309),MAX(T$12:T$309)),MAX(T$12:T$309)+COUNTIF((T$12:T$309),MAX(T$12:T$309))+COUNTIF((T$12:T$309),\"NP\")),T235)))","v":""},{"$f":"IF(A235=\"x\",\"x\",IF(C235=\"\",\"\",IF(OR(U235=\"NP\",U235=\"DNS\"),U235,RANK(U235,U$12:U$309,1))))","v":""},{"$f":"IF(A235=\"x\",\"x\",IF(C235=\"\",\"\",IF(OR(AND(R235=\"NP\",R236=\"NP\"),AND(R235=\"DNS\",R236=\"DNS\")),R235,IF(AND(R235=\"NP\",R236=\"DNS\"),R235,IF(AND(R235=\"DNS\",R236=\"NP\"),R236,MIN(R235,R236))))))","v":""}]
[null,null,null,"II.pokus",null,null,null,{"$f":"IF($C235=\"\",\"\",IF(OR($E236=\"DNS\",$F236=\"DNS\",$G236=\"DNS\"),\"DNS\",IF(OR($E236=\"NP\",$F236=\"NP\",$G236=\"NP\"),\"NP\",IF(ISERROR(MEDIAN($E236:$G236)),\"DNS\",IF(COUNT($E236:$G236)<3,MAX($E236:$G236),MEDIAN($E236:$G236))))))","v":""},null,null,null,null,null,null,null,null,null,""]
[{"$f":"IF(Start!M30=\"\",\"\",\"x\")","v":""},75,{"$f":"IF(Start!K30=\"\",\"\",Start!K30)","v":""},"I.pokus",null,null,null,{"$f":"IF($C237=\"\",\"\",IF(OR($E237=\"DNS\",$F237=\"DNS\",$G237=\"DNS\"),\"DNS\",IF(OR($E237=\"NP\",$F237=\"NP\",$G237=\"NP\"),\"NP\",IF(ISERROR(MEDIAN($E237:$G237)),\"DNS\",IF(COUNT($E237:$G237)<3,MAX($E237:$G237),MEDIAN($E237:$G237))))))","v":""},null,null,null,null,null,null,null,null,null,"",{"$f":"IF(C237=\"x\",\"x\",IF(C237=\"\",\"\",IF(OR(T237=\"NP\",T237=\"DNS\"),IF(T237=\"NP\",MAX(T$12:T$309)+COUNTIF((T$12:T$309),MAX(T$12:T$309)),MAX(T$12:T$309)+COUNTIF((T$12:T$309),MAX(T$12:T$309))+COUNTIF((T$12:T$309),\"NP\")),T237)))","v":""},{"$f":"IF(A237=\"x\",\"x\",IF(C237=\"\",\"\",IF(OR(U237=\"NP\",U237=\"DNS\"),U237,RANK(U237,U$12:U$309,1))))","v":""},{"$f":"IF(A237=\"x\",\"x\",IF(C237=\"\",\"\",IF(OR(AND(R237=\"NP\",R238=\"NP\"),AND(R237=\"DNS\",R238=\"DNS\")),R237,IF(AND(R237=\"NP\",R238=\"DNS\"),R237,IF(AND(R237=\"DNS\",R238=\"NP\"),R238,MIN(R237,R238))))))","v":""}]
[null,null,null,"II.pokus",null,null,null,{"$f":"IF($C237=\"\",\"\",IF(OR($E238=\"DNS\",$F238=\"DNS\",$G238=\"DNS\"),\"DNS\",IF(OR($E238=\"NP\",$F238=\"NP\",$G238=\"NP\"),\"NP\",IF(ISERROR(MEDIAN($E238:$G238)),\"DNS\",IF(COUNT($E238:$G238)<3,MAX($E238:$G238),MEDIAN($E238:$G238))))))","v":""},null,null,null,null,null,null,null,null,null,""]
[{"$f":"IF(Start!Q6=\"\",\"\",\"x\")","v":""},76,{"$f":"IF(Start!O6=\"\",\"\",Start!O6)","v":""},"I.pokus",null,null,null,{"$f":"IF($C239=\"\",\"\",IF(OR($E239=\"DNS\",$F239=\"DNS\",$G239=\"DNS\"),\"DNS\",IF(OR($E239=\"NP\",$F239=\"NP\",$G239=\"NP\"),\"NP\",IF(ISERROR(MEDIAN($E239:$G239)),\"DNS\",IF(COUNT($E239:$G239)<3,MAX($E239:$G239),MEDIAN($E239:$G239))))))","v":""},null,null,null,null,null,null,null,null,null,"",{"$f":"IF(C239=\"x\",\"x\",IF(C239=\"\",\"\",IF(OR(T239=\"NP\",T239=\"DNS\"),IF(T239=\"NP\",MAX(T$12:T$309)+COUNTIF((T$12:T$309),MAX(T$12:T$309)),MAX(T$12:T$309)+COUNTIF((T$12:T$309),MAX(T$12:T$309))+COUNTIF((T$12:T$309),\"NP\")),T239)))","v":""},{"$f":"IF(A239=\"x\",\"x\",IF(C239=\"\",\"\",IF(OR(U239=\"NP\",U239=\"DNS\"),U239,RANK(U239,U$12:U$309,1))))","v":""},{"$f":"IF(A239=\"x\",\"x\",IF(C239=\"\",\"\",IF(OR(AND(R239=\"NP\",R240=\"NP\"),AND(R239=\"DNS\",R240=\"DNS\")),R239,IF(AND(R239=\"NP\",R240=\"DNS\"),R239,IF(AND(R239=\"DNS\",R240=\"NP\"),R240,MIN(R239,R240))))))","v":""}]
[null,null,null,"II.pokus",null,null,null,{"$f":"IF($C239=\"\",\"\",IF(OR($E240=\"DNS\",$F240=\"DNS\",$G240=\"DNS\"),\"DNS\",IF(OR($E240=\"NP\",$F240=\"NP\",$G240=\"NP\"),\"NP\",IF(ISERROR(MEDIAN($E240:$G240)),\"DNS\",IF(COUNT($E240:$G240)<3,MAX($E240:$G240),MEDIAN($E240:$G240))))))","v":""},null,null,null,null,null,null,null,null,null,""]
[{"$f":"IF(Start!Q7=\"\",\"\",\"x\")","v":""},77,{"$f":"IF(Start!O7=\"\",\"\",Start!O7)","v":""},"I.pokus",null,null,null,{"$f":"IF($C241=\"\",\"\",IF(OR($E241=\"DNS\",$F241=\"DNS\",$G241=\"DNS\"),\"DNS\",IF(OR($E241=\"NP\",$F241=\"NP\",$G241=\"NP\"),\"NP\",IF(ISERROR(MEDIAN($E241:$G241)),\"DNS\",IF(COUNT($E241:$G241)<3,MAX($E241:$G241),MEDIAN($E241:$G241))))))","v":""},null,null,null,null,null,null,null,null,null,"",{"$f":"IF(C241=\"x\",\"x\",IF(C241=\"\",\"\",IF(OR(T241=\"NP\",T241=\"DNS\"),IF(T241=\"NP\",MAX(T$12:T$309)+COUNTIF((T$12:T$309),MAX(T$12:T$309)),MAX(T$12:T$309)+COUNTIF((T$12:T$309),MAX(T$12:T$309))+COUNTIF((T$12:T$309),\"NP\")),T241)))","v":""},{"$f":"IF(A241=\"x\",\"x\",IF(C241=\"\",\"\",IF(OR(U241=\"NP\",U241=\"DNS\"),U241,RANK(U241,U$12:U$309,1))))","v":""},{"$f":"IF(A241=\"x\",\"x\",IF(C241=\"\",\"\",IF(OR(AND(R241=\"NP\",R242=\"NP\"),AND(R241=\"DNS\",R242=\"DNS\")),R241,IF(AND(R241=\"NP\",R242=\"DNS\"),R241,IF(AND(R241=\"DNS\",R242=\"NP\"),R242,MIN(R241,R242))))))","v":""}]
[null,null,null,"II.pokus",null,null,null,{"$f":"IF($C241=\"\",\"\",IF(OR($E242=\"DNS\",$F242=\"DNS\",$G242=\"DNS\"),\"DNS\",IF(OR($E242=\"NP\",$F242=\"NP\",$G242=\"NP\"),\"NP\",IF(ISERROR(MEDIAN($E242:$G242)),\"DNS\",IF(COUNT($E242:$G242)<3,MAX($E242:$G242),MEDIAN($E242:$G242))))))","v":""},null,null,null,null,null,null,null,null,null,""]
[{"$f":"IF(Start!Q8=\"\",\"\",\"x\")","v":""},78,{"$f":"IF(Start!O8=\"\",\"\",Start!O8)","v":""},"I.pokus",null,null,null,{"$f":"IF($C243=\"\",\"\",IF(OR($E243=\"DNS\",$F243=\"DNS\",$G243=\"DNS\"),\"DNS\",IF(OR($E243=\"NP\",$F243=\"NP\",$G243=\"NP\"),\"NP\",IF(ISERROR(MEDIAN($E243:$G243)),\"DNS\",IF(COUNT($E243:$G243)<3,MAX($E243:$G243),MEDIAN($E243:$G243))))))","v":""},null,null,null,null,null,null,null,null,null,"",{"$f":"IF(C243=\"x\",\"x\",IF(C243=\"\",\"\",IF(OR(T243=\"NP\",T243=\"DNS\"),IF(T243=\"NP\",MAX(T$12:T$309)+COUNTIF((T$12:T$309),MAX(T$12:T$309)),MAX(T$12:T$309)+COUNTIF((T$12:T$309),MAX(T$12:T$309))+COUNTIF((T$12:T$309),\"NP\")),T243)))","v":""},{"$f":"IF(A243=\"x\",\"x\",IF(C243=\"\",\"\",IF(OR(U243=\"NP\",U243=\"DNS\"),U243,RANK(U243,U$12:U$309,1))))","v":""},{"$f":"IF(A243=\"x\",\"x\",IF(C243=\"\",\"\",IF(OR(AND(R243=\"NP\",R244=\"NP\"),AND(R243=\"DNS\",R244=\"DNS\")),R243,IF(AND(R243=\"NP\",R244=\"DNS\"),R243,IF(AND(R243=\"DNS\",R244=\"NP\"),R244,MIN(R243,R244))))))","v":""}]
[null,null,null,"II.pokus",null,null,null,{"$f":"IF($C243=\"\",\"\",IF(OR($E244=\"DNS\",$F244=\"DNS\",$G244=\"DNS\"),\"DNS\",IF(OR($E244=\"NP\",$F244=\"NP\",$G244=\"NP\"),\"NP\",IF(ISERROR(MEDIAN($E244:$G244)),\"DNS\",IF(COUNT($E244:$G244)<3,MAX($E244:$G244),MEDIAN($E244:$G244))))))","v":""},null,null,null,null,null,null,null,null,null,""]
[{"$f":"IF(Start!Q9=\"\",\"\",\"x\")","v":""},79,{"$f":"IF(Start!O9=\"\",\"\",Start!O9)","v":""},"I.pokus",null,null,null,{"$f":"IF($C245=\"\",\"\",IF(OR($E245=\"DNS\",$F245=\"DNS\",$G245=\"DNS\"),\"DNS\",IF(OR($E245=\"NP\",$F245=\"NP\",$G245=\"NP\"),\"NP\",IF(ISERROR(MEDIAN($E245:$G245)),\"DNS\",IF(COUNT($E245:$G245)<3,MAX($E245:$G245),MEDIAN($E245:$G245))))))","v":""},null,null,null,null,null,null,null,null,null,"",{"$f":"IF(C245=\"x\",\"x\",IF(C245=\"\",\"\",IF(OR(T245=\"NP\",T245=\"DNS\"),IF(T245=\"NP\",MAX(T$12:T$309)+COUNTIF((T$12:T$309),MAX(T$12:T$309)),MAX(T$12:T$309)+COUNTIF((T$12:T$309),MAX(T$12:T$309))+COUNTIF((T$12:T$309),\"NP\")),T245)))","v":""},{"$f":"IF(A245=\"x\",\"x\",IF(C245=\"\",\"\",IF(OR(U245=\"NP\",U245=\"DNS\"),U245,RANK(U245,U$12:U$309,1))))","v":""},{"$f":"IF(A245=\"x\",\"x\",IF(C245=\"\",\"\",IF(OR(AND(R245=\"NP\",R246=\"NP\"),AND(R245=\"DNS\",R246=\"DNS\")),R245,IF(AND(R245=\"NP\",R246=\"DNS\"),R245,IF(AND(R245=\"DNS\",R246=\"NP\"),R246,MIN(R245,R246))))))","v":""}]
[null,null,null,"II.pokus",null,null,null,{"$f":"IF($C245=\"\",\"\",IF(OR($E246=\"DNS\",$F246=\"DNS\",$G246=\"DNS\"),\"DNS\",IF(OR($E246=\"NP\",$F246=\"NP\",$G246=\"NP\"),\"NP\",IF(ISERROR(MEDIAN($E246:$G246)),\"DNS\",IF(COUNT($E246:$G246)<3,MAX($E246:$G246),MEDIAN($E246:$G246))))))","v":""},null,null,null,null,null,null,null,null,null,""]
[{"$f":"IF(Start!Q10=\"\",\"\",\"x\")","v":""},80,{"$f":"IF(Start!O10=\"\",\"\",Start!O10)","v":""},"I.pokus",null,null,null,{"$f":"IF($C247=\"\",\"\",IF(OR($E247=\"DNS\",$F247=\"DNS\",$G247=\"DNS\"),\"DNS\",IF(OR($E247=\"NP\",$F247=\"NP\",$G247=\"NP\"),\"NP\",IF(ISERROR(MEDIAN($E247:$G247)),\"DNS\",IF(COUNT($E247:$G247)<3,MAX($E247:$G247),MEDIAN($E247:$G247))))))","v":""},null,null,null,null,null,null,null,null,null,"",{"$f":"IF(C247=\"x\",\"x\",IF(C247=\"\",\"\",IF(OR(T247=\"NP\",T247=\"DNS\"),IF(T247=\"NP\",MAX(T$12:T$309)+COUNTIF((T$12:T$309),MAX(T$12:T$309)),MAX(T$12:T$309)+COUNTIF((T$12:T$309),MAX(T$12:T$309))+COUNTIF((T$12:T$309),\"NP\")),T247)))","v":""},{"$f":"IF(A247=\"x\",\"x\",IF(C247=\"\",\"\",IF(OR(U247=\"NP\",U247=\"DNS\"),U247,RANK(U247,U$12:U$309,1))))","v":""},{"$f":"IF(A247=\"x\",\"x\",IF(C247=\"\",\"\",IF(OR(AND(R247=\"NP\",R248=\"NP\"),AND(R247=\"DNS\",R248=\"DNS\")),R247,IF(AND(R247=\"NP\",R248=\"DNS\"),R247,IF(AND(R247=\"DNS\",R248=\"NP\"),R248,MIN(R247,R248))))))","v":""}]
[null,null,null,"II.pokus",null,null,null,{"$f":"IF($C247=\"\",\"\",IF(OR($E248=\"DNS\",$F248=\"DNS\",$G248=\"DNS\"),\"DNS\",IF(OR($E248=\"NP\",$F248=\"NP\",$G248=\"NP\"),\"NP\",IF(ISERROR(MEDIAN($E248:$G248)),\"DNS\",IF(COUNT($E248:$G248)<3,MAX($E248:$G248),MEDIAN($E248:$G248))))))","v":""},null,null,null,null,null,null,null,null,null,""]
[null,"CELOSTÁTNÍ HRA PLAMEN"]
[]
[]
[null,"Výsledková listina č: 9"]
[null,"Požární útok CTIF",null,null,"Základem je čas naměřený       od startu po signál velitele            o ukončení pokusu",null,null,null,"K úřednímu času se připočítávají trestné sekundy",null,null,null,null,null,null,null,null,"Výsledek soutěže"]
[null,null,null,null,null,null,null,null,"nesprávné překonání překážek\n10 tb. = sekund","celé přetočení hadice\n(každá hadice se posuzuje samostatně)\n5 tb. = sekund","rozpojení spojky nebo zapojení na 1 ozub\nza každý případ\n20 tb. = sekund","nesprávné rozložení hadice nesprávné položení hadic u překážek\n10 tb. = sekund","zapomenuté, ztracené nebo špatně odložené nářadí\n5 tb. = sekund","nesprávné zařazení technického prostředku\nu stojanu\n10 tb. = sekund","nesprávné uvázaný uzel   10 tb. = sekund","nesprávná práce\n10 tb. = sekund"]
[null,null,null,null,null,null,null,null,null,null,null,null,null,null,null,null,null,"součet trest. Sekund a úředního času","počet bodů za umístění"]
[null,{"$f":"\"KATEGORIE: \"&Start!$N$2","v":"KATEGORIE: starší"},null,null,"I. časoměřič","II. časoměřič","III. časoměřič","úřední čas"]
[]
[null,"start. číslo","SOUTĚŽNÍ DRUŽSTVO","pokus"]
[]
[{"$f":"IF(Start!Q11=\"\",\"\",\"x\")","v":""},81,{"$f":"IF(Start!O11=\"\",\"\",Start!O11)","v":""},"I.pokus",null,null,null,{"$f":"IF($C260=\"\",\"\",IF(OR($E260=\"DNS\",$F260=\"DNS\",$G260=\"DNS\"),\"DNS\",IF(OR($E260=\"NP\",$F260=\"NP\",$G260=\"NP\"),\"NP\",IF(ISERROR(MEDIAN($E260:$G260)),\"DNS\",IF(COUNT($E260:$G260)<3,MAX($E260:$G260),MEDIAN($E260:$G260))))))","v":""},null,null,null,null,null,null,null,null,null,{"$f":"IF(H260=\"\",\"\",IF(H260=\"NP\",\"NP\",IF(H260=\"DNS\",\"DNS\",SUM(I260:Q260)+H260)))","v":""},{"$f":"IF(C260=\"x\",\"x\",IF(C260=\"\",\"\",IF(OR(T260=\"NP\",T260=\"DNS\"),IF(T260=\"NP\",MAX(T$12:T$309)+COUNTIF((T$12:T$309),MAX(T$12:T$309)),MAX(T$12:T$309)+COUNTIF((T$12:T$309),MAX(T$12:T$309))+COUNTIF((T$12:T$309),\"NP\")),T260)))","v":""},{"$f":"IF(A260=\"x\",\"x\",IF(C260=\"\",\"\",IF(OR(U260=\"NP\",U260=\"DNS\"),U260,RANK(U260,U$12:U$309,1))))","v":""},{"$f":"IF(A260=\"x\",\"x\",IF(C260=\"\",\"\",IF(OR(AND(R260=\"NP\",R261=\"NP\"),AND(R260=\"DNS\",R261=\"DNS\")),R260,IF(AND(R260=\"NP\",R261=\"DNS\"),R260,IF(AND(R260=\"DNS\",R261=\"NP\"),R261,MIN(R260,R261))))))","v":""}]
[null,null,null,"II.pokus",null,null,null,{"$f":"IF($C260=\"\",\"\",IF(OR($E261=\"DNS\",$F261=\"DNS\",$G261=\"DNS\"),\"DNS\",IF(OR($E261=\"NP\",$F261=\"NP\",$G261=\"NP\"),\"NP\",IF(ISERROR(MEDIAN($E261:$G261)),\"DNS\",IF(COUNT($E261:$G261)<3,MAX($E261:$G261),MEDIAN($E261:$G261))))))","v":""},null,null,null,null,null,null,null,null,null,""]
[{"$f":"IF(Start!Q12=\"\",\"\",\"x\")","v":""},82,{"$f":"IF(Start!O12=\"\",\"\",Start!O12)","v":""},"I.pokus",null,null,null,{"$f":"IF($C262=\"\",\"\",IF(OR($E262=\"DNS\",$F262=\"DNS\",$G262=\"DNS\"),\"DNS\",IF(OR($E262=\"NP\",$F262=\"NP\",$G262=\"NP\"),\"NP\",IF(ISERROR(MEDIAN($E262:$G262)),\"DNS\",IF(COUNT($E262:$G262)<3,MAX($E262:$G262),MEDIAN($E262:$G262))))))","v":""},null,null,null,null,null,null,null,null,null,"",{"$f":"IF(C262=\"x\",\"x\",IF(C262=\"\",\"\",IF(OR(T262=\"NP\",T262=\"DNS\"),IF(T262=\"NP\",MAX(T$12:T$309)+COUNTIF((T$12:T$309),MAX(T$12:T$309)),MAX(T$12:T$309)+COUNTIF((T$12:T$309),MAX(T$12:T$309))+COUNTIF((T$12:T$309),\"NP\")),T262)))","v":""},{"$f":"IF(A262=\"x\",\"x\",IF(C262=\"\",\"\",IF(OR(U262=\"NP\",U262=\"DNS\"),U262,RANK(U262,U$12:U$309,1))))","v":""},{"$f":"IF(A262=\"x\",\"x\",IF(C262=\"\",\"\",IF(OR(AND(R262=\"NP\",R263=\"NP\"),AND(R262=\"DNS\",R263=\"DNS\")),R262,IF(AND(R262=\"NP\",R263=\"DNS\"),R262,IF(AND(R262=\"DNS\",R263=\"NP\"),R263,MIN(R262,R263))))))","v":""}]
[null,null,null,"II.pokus",null,null,null,{"$f":"IF($C262=\"\",\"\",IF(OR($E263=\"DNS\",$F263=\"DNS\",$G263=\"DNS\"),\"DNS\",IF(OR($E263=\"NP\",$F263=\"NP\",$G263=\"NP\"),\"NP\",IF(ISERROR(MEDIAN($E263:$G263)),\"DNS\",IF(COUNT($E263:$G263)<3,MAX($E263:$G263),MEDIAN($E263:$G263))))))","v":""},null,null,null,null,null,null,null,null,null,""]
[{"$f":"IF(Start!Q13=\"\",\"\",\"x\")","v":""},83,{"$f":"IF(Start!O13=\"\",\"\",Start!O13)","v":""},"I.pokus",null,null,null,{"$f":"IF($C264=\"\",\"\",IF(OR($E264=\"DNS\",$F264=\"DNS\",$G264=\"DNS\"),\"DNS\",IF(OR($E264=\"NP\",$F264=\"NP\",$G264=\"NP\"),\"NP\",IF(ISERROR(MEDIAN($E264:$G264)),\"DNS\",IF(COUNT($E264:$G264)<3,MAX($E264:$G264),MEDIAN($E264:$G264))))))","v":""},null,null,null,null,null,null,null,null,null,"",{"$f":"IF(C264=\"x\",\"x\",IF(C264=\"\",\"\",IF(OR(T264=\"NP\",T264=\"DNS\"),IF(T264=\"NP\",MAX(T$12:T$309)+COUNTIF((T$12:T$309),MAX(T$12:T$309)),MAX(T$12:T$309)+COUNTIF((T$12:T$309),MAX(T$12:T$309))+COUNTIF((T$12:T$309),\"NP\")),T264)))","v":""},{"$f":"IF(A264=\"x\",\"x\",IF(C264=\"\",\"\",IF(OR(U264=\"NP\",U264=\"DNS\"),U264,RANK(U264,U$12:U$309,1))))","v":""},{"$f":"IF(A264=\"x\",\"x\",IF(C264=\"\",\"\",IF(OR(AND(R264=\"NP\",R265=\"NP\"),AND(R264=\"DNS\",R265=\"DNS\")),R264,IF(AND(R264=\"NP\",R265=\"DNS\"),R264,IF(AND(R264=\"DNS\",R265=\"NP\"),R265,MIN(R264,R265))))))","v":""}]
[null,null,null,"II.pokus",null,null,null,{"$f":"IF($C264=\"\",\"\",IF(OR($E265=\"DNS\",$F265=\"DNS\",$G265=\"DNS\"),\"DNS\",IF(OR($E265=\"NP\",$F265=\"NP\",$G265=\"NP\"),\"NP\",IF(ISERROR(MEDIAN($E265:$G265)),\"DNS\",IF(COUNT($E265:$G265)<3,MAX($E265:$G265),MEDIAN($E265:$G265))))))","v":""},null,null,null,null,null,null,null,null,null,""]
[{"$f":"IF(Start!Q14=\"\",\"\",\"x\")","v":""},84,{"$f":"IF(Start!O14=\"\",\"\",Start!O14)","v":""},"I.pokus",null,null,null,{"$f":"IF($C266=\"\",\"\",IF(OR($E266=\"DNS\",$F266=\"DNS\",$G266=\"DNS\"),\"DNS\",IF(OR($E266=\"NP\",$F266=\"NP\",$G266=\"NP\"),\"NP\",IF(ISERROR(MEDIAN($E266:$G266)),\"DNS\",IF(COUNT($E266:$G266)<3,MAX($E266:$G266),MEDIAN($E266:$G266))))))","v":""},null,null,null,null,null,null,null,null,null,"",{"$f":"IF(C266=\"x\",\"x\",IF(C266=\"\",\"\",IF(OR(T266=\"NP\",T266=\"DNS\"),IF(T266=\"NP\",MAX(T$12:T$309)+COUNTIF((T$12:T$309),MAX(T$12:T$309)),MAX(T$12:T$309)+COUNTIF((T$12:T$309),MAX(T$12:T$309))+COUNTIF((T$12:T$309),\"NP\")),T266)))","v":""},{"$f":"IF(A266=\"x\",\"x\",IF(C266=\"\",\"\",IF(OR(U266=\"NP\",U266=\"DNS\"),U266,RANK(U266,U$12:U$309,1))))","v":""},{"$f":"IF(A266=\"x\",\"x\",IF(C266=\"\",\"\",IF(OR(AND(R266=\"NP\",R267=\"NP\"),AND(R266=\"DNS\",R267=\"DNS\")),R266,IF(AND(R266=\"NP\",R267=\"DNS\"),R266,IF(AND(R266=\"DNS\",R267=\"NP\"),R267,MIN(R266,R267))))))","v":""}]
[null,null,null,"II.pokus",null,null,null,{"$f":"IF($C266=\"\",\"\",IF(OR($E267=\"DNS\",$F267=\"DNS\",$G267=\"DNS\"),\"DNS\",IF(OR($E267=\"NP\",$F267=\"NP\",$G267=\"NP\"),\"NP\",IF(ISERROR(MEDIAN($E267:$G267)),\"DNS\",IF(COUNT($E267:$G267)<3,MAX($E267:$G267),MEDIAN($E267:$G267))))))","v":""},null,null,null,null,null,null,null,null,null,""]
[{"$f":"IF(Start!Q15=\"\",\"\",\"x\")","v":""},85,{"$f":"IF(Start!O15=\"\",\"\",Start!O15)","v":""},"I.pokus",null,null,null,{"$f":"IF($C268=\"\",\"\",IF(OR($E268=\"DNS\",$F268=\"DNS\",$G268=\"DNS\"),\"DNS\",IF(OR($E268=\"NP\",$F268=\"NP\",$G268=\"NP\"),\"NP\",IF(ISERROR(MEDIAN($E268:$G268)),\"DNS\",IF(COUNT($E268:$G268)<3,MAX($E268:$G268),MEDIAN($E268:$G268))))))","v":""},null,null,null,null,null,null,null,null,null,"",{"$f":"IF(C268=\"x\",\"x\",IF(C268=\"\",\"\",IF(OR(T268=\"NP\",T268=\"DNS\"),IF(T268=\"NP\",MAX(T$12:T$309)+COUNTIF((T$12:T$309),MAX(T$12:T$309)),MAX(T$12:T$309)+COUNTIF((T$12:T$309),MAX(T$12:T$309))+COUNTIF((T$12:T$309),\"NP\")),T268)))","v":""},{"$f":"IF(A268=\"x\",\"x\",IF(C268=\"\",\"\",IF(OR(U268=\"NP\",U268=\"DNS\"),U268,RANK(U268,U$12:U$309,1))))","v":""},{"$f":"IF(A268=\"x\",\"x\",IF(C268=\"\",\"\",IF(OR(AND(R268=\"NP\",R269=\"NP\"),AND(R268=\"DNS\",R269=\"DNS\")),R268,IF(AND(R268=\"NP\",R269=\"DNS\"),R268,IF(AND(R268=\"DNS\",R269=\"NP\"),R269,MIN(R268,R269))))))","v":""}]
[null,null,null,"II.pokus",null,null,null,{"$f":"IF($C268=\"\",\"\",IF(OR($E269=\"DNS\",$F269=\"DNS\",$G269=\"DNS\"),\"DNS\",IF(OR($E269=\"NP\",$F269=\"NP\",$G269=\"NP\"),\"NP\",IF(ISERROR(MEDIAN($E269:$G269)),\"DNS\",IF(COUNT($E269:$G269)<3,MAX($E269:$G269),MEDIAN($E269:$G269))))))","v":""},null,null,null,null,null,null,null,null,null,""]
[{"$f":"IF(Start!Q16=\"\",\"\",\"x\")","v":""},86,{"$f":"IF(Start!O16=\"\",\"\",Start!O16)","v":""},"I.pokus",null,null,null,{"$f":"IF($C270=\"\",\"\",IF(OR($E270=\"DNS\",$F270=\"DNS\",$G270=\"DNS\"),\"DNS\",IF(OR($E270=\"NP\",$F270=\"NP\",$G270=\"NP\"),\"NP\",IF(ISERROR(MEDIAN($E270:$G270)),\"DNS\",IF(COUNT($E270:$G270)<3,MAX($E270:$G270),MEDIAN($E270:$G270))))))","v":""},null,null,null,null,null,null,null,null,null,"",{"$f":"IF(C270=\"x\",\"x\",IF(C270=\"\",\"\",IF(OR(T270=\"NP\",T270=\"DNS\"),IF(T270=\"NP\",MAX(T$12:T$309)+COUNTIF((T$12:T$309),MAX(T$12:T$309)),MAX(T$12:T$309)+COUNTIF((T$12:T$309),MAX(T$12:T$309))+COUNTIF((T$12:T$309),\"NP\")),T270)))","v":""},{"$f":"IF(A270=\"x\",\"x\",IF(C270=\"\",\"\",IF(OR(U270=\"NP\",U270=\"DNS\"),U270,RANK(U270,U$12:U$309,1))))","v":""},{"$f":"IF(A270=\"x\",\"x\",IF(C270=\"\",\"\",IF(OR(AND(R270=\"NP\",R271=\"NP\"),AND(R270=\"DNS\",R271=\"DNS\")),R270,IF(AND(R270=\"NP\",R271=\"DNS\"),R270,IF(AND(R270=\"DNS\",R271=\"NP\"),R271,MIN(R270,R271))))))","v":""}]
[null,null,null,"II.pokus",null,null,null,{"$f":"IF($C270=\"\",\"\",IF(OR($E271=\"DNS\",$F271=\"DNS\",$G271=\"DNS\"),\"DNS\",IF(OR($E271=\"NP\",$F271=\"NP\",$G271=\"NP\"),\"NP\",IF(ISERROR(MEDIAN($E271:$G271)),\"DNS\",IF(COUNT($E271:$G271)<3,MAX($E271:$G271),MEDIAN($E271:$G271))))))","v":""},null,null,null,null,null,null,null,null,null,""]
[{"$f":"IF(Start!Q17=\"\",\"\",\"x\")","v":""},87,{"$f":"IF(Start!O17=\"\",\"\",Start!O17)","v":""},"I.pokus",null,null,null,{"$f":"IF($C272=\"\",\"\",IF(OR($E272=\"DNS\",$F272=\"DNS\",$G272=\"DNS\"),\"DNS\",IF(OR($E272=\"NP\",$F272=\"NP\",$G272=\"NP\"),\"NP\",IF(ISERROR(MEDIAN($E272:$G272)),\"DNS\",IF(COUNT($E272:$G272)<3,MAX($E272:$G272),MEDIAN($E272:$G272))))))","v":""},null,null,null,null,null,null,null,null,null,"",{"$f":"IF(C272=\"x\",\"x\",IF(C272=\"\",\"\",IF(OR(T272=\"NP\",T272=\"DNS\"),IF(T272=\"NP\",MAX(T$12:T$309)+COUNTIF((T$12:T$309),MAX(T$12:T$309)),MAX(T$12:T$309)+COUNTIF((T$12:T$309),MAX(T$12:T$309))+COUNTIF((T$12:T$309),\"NP\")),T272)))","v":""},{"$f":"IF(A272=\"x\",\"x\",IF(C272=\"\",\"\",IF(OR(U272=\"NP\",U272=\"DNS\"),U272,RANK(U272,U$12:U$309,1))))","v":""},{"$f":"IF(A272=\"x\",\"x\",IF(C272=\"\",\"\",IF(OR(AND(R272=\"NP\",R273=\"NP\"),AND(R272=\"DNS\",R273=\"DNS\")),R272,IF(AND(R272=\"NP\",R273=\"DNS\"),R272,IF(AND(R272=\"DNS\",R273=\"NP\"),R273,MIN(R272,R273))))))","v":""}]
[null,null,null,"II.pokus",null,null,null,{"$f":"IF($C272=\"\",\"\",IF(OR($E273=\"DNS\",$F273=\"DNS\",$G273=\"DNS\"),\"DNS\",IF(OR($E273=\"NP\",$F273=\"NP\",$G273=\"NP\"),\"NP\",IF(ISERROR(MEDIAN($E273:$G273)),\"DNS\",IF(COUNT($E273:$G273)<3,MAX($E273:$G273),MEDIAN($E273:$G273))))))","v":""},null,null,null,null,null,null,null,null,null,""]
[{"$f":"IF(Start!Q18=\"\",\"\",\"x\")","v":""},88,{"$f":"IF(Start!O18=\"\",\"\",Start!O18)","v":""},"I.pokus",null,null,null,{"$f":"IF($C274=\"\",\"\",IF(OR($E274=\"DNS\",$F274=\"DNS\",$G274=\"DNS\"),\"DNS\",IF(OR($E274=\"NP\",$F274=\"NP\",$G274=\"NP\"),\"NP\",IF(ISERROR(MEDIAN($E274:$G274)),\"DNS\",IF(COUNT($E274:$G274)<3,MAX($E274:$G274),MEDIAN($E274:$G274))))))","v":""},null,null,null,null,null,null,null,null,null,"",{"$f":"IF(C274=\"x\",\"x\",IF(C274=\"\",\"\",IF(OR(T274=\"NP\",T274=\"DNS\"),IF(T274=\"NP\",MAX(T$12:T$309)+COUNTIF((T$12:T$309),MAX(T$12:T$309)),MAX(T$12:T$309)+COUNTIF((T$12:T$309),MAX(T$12:T$309))+COUNTIF((T$12:T$309),\"NP\")),T274)))","v":""},{"$f":"IF(A274=\"x\",\"x\",IF(C274=\"\",\"\",IF(OR(U274=\"NP\",U274=\"DNS\"),U274,RANK(U274,U$12:U$309,1))))","v":""},{"$f":"IF(A274=\"x\",\"x\",IF(C274=\"\",\"\",IF(OR(AND(R274=\"NP\",R275=\"NP\"),AND(R274=\"DNS\",R275=\"DNS\")),R274,IF(AND(R274=\"NP\",R275=\"DNS\"),R274,IF(AND(R274=\"DNS\",R275=\"NP\"),R275,MIN(R274,R275))))))","v":""}]
[null,null,null,"II.pokus",null,null,null,{"$f":"IF($C274=\"\",\"\",IF(OR($E275=\"DNS\",$F275=\"DNS\",$G275=\"DNS\"),\"DNS\",IF(OR($E275=\"NP\",$F275=\"NP\",$G275=\"NP\"),\"NP\",IF(ISERROR(MEDIAN($E275:$G275)),\"DNS\",IF(COUNT($E275:$G275)<3,MAX($E275:$G275),MEDIAN($E275:$G275))))))","v":""},null,null,null,null,null,null,null,null,null,""]
[{"$f":"IF(Start!Q19=\"\",\"\",\"x\")","v":""},89,{"$f":"IF(Start!O19=\"\",\"\",Start!O19)","v":""},"I.pokus",null,null,null,{"$f":"IF($C276=\"\",\"\",IF(OR($E276=\"DNS\",$F276=\"DNS\",$G276=\"DNS\"),\"DNS\",IF(OR($E276=\"NP\",$F276=\"NP\",$G276=\"NP\"),\"NP\",IF(ISERROR(MEDIAN($E276:$G276)),\"DNS\",IF(COUNT($E276:$G276)<3,MAX($E276:$G276),MEDIAN($E276:$G276))))))","v":""},null,null,null,null,null,null,null,null,null,"",{"$f":"IF(C276=\"x\",\"x\",IF(C276=\"\",\"\",IF(OR(T276=\"NP\",T276=\"DNS\"),IF(T276=\"NP\",MAX(T$12:T$309)+COUNTIF((T$12:T$309),MAX(T$12:T$309)),MAX(T$12:T$309)+COUNTIF((T$12:T$309),MAX(T$12:T$309))+COUNTIF((T$12:T$309),\"NP\")),T276)))","v":""},{"$f":"IF(A276=\"x\",\"x\",IF(C276=\"\",\"\",IF(OR(U276=\"NP\",U276=\"DNS\"),U276,RANK(U276,U$12:U$309,1))))","v":""},{"$f":"IF(A276=\"x\",\"x\",IF(C276=\"\",\"\",IF(OR(AND(R276=\"NP\",R277=\"NP\"),AND(R276=\"DNS\",R277=\"DNS\")),R276,IF(AND(R276=\"NP\",R277=\"DNS\"),R276,IF(AND(R276=\"DNS\",R277=\"NP\"),R277,MIN(R276,R277))))))","v":""}]
[null,null,null,"II.pokus",null,null,null,{"$f":"IF($C276=\"\",\"\",IF(OR($E277=\"DNS\",$F277=\"DNS\",$G277=\"DNS\"),\"DNS\",IF(OR($E277=\"NP\",$F277=\"NP\",$G277=\"NP\"),\"NP\",IF(ISERROR(MEDIAN($E277:$G277)),\"DNS\",IF(COUNT($E277:$G277)<3,MAX($E277:$G277),MEDIAN($E277:$G277))))))","v":""},null,null,null,null,null,null,null,null,null,""]
[{"$f":"IF(Start!Q20=\"\",\"\",\"x\")","v":""},90,{"$f":"IF(Start!O20=\"\",\"\",Start!O20)","v":""},"I.pokus",null,null,null,{"$f":"IF($C278=\"\",\"\",IF(OR($E278=\"DNS\",$F278=\"DNS\",$G278=\"DNS\"),\"DNS\",IF(OR($E278=\"NP\",$F278=\"NP\",$G278=\"NP\"),\"NP\",IF(ISERROR(MEDIAN($E278:$G278)),\"DNS\",IF(COUNT($E278:$G278)<3,MAX($E278:$G278),MEDIAN($E278:$G278))))))","v":""},null,null,null,null,null,null,null,null,null,"",{"$f":"IF(C278=\"x\",\"x\",IF(C278=\"\",\"\",IF(OR(T278=\"NP\",T278=\"DNS\"),IF(T278=\"NP\",MAX(T$12:T$309)+COUNTIF((T$12:T$309),MAX(T$12:T$309)),MAX(T$12:T$309)+COUNTIF((T$12:T$309),MAX(T$12:T$309))+COUNTIF((T$12:T$309),\"NP\")),T278)))","v":""},{"$f":"IF(A278=\"x\",\"x\",IF(C278=\"\",\"\",IF(OR(U278=\"NP\",U278=\"DNS\"),U278,RANK(U278,U$12:U$309,1))))","v":""},{"$f":"IF(A278=\"x\",\"x\",IF(C278=\"\",\"\",IF(OR(AND(R278=\"NP\",R279=\"NP\"),AND(R278=\"DNS\",R279=\"DNS\")),R278,IF(AND(R278=\"NP\",R279=\"DNS\"),R278,IF(AND(R278=\"DNS\",R279=\"NP\"),R279,MIN(R278,R279))))))","v":""}]
[null,null,null,"II.pokus",null,null,null,{"$f":"IF($C278=\"\",\"\",IF(OR($E279=\"DNS\",$F279=\"DNS\",$G279=\"DNS\"),\"DNS\",IF(OR($E279=\"NP\",$F279=\"NP\",$G279=\"NP\"),\"NP\",IF(ISERROR(MEDIAN($E279:$G279)),\"DNS\",IF(COUNT($E279:$G279)<3,MAX($E279:$G279),MEDIAN($E279:$G279))))))","v":""},null,null,null,null,null,null,null,null,null,""]
[null,"CELOSTÁTNÍ HRA PLAMEN"]
[]
[]
[null,"Výsledková listina č: 10"]
[null,"Požární útok CTIF",null,null,"Základem je čas naměřený       od startu po signál velitele            o ukončení pokusu",null,null,null,"K úřednímu času se připočítávají trestné sekundy",null,null,null,null,null,null,null,null,"Výsledek soutěže"]
[null,null,null,null,null,null,null,null,"nesprávné překonání překážek\n10 tb. = sekund","celé přetočení hadice\n(každá hadice se posuzuje samostatně)\n5 tb. = sekund","rozpojení spojky nebo zapojení na 1 ozub\nza každý případ\n20 tb. = sekund","nesprávné rozložení hadice nesprávné položení hadic u překážek\n10 tb. = sekund","zapomenuté, ztracené nebo špatně odložené nářadí\n5 tb. = sekund","nesprávné zařazení technického prostředku\nu stojanu\n10 tb. = sekund","nesprávné uvázaný uzel   10 tb. = sekund","nesprávná práce\n10 tb. = sekund"]
[null,null,null,null,null,null,null,null,null,null,null,null,null,null,null,null,null,"součet trest. Sekund a úředního času","počet bodů za umístění"]
[null,{"$f":"\"KATEGORIE: \"&Start!$N$2","v":"KATEGORIE: starší"},null,null,"I. časoměřič","II. časoměřič","III. časoměřič","úřední čas"]
[]
[null,"start. číslo","SOUTĚŽNÍ DRUŽSTVO","pokus"]
[]
[{"$f":"IF(Start!Q21=\"\",\"\",\"x\")","v":""},91,{"$f":"IF(Start!O21=\"\",\"\",Start!O21)","v":""},"I.pokus",null,null,null,{"$f":"IF($C291=\"\",\"\",IF(OR($E291=\"DNS\",$F291=\"DNS\",$G291=\"DNS\"),\"DNS\",IF(OR($E291=\"NP\",$F291=\"NP\",$G291=\"NP\"),\"NP\",IF(ISERROR(MEDIAN($E291:$G291)),\"DNS\",IF(COUNT($E291:$G291)<3,MAX($E291:$G291),MEDIAN($E291:$G291))))))","v":""},null,null,null,null,null,null,null,null,null,{"$f":"IF(H291=\"\",\"\",IF(H291=\"NP\",\"NP\",IF(H291=\"DNS\",\"DNS\",SUM(I291:Q291)+H291)))","v":""},{"$f":"IF(C291=\"x\",\"x\",IF(C291=\"\",\"\",IF(OR(T291=\"NP\",T291=\"DNS\"),IF(T291=\"NP\",MAX(T$12:T$309)+COUNTIF((T$12:T$309),MAX(T$12:T$309)),MAX(T$12:T$309)+COUNTIF((T$12:T$309),MAX(T$12:T$309))+COUNTIF((T$12:T$309),\"NP\")),T291)))","v":""},{"$f":"IF(A291=\"x\",\"x\",IF(C291=\"\",\"\",IF(OR(U291=\"NP\",U291=\"DNS\"),U291,RANK(U291,U$12:U$309,1))))","v":""},{"$f":"IF(A291=\"x\",\"x\",IF(C291=\"\",\"\",IF(OR(AND(R291=\"NP\",R292=\"NP\"),AND(R291=\"DNS\",R292=\"DNS\")),R291,IF(AND(R291=\"NP\",R292=\"DNS\"),R291,IF(AND(R291=\"DNS\",R292=\"NP\"),R292,MIN(R291,R292))))))","v":""}]
[null,null,null,"II.pokus",null,null,null,{"$f":"IF($C291=\"\",\"\",IF(OR($E292=\"DNS\",$F292=\"DNS\",$G292=\"DNS\"),\"DNS\",IF(OR($E292=\"NP\",$F292=\"NP\",$G292=\"NP\"),\"NP\",IF(ISERROR(MEDIAN($E292:$G292)),\"DNS\",IF(COUNT($E292:$G292)<3,MAX($E292:$G292),MEDIAN($E292:$G292))))))","v":""},null,null,null,null,null,null,null,null,null,""]
[{"$f":"IF(Start!Q22=\"\",\"\",\"x\")","v":""},92,{"$f":"IF(Start!O22=\"\",\"\",Start!O22)","v":""},"I.pokus",null,null,null,{"$f":"IF($C293=\"\",\"\",IF(OR($E293=\"DNS\",$F293=\"DNS\",$G293=\"DNS\"),\"DNS\",IF(OR($E293=\"NP\",$F293=\"NP\",$G293=\"NP\"),\"NP\",IF(ISERROR(MEDIAN($E293:$G293)),\"DNS\",IF(COUNT($E293:$G293)<3,MAX($E293:$G293),MEDIAN($E293:$G293))))))","v":""},null,null,null,null,null,null,null,null,null,"",{"$f":"IF(C293=\"x\",\"x\",IF(C293=\"\",\"\",IF(OR(T293=\"NP\",T293=\"DNS\"),IF(T293=\"NP\",MAX(T$12:T$309)+COUNTIF((T$12:T$309),MAX(T$12:T$309)),MAX(T$12:T$309)+COUNTIF((T$12:T$309),MAX(T$12:T$309))+COUNTIF((T$12:T$309),\"NP\")),T293)))","v":""},{"$f":"IF(A293=\"x\",\"x\",IF(C293=\"\",\"\",IF(OR(U293=\"NP\",U293=\"DNS\"),U293,RANK(U293,U$12:U$309,1))))","v":""},{"$f":"IF(A293=\"x\",\"x\",IF(C293=\"\",\"\",IF(OR(AND(R293=\"NP\",R294=\"NP\"),AND(R293=\"DNS\",R294=\"DNS\")),R293,IF(AND(R293=\"NP\",R294=\"DNS\"),R293,IF(AND(R293=\"DNS\",R294=\"NP\"),R294,MIN(R293,R294))))))","v":""}]
[null,null,null,"II.pokus",null,null,null,{"$f":"IF($C293=\"\",\"\",IF(OR($E294=\"DNS\",$F294=\"DNS\",$G294=\"DNS\"),\"DNS\",IF(OR($E294=\"NP\",$F294=\"NP\",$G294=\"NP\"),\"NP\",IF(ISERROR(MEDIAN($E294:$G294)),\"DNS\",IF(COUNT($E294:$G294)<3,MAX($E294:$G294),MEDIAN($E294:$G294))))))","v":""},null,null,null,null,null,null,null,null,null,""]
[{"$f":"IF(Start!Q23=\"\",\"\",\"x\")","v":""},93,{"$f":"IF(Start!O23=\"\",\"\",Start!O23)","v":""},"I.pokus",null,null,null,{"$f":"IF($C295=\"\",\"\",IF(OR($E295=\"DNS\",$F295=\"DNS\",$G295=\"DNS\"),\"DNS\",IF(OR($E295=\"NP\",$F295=\"NP\",$G295=\"NP\"),\"NP\",IF(ISERROR(MEDIAN($E295:$G295)),\"DNS\",IF(COUNT($E295:$G295)<3,MAX($E295:$G295),MEDIAN($E295:$G295))))))","v":""},null,null,null,null,null,null,null,null,null,"",{"$f":"IF(C295=\"x\",\"x\",IF(C295=\"\",\"\",IF(OR(T295=\"NP\",T295=\"DNS\"),IF(T295=\"NP\",MAX(T$12:T$309)+COUNTIF((T$12:T$309),MAX(T$12:T$309)),MAX(T$12:T$309)+COUNTIF((T$12:T$309),MAX(T$12:T$309))+COUNTIF((T$12:T$309),\"NP\")),T295)))","v":""},{"$f":"IF(A295=\"x\",\"x\",IF(C295=\"\",\"\",IF(OR(U295=\"NP\",U295=\"DNS\"),U295,RANK(U295,U$12:U$309,1))))","v":""},{"$f":"IF(A295=\"x\",\"x\",IF(C295=\"\",\"\",IF(OR(AND(R295=\"NP\",R296=\"NP\"),AND(R295=\"DNS\",R296=\"DNS\")),R295,IF(AND(R295=\"NP\",R296=\"DNS\"),R295,IF(AND(R295=\"DNS\",R296=\"NP\"),R296,MIN(R295,R296))))))","v":""}]
[null,null,null,"II.pokus",null,null,null,{"$f":"IF($C295=\"\",\"\",IF(OR($E296=\"DNS\",$F296=\"DNS\",$G296=\"DNS\"),\"DNS\",IF(OR($E296=\"NP\",$F296=\"NP\",$G296=\"NP\"),\"NP\",IF(ISERROR(MEDIAN($E296:$G296)),\"DNS\",IF(COUNT($E296:$G296)<3,MAX($E296:$G296),MEDIAN($E296:$G296))))))","v":""},null,null,null,null,null,null,null,null,null,""]
[{"$f":"IF(Start!Q24=\"\",\"\",\"x\")","v":""},94,{"$f":"IF(Start!O24=\"\",\"\",Start!O24)","v":""},"I.pokus",null,null,null,{"$f":"IF($C297=\"\",\"\",IF(OR($E297=\"DNS\",$F297=\"DNS\",$G297=\"DNS\"),\"DNS\",IF(OR($E297=\"NP\",$F297=\"NP\",$G297=\"NP\"),\"NP\",IF(ISERROR(MEDIAN($E297:$G297)),\"DNS\",IF(COUNT($E297:$G297)<3,MAX($E297:$G297),MEDIAN($E297:$G297))))))","v":""},null,null,null,null,null,null,null,null,null,"",{"$f":"IF(C297=\"x\",\"x\",IF(C297=\"\",\"\",IF(OR(T297=\"NP\",T297=\"DNS\"),IF(T297=\"NP\",MAX(T$12:T$309)+COUNTIF((T$12:T$309),MAX(T$12:T$309)),MAX(T$12:T$309)+COUNTIF((T$12:T$309),MAX(T$12:T$309))+COUNTIF((T$12:T$309),\"NP\")),T297)))","v":""},{"$f":"IF(A297=\"x\",\"x\",IF(C297=\"\",\"\",IF(OR(U297=\"NP\",U297=\"DNS\"),U297,RANK(U297,U$12:U$309,1))))","v":""},{"$f":"IF(A297=\"x\",\"x\",IF(C297=\"\",\"\",IF(OR(AND(R297=\"NP\",R298=\"NP\"),AND(R297=\"DNS\",R298=\"DNS\")),R297,IF(AND(R297=\"NP\",R298=\"DNS\"),R297,IF(AND(R297=\"DNS\",R298=\"NP\"),R298,MIN(R297,R298))))))","v":""}]
[null,null,null,"II.pokus",null,null,null,{"$f":"IF($C297=\"\",\"\",IF(OR($E298=\"DNS\",$F298=\"DNS\",$G298=\"DNS\"),\"DNS\",IF(OR($E298=\"NP\",$F298=\"NP\",$G298=\"NP\"),\"NP\",IF(ISERROR(MEDIAN($E298:$G298)),\"DNS\",IF(COUNT($E298:$G298)<3,MAX($E298:$G298),MEDIAN($E298:$G298))))))","v":""},null,null,null,null,null,null,null,null,null,""]
[{"$f":"IF(Start!Q25=\"\",\"\",\"x\")","v":""},95,{"$f":"IF(Start!O25=\"\",\"\",Start!O25)","v":""},"I.pokus",null,null,null,{"$f":"IF($C299=\"\",\"\",IF(OR($E299=\"DNS\",$F299=\"DNS\",$G299=\"DNS\"),\"DNS\",IF(OR($E299=\"NP\",$F299=\"NP\",$G299=\"NP\"),\"NP\",IF(ISERROR(MEDIAN($E299:$G299)),\"DNS\",IF(COUNT($E299:$G299)<3,MAX($E299:$G299),MEDIAN($E299:$G299))))))","v":""},null,null,null,null,null,null,null,null,null,"",{"$f":"IF(C299=\"x\",\"x\",IF(C299=\"\",\"\",IF(OR(T299=\"NP\",T299=\"DNS\"),IF(T299=\"NP\",MAX(T$12:T$309)+COUNTIF((T$12:T$309),MAX(T$12:T$309)),MAX(T$12:T$309)+COUNTIF((T$12:T$309),MAX(T$12:T$309))+COUNTIF((T$12:T$309),\"NP\")),T299)))","v":""},{"$f":"IF(A299=\"x\",\"x\",IF(C299=\"\",\"\",IF(OR(U299=\"NP\",U299=\"DNS\"),U299,RANK(U299,U$12:U$309,1))))","v":""},{"$f":"IF(A299=\"x\",\"x\",IF(C299=\"\",\"\",IF(OR(AND(R299=\"NP\",R300=\"NP\"),AND(R299=\"DNS\",R300=\"DNS\")),R299,IF(AND(R299=\"NP\",R300=\"DNS\"),R299,IF(AND(R299=\"DNS\",R300=\"NP\"),R300,MIN(R299,R300))))))","v":""}]
[null,null,null,"II.pokus",null,null,null,{"$f":"IF($C299=\"\",\"\",IF(OR($E300=\"DNS\",$F300=\"DNS\",$G300=\"DNS\"),\"DNS\",IF(OR($E300=\"NP\",$F300=\"NP\",$G300=\"NP\"),\"NP\",IF(ISERROR(MEDIAN($E300:$G300)),\"DNS\",IF(COUNT($E300:$G300)<3,MAX($E300:$G300),MEDIAN($E300:$G300))))))","v":""},null,null,null,null,null,null,null,null,null,""]
[{"$f":"IF(Start!Q26=\"\",\"\",\"x\")","v":""},96,{"$f":"IF(Start!O26=\"\",\"\",Start!O26)","v":""},"I.pokus",null,null,null,{"$f":"IF($C301=\"\",\"\",IF(OR($E301=\"DNS\",$F301=\"DNS\",$G301=\"DNS\"),\"DNS\",IF(OR($E301=\"NP\",$F301=\"NP\",$G301=\"NP\"),\"NP\",IF(ISERROR(MEDIAN($E301:$G301)),\"DNS\",IF(COUNT($E301:$G301)<3,MAX($E301:$G301),MEDIAN($E301:$G301))))))","v":""},null,null,null,null,null,null,null,null,null,"",{"$f":"IF(C301=\"x\",\"x\",IF(C301=\"\",\"\",IF(OR(T301=\"NP\",T301=\"DNS\"),IF(T301=\"NP\",MAX(T$12:T$309)+COUNTIF((T$12:T$309),MAX(T$12:T$309)),MAX(T$12:T$309)+COUNTIF((T$12:T$309),MAX(T$12:T$309))+COUNTIF((T$12:T$309),\"NP\")),T301)))","v":""},{"$f":"IF(A301=\"x\",\"x\",IF(C301=\"\",\"\",IF(OR(U301=\"NP\",U301=\"DNS\"),U301,RANK(U301,U$12:U$309,1))))","v":""},{"$f":"IF(A301=\"x\",\"x\",IF(C301=\"\",\"\",IF(OR(AND(R301=\"NP\",R302=\"NP\"),AND(R301=\"DNS\",R302=\"DNS\")),R301,IF(AND(R301=\"NP\",R302=\"DNS\"),R301,IF(AND(R301=\"DNS\",R302=\"NP\"),R302,MIN(R301,R302))))))","v":""}]
[null,null,null,"II.pokus",null,null,null,{"$f":"IF($C301=\"\",\"\",IF(OR($E302=\"DNS\",$F302=\"DNS\",$G302=\"DNS\"),\"DNS\",IF(OR($E302=\"NP\",$F302=\"NP\",$G302=\"NP\"),\"NP\",IF(ISERROR(MEDIAN($E302:$G302)),\"DNS\",IF(COUNT($E302:$G302)<3,MAX($E302:$G302),MEDIAN($E302:$G302))))))","v":""},null,null,null,null,null,null,null,null,null,""]
[{"$f":"IF(Start!Q27=\"\",\"\",\"x\")","v":""},97,{"$f":"IF(Start!O27=\"\",\"\",Start!O27)","v":""},"I.pokus",null,null,null,{"$f":"IF($C303=\"\",\"\",IF(OR($E303=\"DNS\",$F303=\"DNS\",$G303=\"DNS\"),\"DNS\",IF(OR($E303=\"NP\",$F303=\"NP\",$G303=\"NP\"),\"NP\",IF(ISERROR(MEDIAN($E303:$G303)),\"DNS\",IF(COUNT($E303:$G303)<3,MAX($E303:$G303),MEDIAN($E303:$G303))))))","v":""},null,null,null,null,null,null,null,null,null,"",{"$f":"IF(C303=\"x\",\"x\",IF(C303=\"\",\"\",IF(OR(T303=\"NP\",T303=\"DNS\"),IF(T303=\"NP\",MAX(T$12:T$309)+COUNTIF((T$12:T$309),MAX(T$12:T$309)),MAX(T$12:T$309)+COUNTIF((T$12:T$309),MAX(T$12:T$309))+COUNTIF((T$12:T$309),\"NP\")),T303)))","v":""},{"$f":"IF(A303=\"x\",\"x\",IF(C303=\"\",\"\",IF(OR(U303=\"NP\",U303=\"DNS\"),U303,RANK(U303,U$12:U$309,1))))","v":""},{"$f":"IF(A303=\"x\",\"x\",IF(C303=\"\",\"\",IF(OR(AND(R303=\"NP\",R304=\"NP\"),AND(R303=\"DNS\",R304=\"DNS\")),R303,IF(AND(R303=\"NP\",R304=\"DNS\"),R303,IF(AND(R303=\"DNS\",R304=\"NP\"),R304,MIN(R303,R304))))))","v":""}]
[null,null,null,"II.pokus",null,null,null,{"$f":"IF($C303=\"\",\"\",IF(OR($E304=\"DNS\",$F304=\"DNS\",$G304=\"DNS\"),\"DNS\",IF(OR($E304=\"NP\",$F304=\"NP\",$G304=\"NP\"),\"NP\",IF(ISERROR(MEDIAN($E304:$G304)),\"DNS\",IF(COUNT($E304:$G304)<3,MAX($E304:$G304),MEDIAN($E304:$G304))))))","v":""},null,null,null,null,null,null,null,null,null,""]
[{"$f":"IF(Start!Q28=\"\",\"\",\"x\")","v":""},98,{"$f":"IF(Start!O28=\"\",\"\",Start!O28)","v":""},"I.pokus",null,null,null,{"$f":"IF($C305=\"\",\"\",IF(OR($E305=\"DNS\",$F305=\"DNS\",$G305=\"DNS\"),\"DNS\",IF(OR($E305=\"NP\",$F305=\"NP\",$G305=\"NP\"),\"NP\",IF(ISERROR(MEDIAN($E305:$G305)),\"DNS\",IF(COUNT($E305:$G305)<3,MAX($E305:$G305),MEDIAN($E305:$G305))))))","v":""},null,null,null,null,null,null,null,null,null,"",{"$f":"IF(C305=\"x\",\"x\",IF(C305=\"\",\"\",IF(OR(T305=\"NP\",T305=\"DNS\"),IF(T305=\"NP\",MAX(T$12:T$309)+COUNTIF((T$12:T$309),MAX(T$12:T$309)),MAX(T$12:T$309)+COUNTIF((T$12:T$309),MAX(T$12:T$309))+COUNTIF((T$12:T$309),\"NP\")),T305)))","v":""},{"$f":"IF(A305=\"x\",\"x\",IF(C305=\"\",\"\",IF(OR(U305=\"NP\",U305=\"DNS\"),U305,RANK(U305,U$12:U$309,1))))","v":""},{"$f":"IF(A305=\"x\",\"x\",IF(C305=\"\",\"\",IF(OR(AND(R305=\"NP\",R306=\"NP\"),AND(R305=\"DNS\",R306=\"DNS\")),R305,IF(AND(R305=\"NP\",R306=\"DNS\"),R305,IF(AND(R305=\"DNS\",R306=\"NP\"),R306,MIN(R305,R306))))))","v":""}]
[null,null,null,"II.pokus",null,null,null,{"$f":"IF($C305=\"\",\"\",IF(OR($E306=\"DNS\",$F306=\"DNS\",$G306=\"DNS\"),\"DNS\",IF(OR($E306=\"NP\",$F306=\"NP\",$G306=\"NP\"),\"NP\",IF(ISERROR(MEDIAN($E306:$G306)),\"DNS\",IF(COUNT($E306:$G306)<3,MAX($E306:$G306),MEDIAN($E306:$G306))))))","v":""},null,null,null,null,null,null,null,null,null,""]
[{"$f":"IF(Start!Q29=\"\",\"\",\"x\")","v":""},99,{"$f":"IF(Start!O29=\"\",\"\",Start!O29)","v":""},"I.pokus",null,null,null,{"$f":"IF($C307=\"\",\"\",IF(OR($E307=\"DNS\",$F307=\"DNS\",$G307=\"DNS\"),\"DNS\",IF(OR($E307=\"NP\",$F307=\"NP\",$G307=\"NP\"),\"NP\",IF(ISERROR(MEDIAN($E307:$G307)),\"DNS\",IF(COUNT($E307:$G307)<3,MAX($E307:$G307),MEDIAN($E307:$G307))))))","v":""},null,null,null,null,null,null,null,null,null,"",{"$f":"IF(C307=\"x\",\"x\",IF(C307=\"\",\"\",IF(OR(T307=\"NP\",T307=\"DNS\"),IF(T307=\"NP\",MAX(T$12:T$309)+COUNTIF((T$12:T$309),MAX(T$12:T$309)),MAX(T$12:T$309)+COUNTIF((T$12:T$309),MAX(T$12:T$309))+COUNTIF((T$12:T$309),\"NP\")),T307)))","v":""},{"$f":"IF(A307=\"x\",\"x\",IF(C307=\"\",\"\",IF(OR(U307=\"NP\",U307=\"DNS\"),U307,RANK(U307,U$12:U$309,1))))","v":""},{"$f":"IF(A307=\"x\",\"x\",IF(C307=\"\",\"\",IF(OR(AND(R307=\"NP\",R308=\"NP\"),AND(R307=\"DNS\",R308=\"DNS\")),R307,IF(AND(R307=\"NP\",R308=\"DNS\"),R307,IF(AND(R307=\"DNS\",R308=\"NP\"),R308,MIN(R307,R308))))))","v":""}]
[null,null,null,"II.pokus",null,null,null,{"$f":"IF($C307=\"\",\"\",IF(OR($E308=\"DNS\",$F308=\"DNS\",$G308=\"DNS\"),\"DNS\",IF(OR($E308=\"NP\",$F308=\"NP\",$G308=\"NP\"),\"NP\",IF(ISERROR(MEDIAN($E308:$G308)),\"DNS\",IF(COUNT($E308:$G308)<3,MAX($E308:$G308),MEDIAN($E308:$G308))))))","v":""},null,null,null,null,null,null,null,null,null,""]
[{"$f":"IF(Start!Q30=\"\",\"\",\"x\")","v":""},100,{"$f":"IF(Start!O30=\"\",\"\",Start!O30)","v":""},"I.pokus",null,null,null,{"$f":"IF($C309=\"\",\"\",IF(OR($E309=\"DNS\",$F309=\"DNS\",$G309=\"DNS\"),\"DNS\",IF(OR($E309=\"NP\",$F309=\"NP\",$G309=\"NP\"),\"NP\",IF(ISERROR(MEDIAN($E309:$G309)),\"DNS\",IF(COUNT($E309:$G309)<3,MAX($E309:$G309),MEDIAN($E309:$G309))))))","v":""},null,null,null,null,null,null,null,null,null,"",{"$f":"IF(C309=\"x\",\"x\",IF(C309=\"\",\"\",IF(OR(T309=\"NP\",T309=\"DNS\"),IF(T309=\"NP\",MAX(T$12:T$309)+COUNTIF((T$12:T$309),MAX(T$12:T$309)),MAX(T$12:T$309)+COUNTIF((T$12:T$309),MAX(T$12:T$309))+COUNTIF((T$12:T$309),\"NP\")),T309)))","v":""},{"$f":"IF(A309=\"x\",\"x\",IF(C309=\"\",\"\",IF(OR(U309=\"NP\",U309=\"DNS\"),U309,RANK(U309,U$12:U$309,1))))","v":""},{"$f":"IF(A309=\"x\",\"x\",IF(C309=\"\",\"\",IF(OR(AND(R309=\"NP\",R310=\"NP\"),AND(R309=\"DNS\",R310=\"DNS\")),R309,IF(AND(R309=\"NP\",R310=\"DNS\"),R309,IF(AND(R309=\"DNS\",R310=\"NP\"),R310,MIN(R309,R310))))))","v":""}]
[null,null,null,"II.pokus",null,null,null,{"$f":"IF($C309=\"\",\"\",IF(OR($E310=\"DNS\",$F310=\"DNS\",$G310=\"DNS\"),\"DNS\",IF(OR($E310=\"NP\",$F310=\"NP\",$G310=\"NP\"),\"NP\",IF(ISERROR(MEDIAN($E310:$G310)),\"DNS\",IF(COUNT($E310:$G310)<3,MAX($E310:$G310),MEDIAN($E310:$G310))))))","v":""},null,null,null,null,null,null,null,null,null,""]

{"sheet":"Výsledky","index":9,"n_rows":106,"n_cols":22,"rows_kept":106,"cut":false,"hidden":false,"merged":[[0,1,0,21],[2,2,2,10],[2,12,2,20]]}
[null,"Celkové výsledky"]
[]
[null,null,{"$f":"Start!$B$2","v":"Požární útoky "},null,null,null,null,null,null,null,null,null,{"$f":"Start!$F$3&\", \"&Start!$N$3","v":"18.05.2025, Kamenný Újezd"}]
[null,null,null,null,null,null,null,null,null,null,null,null,null,"","","","","","","","",""]
[null,null,{"$f":"Start!$N$2","v":"starší"}]
[null," startovní číslo"," SDH",null," PÚ"," Štafeta 4 x 60 m"," Štafeta dvojic"," 400 m štafeta CTIF"," PÚ CTIF",null," Celkový součet",null," Celkové výsledky"," SDH",null," PÚ"," Štafeta 4 x 60 m"," Štafeta dvojic"," 400 m štafeta CTIF"," PÚ CTIF",null," Celkový součet"]
[null,1,{"$f":"IF(Start!C6=\"\",\"\",Start!C6)","v":"Zbiroh"},null,{"$f":"IF($C7=\"\",\"\",PÚ!$I$12)","v":8},{"$f":"IF($C7=\"\",\"\",Št.4x60m!$I$12)","v":0},{"$f":"IF($C7=\"\",\"\",Št.dvojic!$V$12)","v":0},{"$f":"IF($C7=\"\",\"\",Št.400mCTIF!$V$12)","v":0},{"$f":"IF($C7=\"\",\"\",'PÚ CTIF'!$S$12)","v":0},null,{"$f":"IF(OR(A7=\"x\",A7=\"X\"),\"\",IF(C7=\"\",\"\",SUM(D7:J7)))","v":8}]
[null,2,{"$f":"IF(Start!C7=\"\",\"\",Start!C7)","v":"Holoubkov"},null,{"$f":"IF($C8=\"\",\"\",PÚ!$I$14)","v":5},{"$f":"IF($C8=\"\",\"\",Št.4x60m!$I$14)","v":0},{"$f":"IF($C8=\"\",\"\",Št.dvojic!$V$14)","v":0},{"$f":"IF($C8=\"\",\"\",Št.400mCTIF!$V$14)","v":0},{"$f":"IF($C8=\"\",\"\",'PÚ CTIF'!$S$14)","v":0},null,{"$f":"IF(OR(A8=\"x\",A8=\"X\"),\"\",IF(C8=\"\",\"\",SUM(D8:J8)))","v":5}]
[null,3,{"$f":"IF(Start!C8=\"\",\"\",Start!C8)","v":"Raková"},null,{"$f":"IF($C9=\"\",\"\",PÚ!$I$16)","v":4},{"$f":"IF($C9=\"\",\"\",Št.4x60m!$I$16)","v":0},{"$f":"IF($C9=\"\",\"\",Št.dvojic!$V$16)","v":0},{"$f":"IF($C9=\"\",\"\",Št.400mCTIF!$V$16)","v":0},{"$f":"IF($C9=\"\",\"\",'PÚ CTIF'!$S$16)","v":0},null,4]
[null,4,{"$f":"IF(Start!C9=\"\",\"\",Start!C9)","v":"Osek"},null,{"$f":"IF($C10=\"\",\"\",PÚ!$I$18)","v":1},{"$f":"IF($C10=\"\",\"\",Št.4x60m!$I$18)","v":0},{"$f":"IF($C10=\"\",\"\",Št.dvojic!$V$18)","v":0},{"$f":"IF($C10=\"\",\"\",Št.400mCTIF!$V$18)","v":0},{"$f":"IF($C10=\"\",\"\",'PÚ CTIF'!$S$18)","v":0},null,1]
[null,5,{"$f":"IF(Start!C10=\"\",\"\",Start!C10)","v":"Lhota pod Radčem"},null,{"$f":"IF($C11=\"\",\"\",PÚ!$I$20)","v":6},{"$f":"IF($C11=\"\",\"\",Št.4x60m!$I$20)","v":0},{"$f":"IF($C11=\"\",\"\",Št.dvojic!$V$20)","v":0},{"$f":"IF($C11=\"\",\"\",Št.400mCTIF!$V$20)","v":0},{"$f":"IF($C11=\"\",\"\",'PÚ CTIF'!$S$20)","v":0},null,6]
[{"$f":"IF(Start!E11=\"\",\"\",\"x\")","v":""},6,{"$f":"IF(Start!C11=\"\",\"\",Start!C11)","v":"Dobřív"},null,{"$f":"IF($C12=\"\",\"\",PÚ!$I$22)","v":3},{"$f":"IF($C12=\"\",\"\",Št.4x60m!$I$22)","v":0},{"$f":"IF($C12=\"\",\"\",Št.dvojic!$V$22)","v":0},{"$f":"IF($C12=\"\",\"\",Št.400mCTIF!$V$22)","v":0},{"$f":"IF($C12=\"\",\"\",'PÚ CTIF'!$S$22)","v":0},null,3]
[{"$f":"IF(Start!E12=\"\",\"\",\"x\")","v":""},7,{"$f":"IF(Start!C12=\"\",\"\",Start!C12)","v":"Mirošov"},null,{"$f":"IF($C13=\"\",\"\",PÚ!$I$24)","v":7},{"$f":"IF($C13=\"\",\"\",Št.4x60m!$I$24)","v":0},{"$f":"IF($C13=\"\",\"\",Št.dvojic!$V$24)","v":0},{"$f":"IF($C13=\"\",\"\",Št.400mCTIF!$V$24)","v":0},{"$f":"IF($C13=\"\",\"\",'PÚ CTIF'!$S$24)","v":0},null,7]
[{"$f":"IF(Start!E13=\"\",\"\",\"x\")","v":""},8,{"$f":"IF(Start!C13=\"\",\"\",Start!C13)","v":"Volduchy"},null,{"$f":"IF($C14=\"\",\"\",PÚ!$I$26)","v":2},{"$f":"IF($C14=\"\",\"\",Št.4x60m!$I$26)","v":0},{"$f":"IF($C14=\"\",\"\",Št.dvojic!$V$26)","v":0},{"$f":"IF($C14=\"\",\"\",Št.400mCTIF!$V$26)","v":0},{"$f":"IF($C14=\"\",\"\",'PÚ CTIF'!$S$26)","v":0},null,2]
[{"$f":"IF(Start!E14=\"\",\"\",\"x\")","v":""},9,{"$f":"IF(Start!C14=\"\",\"\",Start!C14)","v":""},null,{"$f":"IF($C15=\"\",\"\",PÚ!$I$28)","v":""},{"$f":"IF($C15=\"\",\"\",Št.4x60m!$I$28)","v":""},{"$f":"IF($C15=\"\",\"\",Št.dvojic!$V$28)","v":""},{"$f":"IF($C15=\"\",\"\",Št.400mCTIF!$V$28)","v":""},{"$f":"IF($C15=\"\",\"\",'PÚ CTIF'!$S$28)","v":""},null,""]
[{"$f":"IF(Start!E15=\"\",\"\",\"x\")","v":""},10,{"$f":"IF(Start!C15=\"\",\"\",Start!C15)","v":""},null,{"$f":"IF($C16=\"\",\"\",PÚ!$I$30)","v":""},{"$f":"IF($C16=\"\",\"\",Št.4x60m!$I$30)","v":""},{"$f":"IF($C16=\"\",\"\",Št.dvojic!$V$30)","v":""},{"$f":"IF($C16=\"\",\"\",Št.400mCTIF!$V$30)","v":""},{"$f":"IF($C16=\"\",\"\",'PÚ CTIF'!$S$30)","v":""},null,""]
[{"$f":"IF(Start!E16=\"\",\"\",\"x\")","v":""},11,{"$f":"IF(Start!C16=\"\",\"\",Start!C16)","v":""},null,{"$f":"IF($C17=\"\",\"\",PÚ!$T$12)","v":""},{"$f":"IF($C17=\"\",\"\",Št.4x60m!$T$12)","v":""},{"$f":"IF($C17=\"\",\"\",Št.dvojic!$V$43)","v":""},{"$f":"IF($C17=\"\",\"\",Št.400mCTIF!$V$43)","v":""},{"$f":"IF($C17=\"\",\"\",'PÚ CTIF'!$S$43)","v":""},null,""]
[{"$f":"IF(Start!E17=\"\",\"\",\"x\")","v":""},12,{"$f":"IF(Start!C17=\"\",\"\",Start!C17)","v":""},null,{"$f":"IF($C18=\"\",\"\",PÚ!$T$14)","v":""},{"$f":"IF($C18=\"\",\"\",Št.4x60m!$T$14)","v":""},{"$f":"IF($C18=\"\",\"\",Št.dvojic!$V$45)","v":""},{"$f":"IF($C18=\"\",\"\",Št.400mCTIF!$V$45)","v":""},{"$f":"IF($C18=\"\",\"\",'PÚ CTIF'!$S$45)","v":""},null,""]
[{"$f":"IF(Start!E18=\"\",\"\",\"x\")","v":""},13,{"$f":"IF(Start!C18=\"\",\"\",Start!C18)","v":""},null,{"$f":"IF($C19=\"\",\"\",PÚ!$T$16)","v":""},{"$f":"IF($C19=\"\",\"\",Št.4x60m!$T$16)","v":""},{"$f":"IF($C19=\"\",\"\",Št.dvojic!$V$47)","v":""},{"$f":"IF($C19=\"\",\"\",Št.400mCTIF!$V$47)","v":""},{"$f":"IF($C19=\"\",\"\",'PÚ CTIF'!$S$47)","v":""},null,""]
[{"$f":"IF(Start!E19=\"\",\"\",\"x\")","v":""},14,{"$f":"IF(Start!C19=\"\",\"\",Start!C19)","v":""},null,{"$f":"IF($C20=\"\",\"\",PÚ!$T$18)","v":""},{"$f":"IF($C20=\"\",\"\",Št.4x60m!$T$18)","v":""},{"$f":"IF($C20=\"\",\"\",Št.dvojic!$V$49)","v":""},{"$f":"IF($C20=\"\",\"\",Št.400mCTIF!$V$49)","v":""},{"$f":"IF($C20=\"\",\"\",'PÚ CTIF'!$S$49)","v":""},null,""]
[{"$f":"IF(Start!E20=\"\",\"\",\"x\")","v":""},15,{"$f":"IF(Start!C20=\"\",\"\",Start!C20)","v":""},null,{"$f":"IF($C21=\"\",\"\",PÚ!$T$20)","v":""},{"$f":"IF($C21=\"\",\"\",Št.4x60m!$T$20)","v":""},{"$f":"IF($C21=\"\",\"\",Št.dvojic!$V$51)","v":""},{"$f":"IF($C21=\"\",\"\",Št.400mCTIF!$V$51)","v":""},{"$f":"IF($C21=\"\",\"\",'PÚ CTIF'!$S$51)","v":""},null,""]
[{"$f":"IF(Start!E21=\"\",\"\",\"x\")","v":""},16,{"$f":"IF(Start!C21=\"\",\"\",Start!C21)","v":""},null,{"$f":"IF($C22=\"\",\"\",PÚ!$T$22)","v":""},{"$f":"IF($C22=\"\",\"\",Št.4x60m!$T$22)","v":""},{"$f":"IF($C22=\"\",\"\",Št.dvojic!$V$53)","v":""},{"$f":"IF($C22=\"\",\"\",Št.400mCTIF!$V$53)","v":""},{"$f":"IF($C22=\"\",\"\",'PÚ CTIF'!$S$53)","v":""},null,""]
[{"$f":"IF(Start!E22=\"\",\"\",\"x\")","v":""},17,{"$f":"IF(Start!C22=\"\",\"\",Start!C22)","v":""},null,{"$f":"IF($C23=\"\",\"\",PÚ!$T$24)","v":""},{"$f":"IF($C23=\"\",\"\",Št.4x60m!$T$24)","v":""},{"$f":"IF($C23=\"\",\"\",Št.dvojic!$V$55)","v":""},{"$f":"IF($C23=\"\",\"\",Št.400mCTIF!$V$55)","v":""},{"$f":"IF($C23=\"\",\"\",'PÚ CTIF'!$S$55)","v":""},null,""]
[{"$f":"IF(Start!E23=\"\",\"\",\"x\")","v":""},18,{"$f":"IF(Start!C23=\"\",\"\",Start!C23)","v":""},null,{"$f":"IF($C24=\"\",\"\",PÚ!$T$26)","v":""},{"$f":"IF($C24=\"\",\"\",Št.4x60m!$T$26)","v":""},{"$f":"IF($C24=\"\",\"\",Št.dvojic!$V$57)","v":""},{"$f":"IF($C24=\"\",\"\",Št.400mCTIF!$V$57)","v":""},{"$f":"IF($C24=\"\",\"\",'PÚ CTIF'!$S$57)","v":""},null,""]
[{"$f":"IF(Start!E24=\"\",\"\",\"x\")","v":""},19,{"$f":"IF(Start!C24=\"\",\"\",Start!C24)","v":""},null,{"$f":"IF($C25=\"\",\"\",PÚ!$T$28)","v":""},{"$f":"IF($C25=\"\",\"\",Št.4x60m!$T$28)","v":""},{"$f":"IF($C25=\"\",\"\",Št.dvojic!$V$59)","v":""},{"$f":"IF($C25=\"\",\"\",Št.400mCTIF!$V$59)","v":""},{"$f":"IF($C25=\"\",\"\",'PÚ CTIF'!$S$59)","v":""},null,""]
[{"$f":"IF(Start!E25=\"\",\"\",\"x\")","v":""},20,{"$f":"IF(Start!C25=\"\",\"\",Start!C25)","v":""},null,{"$f":"IF($C26=\"\",\"\",PÚ!$T$30)","v":""},{"$f":"IF($C26=\"\",\"\",Št.4x60m!$T$30)","v":""},{"$f":"IF($C26=\"\",\"\",Št.dvojic!$V$61)","v":""},{"$f":"IF($C26=\"\",\"\",Št.400mCTIF!$V$61)","v":""},{"$f":"IF($C26=\"\",\"\",'PÚ CTIF'!$S$61)","v":""},null,""]
[{"$f":"IF(Start!E26=\"\",\"\",\"x\")","v":""},21,{"$f":"IF(Start!C26=\"\",\"\",Start!C26)","v":""},null,{"$f":"IF($C27=\"\",\"\",PÚ!$I$43)","v":""},{"$f":"IF($C27=\"\",\"\",Št.4x60m!$I$43)","v":""},{"$f":"IF($C27=\"\",\"\",Št.dvojic!$V$74)","v":""},{"$f":"IF($C27=\"\",\"\",Št.400mCTIF!$V$74)","v":""},{"$f":"IF($C27=\"\",\"\",'PÚ CTIF'!$S$74)","v":""},null,""]
[{"$f":"IF(Start!E27=\"\",\"\",\"x\")","v":""},22,{"$f":"IF(Start!C27=\"\",\"\",Start!C27)","v":""},null,{"$f":"IF($C28=\"\",\"\",PÚ!$I$45)","v":""},{"$f":"IF($C28=\"\",\"\",Št.4x60m!$I$45)","v":""},{"$f":"IF($C28=\"\",\"\",Št.dvojic!$V$76)","v":""},{"$f":"IF($C28=\"\",\"\",Št.400mCTIF!$V$76)","v":""},{"$f":"IF($C28=\"\",\"\",'PÚ CTIF'!$S$76)","v":""},null,""]
[{"$f":"IF(Start!E28=\"\",\"\",\"x\")","v":""},23,{"$f":"IF(Start!C28=\"\",\"\",Start!C28)","v":""},null,{"$f":"IF($C29=\"\",\"\",PÚ!$I$47)","v":""},{"$f":"IF($C29=\"\",\"\",Št.4x60m!$I$47)","v":""},{"$f":"IF($C29=\"\",\"\",Št.dvojic!$V$78)","v":""},{"$f":"IF($C29=\"\",\"\",Št.400mCTIF!$V$78)","v":""},{"$f":"IF($C29=\"\",\"\",'PÚ CTIF'!$S$78)","v":""},null,""]
[{"$f":"IF(Start!E29=\"\",\"\",\"x\")","v":""},24,{"$f":"IF(Start!C29=\"\",\"\",Start!C29)","v":""},null,{"$f":"IF($C30=\"\",\"\",PÚ!$I$49)","v":""},{"$f":"IF($C30=\"\",\"\",Št.4x60m!$I$49)","v":""},{"$f":"IF($C30=\"\",\"\",Št.dvojic!$V$80)","v":""},{"$f":"IF($C30=\"\",\"\",Št.400mCTIF!$V$80)","v":""},{"$f":"IF($C30=\"\",\"\",'PÚ CTIF'!$S$80)","v":""},null,""]
[{"$f":"IF(Start!E30=\"\",\"\",\"x\")","v":""},25,{"$f":"IF(Start!C30=\"\",\"\",Start!C30)","v":""},null,{"$f":"IF($C31=\"\",\"\",PÚ!$I$51)","v":""},{"$f":"IF($C31=\"\",\"\",Št.4x60m!$I$51)","v":""},{"$f":"IF($C31=\"\",\"\",Št.dvojic!$V$82)","v":""},{"$f":"IF($C31=\"\",\"\",Št.400mCTIF!$V$82)","v":""},{"$f":"IF($C31=\"\",\"\",'PÚ CTIF'!$S$82)","v":""},null,""]
[{"$f":"IF(Start!I6=\"\",\"\",\"x\")","v":""},26,{"$f":"IF(Start!G6=\"\",\"\",Start!G6)","v":""},null,{"$f":"IF($C32=\"\",\"\",PÚ!$I$53)","v":""},{"$f":"IF($C32=\"\",\"\",Št.4x60m!$I$53)","v":""},{"$f":"IF($C32=\"\",\"\",Št.dvojic!$V$84)","v":""},{"$f":"IF($C32=\"\",\"\",Št.400mCTIF!$V$84)","v":""},{"$f":"IF($C32=\"\",\"\",'PÚ CTIF'!$S$84)","v":""},null,""]
[{"$f":"IF(Start!I7=\"\",\"\",\"x\")","v":""},27,{"$f":"IF(Start!G7=\"\",\"\",Start!G7)","v":""},null,{"$f":"IF($C33=\"\",\"\",PÚ!$I$55)","v":""},{"$f":"IF($C33=\"\",\"\",Št.4x60m!$I$55)","v":""},{"$f":"IF($C33=\"\",\"\",Št.dvojic!$V$86)","v":""},{"$f":"IF($C33=\"\",\"\",Št.400mCTIF!$V$86)","v":""},{"$f":"IF($C33=\"\",\"\",'PÚ CTIF'!$S$86)","v":""},null,""]
[{"$f":"IF(Start!I8=\"\",\"\",\"x\")","v":""},28,{"$f":"IF(Start!G8=\"\",\"\",Start!G8)","v":""},null,{"$f":"IF($C34=\"\",\"\",PÚ!$I$57)","v":""},{"$f":"IF($C34=\"\",\"\",Št.4x60m!$I$57)","v":""},{"$f":"IF($C34=\"\",\"\",Št.dvojic!$V$88)","v":""},{"$f":"IF($C34=\"\",\"\",Št.400mCTIF!$V$88)","v":""},{"$f":"IF($C34=\"\",\"\",'PÚ CTIF'!$S$88)","v":""},null,""]
[{"$f":"IF(Start!I9=\"\",\"\",\"x\")","v":""},29,{"$f":"IF(Start!G9=\"\",\"\",Start!G9)","v":""},null,{"$f":"IF($C35=\"\",\"\",PÚ!$I$59)","v":""},{"$f":"IF($C35=\"\",\"\",Št.4x60m!$I$59)","v":""},{"$f":"IF($C35=\"\",\"\",Št.dvojic!$V$90)","v":""},{"$f":"IF($C35=\"\",\"\",Št.400mCTIF!$V$90)","v":""},{"$f":"IF($C35=\"\",\"\",'PÚ CTIF'!$S$90)","v":""},null,""]
[{"$f":"IF(Start!I10=\"\",\"\",\"x\")","v":""},30,{"$f":"IF(Start!G10=\"\",\"\",Start!G10)","v":""},null,{"$f":"IF($C36=\"\",\"\",PÚ!$I$61)","v":""},{"$f":"IF($C36=\"\",\"\",Št.4x60m!$I$61)","v":""},{"$f":"IF($C36=\"\",\"\",Št.dvojic!$V$92)","v":""},{"$f":"IF($C36=\"\",\"\",Št.400mCTIF!$V$92)","v":""},{"$f":"IF($C36=\"\",\"\",'PÚ CTIF'!$S$92)","v":""},null,""]
[{"$f":"IF(Start!I11=\"\",\"\",\"x\")","v":""},31,{"$f":"IF(Start!G11=\"\",\"\",Start!G11)","v":""},null,{"$f":"IF($C37=\"\",\"\",PÚ!$T$43)","v":""},{"$f":"IF($C37=\"\",\"\",Št.4x60m!$T$43)","v":""},{"$f":"IF($C37=\"\",\"\",Št.dvojic!$V$105)","v":""},{"$f":"IF($C37=\"\",\"\",Št.400mCTIF!$V$105)","v":""},{"$f":"IF($C37=\"\",\"\",'PÚ CTIF'!$S$105)","v":""},null,""]
[{"$f":"IF(Start!I12=\"\",\"\",\"x\")","v":""},32,{"$f":"IF(Start!G12=\"\",\"\",Start!G12)","v":""},null,{"$f":"IF($C38=\"\",\"\",PÚ!$T$45)","v":""},{"$f":"IF($C38=\"\",\"\",Št.4x60m!$T$45)","v":""},{"$f":"IF($C38=\"\",\"\",Št.dvojic!$V$107)","v":""},{"$f":"IF($C38=\"\",\"\",Št.400mCTIF!$V$107)","v":""},{"$f":"IF($C38=\"\",\"\",'PÚ CTIF'!$S$107)","v":""},null,""]
[{"$f":"IF(Start!I13=\"\",\"\",\"x\")","v":""},33,{"$f":"IF(Start!G13=\"\",\"\",Start!G13)","v":""},null,{"$f":"IF($C39=\"\",\"\",PÚ!$T$47)","v":""},{"$f":"IF($C39=\"\",\"\",Št.4x60m!$T$47)","v":""},{"$f":"IF($C39=\"\",\"\",Št.dvojic!$V$109)","v":""},{"$f":"IF($C39=\"\",\"\",Št.400mCTIF!$V$109)","v":""},{"$f":"IF($C39=\"\",\"\",'PÚ CTIF'!$S$109)","v":""},null,""]
[{"$f":"IF(Start!I14=\"\",\"\",\"x\")","v":""},34,{"$f":"IF(Start!G14=\"\",\"\",Start!G14)","v":""},null,{"$f":"IF($C40=\"\",\"\",PÚ!$T$49)","v":""},{"$f":"IF($C40=\"\",\"\",Št.4x60m!$T$49)","v":""},{"$f":"IF($C40=\"\",\"\",Št.dvojic!$V$111)","v":""},{"$f":"IF($C40=\"\",\"\",Št.400mCTIF!$V$111)","v":""},{"$f":"IF($C40=\"\",\"\",'PÚ CTIF'!$S$111)","v":""},null,""]
[{"$f":"IF(Start!I15=\"\",\"\",\"x\")","v":""},35,{"$f":"IF(Start!G15=\"\",\"\",Start!G15)","v":""},null,{"$f":"IF($C41=\"\",\"\",PÚ!$T$51)","v":""},{"$f":"IF($C41=\"\",\"\",Št.4x60m!$T$51)","v":""},{"$f":"IF($C41=\"\",\"\",Št.dvojic!$V$113)","v":""},{"$f":"IF($C41=\"\",\"\",Št.400mCTIF!$V$113)","v":""},{"$f":"IF($C41=\"\",\"\",'PÚ CTIF'!$S$113)","v":""},null,""]
[{"$f":"IF(Start!I16=\"\",\"\",\"x\")","v":""},36,{"$f":"IF(Start!G16=\"\",\"\",Start!G16)","v":""},null,{"$f":"IF($C42=\"\",\"\",PÚ!$T$53)","v":""},{"$f":"IF($C42=\"\",\"\",Št.4x60m!$T$53)","v":""},{"$f":"IF($C42=\"\",\"\",Št.dvojic!$V$115)","v":""},{"$f":"IF($C42=\"\",\"\",Št.400mCTIF!$V$115)","v":""},{"$f":"IF($C42=\"\",\"\",'PÚ CTIF'!$S$115)","v":""},null,""]
[{"$f":"IF(Start!I17=\"\",\"\",\"x\")","v":""},37,{"$f":"IF(Start!G17=\"\",\"\",Start!G17)","v":""},null,{"$f":"IF($C43=\"\",\"\",PÚ!$T$55)","v":""},{"$f":"IF($C43=\"\",\"\",Št.4x60m!$T$55)","v":""},{"$f":"IF($C43=\"\",\"\",Št.dvojic!$V$117)","v":""},{"$f":"IF($C43=\"\",\"\",Št.400mCTIF!$V$117)","v":""},{"$f":"IF($C43=\"\",\"\",'PÚ CTIF'!$S$117)","v":""},null,""]
[{"$f":"IF(Start!I18=\"\",\"\",\"x\")","v":""},38,{"$f":"IF(Start!G18=\"\",\"\",Start!G18)","v":""},null,{"$f":"IF($C44=\"\",\"\",PÚ!$T$57)","v":""},{"$f":"IF($C44=\"\",\"\",Št.4x60m!$T$57)","v":""},{"$f":"IF($C44=\"\",\"\",Št.dvojic!$V$119)","v":""},{"$f":"IF($C44=\"\",\"\",Št.400mCTIF!$V$119)","v":""},{"$f":"IF($C44=\"\",\"\",'PÚ CTIF'!$S$119)","v":""},null,""]
[{"$f":"IF(Start!I19=\"\",\"\",\"x\")","v":""},39,{"$f":"IF(Start!G19=\"\",\"\",Start!G19)","v":""},null,{"$f":"IF($C45=\"\",\"\",PÚ!$T$59)","v":""},{"$f":"IF($C45=\"\",\"\",Št.4x60m!$T$59)","v":""},{"$f":"IF($C45=\"\",\"\",Št.dvojic!$V$121)","v":""},{"$f":"IF($C45=\"\",\"\",Št.400mCTIF!$V$121)","v":""},{"$f":"IF($C45=\"\",\"\",'PÚ CTIF'!$S$121)","v":""},null,""]
[{"$f":"IF(Start!I20=\"\",\"\",\"x\")","v":""},40,{"$f":"IF(Start!G20=\"\",\"\",Start!G20)","v":""},null,{"$f":"IF($C46=\"\",\"\",PÚ!$T$61)","v":""},{"$f":"IF($C46=\"\",\"\",Št.4x60m!$T$61)","v":""},{"$f":"IF($C46=\"\",\"\",Št.dvojic!$V$123)","v":""},{"$f":"IF($C46=\"\",\"\",Št.400mCTIF!$V$123)","v":""},{"$f":"IF($C46=\"\",\"\",'PÚ CTIF'!$S$123)","v":""},null,""]
[{"$f":"IF(Start!I21=\"\",\"\",\"x\")","v":""},41,{"$f":"IF(Start!G21=\"\",\"\",Start!G21)","v":""},null,{"$f":"IF($C47=\"\",\"\",PÚ!$I$74)","v":""},{"$f":"IF($C47=\"\",\"\",Št.4x60m!$I$74)","v":""},{"$f":"IF($C47=\"\",\"\",Št.dvojic!$V$136)","v":""},{"$f":"IF($C47=\"\",\"\",Št.400mCTIF!$V$136)","v":""},{"$f":"IF($C47=\"\",\"\",'PÚ CTIF'!$S$136)","v":""},null,""]
[{"$f":"IF(Start!I22=\"\",\"\",\"x\")","v":""},42,{"$f":"IF(Start!G22=\"\",\"\",Start!G22)","v":""},null,{"$f":"IF($C48=\"\",\"\",PÚ!$I$76)","v":""},{"$f":"IF($C48=\"\",\"\",Št.4x60m!$I$76)","v":""},{"$f":"IF($C48=\"\",\"\",Št.dvojic!$V$138)","v":""},{"$f":"IF($C48=\"\",\"\",Št.400mCTIF!$V$138)","v":""},{"$f":"IF($C48=\"\",\"\",'PÚ CTIF'!$S$138)","v":""},null,""]
[{"$f":"IF(Start!I23=\"\",\"\",\"x\")","v":""},43,{"$f":"IF(Start!G23=\"\",\"\",Start!G23)","v":""},null,{"$f":"IF($C49=\"\",\"\",PÚ!$I$78)","v":""},{"$f":"IF($C49=\"\",\"\",Št.4x60m!$I$78)","v":""},{"$f":"IF($C49=\"\",\"\",Št.dvojic!$V$140)","v":""},{"$f":"IF($C49=\"\",\"\",Št.400mCTIF!$V$140)","v":""},{"$f":"IF($C49=\"\",\"\",'PÚ CTIF'!$S$140)","v":""},null,""]
[{"$f":"IF(Start!I24=\"\",\"\",\"x\")","v":""},44,{"$f":"IF(Start!G24=\"\",\"\",Start!G24)","v":""},null,{"$f":"IF($C50=\"\",\"\",PÚ!$I$80)","v":""},{"$f":"IF($C50=\"\",\"\",Št.4x60m!$I$80)","v":""},{"$f":"IF($C50=\"\",\"\",Št.dvojic!$V$142)","v":""},{"$f":"IF($C50=\"\",\"\",Št.400mCTIF!$V$142)","v":""},{"$f":"IF($C50=\"\",\"\",'PÚ CTIF'!$S$142)","v":""},null,""]
[{"$f":"IF(Start!I25=\"\",\"\",\"x\")","v":""},45,{"$f":"IF(Start!G25=\"\",\"\",Start!G25)","v":""},null,{"$f":"IF($C51=\"\",\"\",PÚ!$I$82)","v":""},{"$f":"IF($C51=\"\",\"\",Št.4x60m!$I$82)","v":""},{"$f":"IF($C51=\"\",\"\",Št.dvojic!$V$144)","v":""},{"$f":"IF($C51=\"\",\"\",Št.400mCTIF!$V$144)","v":""},{"$f":"IF($C51=\"\",\"\",'PÚ CTIF'!$S$144)","v":""},null,""]
[{"$f":"IF(Start!I26=\"\",\"\",\"x\")","v":""},46,{"$f":"IF(Start!G26=\"\",\"\",Start!G26)","v":""},null,{"$f":"IF($C52=\"\",\"\",PÚ!$I$84)","v":""},{"$f":"IF($C52=\"\",\"\",Št.4x60m!$I$84)","v":""},{"$f":"IF($C52=\"\",\"\",Št.dvojic!$V$146)","v":""},{"$f":"IF($C52=\"\",\"\",Št.400mCTIF!$V$146)","v":""},{"$f":"IF($C52=\"\",\"\",'PÚ CTIF'!$S$146)","v":""},null,""]
[{"$f":"IF(Start!I27=\"\",\"\",\"x\")","v":""},47,{"$f":"IF(Start!G27=\"\",\"\",Start!G27)","v":""},null,{"$f":"IF($C53=\"\",\"\",PÚ!$I$86)","v":""},{"$f":"IF($C53=\"\",\"\",Št.4x60m!$I$86)","v":""},{"$f":"IF($C53=\"\",\"\",Št.dvojic!$V$148)","v":""},{"$f":"IF($C53=\"\",\"\",Št.400mCTIF!$V$148)","v":""},{"$f":"IF($C53=\"\",\"\",'PÚ CTIF'!$S$148)","v":""},null,""]
[{"$f":"IF(Start!I28=\"\",\"\",\"x\")","v":""},48,{"$f":"IF(Start!G28=\"\",\"\",Start!G28)","v":""},null,{"$f":"IF($C54=\"\",\"\",PÚ!$I$88)","v":""},{"$f":"IF($C54=\"\",\"\",Št.4x60m!$I$88)","v":""},{"$f":"IF($C54=\"\",\"\",Št.dvojic!$V$150)","v":""},{"$f":"IF($C54=\"\",\"\",Št.400mCTIF!$V$150)","v":""},{"$f":"IF($C54=\"\",\"\",'PÚ CTIF'!$S$150)","v":""},null,""]
[{"$f":"IF(Start!I29=\"\",\"\",\"x\")","v":""},49,{"$f":"IF(Start!G29=\"\",\"\",Start!G29)","v":""},null,{"$f":"IF($C55=\"\",\"\",PÚ!$I$90)","v":""},{"$f":"IF($C55=\"\",\"\",Št.4x60m!$I$90)","v":""},{"$f":"IF($C55=\"\",\"\",Št.dvojic!$V$152)","v":""},{"$f":"IF($C55=\"\",\"\",Št.400mCTIF!$V$152)","v":""},{"$f":"IF($C55=\"\",\"\",'PÚ CTIF'!$S$152)","v":""},null,""]
[{"$f":"IF(Start!I30=\"\",\"\",\"x\")","v":""},50,{"$f":"IF(Start!G30=\"\",\"\",Start!G30)","v":""},null,{"$f":"IF($C56=\"\",\"\",PÚ!$I$92)","v":""},{"$f":"IF($C56=\"\",\"\",Št.4x60m!$I$92)","v":""},{"$f":"IF($C56=\"\",\"\",Št.dvojic!$V$154)","v":""},{"$f":"IF($C56=\"\",\"\",Št.400mCTIF!$V$154)","v":""},{"$f":"IF($C56=\"\",\"\",'PÚ CTIF'!$S$154)","v":""},null,""]
[{"$f":"IF(Start!M6=\"\",\"\",\"x\")","v":""},51,{"$f":"IF(Start!K6=\"\",\"\",Start!K6)","v":""},null,{"$f":"IF($C57=\"\",\"\",PÚ!$T$74)","v":""},{"$f":"IF($C57=\"\",\"\",Št.4x60m!$T$74)","v":""},{"$f":"IF($C57=\"\",\"\",Št.dvojic!$V$167)","v":""},{"$f":"IF($C57=\"\",\"\",Št.400mCTIF!$V$167)","v":""},{"$f":"IF($C57=\"\",\"\",'PÚ CTIF'!$S$167)","v":""},null,""]
[{"$f":"IF(Start!M7=\"\",\"\",\"x\")","v":""},52,{"$f":"IF(Start!K7=\"\",\"\",Start!K7)","v":""},null,{"$f":"IF($C58=\"\",\"\",PÚ!$T$76)","v":""},{"$f":"IF($C58=\"\",\"\",Št.4x60m!$T$76)","v":""},{"$f":"IF($C58=\"\",\"\",Št.dvojic!$V$169)","v":""},{"$f":"IF($C58=\"\",\"\",Št.400mCTIF!$V$169)","v":""},{"$f":"IF($C58=\"\",\"\",'PÚ CTIF'!$S$169)","v":""},null,""]
[{"$f":"IF(Start!M8=\"\",\"\",\"x\")","v":""},53,{"$f":"IF(Start!K8=\"\",\"\",Start!K8)","v":""},null,{"$f":"IF($C59=\"\",\"\",PÚ!$T$78)","v":""},{"$f":"IF($C59=\"\",\"\",Št.4x60m!$T$78)","v":""},{"$f":"IF($C59=\"\",\"\",Št.dvojic!$V$171)","v":""},{"$f":"IF($C59=\"\",\"\",Št.400mCTIF!$V$171)","v":""},{"$f":"IF($C59=\"\",\"\",'PÚ CTIF'!$S$171)","v":""},null,""]
[{"$f":"IF(Start!M9=\"\",\"\",\"x\")","v":""},54,{"$f":"IF(Start!K9=\"\",\"\",Start!K9)","v":""},null,{"$f":"IF($C60=\"\",\"\",PÚ!$T$80)","v":""},{"$f":"IF($C60=\"\",\"\",Št.4x60m!$T$80)","v":""},{"$f":"IF($C60=\"\",\"\",Št.dvojic!$V$173)","v":""},{"$f":"IF($C60=\"\",\"\",Št.400mCTIF!$V$173)","v":""},{"$f":"IF($C60=\"\",\"\",'PÚ CTIF'!$S$173)","v":""},null,""]
[{"$f":"IF(Start!M10=\"\",\"\",\"x\")","v":""},55,{"$f":"IF(Start!K10=\"\",\"\",Start!K10)","v":""},null,{"$f":"IF($C61=\"\",\"\",PÚ!$T$82)","v":""},{"$f":"IF($C61=\"\",\"\",Št.4x60m!$T$82)","v":""},{"$f":"IF($C61=\"\",\"\",Št.dvojic!$V$175)","v":""},{"$f":"IF($C61=\"\",\"\",Št.400mCTIF!$V$175)","v":""},{"$f":"IF($C61=\"\",\"\",'PÚ CTIF'!$S$175)","v":""},null,""]
[{"$f":"IF(Start!M11=\"\",\"\",\"x\")","v":""},56,{"$f":"IF(Start!K11=\"\",\"\",Start!K11)","v":""},null,{"$f":"IF($C62=\"\",\"\",PÚ!$T$84)","v":""},{"$f":"IF($C62=\"\",\"\",Št.4x60m!$T$84)","v":""},{"$f":"IF($C62=\"\",\"\",Št.dvojic!$V$177)","v":""},{"$f":"IF($C62=\"\",\"\",Št.400mCTIF!$V$177)","v":""},{"$f":"IF($C62=\"\",\"\",'PÚ CTIF'!$S$177)","v":""},null,""]
[{"$f":"IF(Start!M12=\"\",\"\",\"x\")","v":""},57,{"$f":"IF(Start!K12=\"\",\"\",Start!K12)","v":""},null,{"$f":"IF($C63=\"\",\"\",PÚ!$T$86)","v":""},{"$f":"IF($C63=\"\",\"\",Št.4x60m!$T$86)","v":""},{"$f":"IF($C63=\"\",\"\",Št.dvojic!$V$179)","v":""},{"$f":"IF($C63=\"\",\"\",Št.400mCTIF!$V$179)","v":""},{"$f":"IF($C63=\"\",\"\",'PÚ CTIF'!$S$179)","v":""},null,""]
[{"$f":"IF(Start!M13=\"\",\"\",\"x\")","v":""},58,{"$f":"IF(Start!K13=\"\",\"\",Start!K13)","v":""},null,{"$f":"IF($C64=\"\",\"\",PÚ!$T$88)","v":""},{"$f":"IF($C64=\"\",\"\",Št.4x60m!$T$88)","v":""},{"$f":"IF($C64=\"\",\"\",Št.dvojic!$V$181)","v":""},{"$f":"IF($C64=\"\",\"\",Št.400mCTIF!$V$181)","v":""},{"$f":"IF($C64=\"\",\"\",'PÚ CTIF'!$S$181)","v":""},null,""]
[{"$f":"IF(Start!M14=\"\",\"\",\"x\")","v":""},59,{"$f":"IF(Start!K14=\"\",\"\",Start!K14)","v":""},null,{"$f":"IF($C65=\"\",\"\",PÚ!$T$90)","v":""},{"$f":"IF($C65=\"\",\"\",Št.4x60m!$T$90)","v":""},{"$f":"IF($C65=\"\",\"\",Št.dvojic!$V$183)","v":""},{"$f":"IF($C65=\"\",\"\",Št.400mCTIF!$V$183)","v":""},{"$f":"IF($C65=\"\",\"\",'PÚ CTIF'!$S$183)","v":""},null,""]
[{"$f":"IF(Start!M15=\"\",\"\",\"x\")","v":""},60,{"$f":"IF(Start!K15=\"\",\"\",Start!K15)","v":""},null,{"$f":"IF($C66=\"\",\"\",PÚ!$T$92)","v":""},{"$f":"IF($C66=\"\",\"\",Št.4x60m!$T$92)","v":""},{"$f":"IF($C66=\"\",\"\",Št.dvojic!$V$185)","v":""},{"$f":"IF($C66=\"\",\"\",Št.400mCTIF!$V$185)","v":""},{"$f":"IF($C66=\"\",\"\",'PÚ CTIF'!$S$185)","v":""},null,""]
[{"$f":"IF(Start!M16=\"\",\"\",\"x\")","v":""},61,{"$f":"IF(Start!K16=\"\",\"\",Start!K16)","v":""},null,{"$f":"IF($C67=\"\",\"\",PÚ!$I$105)","v":""},{"$f":"IF($C67=\"\",\"\",Št.4x60m!$I$105)","v":""},{"$f":"IF($C67=\"\",\"\",Št.dvojic!$V$198)","v":""},{"$f":"IF($C67=\"\",\"\",Št.400mCTIF!$V$198)","v":""},{"$f":"IF($C67=\"\",\"\",'PÚ CTIF'!$S$198)","v":""},null,""]
[{"$f":"IF(Start!M17=\"\",\"\",\"x\")","v":""},62,{"$f":"IF(Start!K17=\"\",\"\",Start!K17)","v":""},null,{"$f":"IF($C68=\"\",\"\",PÚ!$I$107)","v":""},{"$f":"IF($C68=\"\",\"\",Št.4x60m!$I$107)","v":""},{"$f":"IF($C68=\"\",\"\",Št.dvojic!$V$200)","v":""},{"$f":"IF($C68=\"\",\"\",Št.400mCTIF!$V$200)","v":""},{"$f":"IF($C68=\"\",\"\",'PÚ CTIF'!$S$200)","v":""},null,""]
[{"$f":"IF(Start!M18=\"\",\"\",\"x\")","v":""},63,{"$f":"IF(Start!K18=\"\",\"\",Start!K18)","v":""},null,{"$f":"IF($C69=\"\",\"\",PÚ!$I$109)","v":""},{"$f":"IF($C69=\"\",\"\",Št.4x60m!$I$109)","v":""},{"$f":"IF($C69=\"\",\"\",Št.dvojic!$V$202)","v":""},{"$f":"IF($C69=\"\",\"\",Št.400mCTIF!$V$202)","v":""},{"$f":"IF($C69=\"\",\"\",'PÚ CTIF'!$S$202)","v":""},null,""]
[{"$f":"IF(Start!M19=\"\",\"\",\"x\")","v":""},64,{"$f":"IF(Start!K19=\"\",\"\",Start!K19)","v":""},null,{"$f":"IF($C70=\"\",\"\",PÚ!$I$111)","v":""},{"$f":"IF($C70=\"\",\"\",Št.4x60m!$I$111)","v":""},{"$f":"IF($C70=\"\",\"\",Št.dvojic!$V$204)","v":""},{"$f":"IF($C70=\"\",\"\",Št.400mCTIF!$V$204)","v":""},{"$f":"IF($C70=\"\",\"\",'PÚ CTIF'!$S$204)","v":""},null,""]
[{"$f":"IF(Start!M20=\"\",\"\",\"x\")","v":""},65,{"$f":"IF(Start!K20=\"\",\"\",Start!K20)","v":""},null,{"$f":"IF($C71=\"\",\"\",PÚ!$I$113)","v":""},{"$f":"IF($C71=\"\",\"\",Št.4x60m!$I$113)","v":""},{"$f":"IF($C71=\"\",\"\",Št.dvojic!$V$206)","v":""},{"$f":"IF($C71=\"\",\"\",Št.400mCTIF!$V$206)","v":""},{"$f":"IF($C71=\"\",\"\",'PÚ CTIF'!$S$206)","v":""},null,""]
[{"$f":"IF(Start!M21=\"\",\"\",\"x\")","v":""},66,{"$f":"IF(Start!K21=\"\",\"\",Start!K21)","v":""},null,{"$f":"IF($C72=\"\",\"\",PÚ!$I$115)","v":""},{"$f":"IF($C72=\"\",\"\",Št.4x60m!$I$115)","v":""},{"$f":"IF($C72=\"\",\"\",Št.dvojic!$V$208)","v":""},{"$f":"IF($C72=\"\",\"\",Št.400mCTIF!$V$208)","v":""},{"$f":"IF($C72=\"\",\"\",'PÚ CTIF'!$S$208)","v":""},null,{"$f":"IF(OR(A72=\"x\",A72=\"X\"),\"\",IF(C72=\"\",\"\",SUM(D72:J72)))","v":""}]
[{"$f":"IF(Start!M22=\"\",\"\",\"x\")","v":""},67,{"$f":"IF(Start!K22=\"\",\"\",Start!K22)","v":""},null,{"$f":"IF($C73=\"\",\"\",PÚ!$I$117)","v":""},{"$f":"IF($C73=\"\",\"\",Št.4x60m!$I$117)","v":""},{"$f":"IF($C73=\"\",\"\",Št.dvojic!$V$210)","v":""},{"$f":"IF($C73=\"\",\"\",Št.400mCTIF!$V$210)","v":""},{"$f":"IF($C73=\"\",\"\",'PÚ CTIF'!$S$210)","v":""},null,""]
[{"$f":"IF(Start!M23=\"\",\"\",\"x\")","v":""},68,{"$f":"IF(Start!K23=\"\",\"\",Start!K23)","v":""},null,{"$f":"IF($C74=\"\",\"\",PÚ!$I$119)","v":""},{"$f":"IF($C74=\"\",\"\",Št.4x60m!$I$119)","v":""},{"$f":"IF($C74=\"\",\"\",Št.dvojic!$V$212)","v":""},{"$f":"IF($C74=\"\",\"\",Št.400mCTIF!$V$212)","v":""},{"$f":"IF($C74=\"\",\"\",'PÚ CTIF'!$S$212)","v":""},null,""]
[{"$f":"IF(Start!M24=\"\",\"\",\"x\")","v":""},69,{"$f":"IF(Start!K24=\"\",\"\",Start!K24)","v":""},null,{"$f":"IF($C75=\"\",\"\",PÚ!$I$121)","v":""},{"$f":"IF($C75=\"\",\"\",Št.4x60m!$I$121)","v":""},{"$f":"IF($C75=\"\",\"\",Št.dvojic!$V$214)","v":""},{"$f":"IF($C75=\"\",\"\",Št.400mCTIF!$V$214)","v":""},{"$f":"IF($C75=\"\",\"\",'PÚ CTIF'!$S$214)","v":""},null,""]
[{"$f":"IF(Start!M25=\"\",\"\",\"x\")","v":""},70,{"$f":"IF(Start!K25=\"\",\"\",Start!K25)","v":""},null,{"$f":"IF($C76=\"\",\"\",PÚ!$I$123)","v":""},{"$f":"IF($C76=\"\",\"\",Št.4x60m!$I$123)","v":""},{"$f":"IF($C76=\"\",\"\",Št.dvojic!$V$216)","v":""},{"$f":"IF($C76=\"\",\"\",Št.400mCTIF!$V$216)","v":""},{"$f":"IF($C76=\"\",\"\",'PÚ CTIF'!$S$216)","v":""},null,""]
[{"$f":"IF(Start!M26=\"\",\"\",\"x\")","v":""},71,{"$f":"IF(Start!K26=\"\",\"\",Start!K26)","v":""},null,{"$f":"IF($C77=\"\",\"\",PÚ!$T$105)","v":""},{"$f":"IF($C77=\"\",\"\",Št.4x60m!$T$105)","v":""},{"$f":"IF($C77=\"\",\"\",Št.dvojic!$V$229)","v":""},{"$f":"IF($C77=\"\",\"\",Št.400mCTIF!$V$229)","v":""},{"$f":"IF($C77=\"\",\"\",'PÚ CTIF'!$S$229)","v":""},null,""]
[{"$f":"IF(Start!M27=\"\",\"\",\"x\")","v":""},72,{"$f":"IF(Start!K27=\"\",\"\",Start!K27)","v":""},null,{"$f":"IF($C78=\"\",\"\",PÚ!$T$107)","v":""},{"$f":"IF($C78=\"\",\"\",Št.4x60m!$T$107)","v":""},{"$f":"IF($C78=\"\",\"\",Št.dvojic!$V$231)","v":""},{"$f":"IF($C78=\"\",\"\",Št.400mCTIF!$V$231)","v":""},{"$f":"IF($C78=\"\",\"\",'PÚ CTIF'!$S$231)","v":""},null,""]
[{"$f":"IF(Start!M28=\"\",\"\",\"x\")","v":""},73,{"$f":"IF(Start!K28=\"\",\"\",Start!K28)","v":""},null,{"$f":"IF($C79=\"\",\"\",PÚ!$T$109)","v":""},{"$f":"IF($C79=\"\",\"\",Št.4x60m!$T$109)","v":""},{"$f":"IF($C79=\"\",\"\",Št.dvojic!$V$233)","v":""},{"$f":"IF($C79=\"\",\"\",Št.400mCTIF!$V$233)","v":""},{"$f":"IF($C79=\"\",\"\",'PÚ CTIF'!$S$233)","v":""},null,""]
[{"$f":"IF(Start!M29=\"\",\"\",\"x\")","v":""},74,{"$f":"IF(Start!K29=\"\",\"\",Start!K29)","v":""},null,{"$f":"IF($C80=\"\",\"\",PÚ!$T$111)","v":""},{"$f":"IF($C80=\"\",\"\",Št.4x60m!$T$111)","v":""},{"$f":"IF($C80=\"\",\"\",Št.dvojic!$V$235)","v":""},{"$f":"IF($C80=\"\",\"\",Št.400mCTIF!$V$235)","v":""},{"$f":"IF($C80=\"\",\"\",'PÚ CTIF'!$S$235)","v":""},null,""]
[{"$f":"IF(Start!M30=\"\",\"\",\"x\")","v":""},75,{"$f":"IF(Start!K30=\"\",\"\",Start!K30)","v":""},null,{"$f":"IF($C81=\"\",\"\",PÚ!$T$113)","v":""},{"$f":"IF($C81=\"\",\"\",Št.4x60m!$T$113)","v":""},{"$f":"IF($C81=\"\",\"\",Št.dvojic!$V$237)","v":""},{"$f":"IF($C81=\"\",\"\",Št.400mCTIF!$V$237)","v":""},{"$f":"IF($C81=\"\",\"\",'PÚ CTIF'!$S$237)","v":""},null,""]
[{"$f":"IF(Start!Q6=\"\",\"\",\"x\")","v":""},76,{"$f":"IF(Start!O6=\"\",\"\",Start!O6)","v":""},null,{"$f":"IF($C82=\"\",\"\",PÚ!$T$115)","v":""},{"$f":"IF($C82=\"\",\"\",Št.4x60m!$T$115)","v":""},{"$f":"IF($C82=\"\",\"\",Št.dvojic!$V$239)","v":""},{"$f":"IF($C82=\"\",\"\",Št.400mCTIF!$V$239)","v":""},{"$f":"IF($C82=\"\",\"\",'PÚ CTIF'!$S$239)","v":""},null,""]
[{"$f":"IF(Start!Q7=\"\",\"\",\"x\")","v":""},77,{"$f":"IF(Start!O7=\"\",\"\",Start!O7)","v":""},null,{"$f":"IF($C83=\"\",\"\",PÚ!$T$117)","v":""},{"$f":"IF($C83=\"\",\"\",Št.4x60m!$T$117)","v":""},{"$f":"IF($C83=\"\",\"\",Št.dvojic!$V$241)","v":""},{"$f":"IF($C83=\"\",\"\",Št.400mCTIF!$V$241)","v":""},{"$f":"IF($C83=\"\",\"\",'PÚ CTIF'!$S$241)","v":""},null,""]
[{"$f":"IF(Start!Q8=\"\",\"\",\"x\")","v":""},78,{"$f":"IF(Start!O8=\"\",\"\",Start!O8)","v":""},null,{"$f":"IF($C84=\"\",\"\",PÚ!$T$119)","v":""},{"$f":"IF($C84=\"\",\"\",Št.4x60m!$T$119)","v":""},{"$f":"IF($C84=\"\",\"\",Št.dvojic!$V$243)","v":""},{"$f":"IF($C84=\"\",\"\",Št.400mCTIF!$V$243)","v":""},{"$f":"IF($C84=\"\",\"\",'PÚ CTIF'!$S$243)","v":""},null,""]
[{"$f":"IF(Start!Q9=\"\",\"\",\"x\")","v":""},79,{"$f":"IF(Start!O9=\"\",\"\",Start!O9)","v":""},null,{"$f":"IF($C85=\"\",\"\",PÚ!$T$121)","v":""},{"$f":"IF($C85=\"\",\"\",Št.4x60m!$T$121)","v":""},{"$f":"IF($C85=\"\",\"\",Št.dvojic!$V$245)","v":""},{"$f":"IF($C85=\"\",\"\",Št.400mCTIF!$V$245)","v":""},{"$f":"IF($C85=\"\",\"\",'PÚ CTIF'!$S$245)","v":""},null,""]
[{"$f":"IF(Start!Q10=\"\",\"\",\"x\")","v":""},80,{"$f":"IF(Start!O10=\"\",\"\",Start!O10)","v":""},null,{"$f":"IF($C86=\"\",\"\",PÚ!$T$123)","v":""},{"$f":"IF($C86=\"\",\"\",Št.4x60m!$T$123)","v":""},{"$f":"IF($C86=\"\",\"\",Št.dvojic!$V$247)","v":""},{"$f":"IF($C86=\"\",\"\",Št.400mCTIF!$V$247)","v":""},{"$f":"IF($C86=\"\",\"\",'PÚ CTIF'!$S$247)","v":""},null,""]
[{"$f":"IF(Start!Q11=\"\",\"\",\"x\")","v":""},81,{"$f":"IF(Start!O11=\"\",\"\",Start!O11)","v":""},null,{"$f":"IF($C87=\"\",\"\",PÚ!$I$136)","v":""},{"$f":"IF($C87=\"\",\"\",Št.4x60m!$I$136)","v":""},{"$f":"IF($C87=\"\",\"\",Št.dvojic!$V$260)","v":""},{"$f":"IF($C87=\"\",\"\",Št.400mCTIF!$V$260)","v":""},{"$f":"IF($C87=\"\",\"\",'PÚ CTIF'!$S$260)","v":""},null,""]
[{"$f":"IF(Start!Q12=\"\",\"\",\"x\")","v":""},82,{"$f":"IF(Start!O12=\"\",\"\",Start!O12)","v":""},null,{"$f":"IF($C88=\"\",\"\",PÚ!$I$138)","v":""},{"$f":"IF($C88=\"\",\"\",Št.4x60m!$I$138)","v":""},{"$f":"IF($C88=\"\",\"\",Št.dvojic!$V$262)","v":""},{"$f":"IF($C88=\"\",\"\",Št.400mCTIF!$V$262)","v":""},{"$f":"IF($C88=\"\",\"\",'PÚ CTIF'!$S$262)","v":""},null,""]
[{"$f":"IF(Start!Q13=\"\",\"\",\"x\")","v":""},83,{"$f":"IF(Start!O13=\"\",\"\",Start!O13)","v":""},null,{"$f":"IF($C89=\"\",\"\",PÚ!$I$140)","v":""},{"$f":"IF($C89=\"\",\"\",Št.4x60m!$I$140)","v":""},{"$f":"IF($C89=\"\",\"\",Št.dvojic!$V$264)","v":""},{"$f":"IF($C89=\"\",\"\",Št.400mCTIF!$V$264)","v":""},{"$f":"IF($C89=\"\",\"\",'PÚ CTIF'!$S$264)","v":""},null,""]
[{"$f":"IF(Start!Q14=\"\",\"\",\"x\")","v":""},84,{"$f":"IF(Start!O14=\"\",\"\",Start!O14)","v":""},null,{"$f":"IF($C90=\"\",\"\",PÚ!$I$142)","v":""},{"$f":"IF($C90=\"\",\"\",Št.4x60m!$I$142)","v":""},{"$f":"IF($C90=\"\",\"\",Št.dvojic!$V$266)","v":""},{"$f":"IF($C90=\"\",\"\",Št.400mCTIF!$V$266)","v":""},{"$f":"IF($C90=\"\",\"\",'PÚ CTIF'!$S$266)","v":""},null,""]
[{"$f":"IF(Start!Q15=\"\",\"\",\"x\")","v":""},85,{"$f":"IF(Start!O15=\"\",\"\",Start!O15)","v":""},null,{"$f":"IF($C91=\"\",\"\",PÚ!$I$144)","v":""},{"$f":"IF($C91=\"\",\"\",Št.4x60m!$I$144)","v":""},{"$f":"IF($C91=\"\",\"\",Št.dvojic!$V$268)","v":""},{"$f":"IF($C91=\"\",\"\",Št.400mCTIF!$V$268)","v":""},{"$f":"IF($C91=\"\",\"\",'PÚ CTIF'!$S$268)","v":""},null,""]
[{"$f":"IF(Start!Q16=\"\",\"\",\"x\")","v":""},86,{"$f":"IF(Start!O16=\"\",\"\",Start!O16)","v":""},null,{"$f":"IF($C92=\"\",\"\",PÚ!$I$146)","v":""},{"$f":"IF($C92=\"\",\"\",Št.4x60m!$I$146)","v":""},{"$f":"IF($C92=\"\",\"\",Št.dvojic!$V$270)","v":""},{"$f":"IF($C92=\"\",\"\",Št.400mCTIF!$V$270)","v":""},{"$f":"IF($C92=\"\",\"\",'PÚ CTIF'!$S$270)","v":""},null,""]
[{"$f":"IF(Start!Q17=\"\",\"\",\"x\")","v":""},87,{"$f":"IF(Start!O17=\"\",\"\",Start!O17)","v":""},null,{"$f":"IF($C93=\"\",\"\",PÚ!$I$148)","v":""},{"$f":"IF($C93=\"\",\"\",Št.4x60m!$I$148)","v":""},{"$f":"IF($C93=\"\",\"\",Št.dvojic!$V$272)","v":""},{"$f":"IF($C93=\"\",\"\",Št.400mCTIF!$V$272)","v":""},{"$f":"IF($C93=\"\",\"\",'PÚ CTIF'!$S$272)","v":""},null,""]
[{"$f":"IF(Start!Q18=\"\",\"\",\"x\")","v":""},88,{"$f":"IF(Start!O18=\"\",\"\",Start!O18)","v":""},null,{"$f":"IF($C94=\"\",\"\",PÚ!$I$150)","v":""},{"$f":"IF($C94=\"\",\"\",Št.4x60m!$I$150)","v":""},{"$f":"IF($C94=\"\",\"\",Št.dvojic!$V$274)","v":""},{"$f":"IF($C94=\"\",\"\",Št.400mCTIF!$V$274)","v":""},{"$f":"IF($C94=\"\",\"\",'PÚ CTIF'!$S$274)","v":""},null,""]
[{"$f":"IF(Start!Q19=\"\",\"\",\"x\")","v":""},89,{"$f":"IF(Start!O19=\"\",\"\",Start!O19)","v":""},null,{"$f":"IF($C95=\"\",\"\",PÚ!$I$152)","v":""},{"$f":"IF($C95=\"\",\"\",Št.4x60m!$I$152)","v":""},{"$f":"IF($C95=\"\",\"\",Št.dvojic!$V$276)","v":""},{"$f":"IF($C95=\"\",\"\",Št.400mCTIF!$V$276)","v":""},{"$f":"IF($C95=\"\",\"\",'PÚ CTIF'!$S$276)","v":""},null,""]
[{"$f":"IF(Start!Q20=\"\",\"\",\"x\")","v":""},90,{"$f":"IF(Start!O20=\"\",\"\",Start!O20)","v":""},null,{"$f":"IF($C96=\"\",\"\",PÚ!$I$154)","v":""},{"$f":"IF($C96=\"\",\"\",Št.4x60m!$I$154)","v":""},{"$f":"IF($C96=\"\",\"\",Št.dvojic!$V$278)","v":""},{"$f":"IF($C96=\"\",\"\",Št.400mCTIF!$V$278)","v":""},{"$f":"IF($C96=\"\",\"\",'PÚ CTIF'!$S$278)","v":""},null,""]
[{"$f":"IF(Start!Q21=\"\",\"\",\"x\")","v":""},91,{"$f":"IF(Start!O21=\"\",\"\",Start!O21)","v":""},null,{"$f":"IF($C97=\"\",\"\",PÚ!$T$136)","v":""},{"$f":"IF($C97=\"\",\"\",Št.4x60m!$T$136)","v":""},{"$f":"IF($C97=\"\",\"\",Št.dvojic!$V$291)","v":""},{"$f":"IF($C97=\"\",\"\",Št.400mCTIF!$V$291)","v":""},{"$f":"IF($C97=\"\",\"\",'PÚ CTIF'!$S$291)","v":""},null,""]
[{"$f":"IF(Start!Q22=\"\",\"\",\"x\")","v":""},92,{"$f":"IF(Start!O22=\"\",\"\",Start!O22)","v":""},null,{"$f":"IF($C98=\"\",\"\",PÚ!$T$138)","v":""},{"$f":"IF($C98=\"\",\"\",Št.4x60m!$T$138)","v":""},{"$f":"IF($C98=\"\",\"\",Št.dvojic!$V$293)","v":""},{"$f":"IF($C98=\"\",\"\",Št.400mCTIF!$V$293)","v":""},{"$f":"IF($C98=\"\",\"\",'PÚ CTIF'!$S$293)","v":""},null,""]
[{"$f":"IF(Start!Q23=\"\",\"\",\"x\")","v":""},93,{"$f":"IF(Start!O23=\"\",\"\",Start!O23)","v":""},null,{"$f":"IF($C99=\"\",\"\",PÚ!$T$140)","v":""},{"$f":"IF($C99=\"\",\"\",Št.4x60m!$T$140)","v":""},{"$f":"IF($C99=\"\",\"\",Št.dvojic!$V$295)","v":""},{"$f":"IF($C99=\"\",\"\",Št.400mCTIF!$V$295)","v":""},{"$f":"IF($C99=\"\",\"\",'PÚ CTIF'!$S$295)","v":""},null,""]
[{"$f":"IF(Start!Q24=\"\",\"\",\"x\")","v":""},94,{"$f":"IF(Start!O24=\"\",\"\",Start!O24)","v":""},null,{"$f":"IF($C100=\"\",\"\",PÚ!$T$142)","v":""},{"$f":"IF($C100=\"\",\"\",Št.4x60m!$T$142)","v":""},{"$f":"IF($C100=\"\",\"\",Št.dvojic!$V$297)","v":""},{"$f":"IF($C100=\"\",\"\",Št.400mCTIF!$V$297)","v":""},{"$f":"IF($C100=\"\",\"\",'PÚ CTIF'!$S$297)","v":""},null,""]
[{"$f":"IF(Start!Q25=\"\",\"\",\"x\")","v":""},95,{"$f":"IF(Start!O25=\"\",\"\",Start!O25)","v":""},null,{"$f":"IF($C101=\"\",\"\",PÚ!$T$144)","v":""},{"$f":"IF($C101=\"\",\"\",Št.4x60m!$T$144)","v":""},{"$f":"IF($C101=\"\",\"\",Št.dvojic!$V$299)","v":""},{"$f":"IF($C101=\"\",\"\",Št.400mCTIF!$V$299)","v":""},{"$f":"IF($C101=\"\",\"\",'PÚ CTIF'!$S$299)","v":""},null,""]
[{"$f":"IF(Start!Q26=\"\",\"\",\"x\")","v":""},96,{"$f":"IF(Start!O26=\"\",\"\",Start!O26)","v":""},null,{"$f":"IF($C102=\"\",\"\",PÚ!$T$146)","v":""},{"$f":"IF($C102=\"\",\"\",Št.4x60m!$T$146)","v":""},{"$f":"IF($C102=\"\",\"\",Št.dvojic!$V$301)","v":""},{"$f":"IF($C102=\"\",\"\",Št.400mCTIF!$V$301)","v":""},{"$f":"IF($C102=\"\",\"\",'PÚ CTIF'!$S$301)","v":""},null,""]
[{"$f":"IF(Start!Q27=\"\",\"\",\"x\")","v":""},97,{"$f":"IF(Start!O27=\"\",\"\",Start!O27)","v":""},null,{"$f":"IF($C103=\"\",\"\",PÚ!$T$148)","v":""},{"$f":"IF($C103=\"\",\"\",Št.4x60m!$T$148)","v":""},{"$f":"IF($C103=\"\",\"\",Št.dvojic!$V$303)","v":""},{"$f":"IF($C103=\"\",\"\",Št.400mCTIF!$V$303)","v":""},{"$f":"IF($C103=\"\",\"\",'PÚ CTIF'!$S$303)","v":""},null,""]
[{"$f":"IF(Start!Q28=\"\",\"\",\"x\")","v":""},98,{"$f":"IF(Start!O28=\"\",\"\",Start!O28)","v":""},null,{"$f":"IF($C104=\"\",\"\",PÚ!$T$150)","v":""},{"$f":"IF($C104=\"\",\"\",Št.4x60m!$T$150)","v":""},{"$f":"IF($C104=\"\",\"\",Št.dvojic!$V$305)","v":""},{"$f":"IF($C104=\"\",\"\",Št.400mCTIF!$V$305)","v":""},{"$f":"IF($C104=\"\",\"\",'PÚ CTIF'!$S$305)","v":""},null,""]
[{"$f":"IF(Start!Q29=\"\",\"\",\"x\")","v":""},99,{"$f":"IF(Start!O29=\"\",\"\",Start!O29)","v":""},null,{"$f":"IF($C105=\"\",\"\",PÚ!$T$152)","v":""},{"$f":"IF($C105=\"\",\"\",Št.4x60m!$T$152)","v":""},{"$f":"IF($C105=\"\",\"\",Št.dvojic!$V$307)","v":""},{"$f":"IF($C105=\"\",\"\",Št.400mCTIF!$V$307)","v":""},{"$f":"IF($C105=\"\",\"\",'PÚ CTIF'!$S$307)","v":""},null,""]
[{"$f":"IF(Start!Q30=\"\",\"\",\"x\")","v":""},100,{"$f":"IF(Start!O30=\"\",\"\",Start!O30)","v":""},null,{"$f":"IF($C106=\"\",\"\",PÚ!$T$154)","v":""},{"$f":"IF($C106=\"\",\"\",Št.4x60m!$T$154)","v":""},{"$f":"IF($C106=\"\",\"\",Št.dvojic!$V$309)","v":""},{"$f":"IF($C106=\"\",\"\",Št.400mCTIF!$V$309)","v":""},{"$f":"IF($C106=\"\",\"\",'PÚ CTIF'!$S$309)","v":""},null,""]

{"sheet":"POM","index":10,"n_rows":100,"n_cols":26,"rows_kept":100,"cut":false,"hidden":false,"merged":[]}
[1,"",null,"","","","","",null,"",1,null,1,"",null,"","","","","",1,"",{"$f":"COUNT(V:V)","v":0},{"$f":"IF($N1=\"\",\"\",RANK($V1,$V$1:$V$100,1))","v":""},{"$f":"IF($N1=\"\",\"\",RANK($P1,$P$1:$P$100,1))","v":""},{"$f":"IF($N1=\"\",\"\",RANK($T1,$T$1:$T$100,1))","v":""}]
[2,"",null,"","","","","",null,"",null,null,2,"",null,"","","","","",null,"",null,{"$f":"IF($N2=\"\",\"\",RANK($V2,$V$1:$V$100,1))","v":""},{"$f":"IF($N2=\"\",\"\",RANK($P2,$P$1:$P$100,1))","v":""},{"$f":"IF($N2=\"\",\"\",RANK($T2,$T$1:$T$100,1))","v":""}]
[3,"",null,"","","","","",null,"",null,null,3,"",null,"","","","","",null,"",null,"","",""]
[4,"",null,"","","","","",null,"",null,null,4,"",null,"","","","","",null,"",null,"","",""]
[5,"",null,"","","","","",null,"",null,null,5,"",null,"","","","","",null,"",null,"","",""]
[6,"",null,"","","","","",null,"",null,null,6,"",null,"","","","","",null,"",null,"","",""]
[7,"",null,"","","","","",null,"",null,null,7,"",null,"","","","","",null,"",null,"","",""]
[8,"",null,"","","","","",null,"",null,null,8,"",null,"","","","","",null,"",null,"","",""]
[9,"",null,"","","","","",null,"",null,null,9,"",null,"","","","","",null,"",null,"","",""]
[10,"",null,"","","","","",null,"",null,null,10,"",null,"","","","","",null,"",null,"","",""]
[11,"",null,"","","","","",null,"",null,null,11,"",null,"","","","","",null,"",null,"","",""]
[12,"",null,"","","","","",null,"",null,null,12,"",null,"","","","","",null,"",null,"","",""]
[13,"",null,"","","","","",null,"",null,null,13,"",null,"","","","","",null,"",null,"","",""]
[14,"",null,"","","","","",null,"",null,null,14,"",null,"","","","","",null,"",null,"","",""]
[15,"",null,"","","","","",null,"",null,null,15,"",null,"","","","","",null,"",null,"","",""]
[16,"",null,"","","","","",null,"",null,null,16,"",null,"","","","","",null,"",null,"","",""]
[17,"",null,"","","","","",null,"",null,null,17,"",null,"","","","","",null,"",null,"","",""]
[18,"",null,"","","","","",null,"",null,null,18,"",null,"","","","","",null,"",null,"","",""]
[19,"",null,"","","","","",null,"",null,null,19,"",null,"","","","","",null,"",null,"","",""]
[20,"",null,"","","","","",null,"",null,null,20,"",null,"","","","","",null,"",null,"","",""]
[21,"",null,"","","","","",null,"",null,null,21,"",null,"","","","","",null,"",null,"","",""]
[22,"",null,"","","","","",null,"",null,null,22,"",null,"","","","","",null,"",null,"","",""]
[23,"",null,"","","","","",null,"",null,null,23,"",null,"","","","","",null,"",null,"","",""]
[24,"",null,"","","","","",null,"",null,null,24,"",null,"","","","","",null,"",null,"","",""]
[25,"",null,"","","","","",null,"",null,null,25,"",null,"","","","","",null,"",null,"","",""]
[26,"",null,"","","","","",null,"",null,null,26,"",null,"","","","","",null,"",null,"","",""]
[27,"",null,"","","","","",null,"",null,null,27,"",null,"","","","","",null,"",null,"","",""]
[28,"",null,"","","","","",null,"",null,null,28,"",null,"","","","","",null,"",null,"","",""]
[29,"",null,"","","","","",null,"",null,null,29,"",null,"","","","","",null,"",null,"","",""]
[30,"",null,"","","","","",null,"",null,null,30,"",null,"","","","","",null,"",null,"","",""]
[31,"",null,"","","","","",null,"",null,null,31,"",null,"","","","","",null,"",null,"","",""]
[32,"",null,"","","","","",null,"",null,null,32,"",null,"","","","","",null,"",null,"","",""]
[33,"",null,"","","","","",null,"",null,null,33,"",null,"","","","","",null,"",null,"","",""]
[34,"",null,"","","","","",null,"",null,null,34,"",null,"","","","","",null,"",null,"","",""]
[35,"",null,"","","","","",null,"",null,null,35,"",null,"","","","","",null,"",null,"","",""]
[36,"",null,"","","","","",null,"",null,null,36,"",null,"","","","","",null,"",null,"","",""]
[37,"",null,"","","","","",null,"",null,null,37,"",null,"","","","","",null,"",null,"","",""]
[38,"",null,"","","","","",null,"",null,null,38,"",null,"","","","","",null,"",null,"","",""]
[39,"",null,"","","","","",null,"",null,null,39,"",null,"","","","","",null,"",null,"","",""]
[40,"",null,"","","","","",null,"",null,null,40,"",null,"","","","","",null,"",null,"","",""]
[41,"",null,"","","","","",null,"",null,null,41,"",null,"","","","","",null,"",null,"","",""]
[42,"",null,"","","","","",null,"",null,null,42,"",null,"","","","","",null,"",null,"","",""]
[43,"",null,"","","","","",null,"",null,null,43,"",null,"","","","","",null,"",null,"","",""]
[44,"",null,"","","","","",null,"",null,null,44,"",null,"","","","","",null,"",null,"","",""]
[45,"",null,"","","","","",null,"",null,null,45,"",null,"","","","","",null,"",null,"","",""]
[46,"",null,"","","","","",null,"",null,null,46,"",null,"","","","","",null,"",null,"","",""]
[47,"",null,"","","","","",null,"",null,null,47,"",null,"","","","","",null,"",null,"","",""]
[48,"",null,"","","","","",null,"",null,null,48,"",null,"","","","","",null,"",null,"","",""]
[49,"",null,"","","","","",null,"",null,null,49,"",null,"","","","","",null,"",null,"","",""]
[50,"",null,"","","","","",null,"",null,null,50,"",null,"","","","","",null,"",null,"","",""]
[51,"",null,"","","","","",null,"",null,null,51,"",null,"","","","","",null,"",null,"","",""]
[52,"",null,"","","","","",null,"",null,null,52,"",null,"","","","","",null,"",null,"","",""]
[53,"",null,"","","","","",null,"",null,null,53,"",null,"","","","","",null,"",null,"","",""]
[54,"",null,"","","","","",null,"",null,null,54,"",null,"","","","","",null,"",null,"","",""]
[55,"",null,"","","","","",null,"",null,null,55,"",null,"","","","","",null,"",null,"","",""]
[56,"",null,"","","","","",null,"",null,null,56,"",null,"","","","","",null,"",null,"","",""]
[57,"",null,"","","","","",null,"",null,null,57,"",null,"","","","","",null,"",null,"","",""]
[58,"",null,"","","","","",null,"",null,null,58,"",null,"","","","","",null,"",null,"","",""]
[59,"",null,"","","","","",null,"",null,null,59,"",null,"","","","","",null,"",null,"","",""]
[60,"",null,"","","","","",null,"",null,null,60,"",null,"","","","","",null,"",null,"","",""]
[61,"",null,"","","","","",null,"",null,null,61,"",null,"","","","","",null,"",null,"","",""]
[62,"",null,"","","","","",null,"",null,null,62,"",null,"","","","","",null,"",null,"","",""]
[63,"",null,"","","","","",null,"",null,null,63,"",null,"","","","","",null,"",null,"","",""]
[64,"",null,"","","","","",null,"",null,null,64,"",null,"","","","","",null,"",null,"","",""]
[65,"",null,"","","","","",null,"",null,null,65,"",null,"","","","","",null,"",null,"","",""]
[66,"",null,"","","","","",null,"",null,null,66,"",null,"","","","","",null,"",null,{"$f":"IF($N66=\"\",\"\",RANK($V66,$V$1:$V$100,1))","v":""},{"$f":"IF($N66=\"\",\"\",RANK($P66,$P$1:$P$100,1))","v":""},{"$f":"IF($N66=\"\",\"\",RANK($T66,$T$1:$T$100,1))","v":""}]
[67,"",null,"","","","","",null,"",null,null,67,"",null,"","","","","",null,"",null,"","",""]
[68,"",null,"","","","","",null,"",null,null,68,"",null,"","","","","",null,"",null,"","",""]
[69,"",null,"","","","","",null,"",null,null,69,"",null,"","","","","",null,"",null,"","",""]
[70,"",null,"","","","","",null,"",null,null,70,"",null,"","","","","",null,"",null,"","",""]
[71,"",null,"","","","","",null,"",null,null,71,"",null,"","","","","",null,"",null,"","",""]
[72,"",null,"","","","","",null,"",null,null,72,"",null,"","","","","",null,"",null,"","",""]
[73,"",null,"","","","","",null,"",null,null,73,"",null,"","","","","",null,"",null,"","",""]
[74,"",null,"","","","","",null,"",null,null,74,"",null,"","","","","",null,"",null,"","",""]
[75,"",null,"","","","","",null,"",null,null,75,"",null,"","","","","",null,"",null,"","",""]
[76,"",null,"","","","","",null,"",null,null,76,"",null,"","","","","",null,"",null,"","",""]
[77,"",null,"","","","","",null,"",null,null,77,"",null,"","","","","",null,"",null,"","",""]
[78,"",null,"","","","","",null,"",null,null,78,"",null,"","","","","",null,"",null,"","",""]
[79,"",null,"","","","","",null,"",null,null,79,"",null,"","","","","",null,"",null,"","",""]
[80,"",null,"","","","","",null,"",null,null,80,"",null,"","","","","",null,"",null,"","",""]
[81,"",null,"","","","","",null,"",null,null,81,"",null,"","","","","",null,"",null,"","",""]
[82,"",null,"","","","","",null,"",null,null,82,"",null,"","","","","",null,"",null,"","",""]
[83,"",null,"","","","","",null,"",null,null,83,"",null,"","","","","",null,"",null,"","",""]
[84,"",null,"","","","","",null,"",null,null,84,"",null,"","","","","",null,"",null,"","",""]
[85,"",null,"","","","","",null,"",null,null,85,"",null,"","","","","",null,"",null,"","",""]
[86,"",null,"","","","","",null,"",null,null,86,"",null,"","","","","",null,"",null,"","",""]
[87,"",null,"","","","","",null,"",null,null,87,"",null,"","","","","",null,"",null,"","",""]
[88,"",null,"","","","","",null,"",null,null,88,"",null,"","","","","",null,"",null,"","",""]
[89,"",null,"","","","","",null,"",null,null,89,"",null,"","","","","",null,"",null,"","",""]
[90,"",null,"","","","","",null,"",null,null,90,"",null,"","","","","",null,"",null,"","",""]
[91,"",null,"","","","","",null,"",null,null,91,"",null,"","","","","",null,"",null,"","",""]
[92,"",null,"","","","","",null,"",null,null,92,"",null,"","","","","",null,"",null,"","",""]
[93,"",null,"","","","","",null,"",null,null,93,"",null,"","","","","",null,"",null,"","",""]
[94,"",null,"","","","","",null,"",null,null,94,"",null,"","","","","",null,"",null,"","",""]
[95,"",null,"","","","","",null,"",null,null,95,"",null,"","","","","",null,"",null,"","",""]
[96,"",null,"","","","","",null,"",null,null,96,"",null,"","","","","",null,"",null,"","",""]
[97,"",null,"","","","","",null,"",null,null,97,"",null,"","","","","",null,"",null,"","",""]
[98,"",null,"","","","","",null,"",null,null,98,"",null,"","","","","",null,"",null,"","",""]
[99,"",null,"","","","","",null,"",null,null,99,"",null,"","","","","",null,"",null,"","",""]
[100,"",null,"","","","","",null,"",null,null,100,"",null,"","","","","",null,"",null,"","",""]

{"sheet":"Beh60mS","index":11,"n_rows":168,"n_cols":28,"rows_kept":168,"cut":false,"hidden":false,"merged":[[130,4,130,7],[130,10,130,13],[88,4,88,7],[88,10,88,13],[126,1,126,16],[128,2,128,5],[128,6,128,15],[0,1,0,16],[4,4,4,7],[4,10,4,13],[2,2,2,5],[2,6,2,15],[84,1,84,16],[86,2,86,5],[86,6,86,15],[42,1,42,16],[44,2,44,5],[44,6,44,15],[46,4,46,7],[46,10,46,13]]}
[null,"Běh na 60 m s překážkami - startovní listina"]
[]
[null,null,{"$f":"Start!$B$2","v":"Požární útoky "},null,null,null,{"$f":"Start!$F$3&\", \"&Start!$N$3","v":"18.05.2025, Kamenný Újezd"}]
[]
[null,null,{"$f":"Start!$N$2","v":"starší"},null,"I. pokus",null,null,null,null,null,"II. pokus",null,null,null,null,null,null,null,null,null,null,null,null,null,null,null,"Počet drah:",3]
[null,"St.č.","Jméno","SDH",1,2,3,"Čas","dr.",null,1,2,3,"Čas","dr.",null,"Čas",null,"P.",null,"B.",null,"X.",null,null,null,"Změna drah:","N"]
[null,1,null,null,null,null,null,{"$f":"IF($C7=\"\",\"\",IF(OR($E7=\"DNS\",$F7=\"DNS\",$G7=\"DNS\",AND($E7=\"\",$F7=\"\",$G7=\"\")),\"DNS\",IF(OR($E7=\"NP\",$F7=\"NP\",$G7=\"NP\"),\"NP\",IF(ISERROR(MEDIAN($E7:$G7)),\"DNS\",IF(OR($E7=\"X\",$F7=\"X\",$G7=\"X\",$E7=\"\",$F7=\"\",$G7=\"\",$E7=\"x\",$F7=\"x\",$G7=\"x\"),MAX($E7:$G7),MEDIAN($E7:$G7))))))","v":""},1,null,null,null,null,{"$f":"IF($C7=\"\",\"\",IF(OR($K7=\"DNS\",$L7=\"DNS\",$M7=\"DNS\",AND($K7=\"\",$L7=\"\",$M7=\"\")),\"DNS\",IF(OR($K7=\"NP\",$L7=\"NP\",$M7=\"NP\"),\"NP\",IF(ISERROR(MEDIAN($K7:$M7)),\"DNS\",IF(OR($K7=\"X\",$L7=\"X\",$M7=\"X\",$K7=\"\",$L7=\"\",$M7=\"\",$K7=\"x\",$L7=\"x\",$M7=\"x\"),MAX($K7:$M7),MEDIAN($K7:$M7))))))","v":""},1,null,{"$f":"IF(C7=\"\",\"\",IF(OR(AND(H7=\"NP\",N7=\"NP\"),AND(H7=\"DNS\",N7=\"DNS\")),H7,IF(AND(H7=\"NP\",N7=\"DNS\"),H7,IF(AND(H7=\"DNS\",N7=\"NP\"),N7,MIN(H7,N7)))))","v":""},null,{"$f":"IF(C7=\"\",\"\",IF(OR(Q7=\"NP\",Q7=\"DNS\"),Q7,RANK(Q7,Q$7:Q$168,1)))","v":""},null,{"$f":"IF(C7=\"\",\"\",IF(Q7=\"NP\",MAX(S$7:S$168)+1,IF(Q7=\"DNS\",MAX(S$7:S$168)+COUNTIF(S$7:S$168,\"NP\")+1,RANK(Q7,Q$7:Q$168,1))))","v":""},null,{"$f":"IF($C7=\"\",9000,MAX(H7,N7)+(COUNTIF($H7:$H7,\"NP\")*600)+(COUNTIF($N7:$N7,\"NP\")*600)+(COUNTIF($H7:$H7,\"DNS\")*3600)+(COUNTIF($N7:$N7,\"DNS\")*3600))","v":9000}]
[null,2,null,null,null,null,null,"",2,null,null,null,null,"",2,null,"",null,{"$f":"IF(C8=\"\",\"\",IF(OR(Q8=\"NP\",Q8=\"DNS\"),Q8,RANK(Q8,Q$7:Q$168,1)))","v":""},null,{"$f":"IF(C8=\"\",\"\",IF(Q8=\"NP\",MAX(S$7:S$168)+1,IF(Q8=\"DNS\",MAX(S$7:S$168)+COUNTIF(S$7:S$168,\"NP\")+1,RANK(Q8,Q$7:Q$168,1))))","v":""},null,{"$f":"IF($C8=\"\",9000,MAX(H8,N8)+(COUNTIF($H8:$H8,\"NP\")*600)+(COUNTIF($N8:$N8,\"NP\")*600)+(COUNTIF($H8:$H8,\"DNS\")*3600)+(COUNTIF($N8:$N8,\"DNS\")*3600))","v":9000}]
[null,3,null,null,null,null,null,"",3,null,null,null,null,"",3,null,"",null,"",null,"",null,9000]
[null,4,null,null,null,null,null,"",1,null,null,null,null,"",1,null,"",null,"",null,"",null,9000]
[null,5,null,null,null,null,null,"",2,null,null,null,null,"",2,null,"",null,"",null,"",null,9000]
[null,6,null,null,null,null,null,"",3,null,null,null,null,"",3,null,"",null,"",null,"",null,9000]
[null,7,null,null,null,null,null,"",1,null,null,null,null,"",1,null,"",null,"",null,"",null,9000]
[null,8,null,null,null,null,null,"",2,null,null,null,null,"",2,null,"",null,"",null,"",null,9000]
[null,9,null,null,null,null,null,"",3,null,null,null,null,"",3,null,"",null,"",null,"",null,9000]
[null,10,null,null,null,null,null,"",1,null,null,null,null,"",1,null,"",null,"",null,"",null,9000]
[null,11,null,null,null,null,null,"",2,null,null,null,null,"",2,null,"",null,"",null,"",null,9000]
[null,12,null,null,null,null,null,"",3,null,null,null,null,"",3,null,"",null,"",null,"",null,9000]
[null,13,null,null,null,null,null,"",1,21.28,null,null,null,"",1,null,"",null,"",null,"",null,9000]
[null,14,null,null,null,null,null,"",2,null,null,null,null,"",2,null,"",null,"",null,"",null,9000]
[null,15,null,null,null,null,null,"",3,null,null,null,null,"",3,null,"",null,"",null,"",null,9000]
[null,16,null,null,null,null,null,"",1,null,null,null,null,"",1,null,"",null,"",null,"",null,9000]
[null,17,null,null,null,null,null,"",2,null,null,null,null,"",2,null,"",null,"",null,"",null,9000]
[null,18,null,null,null,null,null,"",3,null,null,null,null,"",3,null,"",null,"",null,"",null,9000]
[null,19,null,null,null,null,null,"",1,null,null,null,null,"",1,null,"",null,"",null,"",null,9000]
[null,20,null,null,null,null,null,"",2,null,null,null,null,"",2,null,"",null,"",null,"",null,9000]
[null,21,null,null,null,null,null,"",3,null,null,null,null,"",3,null,"",null,"",null,"",null,9000]
[null,22,null,null,null,null,null,"",1,null,null,null,null,"",1,null,"",null,"",null,"",null,9000]
[null,23,null,null,null,null,null,"",2,null,null,null,null,"",2,null,"",null,"",null,"",null,9000]
[null,24,null,null,null,null,null,"",3,null,null,null,null,"",3,null,"",null,"",null,"",null,9000]
[null,25,null,null,null,null,null,"",1,null,null,null,null,"",1,null,"",null,"",null,"",null,9000]
[null,26,null,null,null,null,null,"",2,null,null,null,null,"",2,null,"",null,"",null,"",null,9000]
[null,27,null,null,null,null,null,"",3,null,null,null,null,"",3,null,"",null,"",null,"",null,9000]
[null,28,null,null,null,null,null,"",1,null,null,null,null,"",1,null,"",null,"",null,"",null,9000]
[null,29,null,null,null,null,null,"",2,null,null,null,null,"",2,null,"",null,"",null,"",null,9000]
[null,30,null,null,null,null,null,"",3,null,null,null,null,"",3,null,"",null,"",null,"",null,9000]
[null,31,null,null,null,null,null,"",1,null,null,null,null,"",1,null,"",null,"",null,"",null,9000]
[null,32,null,null,null,null,null,"",2,null,null,null,null,"",2,null,"",null,"",null,"",null,9000]
[null,33,null,null,null,null,null,"",3,null,null,null,null,"",3,null,"",null,"",null,"",null,9000]
[null,34,null,null,null,null,null,"",1,null,null,null,null,"",1,null,"",null,"",null,"",null,9000]
[null,35,null,null,null,null,null,"",2,null,null,null,null,"",2,null,"",null,"",null,"",null,9000]
[null,36,null,null,null,null,null,"",3,null,null,null,null,"",3,null,"",null,"",null,"",null,9000]
[null,{"$f":"$B$1","v":"Běh na 60 m s překážkami - startovní listina"}]
[]
[null,null,{"$f":"Start!$B$2","v":"Požární útoky "},null,null,null,{"$f":"Start!$F$3&\", \"&Start!$N$3","v":"18.05.2025, Kamenný Újezd"}]
[]
[null,null,{"$f":"Start!$N$2","v":"starší"},null,"I. pokus",null,null,null,null,null,"II. pokus"]
[null,"St.č.","Jméno","SDH",1,2,3,"Čas","dr.",null,1,2,3,"Čas","dr.",null,"Čas",null,"P.",null,"B.",null,"X."]
[null,37,null,null,null,null,null,{"$f":"IF($C49=\"\",\"\",IF(OR($E49=\"DNS\",$F49=\"DNS\",$G49=\"DNS\",AND($E49=\"\",$F49=\"\",$G49=\"\")),\"DNS\",IF(OR($E49=\"NP\",$F49=\"NP\",$G49=\"NP\"),\"NP\",IF(ISERROR(MEDIAN($E49:$G49)),\"DNS\",IF(OR($E49=\"X\",$F49=\"X\",$G49=\"X\",$E49=\"\",$F49=\"\",$G49=\"\",$E49=\"x\",$F49=\"x\",$G49=\"x\"),MAX($E49:$G49),MEDIAN($E49:$G49))))))","v":""},1,null,null,null,null,{"$f":"IF($C49=\"\",\"\",IF(OR($K49=\"DNS\",$L49=\"DNS\",$M49=\"DNS\",AND($K49=\"\",$L49=\"\",$M49=\"\")),\"DNS\",IF(OR($K49=\"NP\",$L49=\"NP\",$M49=\"NP\"),\"NP\",IF(ISERROR(MEDIAN($K49:$M49)),\"DNS\",IF(OR($K49=\"X\",$L49=\"X\",$M49=\"X\",$K49=\"\",$L49=\"\",$M49=\"\",$K49=\"x\",$L49=\"x\",$M49=\"x\"),MAX($K49:$M49),MEDIAN($K49:$M49))))))","v":""},1,null,{"$f":"IF(C49=\"\",\"\",IF(OR(AND(H49=\"NP\",N49=\"NP\"),AND(H49=\"DNS\",N49=\"DNS\")),H49,IF(AND(H49=\"NP\",N49=\"DNS\"),H49,IF(AND(H49=\"DNS\",N49=\"NP\"),N49,MIN(H49,N49)))))","v":""},null,"",null,"",null,9000]
[null,38,null,null,null,null,null,"",2,null,null,null,null,"",2,null,"",null,"",null,"",null,9000]
[null,39,null,null,null,null,null,"",3,null,null,null,null,"",3,null,"",null,"",null,"",null,9000]
[null,40,null,null,null,null,null,"",1,null,null,null,null,"",1,null,"",null,"",null,"",null,9000]
[null,41,null,null,null,null,null,"",2,null,null,null,null,"",2,null,"",null,"",null,"",null,9000]
[null,42,null,null,null,null,null,"",3,null,null,null,null,"",3,null,"",null,"",null,"",null,9000]
[null,43,null,null,null,null,null,"",1,null,null,null,null,"",1,null,"",null,"",null,"",null,9000]
[null,44,null,null,null,null,null,"",2,null,null,null,null,"",2,null,"",null,"",null,"",null,9000]
[null,45,null,null,null,null,null,"",3,null,null,null,null,"",3,null,"",null,"",null,"",null,9000]
[null,46,null,null,null,null,null,"",1,null,null,null,null,"",1,null,"",null,"",null,"",null,9000]
[null,47,null,null,null,null,null,"",2,null,null,null,null,"",2,null,"",null,"",null,"",null,9000]
[null,48,null,null,null,null,null,"",3,null,null,null,null,"",3,null,"",null,"",null,"",null,9000]
[null,49,null,null,null,null,null,"",1,21.28,null,null,null,"",1,null,"",null,"",null,"",null,9000]
[null,50,null,null,null,null,null,"",2,null,null,null,null,"",2,null,"",null,"",null,"",null,9000]
[null,51,null,null,null,null,null,"",3,null,null,null,null,"",3,null,"",null,"",null,"",null,9000]
[null,52,null,null,null,null,null,"",1,null,null,null,null,"",1,null,"",null,"",null,"",null,9000]
[null,53,null,null,null,null,null,"",2,null,null,null,null,"",2,null,"",null,"",null,"",null,9000]
[null,54,null,null,null,null,null,"",3,null,null,null,null,"",3,null,"",null,"",null,"",null,9000]
[null,55,null,null,null,null,null,"",1,null,null,null,null,"",1,null,"",null,"",null,"",null,9000]
[null,56,null,null,null,null,null,"",2,null,null,null,null,"",2,null,"",null,"",null,"",null,9000]
[null,57,null,null,null,null,null,"",3,null,null,null,null,"",3,null,"",null,"",null,"",null,9000]
[null,58,null,null,null,null,null,"",1,null,null,null,null,"",1,null,"",null,"",null,"",null,9000]
[null,59,null,null,null,null,null,"",2,null,null,null,null,"",2,null,"",null,"",null,"",null,9000]
[null,60,null,null,null,null,null,"",3,null,null,null,null,"",3,null,"",null,{"$f":"IF(C72=\"\",\"\",IF(OR(Q72=\"NP\",Q72=\"DNS\"),Q72,RANK(Q72,Q$7:Q$168,1)))","v":""},null,{"$f":"IF(C72=\"\",\"\",IF(Q72=\"NP\",MAX(S$7:S$168)+1,IF(Q72=\"DNS\",MAX(S$7:S$168)+COUNTIF(S$7:S$168,\"NP\")+1,RANK(Q72,Q$7:Q$168,1))))","v":""},null,{"$f":"IF($C72=\"\",9000,MAX(H72,N72)+(COUNTIF($H72:$H72,\"NP\")*600)+(COUNTIF($N72:$N72,\"NP\")*600)+(COUNTIF($H72:$H72,\"DNS\")*3600)+(COUNTIF($N72:$N72,\"DNS\")*3600))","v":9000}]
[null,61,null,null,null,null,null,"",1,null,null,null,null,"",1,null,"",null,"",null,"",null,9000]
[null,62,null,null,null,null,null,"",2,null,null,null,null,"",2,null,"",null,"",null,"",null,9000]
[null,63,null,null,null,null,null,"",3,null,null,null,null,"",3,null,"",null,"",null,"",null,9000]
[null,64,null,null,null,null,null,"",1,null,null,null,null,"",1,null,"",null,"",null,"",null,9000]
[null,65,null,null,null,null,null,"",2,null,null,null,null,"",2,null,"",null,"",null,"",null,9000]
[null,66,null,null,null,null,null,"",3,null,null,null,null,"",3,null,"",null,"",null,"",null,9000]
[null,67,null,null,null,null,null,"",1,null,null,null,null,"",1,null,"",null,"",null,"",null,9000]
[null,68,null,null,null,null,null,"",2,null,null,null,null,"",2,null,"",null,"",null,"",null,9000]
[null,69,null,null,null,null,null,"",3,null,null,null,null,"",3,null,"",null,"",null,"",null,9000]
[null,70,null,null,null,null,null,"",1,null,null,null,null,"",1,null,"",null,"",null,"",null,9000]
[null,71,null,null,null,null,null,"",2,null,null,null,null,"",2,null,"",null,"",null,"",null,9000]
[null,72,null,null,null,null,null,"",3,null,null,null,null,"",3,null,"",null,"",null,"",null,9000]
[null,{"$f":"$B$1","v":"Běh na 60 m s překážkami - startovní listina"}]
[]
[null,null,{"$f":"Start!$B$2","v":"Požární útoky "},null,null,null,{"$f":"Start!$F$3&\", \"&Start!$N$3","v":"18.05.2025, Kamenný Újezd"}]
[]
[null,null,{"$f":"Start!$N$2","v":"starší"},null,"I. pokus",null,null,null,null,null,"II. pokus"]
[null,"St.č.","Jméno","SDH",1,2,3,"Čas","dr.",null,1,2,3,"Čas","dr.",null,"Čas",null,"P.",null,"B.",null,"X."]
[null,73,null,null,null,null,null,{"$f":"IF($C91=\"\",\"\",IF(OR($E91=\"DNS\",$F91=\"DNS\",$G91=\"DNS\",AND($E91=\"\",$F91=\"\",$G91=\"\")),\"DNS\",IF(OR($E91=\"NP\",$F91=\"NP\",$G91=\"NP\"),\"NP\",IF(ISERROR(MEDIAN($E91:$G91)),\"DNS\",IF(OR($E91=\"X\",$F91=\"X\",$G91=\"X\",$E91=\"\",$F91=\"\",$G91=\"\",$E91=\"x\",$F91=\"x\",$G91=\"x\"),MAX($E91:$G91),MEDIAN($E91:$G91))))))","v":""},1,null,null,null,null,{"$f":"IF($C91=\"\",\"\",IF(OR($K91=\"DNS\",$L91=\"DNS\",$M91=\"DNS\",AND($K91=\"\",$L91=\"\",$M91=\"\")),\"DNS\",IF(OR($K91=\"NP\",$L91=\"NP\",$M91=\"NP\"),\"NP\",IF(ISERROR(MEDIAN($K91:$M91)),\"DNS\",IF(OR($K91=\"X\",$L91=\"X\",$M91=\"X\",$K91=\"\",$L91=\"\",$M91=\"\",$K91=\"x\",$L91=\"x\",$M91=\"x\"),MAX($K91:$M91),MEDIAN($K91:$M91))))))","v":""},1,null,{"$f":"IF(C91=\"\",\"\",IF(OR(AND(H91=\"NP\",N91=\"NP\"),AND(H91=\"DNS\",N91=\"DNS\")),H91,IF(AND(H91=\"NP\",N91=\"DNS\"),H91,IF(AND(H91=\"DNS\",N91=\"NP\"),N91,MIN(H91,N91)))))","v":""},null,"",null,"",null,9000]
[null,74,null,null,null,null,null,"",2,null,null,null,null,"",2,null,"",null,"",null,"",null,9000]
[null,75,null,null,null,null,null,"",3,null,null,null,null,"",3,null,"",null,"",null,"",null,9000]
[null,76,null,null,null,null,null,"",1,null,null,null,null,"",1,null,"",null,"",null,"",null,9000]
[null,77,null,null,null,null,null,"",2,null,null,null,null,"",2,null,"",null,"",null,"",null,9000]
[null,78,null,null,null,null,null,"",3,null,null,null,null,"",3,null,"",null,"",null,"",null,9000]
[null,79,null,null,null,null,null,"",1,null,null,null,null,"",1,null,"",null,"",null,"",null,9000]
[null,80,null,null,null,null,null,"",2,null,null,null,null,"",2,null,"",null,"",null,"",null,9000]
[null,81,null,null,null,null,null,"",3,null,null,null,null,"",3,null,"",null,"",null,"",null,9000]
[null,82,null,null,null,null,null,"",1,null,null,null,null,"",1,null,"",null,"",null,"",null,9000]
[null,83,null,null,null,null,null,"",2,null,null,null,null,"",2,null,"",null,"",null,"",null,9000]
[null,84,null,null,null,null,null,"",3,null,null,null,null,"",3,null,"",null,"",null,"",null,9000]
[null,85,null,null,null,null,null,"",1,21.28,null,null,null,"",1,null,"",null,"",null,"",null,9000]
[null,86,null,null,null,null,null,"",2,null,null,null,null,"",2,null,"",null,"",null,"",null,9000]
[null,87,null,null,null,null,null,"",3,null,null,null,null,"",3,null,"",null,"",null,"",null,9000]
[null,88,null,null,null,null,null,"",1,null,null,null,null,"",1,null,"",null,"",null,"",null,9000]
[null,89,null,null,null,null,null,"",2,null,null,null,null,"",2,null,"",null,"",null,"",null,9000]
[null,90,null,null,null,null,null,"",3,null,null,null,null,"",3,null,"",null,"",null,"",null,9000]
[null,91,null,null,null,null,null,"",1,null,null,null,null,"",1,null,"",null,"",null,"",null,9000]
[null,92,null,null,null,null,null,"",2,null,null,null,null,"",2,null,"",null,"",null,"",null,9000]
[null,93,null,null,null,null,null,"",3,null,null,null,null,"",3,null,"",null,"",null,"",null,9000]
[null,94,null,null,null,null,null,"",1,null,null,null,null,"",1,null,"",null,"",null,"",null,9000]
[null,95,null,null,null,null,null,"",2,null,null,null,null,"",2,null,"",null,"",null,"",null,9000]
[null,96,null,null,null,null,null,"",3,null,null,null,null,"",3,null,"",null,"",null,"",null,9000]
[null,97,null,null,null,null,null,"",1,null,null,null,null,"",1,null,"",null,"",null,"",null,9000]
[null,98,null,null,null,null,null,"",2,null,null,null,null,"",2,null,"",null,"",null,"",null,9000]
[null,99,null,null,null,null,null,"",3,null,null,null,null,"",3,null,"",null,"",null,"",null,9000]
[null,100,null,null,null,null,null,"",1,null,null,null,null,"",1,null,"",null,"",null,"",null,9000]
[null,101,null,null,null,null,null,"",2,null,null,null,null,"",2,null,"",null,"",null,"",null,9000]
[null,102,null,null,null,null,null,"",3,null,null,null,null,"",3,null,"",null,"",null,"",null,9000]
[null,103,null,null,null,null,null,"",1,null,null,null,null,"",1,null,"",null,"",null,"",null,9000]
[null,104,null,null,null,null,null,"",2,null,null,null,null,"",2,null,"",null,"",null,"",null,9000]
[null,105,null,null,null,null,null,"",3,null,null,null,null,"",3,null,"",null,"",null,"",null,9000]
[null,106,null,null,null,null,null,"",1,null,null,null,null,"",1,null,"",null,"",null,"",null,9000]
[null,107,null,null,null,null,null,"",2,null,null,null,null,"",2,null,"",null,"",null,"",null,9000]
[null,108,null,null,null,null,null,"",3,null,null,null,null,"",3,null,"",null,"",null,"",null,9000]
[null,{"$f":"$B$1","v":"Běh na 60 m s překážkami - startovní listina"}]
[]
[null,null,{"$f":"Start!$B$2","v":"Požární útoky "},null,null,null,{"$f":"Start!$F$3&\", \"&Start!$N$3","v":"18.05.2025, Kamenný Újezd"}]
[]
[null,null,{"$f":"Start!$N$2","v":"starší"},null,"I. pokus",null,null,null,null,null,"II. pokus"]
[null,"St.č.","Jméno","SDH",1,2,3,"Čas","dr.",null,1,2,3,"Čas","dr.",null,"Čas",null,"P.",null,"B.",null,"X."]
[null,109,null,null,null,null,null,{"$f":"IF($C133=\"\",\"\",IF(OR($E133=\"DNS\",$F133=\"DNS\",$G133=\"DNS\",AND($E133=\"\",$F133=\"\",$G133=\"\")),\"DNS\",IF(OR($E133=\"NP\",$F133=\"NP\",$G133=\"NP\"),\"NP\",IF(ISERROR(MEDIAN($E133:$G133)),\"DNS\",IF(OR($E133=\"X\",$F133=\"X\",$G133=\"X\",$E133=\"\",$F133=\"\",$G133=\"\",$E133=\"x\",$F133=\"x\",$G133=\"x\"),MAX($E133:$G133),MEDIAN($E133:$G133))))))","v":""},1,null,null,null,null,{"$f":"IF($C133=\"\",\"\",IF(OR($K133=\"DNS\",$L133=\"DNS\",$M133=\"DNS\",AND($K133=\"\",$L133=\"\",$M133=\"\")),\"DNS\",IF(OR($K133=\"NP\",$L133=\"NP\",$M133=\"NP\"),\"NP\",IF(ISERROR(MEDIAN($K133:$M133)),\"DNS\",IF(OR($K133=\"X\",$L133=\"X\",$M133=\"X\",$K133=\"\",$L133=\"\",$M133=\"\",$K133=\"x\",$L133=\"x\",$M133=\"x\"),MAX($K133:$M133),MEDIAN($K133:$M133))))))","v":""},1,null,{"$f":"IF(C133=\"\",\"\",IF(OR(AND(H133=\"NP\",N133=\"NP\"),AND(H133=\"DNS\",N133=\"DNS\")),H133,IF(AND(H133=\"NP\",N133=\"DNS\"),H133,IF(AND(H133=\"DNS\",N133=\"NP\"),N133,MIN(H133,N133)))))","v":""},null,"",null,"",null,9000]
[null,110,null,null,null,null,null,"",2,null,null,null,null,"",2,null,"",null,"",null,"",null,9000]
[null,111,null,null,null,null,null,"",3,null,null,null,null,"",3,null,"",null,"",null,"",null,9000]
[null,112,null,null,null,null,null,"",1,null,null,null,null,"",1,null,"",null,{"$f":"IF(C136=\"\",\"\",IF(OR(Q136=\"NP\",Q136=\"DNS\"),Q136,RANK(Q136,Q$7:Q$168,1)))","v":""},null,{"$f":"IF(C136=\"\",\"\",IF(Q136=\"NP\",MAX(S$7:S$168)+1,IF(Q136=\"DNS\",MAX(S$7:S$168)+COUNTIF(S$7:S$168,\"NP\")+1,RANK(Q136,Q$7:Q$168,1))))","v":""},null,{"$f":"IF($C136=\"\",9000,MAX(H136,N136)+(COUNTIF($H136:$H136,\"NP\")*600)+(COUNTIF($N136:$N136,\"NP\")*600)+(COUNTIF($H136:$H136,\"DNS\")*3600)+(COUNTIF($N136:$N136,\"DNS\")*3600))","v":9000}]
[null,113,null,null,null,null,null,"",2,null,null,null,null,"",2,null,"",null,"",null,"",null,9000]
[null,114,null,null,null,null,null,"",3,null,null,null,null,"",3,null,"",null,"",null,"",null,9000]
[null,115,null,null,null,null,null,"",1,null,null,null,null,"",1,null,"",null,"",null,"",null,9000]
[null,116,null,null,null,null,null,"",2,null,null,null,null,"",2,null,"",null,"",null,"",null,9000]
[null,117,null,null,null,null,null,"",3,null,null,null,null,"",3,null,"",null,"",null,"",null,9000]
[null,118,null,null,null,null,null,"",1,null,null,null,null,"",1,null,"",null,"",null,"",null,9000]
[null,119,null,null,null,null,null,"",2,null,null,null,null,"",2,null,"",null,"",null,"",null,9000]
[null,120,null,null,null,null,null,"",3,null,null,null,null,"",3,null,"",null,"",null,"",null,9000]
[null,121,null,null,null,null,null,"",1,21.28,null,null,null,"",1,null,"",null,"",null,"",null,9000]
[null,122,null,null,null,null,null,"",2,null,null,null,null,"",2,null,"",null,"",null,"",null,9000]
[null,123,null,null,null,null,null,"",3,null,null,null,null,"",3,null,"",null,"",null,"",null,9000]
[null,124,null,null,null,null,null,"",1,null,null,null,null,"",1,null,"",null,"",null,"",null,9000]
[null,125,null,null,null,null,null,"",2,null,null,null,null,"",2,null,"",null,"",null,"",null,9000]
[null,126,null,null,null,null,null,"",3,null,null,null,null,"",3,null,"",null,"",null,"",null,9000]
[null,127,null,null,null,null,null,"",1,null,null,null,null,"",1,null,"",null,"",null,"",null,9000]
[null,128,null,null,null,null,null,"",2,null,null,null,null,"",2,null,"",null,"",null,"",null,9000]
[null,129,null,null,null,null,null,"",3,null,null,null,null,"",3,null,"",null,"",null,"",null,9000]
[null,130,null,null,null,null,null,"",1,null,null,null,null,"",1,null,"",null,"",null,"",null,9000]
[null,131,null,null,null,null,null,"",2,null,null,null,null,"",2,null,"",null,"",null,"",null,9000]
[null,132,null,null,null,null,null,"",3,null,null,null,null,"",3,null,"",null,"",null,"",null,9000]
[null,133,null,null,null,null,null,"",1,null,null,null,null,"",1,null,"",null,"",null,"",null,9000]
[null,134,null,null,null,null,null,"",2,null,null,null,null,"",2,null,"",null,"",null,"",null,9000]
[null,135,null,null,null,null,null,"",3,null,null,null,null,"",3,null,"",null,"",null,"",null,9000]
[null,136,null,null,null,null,null,"",1,null,null,null,null,"",1,null,"",null,"",null,"",null,9000]
[null,137,null,null,null,null,null,"",2,null,null,null,null,"",2,null,"",null,"",null,"",null,9000]
[null,138,null,null,null,null,null,"",3,null,null,null,null,"",3,null,"",null,"",null,"",null,9000]
[null,139,null,null,null,null,null,"",1,null,null,null,null,"",1,null,"",null,"",null,"",null,9000]
[null,140,null,null,null,null,null,"",2,null,null,null,null,"",2,null,"",null,"",null,"",null,9000]
[null,141,null,null,null,null,null,"",3,null,null,null,null,"",3,null,"",null,"",null,"",null,9000]
[null,142,null,null,null,null,null,"",1,null,null,null,null,"",1,null,"",null,"",null,"",null,9000]
[null,143,null,null,null,null,null,"",2,null,null,null,null,"",2,null,"",null,"",null,"",null,9000]
[null,144,null,null,null,null,null,"",3,null,null,null,null,"",3,null,"",null,"",null,"",null,9000]

{"sheet":"Beh60mV","index":12,"n_rows":172,"n_cols":9,"rows_kept":172,"cut":false,"hidden":false,"merged":[[0,1,0,8],[5,5,6,5],[5,6,6,6],[5,8,6,8],[5,4,6,4],[4,1,4,2],[5,3,6,3],[5,2,6,2],[5,1,6,1],[2,1,2,3],[2,4,2,8],[43,1,43,8],[45,1,45,3],[45,4,45,8],[47,1,47,2],[48,1,49,1],[48,2,49,2],[48,3,49,3],[48,4,49,4],[48,5,49,5],[48,6,49,6],[48,8,49,8],[86,1,86,8],[88,1,88,3],[88,4,88,8],[90,1,90,2],[91,1,92,1],[91,2,92,2],[91,3,92,3],[91,4,92,4],[91,5,92,5],[91,6,92,6],[91,8,92,8],[129,1,129,8],[131,1,131,3],[131,4,131,8],[133,1,133,2],[134,1,135,1],[134,2,135,2],[134,3,135,3],[134,4,135,4],[134,5,135,5],[134,6,135,6],[134,8,135,8]]}
[null,"Běh na 60 m - výsledková listina"]
[]
[null,{"$f":"Start!$B$2","v":"Požární útoky "},null,null,{"$f":"Start!$F$3&\", \"&Start!$N$3","v":"18.05.2025, Kamenný Újezd"}]
[]
[null,{"$f":"Start!$N$2","v":"starší"}]
[null,"Pořadí","Start. číslo","Jméno","SDH","čas           I. pokusu","čas          II. pokusu",null,"Výsledný čas"]
[]
[null,{"$f":"IF(Beh60mP!$C1=\"\",\"\",Beh60mP!$X1)","v":""},{"$f":"IF(Beh60mP!$C1=\"\",\"\",Beh60mP!$B1)","v":""},{"$f":"IF(Beh60mP!$C1=\"\",\"\",Beh60mP!$C1)","v":""},{"$f":"IF(Beh60mP!$C1=\"\",\"\",IF(Beh60mP!D1=\"\",\"\",Beh60mP!$D1))","v":""},{"$f":"IF(Beh60mP!$C1=\"\",\"\",Beh60mP!$H1)","v":""},{"$f":"IF(Beh60mP!$C1=\"\",\"\",Beh60mP!$N1)","v":""},null,{"$f":"IF(Beh60mP!$C1=\"\",\"\",Beh60mP!$Q1)","v":""}]
[null,{"$f":"IF(Beh60mP!$C2=\"\",\"\",Beh60mP!$X2)","v":""},{"$f":"IF(Beh60mP!$C2=\"\",\"\",Beh60mP!$B2)","v":""},{"$f":"IF(Beh60mP!$C2=\"\",\"\",Beh60mP!$C2)","v":""},{"$f":"IF(Beh60mP!$C2=\"\",\"\",IF(Beh60mP!D2=\"\",\"\",Beh60mP!$D2))","v":""},{"$f":"IF(Beh60mP!$C2=\"\",\"\",Beh60mP!$H2)","v":""},{"$f":"IF(Beh60mP!$C2=\"\",\"\",Beh60mP!$N2)","v":""},null,{"$f":"IF(Beh60mP!$C2=\"\",\"\",Beh60mP!$Q2)","v":""}]
[null,{"$f":"IF(Beh60mP!$C3=\"\",\"\",Beh60mP!$X3)","v":""},{"$f":"IF(Beh60mP!$C3=\"\",\"\",Beh60mP!$B3)","v":""},{"$f":"IF(Beh60mP!$C3=\"\",\"\",Beh60mP!$C3)","v":""},{"$f":"IF(Beh60mP!$C3=\"\",\"\",IF(Beh60mP!D3=\"\",\"\",Beh60mP!$D3))","v":""},{"$f":"IF(Beh60mP!$C3=\"\",\"\",Beh60mP!$H3)","v":""},{"$f":"IF(Beh60mP!$C3=\"\",\"\",Beh60mP!$N3)","v":""},null,{"$f":"IF(Beh60mP!$C3=\"\",\"\",Beh60mP!$Q3)","v":""}]
[null,{"$f":"IF(Beh60mP!$C4=\"\",\"\",Beh60mP!$X4)","v":""},{"$f":"IF(Beh60mP!$C4=\"\",\"\",Beh60mP!$B4)","v":""},{"$f":"IF(Beh60mP!$C4=\"\",\"\",Beh60mP!$C4)","v":""},{"$f":"IF(Beh60mP!$C4=\"\",\"\",IF(Beh60mP!D4=\"\",\"\",Beh60mP!$D4))","v":""},{"$f":"IF(Beh60mP!$C4=\"\",\"\",Beh60mP!$H4)","v":""},{"$f":"IF(Beh60mP!$C4=\"\",\"\",Beh60mP!$N4)","v":""},null,{"$f":"IF(Beh60mP!$C4=\"\",\"\",Beh60mP!$Q4)","v":""}]
[null,{"$f":"IF(Beh60mP!$C5=\"\",\"\",Beh60mP!$X5)","v":""},{"$f":"IF(Beh60mP!$C5=\"\",\"\",Beh60mP!$B5)","v":""},{"$f":"IF(Beh60mP!$C5=\"\",\"\",Beh60mP!$C5)","v":""},{"$f":"IF(Beh60mP!$C5=\"\",\"\",IF(Beh60mP!D5=\"\",\"\",Beh60mP!$D5))","v":""},{"$f":"IF(Beh60mP!$C5=\"\",\"\",Beh60mP!$H5)","v":""},{"$f":"IF(Beh60mP!$C5=\"\",\"\",Beh60mP!$N5)","v":""},null,{"$f":"IF(Beh60mP!$C5=\"\",\"\",Beh60mP!$Q5)","v":""}]
[null,{"$f":"IF(Beh60mP!$C6=\"\",\"\",Beh60mP!$X6)","v":""},{"$f":"IF(Beh60mP!$C6=\"\",\"\",Beh60mP!$B6)","v":""},{"$f":"IF(Beh60mP!$C6=\"\",\"\",Beh60mP!$C6)","v":""},{"$f":"IF(Beh60mP!$C6=\"\",\"\",IF(Beh60mP!D6=\"\",\"\",Beh60mP!$D6))","v":""},{"$f":"IF(Beh60mP!$C6=\"\",\"\",Beh60mP!$H6)","v":""},{"$f":"IF(Beh60mP!$C6=\"\",\"\",Beh60mP!$N6)","v":""},null,{"$f":"IF(Beh60mP!$C6=\"\",\"\",Beh60mP!$Q6)","v":""}]
[null,{"$f":"IF(Beh60mP!$C7=\"\",\"\",Beh60mP!$X7)","v":""},{"$f":"IF(Beh60mP!$C7=\"\",\"\",Beh60mP!$B7)","v":""},{"$f":"IF(Beh60mP!$C7=\"\",\"\",Beh60mP!$C7)","v":""},{"$f":"IF(Beh60mP!$C7=\"\",\"\",IF(Beh60mP!D7=\"\",\"\",Beh60mP!$D7))","v":""},{"$f":"IF(Beh60mP!$C7=\"\",\"\",Beh60mP!$H7)","v":""},{"$f":"IF(Beh60mP!$C7=\"\",\"\",Beh60mP!$N7)","v":""},null,{"$f":"IF(Beh60mP!$C7=\"\",\"\",Beh60mP!$Q7)","v":""}]
[null,{"$f":"IF(Beh60mP!$C8=\"\",\"\",Beh60mP!$X8)","v":""},{"$f":"IF(Beh60mP!$C8=\"\",\"\",Beh60mP!$B8)","v":""},{"$f":"IF(Beh60mP!$C8=\"\",\"\",Beh60mP!$C8)","v":""},{"$f":"IF(Beh60mP!$C8=\"\",\"\",IF(Beh60mP!D8=\"\",\"\",Beh60mP!$D8))","v":""},{"$f":"IF(Beh60mP!$C8=\"\",\"\",Beh60mP!$H8)","v":""},{"$f":"IF(Beh60mP!$C8=\"\",\"\",Beh60mP!$N8)","v":""},null,{"$f":"IF(Beh60mP!$C8=\"\",\"\",Beh60mP!$Q8)","v":""}]
[null,{"$f":"IF(Beh60mP!$C9=\"\",\"\",Beh60mP!$X9)","v":""},{"$f":"IF(Beh60mP!$C9=\"\",\"\",Beh60mP!$B9)","v":""},{"$f":"IF(Beh60mP!$C9=\"\",\"\",Beh60mP!$C9)","v":""},{"$f":"IF(Beh60mP!$C9=\"\",\"\",IF(Beh60mP!D9=\"\",\"\",Beh60mP!$D9))","v":""},{"$f":"IF(Beh60mP!$C9=\"\",\"\",Beh60mP!$H9)","v":""},{"$f":"IF(Beh60mP!$C9=\"\",\"\",Beh60mP!$N9)","v":""},null,{"$f":"IF(Beh60mP!$C9=\"\",\"\",Beh60mP!$Q9)","v":""}]
[null,{"$f":"IF(Beh60mP!$C10=\"\",\"\",Beh60mP!$X10)","v":""},{"$f":"IF(Beh60mP!$C10=\"\",\"\",Beh60mP!$B10)","v":""},{"$f":"IF(Beh60mP!$C10=\"\",\"\",Beh60mP!$C10)","v":""},{"$f":"IF(Beh60mP!$C10=\"\",\"\",IF(Beh60mP!D10=\"\",\"\",Beh60mP!$D10))","v":""},{"$f":"IF(Beh60mP!$C10=\"\",\"\",Beh60mP!$H10)","v":""},{"$f":"IF(Beh60mP!$C10=\"\",\"\",Beh60mP!$N10)","v":""},null,{"$f":"IF(Beh60mP!$C10=\"\",\"\",Beh60mP!$Q10)","v":""}]
[null,{"$f":"IF(Beh60mP!$C11=\"\",\"\",Beh60mP!$X11)","v":""},{"$f":"IF(Beh60mP!$C11=\"\",\"\",Beh60mP!$B11)","v":""},{"$f":"IF(Beh60mP!$C11=\"\",\"\",Beh60mP!$C11)","v":""},{"$f":"IF(Beh60mP!$C11=\"\",\"\",IF(Beh60mP!D11=\"\",\"\",Beh60mP!$D11))","v":""},{"$f":"IF(Beh60mP!$C11=\"\",\"\",Beh60mP!$H11)","v":""},{"$f":"IF(Beh60mP!$C11=\"\",\"\",Beh60mP!$N11)","v":""},null,{"$f":"IF(Beh60mP!$C11=\"\",\"\",Beh60mP!$Q11)","v":""}]
[null,{"$f":"IF(Beh60mP!$C12=\"\",\"\",Beh60mP!$X12)","v":""},{"$f":"IF(Beh60mP!$C12=\"\",\"\",Beh60mP!$B12)","v":""},{"$f":"IF(Beh60mP!$C12=\"\",\"\",Beh60mP!$C12)","v":""},{"$f":"IF(Beh60mP!$C12=\"\",\"\",IF(Beh60mP!D12=\"\",\"\",Beh60mP!$D12))","v":""},{"$f":"IF(Beh60mP!$C12=\"\",\"\",Beh60mP!$H12)","v":""},{"$f":"IF(Beh60mP!$C12=\"\",\"\",Beh60mP!$N12)","v":""},null,{"$f":"IF(Beh60mP!$C12=\"\",\"\",Beh60mP!$Q12)","v":""}]
[null,{"$f":"IF(Beh60mP!$C13=\"\",\"\",Beh60mP!$X13)","v":""},{"$f":"IF(Beh60mP!$C13=\"\",\"\",Beh60mP!$B13)","v":""},{"$f":"IF(Beh60mP!$C13=\"\",\"\",Beh60mP!$C13)","v":""},{"$f":"IF(Beh60mP!$C13=\"\",\"\",IF(Beh60mP!D13=\"\",\"\",Beh60mP!$D13))","v":""},{"$f":"IF(Beh60mP!$C13=\"\",\"\",Beh60mP!$H13)","v":""},{"$f":"IF(Beh60mP!$C13=\"\",\"\",Beh60mP!$N13)","v":""},null,{"$f":"IF(Beh60mP!$C13=\"\",\"\",Beh60mP!$Q13)","v":""}]
[null,{"$f":"IF(Beh60mP!$C14=\"\",\"\",Beh60mP!$X14)","v":""},{"$f":"IF(Beh60mP!$C14=\"\",\"\",Beh60mP!$B14)","v":""},{"$f":"IF(Beh60mP!$C14=\"\",\"\",Beh60mP!$C14)","v":""},{"$f":"IF(Beh60mP!$C14=\"\",\"\",IF(Beh60mP!D14=\"\",\"\",Beh60mP!$D14))","v":""},{"$f":"IF(Beh60mP!$C14=\"\",\"\",Beh60mP!$H14)","v":""},{"$f":"IF(Beh60mP!$C14=\"\",\"\",Beh60mP!$N14)","v":""},null,{"$f":"IF(Beh60mP!$C14=\"\",\"\",Beh60mP!$Q14)","v":""}]
[null,{"$f":"IF(Beh60mP!$C15=\"\",\"\",Beh60mP!$X15)","v":""},{"$f":"IF(Beh60mP!$C15=\"\",\"\",Beh60mP!$B15)","v":""},{"$f":"IF(Beh60mP!$C15=\"\",\"\",Beh60mP!$C15)","v":""},{"$f":"IF(Beh60mP!$C15=\"\",\"\",IF(Beh60mP!D15=\"\",\"\",Beh60mP!$D15))","v":""},{"$f":"IF(Beh60mP!$C15=\"\",\"\",Beh60mP!$H15)","v":""},{"$f":"IF(Beh60mP!$C15=\"\",\"\",Beh60mP!$N15)","v":""},null,{"$f":"IF(Beh60mP!$C15=\"\",\"\",Beh60mP!$Q15)","v":""}]
[null,{"$f":"IF(Beh60mP!$C16=\"\",\"\",Beh60mP!$X16)","v":""},{"$f":"IF(Beh60mP!$C16=\"\",\"\",Beh60mP!$B16)","v":""},{"$f":"IF(Beh60mP!$C16=\"\",\"\",Beh60mP!$C16)","v":""},{"$f":"IF(Beh60mP!$C16=\"\",\"\",IF(Beh60mP!D16=\"\",\"\",Beh60mP!$D16))","v":""},{"$f":"IF(Beh60mP!$C16=\"\",\"\",Beh60mP!$H16)","v":""},{"$f":"IF(Beh60mP!$C16=\"\",\"\",Beh60mP!$N16)","v":""},null,{"$f":"IF(Beh60mP!$C16=\"\",\"\",Beh60mP!$Q16)","v":""}]
[null,{"$f":"IF(Beh60mP!$C17=\"\",\"\",Beh60mP!$X17)","v":""},{"$f":"IF(Beh60mP!$C17=\"\",\"\",Beh60mP!$B17)","v":""},{"$f":"IF(Beh60mP!$C17=\"\",\"\",Beh60mP!$C17)","v":""},{"$f":"IF(Beh60mP!$C17=\"\",\"\",IF(Beh60mP!D17=\"\",\"\",Beh60mP!$D17))","v":""},{"$f":"IF(Beh60mP!$C17=\"\",\"\",Beh60mP!$H17)","v":""},{"$f":"IF(Beh60mP!$C17=\"\",\"\",Beh60mP!$N17)","v":""},null,{"$f":"IF(Beh60mP!$C17=\"\",\"\",Beh60mP!$Q17)","v":""}]
[null,{"$f":"IF(Beh60mP!$C18=\"\",\"\",Beh60mP!$X18)","v":""},{"$f":"IF(Beh60mP!$C18=\"\",\"\",Beh60mP!$B18)","v":""},{"$f":"IF(Beh60mP!$C18=\"\",\"\",Beh60mP!$C18)","v":""},{"$f":"IF(Beh60mP!$C18=\"\",\"\",IF(Beh60mP!D18=\"\",\"\",Beh60mP!$D18))","v":""},{"$f":"IF(Beh60mP!$C18=\"\",\"\",Beh60mP!$H18)","v":""},{"$f":"IF(Beh60mP!$C18=\"\",\"\",Beh60mP!$N18)","v":""},null,{"$f":"IF(Beh60mP!$C18=\"\",\"\",Beh60mP!$Q18)","v":""}]
[null,{"$f":"IF(Beh60mP!$C19=\"\",\"\",Beh60mP!$X19)","v":""},{"$f":"IF(Beh60mP!$C19=\"\",\"\",Beh60mP!$B19)","v":""},{"$f":"IF(Beh60mP!$C19=\"\",\"\",Beh60mP!$C19)","v":""},{"$f":"IF(Beh60mP!$C19=\"\",\"\",IF(Beh60mP!D19=\"\",\"\",Beh60mP!$D19))","v":""},{"$f":"IF(Beh60mP!$C19=\"\",\"\",Beh60mP!$H19)","v":""},{"$f":"IF(Beh60mP!$C19=\"\",\"\",Beh60mP!$N19)","v":""},null,{"$f":"IF(Beh60mP!$C19=\"\",\"\",Beh60mP!$Q19)","v":""}]
[null,{"$f":"IF(Beh60mP!$C20=\"\",\"\",Beh60mP!$X20)","v":""},{"$f":"IF(Beh60mP!$C20=\"\",\"\",Beh60mP!$B20)","v":""},{"$f":"IF(Beh60mP!$C20=\"\",\"\",Beh60mP!$C20)","v":""},{"$f":"IF(Beh60mP!$C20=\"\",\"\",IF(Beh60mP!D20=\"\",\"\",Beh60mP!$D20))","v":""},{"$f":"IF(Beh60mP!$C20=\"\",\"\",Beh60mP!$H20)","v":""},{"$f":"IF(Beh60mP!$C20=\"\",\"\",Beh60mP!$N20)","v":""},null,{"$f":"IF(Beh60mP!$C20=\"\",\"\",Beh60mP!$Q20)","v":""}]
[null,{"$f":"IF(Beh60mP!$C21=\"\",\"\",Beh60mP!$X21)","v":""},{"$f":"IF(Beh60mP!$C21=\"\",\"\",Beh60mP!$B21)","v":""},{"$f":"IF(Beh60mP!$C21=\"\",\"\",Beh60mP!$C21)","v":""},{"$f":"IF(Beh60mP!$C21=\"\",\"\",IF(Beh60mP!D21=\"\",\"\",Beh60mP!$D21))","v":""},{"$f":"IF(Beh60mP!$C21=\"\",\"\",Beh60mP!$H21)","v":""},{"$f":"IF(Beh60mP!$C21=\"\",\"\",Beh60mP!$N21)","v":""},null,{"$f":"IF(Beh60mP!$C21=\"\",\"\",Beh60mP!$Q21)","v":""}]
[null,{"$f":"IF(Beh60mP!$C22=\"\",\"\",Beh60mP!$X22)","v":""},{"$f":"IF(Beh60mP!$C22=\"\",\"\",Beh60mP!$B22)","v":""},{"$f":"IF(Beh60mP!$C22=\"\",\"\",Beh60mP!$C22)","v":""},{"$f":"IF(Beh60mP!$C22=\"\",\"\",IF(Beh60mP!D22=\"\",\"\",Beh60mP!$D22))","v":""},{"$f":"IF(Beh60mP!$C22=\"\",\"\",Beh60mP!$H22)","v":""},{"$f":"IF(Beh60mP!$C22=\"\",\"\",Beh60mP!$N22)","v":""},null,{"$f":"IF(Beh60mP!$C22=\"\",\"\",Beh60mP!$Q22)","v":""}]
[null,{"$f":"IF(Beh60mP!$C23=\"\",\"\",Beh60mP!$X23)","v":""},{"$f":"IF(Beh60mP!$C23=\"\",\"\",Beh60mP!$B23)","v":""},{"$f":"IF(Beh60mP!$C23=\"\",\"\",Beh60mP!$C23)","v":""},{"$f":"IF(Beh60mP!$C23=\"\",\"\",IF(Beh60mP!D23=\"\",\"\",Beh60mP!$D23))","v":""},{"$f":"IF(Beh60mP!$C23=\"\",\"\",Beh60mP!$H23)","v":""},{"$f":"IF(Beh60mP!$C23=\"\",\"\",Beh60mP!$N23)","v":""},null,{"$f":"IF(Beh60mP!$C23=\"\",\"\",Beh60mP!$Q23)","v":""}]
[null,{"$f":"IF(Beh60mP!$C24=\"\",\"\",Beh60mP!$X24)","v":""},{"$f":"IF(Beh60mP!$C24=\"\",\"\",Beh60mP!$B24)","v":""},{"$f":"IF(Beh60mP!$C24=\"\",\"\",Beh60mP!$C24)","v":""},{"$f":"IF(Beh60mP!$C24=\"\",\"\",IF(Beh60mP!D24=\"\",\"\",Beh60mP!$D24))","v":""},{"$f":"IF(Beh60mP!$C24=\"\",\"\",Beh60mP!$H24)","v":""},{"$f":"IF(Beh60mP!$C24=\"\",\"\",Beh60mP!$N24)","v":""},null,{"$f":"IF(Beh60mP!$C24=\"\",\"\",Beh60mP!$Q24)","v":""}]
[null,{"$f":"IF(Beh60mP!$C25=\"\",\"\",Beh60mP!$X25)","v":""},{"$f":"IF(Beh60mP!$C25=\"\",\"\",Beh60mP!$B25)","v":""},{"$f":"IF(Beh60mP!$C25=\"\",\"\",Beh60mP!$C25)","v":""},{"$f":"IF(Beh60mP!$C25=\"\",\"\",IF(Beh60mP!D25=\"\",\"\",Beh60mP!$D25))","v":""},{"$f":"IF(Beh60mP!$C25=\"\",\"\",Beh60mP!$H25)","v":""},{"$f":"IF(Beh60mP!$C25=\"\",\"\",Beh60mP!$N25)","v":""},null,{"$f":"IF(Beh60mP!$C25=\"\",\"\",Beh60mP!$Q25)","v":""}]
[null,{"$f":"IF(Beh60mP!$C26=\"\",\"\",Beh60mP!$X26)","v":""},{"$f":"IF(Beh60mP!$C26=\"\",\"\",Beh60mP!$B26)","v":""},{"$f":"IF(Beh60mP!$C26=\"\",\"\",Beh60mP!$C26)","v":""},{"$f":"IF(Beh60mP!$C26=\"\",\"\",IF(Beh60mP!D26=\"\",\"\",Beh60mP!$D26))","v":""},{"$f":"IF(Beh60mP!$C26=\"\",\"\",Beh60mP!$H26)","v":""},{"$f":"IF(Beh60mP!$C26=\"\",\"\",Beh60mP!$N26)","v":""},null,{"$f":"IF(Beh60mP!$C26=\"\",\"\",Beh60mP!$Q26)","v":""}]
[null,{"$f":"IF(Beh60mP!$C27=\"\",\"\",Beh60mP!$X27)","v":""},{"$f":"IF(Beh60mP!$C27=\"\",\"\",Beh60mP!$B27)","v":""},{"$f":"IF(Beh60mP!$C27=\"\",\"\",Beh60mP!$C27)","v":""},{"$f":"IF(Beh60mP!$C27=\"\",\"\",IF(Beh60mP!D27=\"\",\"\",Beh60mP!$D27))","v":""},{"$f":"IF(Beh60mP!$C27=\"\",\"\",Beh60mP!$H27)","v":""},{"$f":"IF(Beh60mP!$C27=\"\",\"\",Beh60mP!$N27)","v":""},null,{"$f":"IF(Beh60mP!$C27=\"\",\"\",Beh60mP!$Q27)","v":""}]
[null,{"$f":"IF(Beh60mP!$C28=\"\",\"\",Beh60mP!$X28)","v":""},{"$f":"IF(Beh60mP!$C28=\"\",\"\",Beh60mP!$B28)","v":""},{"$f":"IF(Beh60mP!$C28=\"\",\"\",Beh60mP!$C28)","v":""},{"$f":"IF(Beh60mP!$C28=\"\",\"\",IF(Beh60mP!D28=\"\",\"\",Beh60mP!$D28))","v":""},{"$f":"IF(Beh60mP!$C28=\"\",\"\",Beh60mP!$H28)","v":""},{"$f":"IF(Beh60mP!$C28=\"\",\"\",Beh60mP!$N28)","v":""},null,{"$f":"IF(Beh60mP!$C28=\"\",\"\",Beh60mP!$Q28)","v":""}]
[null,{"$f":"IF(Beh60mP!$C29=\"\",\"\",Beh60mP!$X29)","v":""},{"$f":"IF(Beh60mP!$C29=\"\",\"\",Beh60mP!$B29)","v":""},{"$f":"IF(Beh60mP!$C29=\"\",\"\",Beh60mP!$C29)","v":""},{"$f":"IF(Beh60mP!$C29=\"\",\"\",IF(Beh60mP!D29=\"\",\"\",Beh60mP!$D29))","v":""},{"$f":"IF(Beh60mP!$C29=\"\",\"\",Beh60mP!$H29)","v":""},{"$f":"IF(Beh60mP!$C29=\"\",\"\",Beh60mP!$N29)","v":""},null,{"$f":"IF(Beh60mP!$C29=\"\",\"\",Beh60mP!$Q29)","v":""}]
[null,{"$f":"IF(Beh60mP!$C30=\"\",\"\",Beh60mP!$X30)","v":""},{"$f":"IF(Beh60mP!$C30=\"\",\"\",Beh60mP!$B30)","v":""},{"$f":"IF(Beh60mP!$C30=\"\",\"\",Beh60mP!$C30)","v":""},{"$f":"IF(Beh60mP!$C30=\"\",\"\",IF(Beh60mP!D30=\"\",\"\",Beh60mP!$D30))","v":""},{"$f":"IF(Beh60mP!$C30=\"\",\"\",Beh60mP!$H30)","v":""},{"$f":"IF(Beh60mP!$C30=\"\",\"\",Beh60mP!$N30)","v":""},null,{"$f":"IF(Beh60mP!$C30=\"\",\"\",Beh60mP!$Q30)","v":""}]
[null,{"$f":"IF(Beh60mP!$C31=\"\",\"\",Beh60mP!$X31)","v":""},{"$f":"IF(Beh60mP!$C31=\"\",\"\",Beh60mP!$B31)","v":""},{"$f":"IF(Beh60mP!$C31=\"\",\"\",Beh60mP!$C31)","v":""},{"$f":"IF(Beh60mP!$C31=\"\",\"\",IF(Beh60mP!D31=\"\",\"\",Beh60mP!$D31))","v":""},{"$f":"IF(Beh60mP!$C31=\"\",\"\",Beh60mP!$H31)","v":""},{"$f":"IF(Beh60mP!$C31=\"\",\"\",Beh60mP!$N31)","v":""},null,{"$f":"IF(Beh60mP!$C31=\"\",\"\",Beh60mP!$Q31)","v":""}]
[null,{"$f":"IF(Beh60mP!$C32=\"\",\"\",Beh60mP!$X32)","v":""},{"$f":"IF(Beh60mP!$C32=\"\",\"\",Beh60mP!$B32)","v":""},{"$f":"IF(Beh60mP!$C32=\"\",\"\",Beh60mP!$C32)","v":""},{"$f":"IF(Beh60mP!$C32=\"\",\"\",IF(Beh60mP!D32=\"\",\"\",Beh60mP!$D32))","v":""},{"$f":"IF(Beh60mP!$C32=\"\",\"\",Beh60mP!$H32)","v":""},{"$f":"IF(Beh60mP!$C32=\"\",\"\",Beh60mP!$N32)","v":""},null,{"$f":"IF(Beh60mP!$C32=\"\",\"\",Beh60mP!$Q32)","v":""}]
[null,{"$f":"IF(Beh60mP!$C33=\"\",\"\",Beh60mP!$X33)","v":""},{"$f":"IF(Beh60mP!$C33=\"\",\"\",Beh60mP!$B33)","v":""},{"$f":"IF(Beh60mP!$C33=\"\",\"\",Beh60mP!$C33)","v":""},{"$f":"IF(Beh60mP!$C33=\"\",\"\",IF(Beh60mP!D33=\"\",\"\",Beh60mP!$D33))","v":""},{"$f":"IF(Beh60mP!$C33=\"\",\"\",Beh60mP!$H33)","v":""},{"$f":"IF(Beh60mP!$C33=\"\",\"\",Beh60mP!$N33)","v":""},null,{"$f":"IF(Beh60mP!$C33=\"\",\"\",Beh60mP!$Q33)","v":""}]
[null,{"$f":"IF(Beh60mP!$C34=\"\",\"\",Beh60mP!$X34)","v":""},{"$f":"IF(Beh60mP!$C34=\"\",\"\",Beh60mP!$B34)","v":""},{"$f":"IF(Beh60mP!$C34=\"\",\"\",Beh60mP!$C34)","v":""},{"$f":"IF(Beh60mP!$C34=\"\",\"\",IF(Beh60mP!D34=\"\",\"\",Beh60mP!$D34))","v":""},{"$f":"IF(Beh60mP!$C34=\"\",\"\",Beh60mP!$H34)","v":""},{"$f":"IF(Beh60mP!$C34=\"\",\"\",Beh60mP!$N34)","v":""},null,{"$f":"IF(Beh60mP!$C34=\"\",\"\",Beh60mP!$Q34)","v":""}]
[null,{"$f":"IF(Beh60mP!$C35=\"\",\"\",Beh60mP!$X35)","v":""},{"$f":"IF(Beh60mP!$C35=\"\",\"\",Beh60mP!$B35)","v":""},{"$f":"IF(Beh60mP!$C35=\"\",\"\",Beh60mP!$C35)","v":""},{"$f":"IF(Beh60mP!$C35=\"\",\"\",IF(Beh60mP!D35=\"\",\"\",Beh60mP!$D35))","v":""},{"$f":"IF(Beh60mP!$C35=\"\",\"\",Beh60mP!$H35)","v":""},{"$f":"IF(Beh60mP!$C35=\"\",\"\",Beh60mP!$N35)","v":""},null,{"$f":"IF(Beh60mP!$C35=\"\",\"\",Beh60mP!$Q35)","v":""}]
[null,{"$f":"IF(Beh60mP!$C36=\"\",\"\",Beh60mP!$X36)","v":""},{"$f":"IF(Beh60mP!$C36=\"\",\"\",Beh60mP!$B36)","v":""},{"$f":"IF(Beh60mP!$C36=\"\",\"\",Beh60mP!$C36)","v":""},{"$f":"IF(Beh60mP!$C36=\"\",\"\",IF(Beh60mP!D36=\"\",\"\",Beh60mP!$D36))","v":""},{"$f":"IF(Beh60mP!$C36=\"\",\"\",Beh60mP!$H36)","v":""},{"$f":"IF(Beh60mP!$C36=\"\",\"\",Beh60mP!$N36)","v":""},null,{"$f":"IF(Beh60mP!$C36=\"\",\"\",Beh60mP!$Q36)","v":""}]
[null,"Běh na 60 m - výsledková listina"]
[]
[null,{"$f":"$B$3","v":"Požární útoky "},null,null,{"$f":"$E$3","v":"18.05.2025, Kamenný Újezd"}]
[]
[null,{"$f":"Start!$N$2","v":"starší"}]
[null,"Pořadí","Start. číslo","Jméno","SDH","čas           I. pokusu","čas          II. pokusu",null,"Výsledný čas"]
[]
[null,{"$f":"IF(Beh60mP!$C37=\"\",\"\",Beh60mP!$X37)","v":""},{"$f":"IF(Beh60mP!$C37=\"\",\"\",Beh60mP!$B37)","v":""},{"$f":"IF(Beh60mP!$C37=\"\",\"\",Beh60mP!$C37)","v":""},{"$f":"IF(Beh60mP!$C37=\"\",\"\",IF(Beh60mP!D37=\"\",\"\",Beh60mP!$D37))","v":""},{"$f":"IF(Beh60mP!$C37=\"\",\"\",Beh60mP!$H37)","v":""},{"$f":"IF(Beh60mP!$C37=\"\",\"\",Beh60mP!$N37)","v":""},null,{"$f":"IF(Beh60mP!$C37=\"\",\"\",Beh60mP!$Q37)","v":""}]
[null,{"$f":"IF(Beh60mP!$C38=\"\",\"\",Beh60mP!$X38)","v":""},{"$f":"IF(Beh60mP!$C38=\"\",\"\",Beh60mP!$B38)","v":""},{"$f":"IF(Beh60mP!$C38=\"\",\"\",Beh60mP!$C38)","v":""},{"$f":"IF(Beh60mP!$C38=\"\",\"\",IF(Beh60mP!D38=\"\",\"\",Beh60mP!$D38))","v":""},{"$f":"IF(Beh60mP!$C38=\"\",\"\",Beh60mP!$H38)","v":""},{"$f":"IF(Beh60mP!$C38=\"\",\"\",Beh60mP!$N38)","v":""},null,{"$f":"IF(Beh60mP!$C38=\"\",\"\",Beh60mP!$Q38)","v":""}]
[null,{"$f":"IF(Beh60mP!$C39=\"\",\"\",Beh60mP!$X39)","v":""},{"$f":"IF(Beh60mP!$C39=\"\",\"\",Beh60mP!$B39)","v":""},{"$f":"IF(Beh60mP!$C39=\"\",\"\",Beh60mP!$C39)","v":""},{"$f":"IF(Beh60mP!$C39=\"\",\"\",IF(Beh60mP!D39=\"\",\"\",Beh60mP!$D39))","v":""},{"$f":"IF(Beh60mP!$C39=\"\",\"\",Beh60mP!$H39)","v":""},{"$f":"IF(Beh60mP!$C39=\"\",\"\",Beh60mP!$N39)","v":""},null,{"$f":"IF(Beh60mP!$C39=\"\",\"\",Beh60mP!$Q39)","v":""}]
[null,{"$f":"IF(Beh60mP!$C40=\"\",\"\",Beh60mP!$X40)","v":""},{"$f":"IF(Beh60mP!$C40=\"\",\"\",Beh60mP!$B40)","v":""},{"$f":"IF(Beh60mP!$C40=\"\",\"\",Beh60mP!$C40)","v":""},{"$f":"IF(Beh60mP!$C40=\"\",\"\",IF(Beh60mP!D40=\"\",\"\",Beh60mP!$D40))","v":""},{"$f":"IF(Beh60mP!$C40=\"\",\"\",Beh60mP!$H40)","v":""},{"$f":"IF(Beh60mP!$C40=\"\",\"\",Beh60mP!$N40)","v":""},null,{"$f":"IF(Beh60mP!$C40=\"\",\"\",Beh60mP!$Q40)","v":""}]
[null,{"$f":"IF(Beh60mP!$C41=\"\",\"\",Beh60mP!$X41)","v":""},{"$f":"IF(Beh60mP!$C41=\"\",\"\",Beh60mP!$B41)","v":""},{"$f":"IF(Beh60mP!$C41=\"\",\"\",Beh60mP!$C41)","v":""},{"$f":"IF(Beh60mP!$C41=\"\",\"\",IF(Beh60mP!D41=\"\",\"\",Beh60mP!$D41))","v":""},{"$f":"IF(Beh60mP!$C41=\"\",\"\",Beh60mP!$H41)","v":""},{"$f":"IF(Beh60mP!$C41=\"\",\"\",Beh60mP!$N41)","v":""},null,{"$f":"IF(Beh60mP!$C41=\"\",\"\",Beh60mP!$Q41)","v":""}]
[null,{"$f":"IF(Beh60mP!$C42=\"\",\"\",Beh60mP!$X42)","v":""},{"$f":"IF(Beh60mP!$C42=\"\",\"\",Beh60mP!$B42)","v":""},{"$f":"IF(Beh60mP!$C42=\"\",\"\",Beh60mP!$C42)","v":""},{"$f":"IF(Beh60mP!$C42=\"\",\"\",IF(Beh60mP!D42=\"\",\"\",Beh60mP!$D42))","v":""},{"$f":"IF(Beh60mP!$C42=\"\",\"\",Beh60mP!$H42)","v":""},{"$f":"IF(Beh60mP!$C42=\"\",\"\",Beh60mP!$N42)","v":""},null,{"$f":"IF(Beh60mP!$C42=\"\",\"\",Beh60mP!$Q42)","v":""}]
[null,{"$f":"IF(Beh60mP!$C43=\"\",\"\",Beh60mP!$X43)","v":""},{"$f":"IF(Beh60mP!$C43=\"\",\"\",Beh60mP!$B43)","v":""},{"$f":"IF(Beh60mP!$C43=\"\",\"\",Beh60mP!$C43)","v":""},{"$f":"IF(Beh60mP!$C43=\"\",\"\",IF(Beh60mP!D43=\"\",\"\",Beh60mP!$D43))","v":""},{"$f":"IF(Beh60mP!$C43=\"\",\"\",Beh60mP!$H43)","v":""},{"$f":"IF(Beh60mP!$C43=\"\",\"\",Beh60mP!$N43)","v":""},null,{"$f":"IF(Beh60mP!$C43=\"\",\"\",Beh60mP!$Q43)","v":""}]
[null,{"$f":"IF(Beh60mP!$C44=\"\",\"\",Beh60mP!$X44)","v":""},{"$f":"IF(Beh60mP!$C44=\"\",\"\",Beh60mP!$B44)","v":""},{"$f":"IF(Beh60mP!$C44=\"\",\"\",Beh60mP!$C44)","v":""},{"$f":"IF(Beh60mP!$C44=\"\",\"\",IF(Beh60mP!D44=\"\",\"\",Beh60mP!$D44))","v":""},{"$f":"IF(Beh60mP!$C44=\"\",\"\",Beh60mP!$H44)","v":""},{"$f":"IF(Beh60mP!$C44=\"\",\"\",Beh60mP!$N44)","v":""},null,{"$f":"IF(Beh60mP!$C44=\"\",\"\",Beh60mP!$Q44)","v":""}]
[null,{"$f":"IF(Beh60mP!$C45=\"\",\"\",Beh60mP!$X45)","v":""},{"$f":"IF(Beh60mP!$C45=\"\",\"\",Beh60mP!$B45)","v":""},{"$f":"IF(Beh60mP!$C45=\"\",\"\",Beh60mP!$C45)","v":""},{"$f":"IF(Beh60mP!$C45=\"\",\"\",IF(Beh60mP!D45=\"\",\"\",Beh60mP!$D45))","v":""},{"$f":"IF(Beh60mP!$C45=\"\",\"\",Beh60mP!$H45)","v":""},{"$f":"IF(Beh60mP!$C45=\"\",\"\",Beh60mP!$N45)","v":""},null,{"$f":"IF(Beh60mP!$C45=\"\",\"\",Beh60mP!$Q45)","v":""}]
[null,{"$f":"IF(Beh60mP!$C46=\"\",\"\",Beh60mP!$X46)","v":""},{"$f":"IF(Beh60mP!$C46=\"\",\"\",Beh60mP!$B46)","v":""},{"$f":"IF(Beh60mP!$C46=\"\",\"\",Beh60mP!$C46)","v":""},{"$f":"IF(Beh60mP!$C46=\"\",\"\",IF(Beh60mP!D46=\"\",\"\",Beh60mP!$D46))","v":""},{"$f":"IF(Beh60mP!$C46=\"\",\"\",Beh60mP!$H46)","v":""},{"$f":"IF(Beh60mP!$C46=\"\",\"\",Beh60mP!$N46)","v":""},null,{"$f":"IF(Beh60mP!$C46=\"\",\"\",Beh60mP!$Q46)","v":""}]
[null,{"$f":"IF(Beh60mP!$C47=\"\",\"\",Beh60mP!$X47)","v":""},{"$f":"IF(Beh60mP!$C47=\"\",\"\",Beh60mP!$B47)","v":""},{"$f":"IF(Beh60mP!$C47=\"\",\"\",Beh60mP!$C47)","v":""},{"$f":"IF(Beh60mP!$C47=\"\",\"\",IF(Beh60mP!D47=\"\",\"\",Beh60mP!$D47))","v":""},{"$f":"IF(Beh60mP!$C47=\"\",\"\",Beh60mP!$H47)","v":""},{"$f":"IF(Beh60mP!$C47=\"\",\"\",Beh60mP!$N47)","v":""},null,{"$f":"IF(Beh60mP!$C47=\"\",\"\",Beh60mP!$Q47)","v":""}]
[null,{"$f":"IF(Beh60mP!$C48=\"\",\"\",Beh60mP!$X48)","v":""},{"$f":"IF(Beh60mP!$C48=\"\",\"\",Beh60mP!$B48)","v":""},{"$f":"IF(Beh60mP!$C48=\"\",\"\",Beh60mP!$C48)","v":""},{"$f":"IF(Beh60mP!$C48=\"\",\"\",IF(Beh60mP!D48=\"\",\"\",Beh60mP!$D48))","v":""},{"$f":"IF(Beh60mP!$C48=\"\",\"\",Beh60mP!$H48)","v":""},{"$f":"IF(Beh60mP!$C48=\"\",\"\",Beh60mP!$N48)","v":""},null,{"$f":"IF(Beh60mP!$C48=\"\",\"\",Beh60mP!$Q48)","v":""}]
[null,{"$f":"IF(Beh60mP!$C49=\"\",\"\",Beh60mP!$X49)","v":""},{"$f":"IF(Beh60mP!$C49=\"\",\"\",Beh60mP!$B49)","v":""},{"$f":"IF(Beh60mP!$C49=\"\",\"\",Beh60mP!$C49)","v":""},{"$f":"IF(Beh60mP!$C49=\"\",\"\",IF(Beh60mP!D49=\"\",\"\",Beh60mP!$D49))","v":""},{"$f":"IF(Beh60mP!$C49=\"\",\"\",Beh60mP!$H49)","v":""},{"$f":"IF(Beh60mP!$C49=\"\",\"\",Beh60mP!$N49)","v":""},null,{"$f":"IF(Beh60mP!$C49=\"\",\"\",Beh60mP!$Q49)","v":""}]
[null,{"$f":"IF(Beh60mP!$C50=\"\",\"\",Beh60mP!$X50)","v":""},{"$f":"IF(Beh60mP!$C50=\"\",\"\",Beh60mP!$B50)","v":""},{"$f":"IF(Beh60mP!$C50=\"\",\"\",Beh60mP!$C50)","v":""},{"$f":"IF(Beh60mP!$C50=\"\",\"\",IF(Beh60mP!D50=\"\",\"\",Beh60mP!$D50))","v":""},{"$f":"IF(Beh60mP!$C50=\"\",\"\",Beh60mP!$H50)","v":""},{"$f":"IF(Beh60mP!$C50=\"\",\"\",Beh60mP!$N50)","v":""},null,{"$f":"IF(Beh60mP!$C50=\"\",\"\",Beh60mP!$Q50)","v":""}]
[null,{"$f":"IF(Beh60mP!$C51=\"\",\"\",Beh60mP!$X51)","v":""},{"$f":"IF(Beh60mP!$C51=\"\",\"\",Beh60mP!$B51)","v":""},{"$f":"IF(Beh60mP!$C51=\"\",\"\",Beh60mP!$C51)","v":""},{"$f":"IF(Beh60mP!$C51=\"\",\"\",IF(Beh60mP!D51=\"\",\"\",Beh60mP!$D51))","v":""},{"$f":"IF(Beh60mP!$C51=\"\",\"\",Beh60mP!$H51)","v":""},{"$f":"IF(Beh60mP!$C51=\"\",\"\",Beh60mP!$N51)","v":""},null,{"$f":"IF(Beh60mP!$C51=\"\",\"\",Beh60mP!$Q51)","v":""}]
[null,{"$f":"IF(Beh60mP!$C52=\"\",\"\",Beh60mP!$X52)","v":""},{"$f":"IF(Beh60mP!$C52=\"\",\"\",Beh60mP!$B52)","v":""},{"$f":"IF(Beh60mP!$C52=\"\",\"\",Beh60mP!$C52)","v":""},{"$f":"IF(Beh60mP!$C52=\"\",\"\",IF(Beh60mP!D52=\"\",\"\",Beh60mP!$D52))","v":""},{"$f":"IF(Beh60mP!$C52=\"\",\"\",Beh60mP!$H52)","v":""},{"$f":"IF(Beh60mP!$C52=\"\",\"\",Beh60mP!$N52)","v":""},null,{"$f":"IF(Beh60mP!$C52=\"\",\"\",Beh60mP!$Q52)","v":""}]
[null,{"$f":"IF(Beh60mP!$C53=\"\",\"\",Beh60mP!$X53)","v":""},{"$f":"IF(Beh60mP!$C53=\"\",\"\",Beh60mP!$B53)","v":""},{"$f":"IF(Beh60mP!$C53=\"\",\"\",Beh60mP!$C53)","v":""},{"$f":"IF(Beh60mP!$C53=\"\",\"\",IF(Beh60mP!D53=\"\",\"\",Beh60mP!$D53))","v":""},{"$f":"IF(Beh60mP!$C53=\"\",\"\",Beh60mP!$H53)","v":""},{"$f":"IF(Beh60mP!$C53=\"\",\"\",Beh60mP!$N53)","v":""},null,{"$f":"IF(Beh60mP!$C53=\"\",\"\",Beh60mP!$Q53)","v":""}]
[null,{"$f":"IF(Beh60mP!$C54=\"\",\"\",Beh60mP!$X54)","v":""},{"$f":"IF(Beh60mP!$C54=\"\",\"\",Beh60mP!$B54)","v":""},{"$f":"IF(Beh60mP!$C54=\"\",\"\",Beh60mP!$C54)","v":""},{"$f":"IF(Beh60mP!$C54=\"\",\"\",IF(Beh60mP!D54=\"\",\"\",Beh60mP!$D54))","v":""},{"$f":"IF(Beh60mP!$C54=\"\",\"\",Beh60mP!$H54)","v":""},{"$f":"IF(Beh60mP!$C54=\"\",\"\",Beh60mP!$N54)","v":""},null,{"$f":"IF(Beh60mP!$C54=\"\",\"\",Beh60mP!$Q54)","v":""}]
[null,{"$f":"IF(Beh60mP!$C55=\"\",\"\",Beh60mP!$X55)","v":""},{"$f":"IF(Beh60mP!$C55=\"\",\"\",Beh60mP!$B55)","v":""},{"$f":"IF(Beh60mP!$C55=\"\",\"\",Beh60mP!$C55)","v":""},{"$f":"IF(Beh60mP!$C55=\"\",\"\",IF(Beh60mP!D55=\"\",\"\",Beh60mP!$D55))","v":""},{"$f":"IF(Beh60mP!$C55=\"\",\"\",Beh60mP!$H55)","v":""},{"$f":"IF(Beh60mP!$C55=\"\",\"\",Beh60mP!$N55)","v":""},null,{"$f":"IF(Beh60mP!$C55=\"\",\"\",Beh60mP!$Q55)","v":""}]
[null,{"$f":"IF(Beh60mP!$C56=\"\",\"\",Beh60mP!$X56)","v":""},{"$f":"IF(Beh60mP!$C56=\"\",\"\",Beh60mP!$B56)","v":""},{"$f":"IF(Beh60mP!$C56=\"\",\"\",Beh60mP!$C56)","v":""},{"$f":"IF(Beh60mP!$C56=\"\",\"\",IF(Beh60mP!D56=\"\",\"\",Beh60mP!$D56))","v":""},{"$f":"IF(Beh60mP!$C56=\"\",\"\",Beh60mP!$H56)","v":""},{"$f":"IF(Beh60mP!$C56=\"\",\"\",Beh60mP!$N56)","v":""},null,{"$f":"IF(Beh60mP!$C56=\"\",\"\",Beh60mP!$Q56)","v":""}]
[null,{"$f":"IF(Beh60mP!$C57=\"\",\"\",Beh60mP!$X57)","v":""},{"$f":"IF(Beh60mP!$C57=\"\",\"\",Beh60mP!$B57)","v":""},{"$f":"IF(Beh60mP!$C57=\"\",\"\",Beh60mP!$C57)","v":""},{"$f":"IF(Beh60mP!$C57=\"\",\"\",IF(Beh60mP!D57=\"\",\"\",Beh60mP!$D57))","v":""},{"$f":"IF(Beh60mP!$C57=\"\",\"\",Beh60mP!$H57)","v":""},{"$f":"IF(Beh60mP!$C57=\"\",\"\",Beh60mP!$N57)","v":""},null,{"$f":"IF(Beh60mP!$C57=\"\",\"\",Beh60mP!$Q57)","v":""}]
[null,{"$f":"IF(Beh60mP!$C58=\"\",\"\",Beh60mP!$X58)","v":""},{"$f":"IF(Beh60mP!$C58=\"\",\"\",Beh60mP!$B58)","v":""},{"$f":"IF(Beh60mP!$C58=\"\",\"\",Beh60mP!$C58)","v":""},{"$f":"IF(Beh60mP!$C58=\"\",\"\",IF(Beh60mP!D58=\"\",\"\",Beh60mP!$D58))","v":""},{"$f":"IF(Beh60mP!$C58=\"\",\"\",Beh60mP!$H58)","v":""},{"$f":"IF(Beh60mP!$C58=\"\",\"\",Beh60mP!$N58)","v":""},null,{"$f":"IF(Beh60mP!$C58=\"\",\"\",Beh60mP!$Q58)","v":""}]
[null,{"$f":"IF(Beh60mP!$C59=\"\",\"\",Beh60mP!$X59)","v":""},{"$f":"IF(Beh60mP!$C59=\"\",\"\",Beh60mP!$B59)","v":""},{"$f":"IF(Beh60mP!$C59=\"\",\"\",Beh60mP!$C59)","v":""},{"$f":"IF(Beh60mP!$C59=\"\",\"\",IF(Beh60mP!D59=\"\",\"\",Beh60mP!$D59))","v":""},{"$f":"IF(Beh60mP!$C59=\"\",\"\",Beh60mP!$H59)","v":""},{"$f":"IF(Beh60mP!$C59=\"\",\"\",Beh60mP!$N59)","v":""},null,{"$f":"IF(Beh60mP!$C59=\"\",\"\",Beh60mP!$Q59)","v":""}]
[null,{"$f":"IF(Beh60mP!$C60=\"\",\"\",Beh60mP!$X60)","v":""},{"$f":"IF(Beh60mP!$C60=\"\",\"\",Beh60mP!$B60)","v":""},{"$f":"IF(Beh60mP!$C60=\"\",\"\",Beh60mP!$C60)","v":""},{"$f":"IF(Beh60mP!$C60=\"\",\"\",IF(Beh60mP!D60=\"\",\"\",Beh60mP!$D60))","v":""},{"$f":"IF(Beh60mP!$C60=\"\",\"\",Beh60mP!$H60)","v":""},{"$f":"IF(Beh60mP!$C60=\"\",\"\",Beh60mP!$N60)","v":""},null,{"$f":"IF(Beh60mP!$C60=\"\",\"\",Beh60mP!$Q60)","v":""}]
[null,{"$f":"IF(Beh60mP!$C61=\"\",\"\",Beh60mP!$X61)","v":""},{"$f":"IF(Beh60mP!$C61=\"\",\"\",Beh60mP!$B61)","v":""},{"$f":"IF(Beh60mP!$C61=\"\",\"\",Beh60mP!$C61)","v":""},{"$f":"IF(Beh60mP!$C61=\"\",\"\",IF(Beh60mP!D61=\"\",\"\",Beh60mP!$D61))","v":""},{"$f":"IF(Beh60mP!$C61=\"\",\"\",Beh60mP!$H61)","v":""},{"$f":"IF(Beh60mP!$C61=\"\",\"\",Beh60mP!$N61)","v":""},null,{"$f":"IF(Beh60mP!$C61=\"\",\"\",Beh60mP!$Q61)","v":""}]
[null,{"$f":"IF(Beh60mP!$C62=\"\",\"\",Beh60mP!$X62)","v":""},{"$f":"IF(Beh60mP!$C62=\"\",\"\",Beh60mP!$B62)","v":""},{"$f":"IF(Beh60mP!$C62=\"\",\"\",Beh60mP!$C62)","v":""},{"$f":"IF(Beh60mP!$C62=\"\",\"\",IF(Beh60mP!D62=\"\",\"\",Beh60mP!$D62))","v":""},{"$f":"IF(Beh60mP!$C62=\"\",\"\",Beh60mP!$H62)","v":""},{"$f":"IF(Beh60mP!$C62=\"\",\"\",Beh60mP!$N62)","v":""},null,{"$f":"IF(Beh60mP!$C62=\"\",\"\",Beh60mP!$Q62)","v":""}]
[null,{"$f":"IF(Beh60mP!$C63=\"\",\"\",Beh60mP!$X63)","v":""},{"$f":"IF(Beh60mP!$C63=\"\",\"\",Beh60mP!$B63)","v":""},{"$f":"IF(Beh60mP!$C63=\"\",\"\",Beh60mP!$C63)","v":""},{"$f":"IF(Beh60mP!$C63=\"\",\"\",IF(Beh60mP!D63=\"\",\"\",Beh60mP!$D63))","v":""},{"$f":"IF(Beh60mP!$C63=\"\",\"\",Beh60mP!$H63)","v":""},{"$f":"IF(Beh60mP!$C63=\"\",\"\",Beh60mP!$N63)","v":""},null,{"$f":"IF(Beh60mP!$C63=\"\",\"\",Beh60mP!$Q63)","v":""}]
[null,{"$f":"IF(Beh60mP!$C64=\"\",\"\",Beh60mP!$X64)","v":""},{"$f":"IF(Beh60mP!$C64=\"\",\"\",Beh60mP!$B64)","v":""},{"$f":"IF(Beh60mP!$C64=\"\",\"\",Beh60mP!$C64)","v":""},{"$f":"IF(Beh60mP!$C64=\"\",\"\",IF(Beh60mP!D64=\"\",\"\",Beh60mP!$D64))","v":""},{"$f":"IF(Beh60mP!$C64=\"\",\"\",Beh60mP!$H64)","v":""},{"$f":"IF(Beh60mP!$C64=\"\",\"\",Beh60mP!$N64)","v":""},null,{"$f":"IF(Beh60mP!$C64=\"\",\"\",Beh60mP!$Q64)","v":""}]
[null,{"$f":"IF(Beh60mP!$C65=\"\",\"\",Beh60mP!$X65)","v":""},{"$f":"IF(Beh60mP!$C65=\"\",\"\",Beh60mP!$B65)","v":""},{"$f":"IF(Beh60mP!$C65=\"\",\"\",Beh60mP!$C65)","v":""},{"$f":"IF(Beh60mP!$C65=\"\",\"\",IF(Beh60mP!D65=\"\",\"\",Beh60mP!$D65))","v":""},{"$f":"IF(Beh60mP!$C65=\"\",\"\",Beh60mP!$H65)","v":""},{"$f":"IF(Beh60mP!$C65=\"\",\"\",Beh60mP!$N65)","v":""},null,{"$f":"IF(Beh60mP!$C65=\"\",\"\",Beh60mP!$Q65)","v":""}]
[null,{"$f":"IF(Beh60mP!$C66=\"\",\"\",Beh60mP!$X66)","v":""},{"$f":"IF(Beh60mP!$C66=\"\",\"\",Beh60mP!$B66)","v":""},{"$f":"IF(Beh60mP!$C66=\"\",\"\",Beh60mP!$C66)","v":""},{"$f":"IF(Beh60mP!$C66=\"\",\"\",IF(Beh60mP!D66=\"\",\"\",Beh60mP!$D66))","v":""},{"$f":"IF(Beh60mP!$C66=\"\",\"\",Beh60mP!$H66)","v":""},{"$f":"IF(Beh60mP!$C66=\"\",\"\",Beh60mP!$N66)","v":""},null,{"$f":"IF(Beh60mP!$C66=\"\",\"\",Beh60mP!$Q66)","v":""}]
[null,{"$f":"IF(Beh60mP!$C67=\"\",\"\",Beh60mP!$X67)","v":""},{"$f":"IF(Beh60mP!$C67=\"\",\"\",Beh60mP!$B67)","v":""},{"$f":"IF(Beh60mP!$C67=\"\",\"\",Beh60mP!$C67)","v":""},{"$f":"IF(Beh60mP!$C67=\"\",\"\",IF(Beh60mP!D67=\"\",\"\",Beh60mP!$D67))","v":""},{"$f":"IF(Beh60mP!$C67=\"\",\"\",Beh60mP!$H67)","v":""},{"$f":"IF(Beh60mP!$C67=\"\",\"\",Beh60mP!$N67)","v":""},null,{"$f":"IF(Beh60mP!$C67=\"\",\"\",Beh60mP!$Q67)","v":""}]
[null,{"$f":"IF(Beh60mP!$C68=\"\",\"\",Beh60mP!$X68)","v":""},{"$f":"IF(Beh60mP!$C68=\"\",\"\",Beh60mP!$B68)","v":""},{"$f":"IF(Beh60mP!$C68=\"\",\"\",Beh60mP!$C68)","v":""},{"$f":"IF(Beh60mP!$C68=\"\",\"\",IF(Beh60mP!D68=\"\",\"\",Beh60mP!$D68))","v":""},{"$f":"IF(Beh60mP!$C68=\"\",\"\",Beh60mP!$H68)","v":""},{"$f":"IF(Beh60mP!$C68=\"\",\"\",Beh60mP!$N68)","v":""},null,{"$f":"IF(Beh60mP!$C68=\"\",\"\",Beh60mP!$Q68)","v":""}]
[null,{"$f":"IF(Beh60mP!$C69=\"\",\"\",Beh60mP!$X69)","v":""},{"$f":"IF(Beh60mP!$C69=\"\",\"\",Beh60mP!$B69)","v":""},{"$f":"IF(Beh60mP!$C69=\"\",\"\",Beh60mP!$C69)","v":""},{"$f":"IF(Beh60mP!$C69=\"\",\"\",IF(Beh60mP!D69=\"\",\"\",Beh60mP!$D69))","v":""},{"$f":"IF(Beh60mP!$C69=\"\",\"\",Beh60mP!$H69)","v":""},{"$f":"IF(Beh60mP!$C69=\"\",\"\",Beh60mP!$N69)","v":""},null,{"$f":"IF(Beh60mP!$C69=\"\",\"\",Beh60mP!$Q69)","v":""}]
[null,{"$f":"IF(Beh60mP!$C70=\"\",\"\",Beh60mP!$X70)","v":""},{"$f":"IF(Beh60mP!$C70=\"\",\"\",Beh60mP!$B70)","v":""},{"$f":"IF(Beh60mP!$C70=\"\",\"\",Beh60mP!$C70)","v":""},{"$f":"IF(Beh60mP!$C70=\"\",\"\",IF(Beh60mP!D70=\"\",\"\",Beh60mP!$D70))","v":""},{"$f":"IF(Beh60mP!$C70=\"\",\"\",Beh60mP!$H70)","v":""},{"$f":"IF(Beh60mP!$C70=\"\",\"\",Beh60mP!$N70)","v":""},null,{"$f":"IF(Beh60mP!$C70=\"\",\"\",Beh60mP!$Q70)","v":""}]
[null,{"$f":"IF(Beh60mP!$C71=\"\",\"\",Beh60mP!$X71)","v":""},{"$f":"IF(Beh60mP!$C71=\"\",\"\",Beh60mP!$B71)","v":""},{"$f":"IF(Beh60mP!$C71=\"\",\"\",Beh60mP!$C71)","v":""},{"$f":"IF(Beh60mP!$C71=\"\",\"\",IF(Beh60mP!D71=\"\",\"\",Beh60mP!$D71))","v":""},{"$f":"IF(Beh60mP!$C71=\"\",\"\",Beh60mP!$H71)","v":""},{"$f":"IF(Beh60mP!$C71=\"\",\"\",Beh60mP!$N71)","v":""},null,{"$f":"IF(Beh60mP!$C71=\"\",\"\",Beh60mP!$Q71)","v":""}]
[null,{"$f":"IF(Beh60mP!$C72=\"\",\"\",Beh60mP!$X72)","v":""},{"$f":"IF(Beh60mP!$C72=\"\",\"\",Beh60mP!$B72)","v":""},{"$f":"IF(Beh60mP!$C72=\"\",\"\",Beh60mP!$C72)","v":""},{"$f":"IF(Beh60mP!$C72=\"\",\"\",IF(Beh60mP!D72=\"\",\"\",Beh60mP!$D72))","v":""},{"$f":"IF(Beh60mP!$C72=\"\",\"\",Beh60mP!$H72)","v":""},{"$f":"IF(Beh60mP!$C72=\"\",\"\",Beh60mP!$N72)","v":""},null,{"$f":"IF(Beh60mP!$C72=\"\",\"\",Beh60mP!$Q72)","v":""}]
[null,"Běh na 60 m - výsledková listina"]
[]
[null,{"$f":"$B$3","v":"Požární útoky "},null,null,{"$f":"$E$3","v":"18.05.2025, Kamenný Újezd"}]
[]
[null,{"$f":"Start!$N$2","v":"starší"}]
[null,"Pořadí","Start. číslo","Jméno","SDH","čas           I. pokusu","čas          II. pokusu",null,"Výsledný čas"]
[]
[null,{"$f":"IF(Beh60mP!$C73=\"\",\"\",Beh60mP!$X73)","v":""},{"$f":"IF(Beh60mP!$C73=\"\",\"\",Beh60mP!$B73)","v":""},{"$f":"IF(Beh60mP!$C73=\"\",\"\",Beh60mP!$C73)","v":""},{"$f":"IF(Beh60mP!$C73=\"\",\"\",IF(Beh60mP!D73=\"\",\"\",Beh60mP!$D73))","v":""},{"$f":"IF(Beh60mP!$C73=\"\",\"\",Beh60mP!$H73)","v":""},{"$f":"IF(Beh60mP!$C73=\"\",\"\",Beh60mP!$N73)","v":""},null,{"$f":"IF(Beh60mP!$C73=\"\",\"\",Beh60mP!$Q73)","v":""}]
[null,{"$f":"IF(Beh60mP!$C74=\"\",\"\",Beh60mP!$X74)","v":""},{"$f":"IF(Beh60mP!$C74=\"\",\"\",Beh60mP!$B74)","v":""},{"$f":"IF(Beh60mP!$C74=\"\",\"\",Beh60mP!$C74)","v":""},{"$f":"IF(Beh60mP!$C74=\"\",\"\",IF(Beh60mP!D74=\"\",\"\",Beh60mP!$D74))","v":""},{"$f":"IF(Beh60mP!$C74=\"\",\"\",Beh60mP!$H74)","v":""},{"$f":"IF(Beh60mP!$C74=\"\",\"\",Beh60mP!$N74)","v":""},null,{"$f":"IF(Beh60mP!$C74=\"\",\"\",Beh60mP!$Q74)","v":""}]
[null,{"$f":"IF(Beh60mP!$C75=\"\",\"\",Beh60mP!$X75)","v":""},{"$f":"IF(Beh60mP!$C75=\"\",\"\",Beh60mP!$B75)","v":""},{"$f":"IF(Beh60mP!$C75=\"\",\"\",Beh60mP!$C75)","v":""},{"$f":"IF(Beh60mP!$C75=\"\",\"\",IF(Beh60mP!D75=\"\",\"\",Beh60mP!$D75))","v":""},{"$f":"IF(Beh60mP!$C75=\"\",\"\",Beh60mP!$H75)","v":""},{"$f":"IF(Beh60mP!$C75=\"\",\"\",Beh60mP!$N75)","v":""},null,{"$f":"IF(Beh60mP!$C75=\"\",\"\",Beh60mP!$Q75)","v":""}]
[null,{"$f":"IF(Beh60mP!$C76=\"\",\"\",Beh60mP!$X76)","v":""},{"$f":"IF(Beh60mP!$C76=\"\",\"\",Beh60mP!$B76)","v":""},{"$f":"IF(Beh60mP!$C76=\"\",\"\",Beh60mP!$C76)","v":""},{"$f":"IF(Beh60mP!$C76=\"\",\"\",IF(Beh60mP!D76=\"\",\"\",Beh60mP!$D76))","v":""},{"$f":"IF(Beh60mP!$C76=\"\",\"\",Beh60mP!$H76)","v":""},{"$f":"IF(Beh60mP!$C76=\"\",\"\",Beh60mP!$N76)","v":""},null,{"$f":"IF(Beh60mP!$C76=\"\",\"\",Beh60mP!$Q76)","v":""}]
[null,{"$f":"IF(Beh60mP!$C77=\"\",\"\",Beh60mP!$X77)","v":""},{"$f":"IF(Beh60mP!$C77=\"\",\"\",Beh60mP!$B77)","v":""},{"$f":"IF(Beh60mP!$C77=\"\",\"\",Beh60mP!$C77)","v":""},{"$f":"IF(Beh60mP!$C77=\"\",\"\",IF(Beh60mP!D77=\"\",\"\",Beh60mP!$D77))","v":""},{"$f":"IF(Beh60mP!$C77=\"\",\"\",Beh60mP!$H77)","v":""},{"$f":"IF(Beh60mP!$C77=\"\",\"\",Beh60mP!$N77)","v":""},null,{"$f":"IF(Beh60mP!$C77=\"\",\"\",Beh60mP!$Q77)","v":""}]
[null,{"$f":"IF(Beh60mP!$C78=\"\",\"\",Beh60mP!$X78)","v":""},{"$f":"IF(Beh60mP!$C78=\"\",\"\",Beh60mP!$B78)","v":""},{"$f":"IF(Beh60mP!$C78=\"\",\"\",Beh60mP!$C78)","v":""},{"$f":"IF(Beh60mP!$C78=\"\",\"\",IF(Beh60mP!D78=\"\",\"\",Beh60mP!$D78))","v":""},{"$f":"IF(Beh60mP!$C78=\"\",\"\",Beh60mP!$H78)","v":""},{"$f":"IF(Beh60mP!$C78=\"\",\"\",Beh60mP!$N78)","v":""},null,{"$f":"IF(Beh60mP!$C78=\"\",\"\",Beh60mP!$Q78)","v":""}]
[null,{"$f":"IF(Beh60mP!$C79=\"\",\"\",Beh60mP!$X79)","v":""},{"$f":"IF(Beh60mP!$C79=\"\",\"\",Beh60mP!$B79)","v":""},{"$f":"IF(Beh60mP!$C79=\"\",\"\",Beh60mP!$C79)","v":""},{"$f":"IF(Beh60mP!$C79=\"\",\"\",IF(Beh60mP!D79=\"\",\"\",Beh60mP!$D79))","v":""},{"$f":"IF(Beh60mP!$C79=\"\",\"\",Beh60mP!$H79)","v":""},{"$f":"IF(Beh60mP!$C79=\"\",\"\",Beh60mP!$N79)","v":""},null,{"$f":"IF(Beh60mP!$C79=\"\",\"\",Beh60mP!$Q79)","v":""}]
[null,{"$f":"IF(Beh60mP!$C80=\"\",\"\",Beh60mP!$X80)","v":""},{"$f":"IF(Beh60mP!$C80=\"\",\"\",Beh60mP!$B80)","v":""},{"$f":"IF(Beh60mP!$C80=\"\",\"\",Beh60mP!$C80)","v":""},{"$f":"IF(Beh60mP!$C80=\"\",\"\",IF(Beh60mP!D80=\"\",\"\",Beh60mP!$D80))","v":""},{"$f":"IF(Beh60mP!$C80=\"\",\"\",Beh60mP!$H80)","v":""},{"$f":"IF(Beh60mP!$C80=\"\",\"\",Beh60mP!$N80)","v":""},null,{"$f":"IF(Beh60mP!$C80=\"\",\"\",Beh60mP!$Q80)","v":""}]
[null,{"$f":"IF(Beh60mP!$C81=\"\",\"\",Beh60mP!$X81)","v":""},{"$f":"IF(Beh60mP!$C81=\"\",\"\",Beh60mP!$B81)","v":""},{"$f":"IF(Beh60mP!$C81=\"\",\"\",Beh60mP!$C81)","v":""},{"$f":"IF(Beh60mP!$C81=\"\",\"\",IF(Beh60mP!D81=\"\",\"\",Beh60mP!$D81))","v":""},{"$f":"IF(Beh60mP!$C81=\"\",\"\",Beh60mP!$H81)","v":""},{"$f":"IF(Beh60mP!$C81=\"\",\"\",Beh60mP!$N81)","v":""},null,{"$f":"IF(Beh60mP!$C81=\"\",\"\",Beh60mP!$Q81)","v":""}]
[null,{"$f":"IF(Beh60mP!$C82=\"\",\"\",Beh60mP!$X82)","v":""},{"$f":"IF(Beh60mP!$C82=\"\",\"\",Beh60mP!$B82)","v":""},{"$f":"IF(Beh60mP!$C82=\"\",\"\",Beh60mP!$C82)","v":""},{"$f":"IF(Beh60mP!$C82=\"\",\"\",IF(Beh60mP!D82=\"\",\"\",Beh60mP!$D82))","v":""},{"$f":"IF(Beh60mP!$C82=\"\",\"\",Beh60mP!$H82)","v":""},{"$f":"IF(Beh60mP!$C82=\"\",\"\",Beh60mP!$N82)","v":""},null,{"$f":"IF(Beh60mP!$C82=\"\",\"\",Beh60mP!$Q82)","v":""}]
[null,{"$f":"IF(Beh60mP!$C83=\"\",\"\",Beh60mP!$X83)","v":""},{"$f":"IF(Beh60mP!$C83=\"\",\"\",Beh60mP!$B83)","v":""},{"$f":"IF(Beh60mP!$C83=\"\",\"\",Beh60mP!$C83)","v":""},{"$f":"IF(Beh60mP!$C83=\"\",\"\",IF(Beh60mP!D83=\"\",\"\",Beh60mP!$D83))","v":""},{"$f":"IF(Beh60mP!$C83=\"\",\"\",Beh60mP!$H83)","v":""},{"$f":"IF(Beh60mP!$C83=\"\",\"\",Beh60mP!$N83)","v":""},null,{"$f":"IF(Beh60mP!$C83=\"\",\"\",Beh60mP!$Q83)","v":""}]
[null,{"$f":"IF(Beh60mP!$C84=\"\",\"\",Beh60mP!$X84)","v":""},{"$f":"IF(Beh60mP!$C84=\"\",\"\",Beh60mP!$B84)","v":""},{"$f":"IF(Beh60mP!$C84=\"\",\"\",Beh60mP!$C84)","v":""},{"$f":"IF(Beh60mP!$C84=\"\",\"\",IF(Beh60mP!D84=\"\",\"\",Beh60mP!$D84))","v":""},{"$f":"IF(Beh60mP!$C84=\"\",\"\",Beh60mP!$H84)","v":""},{"$f":"IF(Beh60mP!$C84=\"\",\"\",Beh60mP!$N84)","v":""},null,{"$f":"IF(Beh60mP!$C84=\"\",\"\",Beh60mP!$Q84)","v":""}]
[null,{"$f":"IF(Beh60mP!$C85=\"\",\"\",Beh60mP!$X85)","v":""},{"$f":"IF(Beh60mP!$C85=\"\",\"\",Beh60mP!$B85)","v":""},{"$f":"IF(Beh60mP!$C85=\"\",\"\",Beh60mP!$C85)","v":""},{"$f":"IF(Beh60mP!$C85=\"\",\"\",IF(Beh60mP!D85=\"\",\"\",Beh60mP!$D85))","v":""},{"$f":"IF(Beh60mP!$C85=\"\",\"\",Beh60mP!$H85)","v":""},{"$f":"IF(Beh60mP!$C85=\"\",\"\",Beh60mP!$N85)","v":""},null,{"$f":"IF(Beh60mP!$C85=\"\",\"\",Beh60mP!$Q85)","v":""}]
[null,{"$f":"IF(Beh60mP!$C86=\"\",\"\",Beh60mP!$X86)","v":""},{"$f":"IF(Beh60mP!$C86=\"\",\"\",Beh60mP!$B86)","v":""},{"$f":"IF(Beh60mP!$C86=\"\",\"\",Beh60mP!$C86)","v":""},{"$f":"IF(Beh60mP!$C86=\"\",\"\",IF(Beh60mP!D86=\"\",\"\",Beh60mP!$D86))","v":""},{"$f":"IF(Beh60mP!$C86=\"\",\"\",Beh60mP!$H86)","v":""},{"$f":"IF(Beh60mP!$C86=\"\",\"\",Beh60mP!$N86)","v":""},null,{"$f":"IF(Beh60mP!$C86=\"\",\"\",Beh60mP!$Q86)","v":""}]
[null,{"$f":"IF(Beh60mP!$C87=\"\",\"\",Beh60mP!$X87)","v":""},{"$f":"IF(Beh60mP!$C87=\"\",\"\",Beh60mP!$B87)","v":""},{"$f":"IF(Beh60mP!$C87=\"\",\"\",Beh60mP!$C87)","v":""},{"$f":"IF(Beh60mP!$C87=\"\",\"\",IF(Beh60mP!D87=\"\",\"\",Beh60mP!$D87))","v":""},{"$f":"IF(Beh60mP!$C87=\"\",\"\",Beh60mP!$H87)","v":""},{"$f":"IF(Beh60mP!$C87=\"\",\"\",Beh60mP!$N87)","v":""},null,{"$f":"IF(Beh60mP!$C87=\"\",\"\",Beh60mP!$Q87)","v":""}]
[null,{"$f":"IF(Beh60mP!$C88=\"\",\"\",Beh60mP!$X88)","v":""},{"$f":"IF(Beh60mP!$C88=\"\",\"\",Beh60mP!$B88)","v":""},{"$f":"IF(Beh60mP!$C88=\"\",\"\",Beh60mP!$C88)","v":""},{"$f":"IF(Beh60mP!$C88=\"\",\"\",IF(Beh60mP!D88=\"\",\"\",Beh60mP!$D88))","v":""},{"$f":"IF(Beh60mP!$C88=\"\",\"\",Beh60mP!$H88)","v":""},{"$f":"IF(Beh60mP!$C88=\"\",\"\",Beh60mP!$N88)","v":""},null,{"$f":"IF(Beh60mP!$C88=\"\",\"\",Beh60mP!$Q88)","v":""}]
[null,{"$f":"IF(Beh60mP!$C89=\"\",\"\",Beh60mP!$X89)","v":""},{"$f":"IF(Beh60mP!$C89=\"\",\"\",Beh60mP!$B89)","v":""},{"$f":"IF(Beh60mP!$C89=\"\",\"\",Beh60mP!$C89)","v":""},{"$f":"IF(Beh60mP!$C89=\"\",\"\",IF(Beh60mP!D89=\"\",\"\",Beh60mP!$D89))","v":""},{"$f":"IF(Beh60mP!$C89=\"\",\"\",Beh60mP!$H89)","v":""},{"$f":"IF(Beh60mP!$C89=\"\",\"\",Beh60mP!$N89)","v":""},null,{"$f":"IF(Beh60mP!$C89=\"\",\"\",Beh60mP!$Q89)","v":""}]
[null,{"$f":"IF(Beh60mP!$C90=\"\",\"\",Beh60mP!$X90)","v":""},{"$f":"IF(Beh60mP!$C90=\"\",\"\",Beh60mP!$B90)","v":""},{"$f":"IF(Beh60mP!$C90=\"\",\"\",Beh60mP!$C90)","v":""},{"$f":"IF(Beh60mP!$C90=\"\",\"\",IF(Beh60mP!D90=\"\",\"\",Beh60mP!$D90))","v":""},{"$f":"IF(Beh60mP!$C90=\"\",\"\",Beh60mP!$H90)","v":""},{"$f":"IF(Beh60mP!$C90=\"\",\"\",Beh60mP!$N90)","v":""},null,{"$f":"IF(Beh60mP!$C90=\"\",\"\",Beh60mP!$Q90)","v":""}]
[null,{"$f":"IF(Beh60mP!$C91=\"\",\"\",Beh60mP!$X91)","v":""},{"$f":"IF(Beh60mP!$C91=\"\",\"\",Beh60mP!$B91)","v":""},{"$f":"IF(Beh60mP!$C91=\"\",\"\",Beh60mP!$C91)","v":""},{"$f":"IF(Beh60mP!$C91=\"\",\"\",IF(Beh60mP!D91=\"\",\"\",Beh60mP!$D91))","v":""},{"$f":"IF(Beh60mP!$C91=\"\",\"\",Beh60mP!$H91)","v":""},{"$f":"IF(Beh60mP!$C91=\"\",\"\",Beh60mP!$N91)","v":""},null,{"$f":"IF(Beh60mP!$C91=\"\",\"\",Beh60mP!$Q91)","v":""}]
[null,{"$f":"IF(Beh60mP!$C92=\"\",\"\",Beh60mP!$X92)","v":""},{"$f":"IF(Beh60mP!$C92=\"\",\"\",Beh60mP!$B92)","v":""},{"$f":"IF(Beh60mP!$C92=\"\",\"\",Beh60mP!$C92)","v":""},{"$f":"IF(Beh60mP!$C92=\"\",\"\",IF(Beh60mP!D92=\"\",\"\",Beh60mP!$D92))","v":""},{"$f":"IF(Beh60mP!$C92=\"\",\"\",Beh60mP!$H92)","v":""},{"$f":"IF(Beh60mP!$C92=\"\",\"\",Beh60mP!$N92)","v":""},null,{"$f":"IF(Beh60mP!$C92=\"\",\"\",Beh60mP!$Q92)","v":""}]
[null,{"$f":"IF(Beh60mP!$C93=\"\",\"\",Beh60mP!$X93)","v":""},{"$f":"IF(Beh60mP!$C93=\"\",\"\",Beh60mP!$B93)","v":""},{"$f":"IF(Beh60mP!$C93=\"\",\"\",Beh60mP!$C93)","v":""},{"$f":"IF(Beh60mP!$C93=\"\",\"\",IF(Beh60mP!D93=\"\",\"\",Beh60mP!$D93))","v":""},{"$f":"IF(Beh60mP!$C93=\"\",\"\",Beh60mP!$H93)","v":""},{"$f":"IF(Beh60mP!$C93=\"\",\"\",Beh60mP!$N93)","v":""},null,{"$f":"IF(Beh60mP!$C93=\"\",\"\",Beh60mP!$Q93)","v":""}]
[null,{"$f":"IF(Beh60mP!$C94=\"\",\"\",Beh60mP!$X94)","v":""},{"$f":"IF(Beh60mP!$C94=\"\",\"\",Beh60mP!$B94)","v":""},{"$f":"IF(Beh60mP!$C94=\"\",\"\",Beh60mP!$C94)","v":""},{"$f":"IF(Beh60mP!$C94=\"\",\"\",IF(Beh60mP!D94=\"\",\"\",Beh60mP!$D94))","v":""},{"$f":"IF(Beh60mP!$C94=\"\",\"\",Beh60mP!$H94)","v":""},{"$f":"IF(Beh60mP!$C94=\"\",\"\",Beh60mP!$N94)","v":""},null,{"$f":"IF(Beh60mP!$C94=\"\",\"\",Beh60mP!$Q94)","v":""}]
[null,{"$f":"IF(Beh60mP!$C95=\"\",\"\",Beh60mP!$X95)","v":""},{"$f":"IF(Beh60mP!$C95=\"\",\"\",Beh60mP!$B95)","v":""},{"$f":"IF(Beh60mP!$C95=\"\",\"\",Beh60mP!$C95)","v":""},{"$f":"IF(Beh60mP!$C95=\"\",\"\",IF(Beh60mP!D95=\"\",\"\",Beh60mP!$D95))","v":""},{"$f":"IF(Beh60mP!$C95=\"\",\"\",Beh60mP!$H95)","v":""},{"$f":"IF(Beh60mP!$C95=\"\",\"\",Beh60mP!$N95)","v":""},null,{"$f":"IF(Beh60mP!$C95=\"\",\"\",Beh60mP!$Q95)","v":""}]
[null,{"$f":"IF(Beh60mP!$C96=\"\",\"\",Beh60mP!$X96)","v":""},{"$f":"IF(Beh60mP!$C96=\"\",\"\",Beh60mP!$B96)","v":""},{"$f":"IF(Beh60mP!$C96=\"\",\"\",Beh60mP!$C96)","v":""},{"$f":"IF(Beh60mP!$C96=\"\",\"\",IF(Beh60mP!D96=\"\",\"\",Beh60mP!$D96))","v":""},{"$f":"IF(Beh60mP!$C96=\"\",\"\",Beh60mP!$H96)","v":""},{"$f":"IF(Beh60mP!$C96=\"\",\"\",Beh60mP!$N96)","v":""},null,{"$f":"IF(Beh60mP!$C96=\"\",\"\",Beh60mP!$Q96)","v":""}]
[null,{"$f":"IF(Beh60mP!$C97=\"\",\"\",Beh60mP!$X97)","v":""},{"$f":"IF(Beh60mP!$C97=\"\",\"\",Beh60mP!$B97)","v":""},{"$f":"IF(Beh60mP!$C97=\"\",\"\",Beh60mP!$C97)","v":""},{"$f":"IF(Beh60mP!$C97=\"\",\"\",IF(Beh60mP!D97=\"\",\"\",Beh60mP!$D97))","v":""},{"$f":"IF(Beh60mP!$C97=\"\",\"\",Beh60mP!$H97)","v":""},{"$f":"IF(Beh60mP!$C97=\"\",\"\",Beh60mP!$N97)","v":""},null,{"$f":"IF(Beh60mP!$C97=\"\",\"\",Beh60mP!$Q97)","v":""}]
[null,{"$f":"IF(Beh60mP!$C98=\"\",\"\",Beh60mP!$X98)","v":""},{"$f":"IF(Beh60mP!$C98=\"\",\"\",Beh60mP!$B98)","v":""},{"$f":"IF(Beh60mP!$C98=\"\",\"\",Beh60mP!$C98)","v":""},{"$f":"IF(Beh60mP!$C98=\"\",\"\",IF(Beh60mP!D98=\"\",\"\",Beh60mP!$D98))","v":""},{"$f":"IF(Beh60mP!$C98=\"\",\"\",Beh60mP!$H98)","v":""},{"$f":"IF(Beh60mP!$C98=\"\",\"\",Beh60mP!$N98)","v":""},null,{"$f":"IF(Beh60mP!$C98=\"\",\"\",Beh60mP!$Q98)","v":""}]
[null,{"$f":"IF(Beh60mP!$C99=\"\",\"\",Beh60mP!$X99)","v":""},{"$f":"IF(Beh60mP!$C99=\"\",\"\",Beh60mP!$B99)","v":""},{"$f":"IF(Beh60mP!$C99=\"\",\"\",Beh60mP!$C99)","v":""},{"$f":"IF(Beh60mP!$C99=\"\",\"\",IF(Beh60mP!D99=\"\",\"\",Beh60mP!$D99))","v":""},{"$f":"IF(Beh60mP!$C99=\"\",\"\",Beh60mP!$H99)","v":""},{"$f":"IF(Beh60mP!$C99=\"\",\"\",Beh60mP!$N99)","v":""},null,{"$f":"IF(Beh60mP!$C99=\"\",\"\",Beh60mP!$Q99)","v":""}]
[null,{"$f":"IF(Beh60mP!$C100=\"\",\"\",Beh60mP!$X100)","v":""},{"$f":"IF(Beh60mP!$C100=\"\",\"\",Beh60mP!$B100)","v":""},{"$f":"IF(Beh60mP!$C100=\"\",\"\",Beh60mP!$C100)","v":""},{"$f":"IF(Beh60mP!$C100=\"\",\"\",IF(Beh60mP!D100=\"\",\"\",Beh60mP!$D100))","v":""},{"$f":"IF(Beh60mP!$C100=\"\",\"\",Beh60mP!$H100)","v":""},{"$f":"IF(Beh60mP!$C100=\"\",\"\",Beh60mP!$N100)","v":""},null,{"$f":"IF(Beh60mP!$C100=\"\",\"\",Beh60mP!$Q100)","v":""}]
[null,{"$f":"IF(Beh60mP!$C101=\"\",\"\",Beh60mP!$X101)","v":""},{"$f":"IF(Beh60mP!$C101=\"\",\"\",Beh60mP!$B101)","v":""},{"$f":"IF(Beh60mP!$C101=\"\",\"\",Beh60mP!$C101)","v":""},{"$f":"IF(Beh60mP!$C101=\"\",\"\",IF(Beh60mP!D101=\"\",\"\",Beh60mP!$D101))","v":""},{"$f":"IF(Beh60mP!$C101=\"\",\"\",Beh60mP!$H101)","v":""},{"$f":"IF(Beh60mP!$C101=\"\",\"\",Beh60mP!$N101)","v":""},null,{"$f":"IF(Beh60mP!$C101=\"\",\"\",Beh60mP!$Q101)","v":""}]
[null,{"$f":"IF(Beh60mP!$C102=\"\",\"\",Beh60mP!$X102)","v":""},{"$f":"IF(Beh60mP!$C102=\"\",\"\",Beh60mP!$B102)","v":""},{"$f":"IF(Beh60mP!$C102=\"\",\"\",Beh60mP!$C102)","v":""},{"$f":"IF(Beh60mP!$C102=\"\",\"\",IF(Beh60mP!D102=\"\",\"\",Beh60mP!$D102))","v":""},{"$f":"IF(Beh60mP!$C102=\"\",\"\",Beh60mP!$H102)","v":""},{"$f":"IF(Beh60mP!$C102=\"\",\"\",Beh60mP!$N102)","v":""},null,{"$f":"IF(Beh60mP!$C102=\"\",\"\",Beh60mP!$Q102)","v":""}]
[null,{"$f":"IF(Beh60mP!$C103=\"\",\"\",Beh60mP!$X103)","v":""},{"$f":"IF(Beh60mP!$C103=\"\",\"\",Beh60mP!$B103)","v":""},{"$f":"IF(Beh60mP!$C103=\"\",\"\",Beh60mP!$C103)","v":""},{"$f":"IF(Beh60mP!$C103=\"\",\"\",IF(Beh60mP!D103=\"\",\"\",Beh60mP!$D103))","v":""},{"$f":"IF(Beh60mP!$C103=\"\",\"\",Beh60mP!$H103)","v":""},{"$f":"IF(Beh60mP!$C103=\"\",\"\",Beh60mP!$N103)","v":""},null,{"$f":"IF(Beh60mP!$C103=\"\",\"\",Beh60mP!$Q103)","v":""}]
[null,{"$f":"IF(Beh60mP!$C104=\"\",\"\",Beh60mP!$X104)","v":""},{"$f":"IF(Beh60mP!$C104=\"\",\"\",Beh60mP!$B104)","v":""},{"$f":"IF(Beh60mP!$C104=\"\",\"\",Beh60mP!$C104)","v":""},{"$f":"IF(Beh60mP!$C104=\"\",\"\",IF(Beh60mP!D104=\"\",\"\",Beh60mP!$D104))","v":""},{"$f":"IF(Beh60mP!$C104=\"\",\"\",Beh60mP!$H104)","v":""},{"$f":"IF(Beh60mP!$C104=\"\",\"\",Beh60mP!$N104)","v":""},null,{"$f":"IF(Beh60mP!$C104=\"\",\"\",Beh60mP!$Q104)","v":""}]
[null,{"$f":"IF(Beh60mP!$C105=\"\",\"\",Beh60mP!$X105)","v":""},{"$f":"IF(Beh60mP!$C105=\"\",\"\",Beh60mP!$B105)","v":""},{"$f":"IF(Beh60mP!$C105=\"\",\"\",Beh60mP!$C105)","v":""},{"$f":"IF(Beh60mP!$C105=\"\",\"\",IF(Beh60mP!D105=\"\",\"\",Beh60mP!$D105))","v":""},{"$f":"IF(Beh60mP!$C105=\"\",\"\",Beh60mP!$H105)","v":""},{"$f":"IF(Beh60mP!$C105=\"\",\"\",Beh60mP!$N105)","v":""},null,{"$f":"IF(Beh60mP!$C105=\"\",\"\",Beh60mP!$Q105)","v":""}]
[null,{"$f":"IF(Beh60mP!$C106=\"\",\"\",Beh60mP!$X106)","v":""},{"$f":"IF(Beh60mP!$C106=\"\",\"\",Beh60mP!$B106)","v":""},{"$f":"IF(Beh60mP!$C106=\"\",\"\",Beh60mP!$C106)","v":""},{"$f":"IF(Beh60mP!$C106=\"\",\"\",IF(Beh60mP!D106=\"\",\"\",Beh60mP!$D106))","v":""},{"$f":"IF(Beh60mP!$C106=\"\",\"\",Beh60mP!$H106)","v":""},{"$f":"IF(Beh60mP!$C106=\"\",\"\",Beh60mP!$N106)","v":""},null,{"$f":"IF(Beh60mP!$C106=\"\",\"\",Beh60mP!$Q106)","v":""}]
[null,{"$f":"IF(Beh60mP!$C107=\"\",\"\",Beh60mP!$X107)","v":""},{"$f":"IF(Beh60mP!$C107=\"\",\"\",Beh60mP!$B107)","v":""},{"$f":"IF(Beh60mP!$C107=\"\",\"\",Beh60mP!$C107)","v":""},{"$f":"IF(Beh60mP!$C107=\"\",\"\",IF(Beh60mP!D107=\"\",\"\",Beh60mP!$D107))","v":""},{"$f":"IF(Beh60mP!$C107=\"\",\"\",Beh60mP!$H107)","v":""},{"$f":"IF(Beh60mP!$C107=\"\",\"\",Beh60mP!$N107)","v":""},null,{"$f":"IF(Beh60mP!$C107=\"\",\"\",Beh60mP!$Q107)","v":""}]
[null,{"$f":"IF(Beh60mP!$C108=\"\",\"\",Beh60mP!$X108)","v":""},{"$f":"IF(Beh60mP!$C108=\"\",\"\",Beh60mP!$B108)","v":""},{"$f":"IF(Beh60mP!$C108=\"\",\"\",Beh60mP!$C108)","v":""},{"$f":"IF(Beh60mP!$C108=\"\",\"\",IF(Beh60mP!D108=\"\",\"\",Beh60mP!$D108))","v":""},{"$f":"IF(Beh60mP!$C108=\"\",\"\",Beh60mP!$H108)","v":""},{"$f":"IF(Beh60mP!$C108=\"\",\"\",Beh60mP!$N108)","v":""},null,{"$f":"IF(Beh60mP!$C108=\"\",\"\",Beh60mP!$Q108)","v":""}]
[null,"Běh na 60 m - výsledková listina"]
[]
[null,{"$f":"$B$3","v":"Požární útoky "},null,null,{"$f":"$E$3","v":"18.05.2025, Kamenný Újezd"}]
[]
[null,{"$f":"Start!$N$2","v":"starší"}]
[null,"Pořadí","Start. číslo","Jméno","SDH","čas           I. pokusu","čas          II. pokusu",null,"Výsledný čas"]
[]
[null,{"$f":"IF(Beh60mP!$C109=\"\",\"\",Beh60mP!$X109)","v":""},{"$f":"IF(Beh60mP!$C109=\"\",\"\",Beh60mP!$B109)","v":""},{"$f":"IF(Beh60mP!$C109=\"\",\"\",Beh60mP!$C109)","v":""},{"$f":"IF(Beh60mP!$C109=\"\",\"\",IF(Beh60mP!D109=\"\",\"\",Beh60mP!$D109))","v":""},{"$f":"IF(Beh60mP!$C109=\"\",\"\",Beh60mP!$H109)","v":""},{"$f":"IF(Beh60mP!$C109=\"\",\"\",Beh60mP!$N109)","v":""},null,{"$f":"IF(Beh60mP!$C109=\"\",\"\",Beh60mP!$Q109)","v":""}]
[null,{"$f":"IF(Beh60mP!$C110=\"\",\"\",Beh60mP!$X110)","v":""},{"$f":"IF(Beh60mP!$C110=\"\",\"\",Beh60mP!$B110)","v":""},{"$f":"IF(Beh60mP!$C110=\"\",\"\",Beh60mP!$C110)","v":""},{"$f":"IF(Beh60mP!$C110=\"\",\"\",IF(Beh60mP!D110=\"\",\"\",Beh60mP!$D110))","v":""},{"$f":"IF(Beh60mP!$C110=\"\",\"\",Beh60mP!$H110)","v":""},{"$f":"IF(Beh60mP!$C110=\"\",\"\",Beh60mP!$N110)","v":""},null,{"$f":"IF(Beh60mP!$C110=\"\",\"\",Beh60mP!$Q110)","v":""}]
[null,{"$f":"IF(Beh60mP!$C111=\"\",\"\",Beh60mP!$X111)","v":""},{"$f":"IF(Beh60mP!$C111=\"\",\"\",Beh60mP!$B111)","v":""},{"$f":"IF(Beh60mP!$C111=\"\",\"\",Beh60mP!$C111)","v":""},{"$f":"IF(Beh60mP!$C111=\"\",\"\",IF(Beh60mP!D111=\"\",\"\",Beh60mP!$D111))","v":""},{"$f":"IF(Beh60mP!$C111=\"\",\"\",Beh60mP!$H111)","v":""},{"$f":"IF(Beh60mP!$C111=\"\",\"\",Beh60mP!$N111)","v":""},null,{"$f":"IF(Beh60mP!$C111=\"\",\"\",Beh60mP!$Q111)","v":""}]
[null,{"$f":"IF(Beh60mP!$C112=\"\",\"\",Beh60mP!$X112)","v":""},{"$f":"IF(Beh60mP!$C112=\"\",\"\",Beh60mP!$B112)","v":""},{"$f":"IF(Beh60mP!$C112=\"\",\"\",Beh60mP!$C112)","v":""},{"$f":"IF(Beh60mP!$C112=\"\",\"\",IF(Beh60mP!D112=\"\",\"\",Beh60mP!$D112))","v":""},{"$f":"IF(Beh60mP!$C112=\"\",\"\",Beh60mP!$H112)","v":""},{"$f":"IF(Beh60mP!$C112=\"\",\"\",Beh60mP!$N112)","v":""},null,{"$f":"IF(Beh60mP!$C112=\"\",\"\",Beh60mP!$Q112)","v":""}]
[null,{"$f":"IF(Beh60mP!$C113=\"\",\"\",Beh60mP!$X113)","v":""},{"$f":"IF(Beh60mP!$C113=\"\",\"\",Beh60mP!$B113)","v":""},{"$f":"IF(Beh60mP!$C113=\"\",\"\",Beh60mP!$C113)","v":""},{"$f":"IF(Beh60mP!$C113=\"\",\"\",IF(Beh60mP!D113=\"\",\"\",Beh60mP!$D113))","v":""},{"$f":"IF(Beh60mP!$C113=\"\",\"\",Beh60mP!$H113)","v":""},{"$f":"IF(Beh60mP!$C113=\"\",\"\",Beh60mP!$N113)","v":""},null,{"$f":"IF(Beh60mP!$C113=\"\",\"\",Beh60mP!$Q113)","v":""}]
[null,{"$f":"IF(Beh60mP!$C114=\"\",\"\",Beh60mP!$X114)","v":""},{"$f":"IF(Beh60mP!$C114=\"\",\"\",Beh60mP!$B114)","v":""},{"$f":"IF(Beh60mP!$C114=\"\",\"\",Beh60mP!$C114)","v":""},{"$f":"IF(Beh60mP!$C114=\"\",\"\",IF(Beh60mP!D114=\"\",\"\",Beh60mP!$D114))","v":""},{"$f":"IF(Beh60mP!$C114=\"\",\"\",Beh60mP!$H114)","v":""},{"$f":"IF(Beh60mP!$C114=\"\",\"\",Beh60mP!$N114)","v":""},null,{"$f":"IF(Beh60mP!$C114=\"\",\"\",Beh60mP!$Q114)","v":""}]
[null,{"$f":"IF(Beh60mP!$C115=\"\",\"\",Beh60mP!$X115)","v":""},{"$f":"IF(Beh60mP!$C115=\"\",\"\",Beh60mP!$B115)","v":""},{"$f":"IF(Beh60mP!$C115=\"\",\"\",Beh60mP!$C115)","v":""},{"$f":"IF(Beh60mP!$C115=\"\",\"\",IF(Beh60mP!D115=\"\",\"\",Beh60mP!$D115))","v":""},{"$f":"IF(Beh60mP!$C115=\"\",\"\",Beh60mP!$H115)","v":""},{"$f":"IF(Beh60mP!$C115=\"\",\"\",Beh60mP!$N115)","v":""},null,{"$f":"IF(Beh60mP!$C115=\"\",\"\",Beh60mP!$Q115)","v":""}]
[null,{"$f":"IF(Beh60mP!$C116=\"\",\"\",Beh60mP!$X116)","v":""},{"$f":"IF(Beh60mP!$C116=\"\",\"\",Beh60mP!$B116)","v":""},{"$f":"IF(Beh60mP!$C116=\"\",\"\",Beh60mP!$C116)","v":""},{"$f":"IF(Beh60mP!$C116=\"\",\"\",IF(Beh60mP!D116=\"\",\"\",Beh60mP!$D116))","v":""},{"$f":"IF(Beh60mP!$C116=\"\",\"\",Beh60mP!$H116)","v":""},{"$f":"IF(Beh60mP!$C116=\"\",\"\",Beh60mP!$N116)","v":""},null,{"$f":"IF(Beh60mP!$C116=\"\",\"\",Beh60mP!$Q116)","v":""}]
[null,{"$f":"IF(Beh60mP!$C117=\"\",\"\",Beh60mP!$X117)","v":""},{"$f":"IF(Beh60mP!$C117=\"\",\"\",Beh60mP!$B117)","v":""},{"$f":"IF(Beh60mP!$C117=\"\",\"\",Beh60mP!$C117)","v":""},{"$f":"IF(Beh60mP!$C117=\"\",\"\",IF(Beh60mP!D117=\"\",\"\",Beh60mP!$D117))","v":""},{"$f":"IF(Beh60mP!$C117=\"\",\"\",Beh60mP!$H117)","v":""},{"$f":"IF(Beh60mP!$C117=\"\",\"\",Beh60mP!$N117)","v":""},null,{"$f":"IF(Beh60mP!$C117=\"\",\"\",Beh60mP!$Q117)","v":""}]
[null,{"$f":"IF(Beh60mP!$C118=\"\",\"\",Beh60mP!$X118)","v":""},{"$f":"IF(Beh60mP!$C118=\"\",\"\",Beh60mP!$B118)","v":""},{"$f":"IF(Beh60mP!$C118=\"\",\"\",Beh60mP!$C118)","v":""},{"$f":"IF(Beh60mP!$C118=\"\",\"\",IF(Beh60mP!D118=\"\",\"\",Beh60mP!$D118))","v":""},{"$f":"IF(Beh60mP!$C118=\"\",\"\",Beh60mP!$H118)","v":""},{"$f":"IF(Beh60mP!$C118=\"\",\"\",Beh60mP!$N118)","v":""},null,{"$f":"IF(Beh60mP!$C118=\"\",\"\",Beh60mP!$Q118)","v":""}]
[null,{"$f":"IF(Beh60mP!$C119=\"\",\"\",Beh60mP!$X119)","v":""},{"$f":"IF(Beh60mP!$C119=\"\",\"\",Beh60mP!$B119)","v":""},{"$f":"IF(Beh60mP!$C119=\"\",\"\",Beh60mP!$C119)","v":""},{"$f":"IF(Beh60mP!$C119=\"\",\"\",IF(Beh60mP!D119=\"\",\"\",Beh60mP!$D119))","v":""},{"$f":"IF(Beh60mP!$C119=\"\",\"\",Beh60mP!$H119)","v":""},{"$f":"IF(Beh60mP!$C119=\"\",\"\",Beh60mP!$N119)","v":""},null,{"$f":"IF(Beh60mP!$C119=\"\",\"\",Beh60mP!$Q119)","v":""}]
[null,{"$f":"IF(Beh60mP!$C120=\"\",\"\",Beh60mP!$X120)","v":""},{"$f":"IF(Beh60mP!$C120=\"\",\"\",Beh60mP!$B120)","v":""},{"$f":"IF(Beh60mP!$C120=\"\",\"\",Beh60mP!$C120)","v":""},{"$f":"IF(Beh60mP!$C120=\"\",\"\",IF(Beh60mP!D120=\"\",\"\",Beh60mP!$D120))","v":""},{"$f":"IF(Beh60mP!$C120=\"\",\"\",Beh60mP!$H120)","v":""},{"$f":"IF(Beh60mP!$C120=\"\",\"\",Beh60mP!$N120)","v":""},null,{"$f":"IF(Beh60mP!$C120=\"\",\"\",Beh60mP!$Q120)","v":""}]
[null,{"$f":"IF(Beh60mP!$C121=\"\",\"\",Beh60mP!$X121)","v":""},{"$f":"IF(Beh60mP!$C121=\"\",\"\",Beh60mP!$B121)","v":""},{"$f":"IF(Beh60mP!$C121=\"\",\"\",Beh60mP!$C121)","v":""},{"$f":"IF(Beh60mP!$C121=\"\",\"\",IF(Beh60mP!D121=\"\",\"\",Beh60mP!$D121))","v":""},{"$f":"IF(Beh60mP!$C121=\"\",\"\",Beh60mP!$H121)","v":""},{"$f":"IF(Beh60mP!$C121=\"\",\"\",Beh60mP!$N121)","v":""},null,{"$f":"IF(Beh60mP!$C121=\"\",\"\",Beh60mP!$Q121)","v":""}]
[null,{"$f":"IF(Beh60mP!$C122=\"\",\"\",Beh60mP!$X122)","v":""},{"$f":"IF(Beh60mP!$C122=\"\",\"\",Beh60mP!$B122)","v":""},{"$f":"IF(Beh60mP!$C122=\"\",\"\",Beh60mP!$C122)","v":""},{"$f":"IF(Beh60mP!$C122=\"\",\"\",IF(Beh60mP!D122=\"\",\"\",Beh60mP!$D122))","v":""},{"$f":"IF(Beh60mP!$C122=\"\",\"\",Beh60mP!$H122)","v":""},{"$f":"IF(Beh60mP!$C122=\"\",\"\",Beh60mP!$N122)","v":""},null,{"$f":"IF(Beh60mP!$C122=\"\",\"\",Beh60mP!$Q122)","v":""}]
[null,{"$f":"IF(Beh60mP!$C123=\"\",\"\",Beh60mP!$X123)","v":""},{"$f":"IF(Beh60mP!$C123=\"\",\"\",Beh60mP!$B123)","v":""},{"$f":"IF(Beh60mP!$C123=\"\",\"\",Beh60mP!$C123)","v":""},{"$f":"IF(Beh60mP!$C123=\"\",\"\",IF(Beh60mP!D123=\"\",\"\",Beh60mP!$D123))","v":""},{"$f":"IF(Beh60mP!$C123=\"\",\"\",Beh60mP!$H123)","v":""},{"$f":"IF(Beh60mP!$C123=\"\",\"\",Beh60mP!$N123)","v":""},null,{"$f":"IF(Beh60mP!$C123=\"\",\"\",Beh60mP!$Q123)","v":""}]
[null,{"$f":"IF(Beh60mP!$C124=\"\",\"\",Beh60mP!$X124)","v":""},{"$f":"IF(Beh60mP!$C124=\"\",\"\",Beh60mP!$B124)","v":""},{"$f":"IF(Beh60mP!$C124=\"\",\"\",Beh60mP!$C124)","v":""},{"$f":"IF(Beh60mP!$C124=\"\",\"\",IF(Beh60mP!D124=\"\",\"\",Beh60mP!$D124))","v":""},{"$f":"IF(Beh60mP!$C124=\"\",\"\",Beh60mP!$H124)","v":""},{"$f":"IF(Beh60mP!$C124=\"\",\"\",Beh60mP!$N124)","v":""},null,{"$f":"IF(Beh60mP!$C124=\"\",\"\",Beh60mP!$Q124)","v":""}]
[null,{"$f":"IF(Beh60mP!$C125=\"\",\"\",Beh60mP!$X125)","v":""},{"$f":"IF(Beh60mP!$C125=\"\",\"\",Beh60mP!$B125)","v":""},{"$f":"IF(Beh60mP!$C125=\"\",\"\",Beh60mP!$C125)","v":""},{"$f":"IF(Beh60mP!$C125=\"\",\"\",IF(Beh60mP!D125=\"\",\"\",Beh60mP!$D125))","v":""},{"$f":"IF(Beh60mP!$C125=\"\",\"\",Beh60mP!$H125)","v":""},{"$f":"IF(Beh60mP!$C125=\"\",\"\",Beh60mP!$N125)","v":""},null,{"$f":"IF(Beh60mP!$C125=\"\",\"\",Beh60mP!$Q125)","v":""}]
[null,{"$f":"IF(Beh60mP!$C126=\"\",\"\",Beh60mP!$X126)","v":""},{"$f":"IF(Beh60mP!$C126=\"\",\"\",Beh60mP!$B126)","v":""},{"$f":"IF(Beh60mP!$C126=\"\",\"\",Beh60mP!$C126)","v":""},{"$f":"IF(Beh60mP!$C126=\"\",\"\",IF(Beh60mP!D126=\"\",\"\",Beh60mP!$D126))","v":""},{"$f":"IF(Beh60mP!$C126=\"\",\"\",Beh60mP!$H126)","v":""},{"$f":"IF(Beh60mP!$C126=\"\",\"\",Beh60mP!$N126)","v":""},null,{"$f":"IF(Beh60mP!$C126=\"\",\"\",Beh60mP!$Q126)","v":""}]
[null,{"$f":"IF(Beh60mP!$C127=\"\",\"\",Beh60mP!$X127)","v":""},{"$f":"IF(Beh60mP!$C127=\"\",\"\",Beh60mP!$B127)","v":""},{"$f":"IF(Beh60mP!$C127=\"\",\"\",Beh60mP!$C127)","v":""},{"$f":"IF(Beh60mP!$C127=\"\",\"\",IF(Beh60mP!D127=\"\",\"\",Beh60mP!$D127))","v":""},{"$f":"IF(Beh60mP!$C127=\"\",\"\",Beh60mP!$H127)","v":""},{"$f":"IF(Beh60mP!$C127=\"\",\"\",Beh60mP!$N127)","v":""},null,{"$f":"IF(Beh60mP!$C127=\"\",\"\",Beh60mP!$Q127)","v":""}]
[null,{"$f":"IF(Beh60mP!$C128=\"\",\"\",Beh60mP!$X128)","v":""},{"$f":"IF(Beh60mP!$C128=\"\",\"\",Beh60mP!$B128)","v":""},{"$f":"IF(Beh60mP!$C128=\"\",\"\",Beh60mP!$C128)","v":""},{"$f":"IF(Beh60mP!$C128=\"\",\"\",IF(Beh60mP!D128=\"\",\"\",Beh60mP!$D128))","v":""},{"$f":"IF(Beh60mP!$C128=\"\",\"\",Beh60mP!$H128)","v":""},{"$f":"IF(Beh60mP!$C128=\"\",\"\",Beh60mP!$N128)","v":""},null,{"$f":"IF(Beh60mP!$C128=\"\",\"\",Beh60mP!$Q128)","v":""}]
[null,{"$f":"IF(Beh60mP!$C129=\"\",\"\",Beh60mP!$X129)","v":""},{"$f":"IF(Beh60mP!$C129=\"\",\"\",Beh60mP!$B129)","v":""},{"$f":"IF(Beh60mP!$C129=\"\",\"\",Beh60mP!$C129)","v":""},{"$f":"IF(Beh60mP!$C129=\"\",\"\",IF(Beh60mP!D129=\"\",\"\",Beh60mP!$D129))","v":""},{"$f":"IF(Beh60mP!$C129=\"\",\"\",Beh60mP!$H129)","v":""},{"$f":"IF(Beh60mP!$C129=\"\",\"\",Beh60mP!$N129)","v":""},null,{"$f":"IF(Beh60mP!$C129=\"\",\"\",Beh60mP!$Q129)","v":""}]
[null,{"$f":"IF(Beh60mP!$C130=\"\",\"\",Beh60mP!$X130)","v":""},{"$f":"IF(Beh60mP!$C130=\"\",\"\",Beh60mP!$B130)","v":""},{"$f":"IF(Beh60mP!$C130=\"\",\"\",Beh60mP!$C130)","v":""},{"$f":"IF(Beh60mP!$C130=\"\",\"\",IF(Beh60mP!D130=\"\",\"\",Beh60mP!$D130))","v":""},{"$f":"IF(Beh60mP!$C130=\"\",\"\",Beh60mP!$H130)","v":""},{"$f":"IF(Beh60mP!$C130=\"\",\"\",Beh60mP!$N130)","v":""},null,{"$f":"IF(Beh60mP!$C130=\"\",\"\",Beh60mP!$Q130)","v":""}]
[null,{"$f":"IF(Beh60mP!$C131=\"\",\"\",Beh60mP!$X131)","v":""},{"$f":"IF(Beh60mP!$C131=\"\",\"\",Beh60mP!$B131)","v":""},{"$f":"IF(Beh60mP!$C131=\"\",\"\",Beh60mP!$C131)","v":""},{"$f":"IF(Beh60mP!$C131=\"\",\"\",IF(Beh60mP!D131=\"\",\"\",Beh60mP!$D131))","v":""},{"$f":"IF(Beh60mP!$C131=\"\",\"\",Beh60mP!$H131)","v":""},{"$f":"IF(Beh60mP!$C131=\"\",\"\",Beh60mP!$N131)","v":""},null,{"$f":"IF(Beh60mP!$C131=\"\",\"\",Beh60mP!$Q131)","v":""}]
[null,{"$f":"IF(Beh60mP!$C132=\"\",\"\",Beh60mP!$X132)","v":""},{"$f":"IF(Beh60mP!$C132=\"\",\"\",Beh60mP!$B132)","v":""},{"$f":"IF(Beh60mP!$C132=\"\",\"\",Beh60mP!$C132)","v":""},{"$f":"IF(Beh60mP!$C132=\"\",\"\",IF(Beh60mP!D132=\"\",\"\",Beh60mP!$D132))","v":""},{"$f":"IF(Beh60mP!$C132=\"\",\"\",Beh60mP!$H132)","v":""},{"$f":"IF(Beh60mP!$C132=\"\",\"\",Beh60mP!$N132)","v":""},null,{"$f":"IF(Beh60mP!$C132=\"\",\"\",Beh60mP!$Q132)","v":""}]
[null,{"$f":"IF(Beh60mP!$C133=\"\",\"\",Beh60mP!$X133)","v":""},{"$f":"IF(Beh60mP!$C133=\"\",\"\",Beh60mP!$B133)","v":""},{"$f":"IF(Beh60mP!$C133=\"\",\"\",Beh60mP!$C133)","v":""},{"$f":"IF(Beh60mP!$C133=\"\",\"\",IF(Beh60mP!D133=\"\",\"\",Beh60mP!$D133))","v":""},{"$f":"IF(Beh60mP!$C133=\"\",\"\",Beh60mP!$H133)","v":""},{"$f":"IF(Beh60mP!$C133=\"\",\"\",Beh60mP!$N133)","v":""},null,{"$f":"IF(Beh60mP!$C133=\"\",\"\",Beh60mP!$Q133)","v":""}]
[null,{"$f":"IF(Beh60mP!$C134=\"\",\"\",Beh60mP!$X134)","v":""},{"$f":"IF(Beh60mP!$C134=\"\",\"\",Beh60mP!$B134)","v":""},{"$f":"IF(Beh60mP!$C134=\"\",\"\",Beh60mP!$C134)","v":""},{"$f":"IF(Beh60mP!$C134=\"\",\"\",IF(Beh60mP!D134=\"\",\"\",Beh60mP!$D134))","v":""},{"$f":"IF(Beh60mP!$C134=\"\",\"\",Beh60mP!$H134)","v":""},{"$f":"IF(Beh60mP!$C134=\"\",\"\",Beh60mP!$N134)","v":""},null,{"$f":"IF(Beh60mP!$C134=\"\",\"\",Beh60mP!$Q134)","v":""}]
[null,{"$f":"IF(Beh60mP!$C135=\"\",\"\",Beh60mP!$X135)","v":""},{"$f":"IF(Beh60mP!$C135=\"\",\"\",Beh60mP!$B135)","v":""},{"$f":"IF(Beh60mP!$C135=\"\",\"\",Beh60mP!$C135)","v":""},{"$f":"IF(Beh60mP!$C135=\"\",\"\",IF(Beh60mP!D135=\"\",\"\",Beh60mP!$D135))","v":""},{"$f":"IF(Beh60mP!$C135=\"\",\"\",Beh60mP!$H135)","v":""},{"$f":"IF(Beh60mP!$C135=\"\",\"\",Beh60mP!$N135)","v":""},null,{"$f":"IF(Beh60mP!$C135=\"\",\"\",Beh60mP!$Q135)","v":""}]
[null,{"$f":"IF(Beh60mP!$C136=\"\",\"\",Beh60mP!$X136)","v":""},{"$f":"IF(Beh60mP!$C136=\"\",\"\",Beh60mP!$B136)","v":""},{"$f":"IF(Beh60mP!$C136=\"\",\"\",Beh60mP!$C136)","v":""},{"$f":"IF(Beh60mP!$C136=\"\",\"\",IF(Beh60mP!D136=\"\",\"\",Beh60mP!$D136))","v":""},{"$f":"IF(Beh60mP!$C136=\"\",\"\",Beh60mP!$H136)","v":""},{"$f":"IF(Beh60mP!$C136=\"\",\"\",Beh60mP!$N136)","v":""},null,{"$f":"IF(Beh60mP!$C136=\"\",\"\",Beh60mP!$Q136)","v":""}]
[null,{"$f":"IF(Beh60mP!$C137=\"\",\"\",Beh60mP!$X137)","v":""},{"$f":"IF(Beh60mP!$C137=\"\",\"\",Beh60mP!$B137)","v":""},{"$f":"IF(Beh60mP!$C137=\"\",\"\",Beh60mP!$C137)","v":""},{"$f":"IF(Beh60mP!$C137=\"\",\"\",IF(Beh60mP!D137=\"\",\"\",Beh60mP!$D137))","v":""},{"$f":"IF(Beh60mP!$C137=\"\",\"\",Beh60mP!$H137)","v":""},{"$f":"IF(Beh60mP!$C137=\"\",\"\",Beh60mP!$N137)","v":""},null,{"$f":"IF(Beh60mP!$C137=\"\",\"\",Beh60mP!$Q137)","v":""}]
[null,{"$f":"IF(Beh60mP!$C138=\"\",\"\",Beh60mP!$X138)","v":""},{"$f":"IF(Beh60mP!$C138=\"\",\"\",Beh60mP!$B138)","v":""},{"$f":"IF(Beh60mP!$C138=\"\",\"\",Beh60mP!$C138)","v":""},{"$f":"IF(Beh60mP!$C138=\"\",\"\",IF(Beh60mP!D138=\"\",\"\",Beh60mP!$D138))","v":""},{"$f":"IF(Beh60mP!$C138=\"\",\"\",Beh60mP!$H138)","v":""},{"$f":"IF(Beh60mP!$C138=\"\",\"\",Beh60mP!$N138)","v":""},null,{"$f":"IF(Beh60mP!$C138=\"\",\"\",Beh60mP!$Q138)","v":""}]
[null,{"$f":"IF(Beh60mP!$C139=\"\",\"\",Beh60mP!$X139)","v":""},{"$f":"IF(Beh60mP!$C139=\"\",\"\",Beh60mP!$B139)","v":""},{"$f":"IF(Beh60mP!$C139=\"\",\"\",Beh60mP!$C139)","v":""},{"$f":"IF(Beh60mP!$C139=\"\",\"\",IF(Beh60mP!D139=\"\",\"\",Beh60mP!$D139))","v":""},{"$f":"IF(Beh60mP!$C139=\"\",\"\",Beh60mP!$H139)","v":""},{"$f":"IF(Beh60mP!$C139=\"\",\"\",Beh60mP!$N139)","v":""},null,{"$f":"IF(Beh60mP!$C139=\"\",\"\",Beh60mP!$Q139)","v":""}]
[null,{"$f":"IF(Beh60mP!$C140=\"\",\"\",Beh60mP!$X140)","v":""},{"$f":"IF(Beh60mP!$C140=\"\",\"\",Beh60mP!$B140)","v":""},{"$f":"IF(Beh60mP!$C140=\"\",\"\",Beh60mP!$C140)","v":""},{"$f":"IF(Beh60mP!$C140=\"\",\"\",IF(Beh60mP!D140=\"\",\"\",Beh60mP!$D140))","v":""},{"$f":"IF(Beh60mP!$C140=\"\",\"\",Beh60mP!$H140)","v":""},{"$f":"IF(Beh60mP!$C140=\"\",\"\",Beh60mP!$N140)","v":""},null,{"$f":"IF(Beh60mP!$C140=\"\",\"\",Beh60mP!$Q140)","v":""}]
[null,{"$f":"IF(Beh60mP!$C141=\"\",\"\",Beh60mP!$X141)","v":""},{"$f":"IF(Beh60mP!$C141=\"\",\"\",Beh60mP!$B141)","v":""},{"$f":"IF(Beh60mP!$C141=\"\",\"\",Beh60mP!$C141)","v":""},{"$f":"IF(Beh60mP!$C141=\"\",\"\",IF(Beh60mP!D141=\"\",\"\",Beh60mP!$D141))","v":""},{"$f":"IF(Beh60mP!$C141=\"\",\"\",Beh60mP!$H141)","v":""},{"$f":"IF(Beh60mP!$C141=\"\",\"\",Beh60mP!$N141)","v":""},null,{"$f":"IF(Beh60mP!$C141=\"\",\"\",Beh60mP!$Q141)","v":""}]
[null,{"$f":"IF(Beh60mP!$C142=\"\",\"\",Beh60mP!$X142)","v":""},{"$f":"IF(Beh60mP!$C142=\"\",\"\",Beh60mP!$B142)","v":""},{"$f":"IF(Beh60mP!$C142=\"\",\"\",Beh60mP!$C142)","v":""},{"$f":"IF(Beh60mP!$C142=\"\",\"\",IF(Beh60mP!D142=\"\",\"\",Beh60mP!$D142))","v":""},{"$f":"IF(Beh60mP!$C142=\"\",\"\",Beh60mP!$H142)","v":""},{"$f":"IF(Beh60mP!$C142=\"\",\"\",Beh60mP!$N142)","v":""},null,{"$f":"IF(Beh60mP!$C142=\"\",\"\",Beh60mP!$Q142)","v":""}]
[null,{"$f":"IF(Beh60mP!$C143=\"\",\"\",Beh60mP!$X143)","v":""},{"$f":"IF(Beh60mP!$C143=\"\",\"\",Beh60mP!$B143)","v":""},{"$f":"IF(Beh60mP!$C143=\"\",\"\",Beh60mP!$C143)","v":""},{"$f":"IF(Beh60mP!$C143=\"\",\"\",IF(Beh60mP!D143=\"\",\"\",Beh60mP!$D143))","v":""},{"$f":"IF(Beh60mP!$C143=\"\",\"\",Beh60mP!$H143)","v":""},{"$f":"IF(Beh60mP!$C143=\"\",\"\",Beh60mP!$N143)","v":""},null,{"$f":"IF(Beh60mP!$C143=\"\",\"\",Beh60mP!$Q143)","v":""}]
[null,{"$f":"IF(Beh60mP!$C144=\"\",\"\",Beh60mP!$X144)","v":""},{"$f":"IF(Beh60mP!$C144=\"\",\"\",Beh60mP!$B144)","v":""},{"$f":"IF(Beh60mP!$C144=\"\",\"\",Beh60mP!$C144)","v":""},{"$f":"IF(Beh60mP!$C144=\"\",\"\",IF(Beh60mP!D144=\"\",\"\",Beh60mP!$D144))","v":""},{"$f":"IF(Beh60mP!$C144=\"\",\"\",Beh60mP!$H144)","v":""},{"$f":"IF(Beh60mP!$C144=\"\",\"\",Beh60mP!$N144)","v":""},null,{"$f":"IF(Beh60mP!$C144=\"\",\"\",Beh60mP!$Q144)","v":""}]

{"sheet":"Beh60mP","index":13,"n_rows":144,"n_cols":24,"rows_kept":144,"cut":false,"hidden":false,"merged":[]}
[null,1,null,null,null,null,null,"",1,null,null,null,null,"",1,null,"",null,"",null,"",null,9000,1]
[null,2,null,null,null,null,null,"",2,null,null,null,null,"",2,null,"",null,"",null,"",null,9000,1]
[null,3,null,null,null,null,null,"",3,null,null,null,null,"",3,null,"",null,"",null,"",null,9000,1]
[null,4,null,null,null,null,null,"",1,null,null,null,null,"",1,null,"",null,"",null,"",null,9000,1]
[null,5,null,null,null,null,null,"",2,null,null,null,null,"",2,null,"",null,"",null,"",null,9000,1]
[null,6,null,null,null,null,null,"",3,null,null,null,null,"",3,null,"",null,"",null,"",null,9000,1]
[null,7,null,null,null,null,null,"",1,null,null,null,null,"",1,null,"",null,"",null,"",null,9000,1]
[null,8,null,null,null,null,null,"",2,null,null,null,null,"",2,null,"",null,"",null,"",null,9000,1]
[null,9,null,null,null,null,null,"",3,null,null,null,null,"",3,null,"",null,"",null,"",null,9000,1]
[null,10,null,null,null,null,null,"",1,null,null,null,null,"",1,null,"",null,"",null,"",null,9000,1]
[null,11,null,null,null,null,null,"",2,null,null,null,null,"",2,null,"",null,"",null,"",null,9000,1]
[null,12,null,null,null,null,null,"",3,null,null,null,null,"",3,null,"",null,"",null,"",null,9000,1]
[null,13,null,null,null,null,null,"",1,21.28,null,null,null,"",1,null,"",null,"",null,"",null,9000,1]
[null,14,null,null,null,null,null,"",2,null,null,null,null,"",2,null,"",null,"",null,"",null,9000,1]
[null,15,null,null,null,null,null,"",3,null,null,null,null,"",3,null,"",null,"",null,"",null,9000,1]
[null,16,null,null,null,null,null,"",1,null,null,null,null,"",1,null,"",null,"",null,"",null,9000,1]
[null,17,null,null,null,null,null,"",2,null,null,null,null,"",2,null,"",null,"",null,"",null,9000,1]
[null,18,null,null,null,null,null,"",3,null,null,null,null,"",3,null,"",null,"",null,"",null,9000,1]
[null,19,null,null,null,null,null,"",1,null,null,null,null,"",1,null,"",null,"",null,"",null,9000,1]
[null,20,null,null,null,null,null,"",2,null,null,null,null,"",2,null,"",null,"",null,"",null,9000,1]
[null,21,null,null,null,null,null,"",3,null,null,null,null,"",3,null,"",null,"",null,"",null,9000,1]
[null,22,null,null,null,null,null,"",1,null,null,null,null,"",1,null,"",null,"",null,"",null,9000,1]
[null,23,null,null,null,null,null,"",2,null,null,null,null,"",2,null,"",null,"",null,"",null,9000,1]
[null,24,null,null,null,null,null,"",3,null,null,null,null,"",3,null,"",null,"",null,"",null,9000,1]
[null,25,null,null,null,null,null,"",1,null,null,null,null,"",1,null,"",null,"",null,"",null,9000,1]
[null,26,null,null,null,null,null,"",2,null,null,null,null,"",2,null,"",null,"",null,"",null,9000,1]
[null,27,null,null,null,null,null,"",3,null,null,null,null,"",3,null,"",null,"",null,"",null,9000,1]
[null,28,null,null,null,null,null,"",1,null,null,null,null,"",1,null,"",null,"",null,"",null,9000,1]
[null,29,null,null,null,null,null,"",2,null,null,null,null,"",2,null,"",null,"",null,"",null,9000,1]
[null,30,null,null,null,null,null,"",3,null,null,null,null,"",3,null,"",null,"",null,"",null,9000,1]
[null,31,null,null,null,null,null,"",1,null,null,null,null,"",1,null,"",null,"",null,"",null,9000,1]
[null,32,null,null,null,null,null,"",2,null,null,null,null,"",2,null,"",null,"",null,"",null,9000,1]
[null,33,null,null,null,null,null,"",3,null,null,null,null,"",3,null,"",null,"",null,"",null,9000,1]
[null,34,null,null,null,null,null,"",1,null,null,null,null,"",1,null,"",null,"",null,"",null,9000,1]
[null,35,null,null,null,null,null,"",2,null,null,null,null,"",2,null,"",null,"",null,"",null,9000,1]
[null,36,null,null,null,null,null,"",3,null,null,null,null,"",3,null,"",null,"",null,"",null,9000,1]
[null,37,null,null,null,null,null,"",1,null,null,null,null,"",1,null,"",null,"",null,"",null,9000,1]
[null,38,null,null,null,null,null,"",2,null,null,null,null,"",2,null,"",null,"",null,"",null,9000,1]
[null,39,null,null,null,null,null,"",3,null,null,null,null,"",3,null,"",null,"",null,"",null,9000,1]
[null,40,null,null,null,null,null,"",1,null,null,null,null,"",1,null,"",null,"",null,"",null,9000,1]
[null,41,null,null,null,null,null,"",2,null,null,null,null,"",2,null,"",null,"",null,"",null,9000,1]
[null,42,null,null,null,null,null,"",3,null,null,null,null,"",3,null,"",null,"",null,"",null,9000,1]
[null,43,null,null,null,null,null,"",1,null,null,null,null,"",1,null,"",null,"",null,"",null,9000,1]
[null,44,null,null,null,null,null,"",2,null,null,null,null,"",2,null,"",null,"",null,"",null,9000,1]
[null,45,null,null,null,null,null,"",3,null,null,null,null,"",3,null,"",null,"",null,"",null,9000,1]
[null,46,null,null,null,null,null,"",1,null,null,null,null,"",1,null,"",null,"",null,"",null,9000,1]
[null,47,null,null,null,null,null,"",2,null,null,null,null,"",2,null,"",null,"",null,"",null,9000,1]
[null,48,null,null,null,null,null,"",3,null,null,null,null,"",3,null,"",null,"",null,"",null,9000,1]
[null,49,null,null,null,null,null,"",1,21.28,null,null,null,"",1,null,"",null,"",null,"",null,9000,1]
[null,50,null,null,null,null,null,"",2,null,null,null,null,"",2,null,"",null,"",null,"",null,9000,1]
[null,51,null,null,null,null,null,"",3,null,null,null,null,"",3,null,"",null,"",null,"",null,9000,1]
[null,52,null,null,null,null,null,"",1,null,null,null,null,"",1,null,"",null,"",null,"",null,9000,1]
[null,53,null,null,null,null,null,"",2,null,null,null,null,"",2,null,"",null,"",null,"",null,9000,1]
[null,54,null,null,null,null,null,"",3,null,null,null,null,"",3,null,"",null,"",null,"",null,9000,1]
[null,55,null,null,null,null,null,"",1,null,null,null,null,"",1,null,"",null,"",null,"",null,9000,1]
[null,56,null,null,null,null,null,"",2,null,null,null,null,"",2,null,"",null,"",null,"",null,9000,1]
[null,57,null,null,null,null,null,"",3,null,null,null,null,"",3,null,"",null,"",null,"",null,9000,1]
[null,58,null,null,null,null,null,"",1,null,null,null,null,"",1,null,"",null,"",null,"",null,9000,1]
[null,59,null,null,null,null,null,"",2,null,null,null,null,"",2,null,"",null,"",null,"",null,9000,1]
[null,60,null,null,null,null,null,"",3,null,null,null,null,"",3,null,"",null,"",null,"",null,9000,1]
[null,61,null,null,null,null,null,"",1,null,null,null,null,"",1,null,"",null,"",null,"",null,9000,1]
[null,62,null,null,null,null,null,"",2,null,null,null,null,"",2,null,"",null,"",null,"",null,9000,1]
[null,63,null,null,null,null,null,"",3,null,null,null,null,"",3,null,"",null,"",null,"",null,9000,1]
[null,64,null,null,null,null,null,"",1,null,null,null,null,"",1,null,"",null,"",null,"",null,9000,1]
[null,65,null,null,null,null,null,"",2,null,null,null,null,"",2,null,"",null,"",null,"",null,9000,1]
[null,66,null,null,null,null,null,"",3,null,null,null,null,"",3,null,"",null,"",null,"",null,9000,1]
[null,67,null,null,null,null,null,"",1,null,null,null,null,"",1,null,"",null,"",null,"",null,9000,1]
[null,68,null,null,null,null,null,"",2,null,null,null,null,"",2,null,"",null,"",null,"",null,9000,1]
[null,69,null,null,null,null,null,"",3,null,null,null,null,"",3,null,"",null,"",null,"",null,9000,1]
[null,70,null,null,null,null,null,"",1,null,null,null,null,"",1,null,"",null,"",null,"",null,9000,1]
[null,71,null,null,null,null,null,"",2,null,null,null,null,"",2,null,"",null,"",null,"",null,9000,1]
[null,72,null,null,null,null,null,"",3,null,null,null,null,"",3,null,"",null,"",null,"",null,9000,1]
[null,73,null,null,null,null,null,"",1,null,null,null,null,"",1,null,"",null,"",null,"",null,9000,1]
[null,74,null,null,null,null,null,"",2,null,null,null,null,"",2,null,"",null,"",null,"",null,9000,1]
[null,75,null,null,null,null,null,"",3,null,null,null,null,"",3,null,"",null,"",null,"",null,9000,1]
[null,76,null,null,null,null,null,"",1,null,null,null,null,"",1,null,"",null,"",null,"",null,9000,1]
[null,77,null,null,null,null,null,"",2,null,null,null,null,"",2,null,"",null,"",null,"",null,9000,1]
[null,78,null,null,null,null,null,"",3,null,null,null,null,"",3,null,"",null,"",null,"",null,9000,1]
[null,79,null,null,null,null,null,"",1,null,null,null,null,"",1,null,"",null,"",null,"",null,9000,1]
[null,80,null,null,null,null,null,"",2,null,null,null,null,"",2,null,"",null,"",null,"",null,9000,1]
[null,81,null,null,null,null,null,"",3,null,null,null,null,"",3,null,"",null,"",null,"",null,9000,1]
[null,82,null,null,null,null,null,"",1,null,null,null,null,"",1,null,"",null,"",null,"",null,9000,1]
[null,83,null,null,null,null,null,"",2,null,null,null,null,"",2,null,"",null,"",null,"",null,9000,1]
[null,84,null,null,null,null,null,"",3,null,null,null,null,"",3,null,"",null,"",null,"",null,9000,1]
[null,85,null,null,null,null,null,"",1,21.28,null,null,null,"",1,null,"",null,"",null,"",null,9000,1]
[null,86,null,null,null,null,null,"",2,null,null,null,null,"",2,null,"",null,"",null,"",null,9000,1]
[null,87,null,null,null,null,null,"",3,null,null,null,null,"",3,null,"",null,"",null,"",null,9000,1]
[null,88,null,null,null,null,null,"",1,null,null,null,null,"",1,null,"",null,"",null,"",null,9000,1]
[null,89,null,null,null,null,null,"",2,null,null,null,null,"",2,null,"",null,"",null,"",null,9000,1]
[null,90,null,null,null,null,null,"",3,null,null,null,null,"",3,null,"",null,"",null,"",null,9000,1]
[null,91,null,null,null,null,null,"",1,null,null,null,null,"",1,null,"",null,"",null,"",null,9000,1]
[null,92,null,null,null,null,null,"",2,null,null,null,null,"",2,null,"",null,"",null,"",null,9000,1]
[null,93,null,null,null,null,null,"",3,null,null,null,null,"",3,null,"",null,"",null,"",null,9000,1]
[null,94,null,null,null,null,null,"",1,null,null,null,null,"",1,null,"",null,"",null,"",null,9000,1]
[null,95,null,null,null,null,null,"",2,null,null,null,null,"",2,null,"",null,"",null,"",null,9000,1]
[null,96,null,null,null,null,null,"",3,null,null,null,null,"",3,null,"",null,"",null,"",null,9000,1]
[null,97,null,null,null,null,null,"",1,null,null,null,null,"",1,null,"",null,"",null,"",null,9000,1]
[null,98,null,null,null,null,null,"",2,null,null,null,null,"",2,null,"",null,"",null,"",null,9000,1]
[null,99,null,null,null,null,null,"",3,null,null,null,null,"",3,null,"",null,"",null,"",null,9000,1]
[null,100,null,null,null,null,null,"",1,null,null,null,null,"",1,null,"",null,"",null,"",null,9000,1]
[null,101,null,null,null,null,null,"",2,null,null,null,null,"",2,null,"",null,"",null,"",null,9000,1]
[null,102,null,null,null,null,null,"",3,null,null,null,null,"",3,null,"",null,"",null,"",null,9000,1]
[null,103,null,null,null,null,null,"",1,null,null,null,null,"",1,null,"",null,"",null,"",null,9000,1]
[null,104,null,null,null,null,null,"",2,null,null,null,null,"",2,null,"",null,"",null,"",null,9000,1]
[null,105,null,null,null,null,null,"",3,null,null,null,null,"",3,null,"",null,"",null,"",null,9000,1]
[null,106,null,null,null,null,null,"",1,null,null,null,null,"",1,null,"",null,"",null,"",null,9000,1]
[null,107,null,null,null,null,null,"",2,null,null,null,null,"",2,null,"",null,"",null,"",null,9000,1]
[null,108,null,null,null,null,null,"",3,null,null,null,null,"",3,null,"",null,"",null,"",null,9000,1]
[null,109,null,null,null,null,null,"",1,null,null,null,null,"",1,null,"",null,"",null,"",null,9000,1]
[null,110,null,null,null,null,null,"",2,null,null,null,null,"",2,null,"",null,"",null,"",null,9000,1]
[null,111,null,null,null,null,null,"",3,null,null,null,null,"",3,null,"",null,"",null,"",null,9000,1]
[null,112,null,null,null,null,null,"",1,null,null,null,null,"",1,null,"",null,"",null,"",null,9000,1]
[null,113,null,null,null,null,null,"",2,null,null,null,null,"",2,null,"",null,"",null,"",null,9000,1]
[null,114,null,null,null,null,null,"",3,null,null,null,null,"",3,null,"",null,"",null,"",null,9000,1]
[null,115,null,null,null,null,null,"",1,null,null,null,null,"",1,null,"",null,"",null,"",null,9000,1]
[null,116,null,null,null,null,null,"",2,null,null,null,null,"",2,null,"",null,"",null,"",null,9000,1]
[null,117,null,null,null,null,null,"",3,null,null,null,null,"",3,null,"",null,"",null,"",null,9000,1]
[null,118,null,null,null,null,null,"",1,null,null,null,null,"",1,null,"",null,"",null,"",null,9000,1]
[null,119,null,null,null,null,null,"",2,null,null,null,null,"",2,null,"",null,"",null,"",null,9000,1]
[null,120,null,null,null,null,null,"",3,null,null,null,null,"",3,null,"",null,"",null,"",null,9000,1]
[null,121,null,null,null,null,null,"",1,21.28,null,null,null,"",1,null,"",null,"",null,"",null,9000,1]
[null,122,null,null,null,null,null,"",2,null,null,null,null,"",2,null,"",null,"",null,"",null,9000,1]
[null,123,null,null,null,null,null,"",3,null,null,null,null,"",3,null,"",null,"",null,"",null,9000,1]
[null,124,null,null,null,null,null,"",1,null,null,null,null,"",1,null,"",null,"",null,"",null,9000,1]
[null,125,null,null,null,null,null,"",2,null,null,null,null,"",2,null,"",null,"",null,"",null,9000,1]
[null,126,null,null,null,null,null,"",3,null,null,null,null,"",3,null,"",null,"",null,"",null,9000,1]
[null,127,null,null,null,null,null,"",1,null,null,null,null,"",1,null,"",null,"",null,"",null,9000,1]
[null,128,null,null,null,null,null,"",2,null,null,null,null,"",2,null,"",null,"",null,"",null,9000,1]
[null,129,null,null,null,null,null,"",3,null,null,null,null,"",3,null,"",null,"",null,"",null,9000,1]
[null,130,null,null,null,null,null,"",1,null,null,null,null,"",1,null,"",null,"",null,"",null,9000,1]
[null,131,null,null,null,null,null,"",2,null,null,null,null,"",2,null,"",null,"",null,"",null,9000,1]
[null,132,null,null,null,null,null,"",3,null,null,null,null,"",3,null,"",null,"",null,"",null,9000,1]
[null,133,null,null,null,null,null,"",1,null,null,null,null,"",1,null,"",null,"",null,"",null,9000,1]
[null,134,null,null,null,null,null,"",2,null,null,null,null,"",2,null,"",null,"",null,"",null,9000,1]
[null,135,null,null,null,null,null,"",3,null,null,null,null,"",3,null,"",null,"",null,"",null,9000,1]
[null,136,null,null,null,null,null,"",1,null,null,null,null,"",1,null,"",null,"",null,"",null,9000,1]
[null,137,null,null,null,null,null,"",2,null,null,null,null,"",2,null,"",null,"",null,"",null,9000,1]
[null,138,null,null,null,null,null,"",3,null,null,null,null,"",3,null,"",null,"",null,"",null,9000,1]
[null,139,null,null,null,null,null,"",1,null,null,null,null,"",1,null,"",null,"",null,"",null,9000,1]
[null,140,null,null,null,null,null,"",2,null,null,null,null,"",2,null,"",null,"",null,"",null,9000,1]
[null,141,null,null,null,null,null,"",3,null,null,null,null,"",3,null,"",null,"",null,"",null,9000,1]
[null,142,null,null,null,null,null,"",1,null,null,null,null,"",1,null,"",null,"",null,"",null,9000,1]
[null,143,null,null,null,null,null,"",2,null,null,null,null,"",2,null,"",null,"",null,"",null,9000,1]
[null,144,null,null,null,null,null,"",3,null,null,null,null,"",3,null,"",null,"",null,"",null,9000,1]

{"sheet":"TISK","index":14,"n_rows":256,"n_cols":22,"rows_kept":256,"cut":false,"hidden":false,"merged":[[83,21,84,21],[85,21,86,21],[87,21,88,21],[89,21,90,21],[91,21,92,21],[93,21,94,21],[219,10,220,10],[219,13,220,13],[180,3,181,3],[180,5,181,5],[217,13,218,13],[219,5,220,5],[219,7,220,7],[248,14,248,16],[248,4,248,5],[248,6,248,7],[248,8,248,10],[248,11,248,13],[143,6,143,7],[143,8,143,10],[143,11,143,13],[144,8,144,10],[144,11,144,13],[178,6,178,7],[178,8,178,10],[178,11,178,13],[145,7,146,7],[144,14,144,16],[143,14,143,16],[143,4,143,5],[151,13,152,13],[157,10,158,10],[110,10,111,10],[110,13,111,13],[109,19,111,19],[110,16,111,16],[73,6,73,7],[73,8,73,10],[73,11,73,13],[74,8,74,10],[74,11,74,13],[108,8,108,10],[108,11,108,13],[31,19,32,19],[23,19,24,19],[25,19,26,19],[66,20,67,20],[68,20,69,20],[58,20,59,20],[60,20,61,20],[62,20,63,20],[64,20,65,20],[54,20,55,20],[56,20,57,20],[40,17,41,17],[46,13,47,13],[40,10,41,10],[58,10,59,10],[58,13,59,13],[58,17,59,17],[58,19,59,19],[42,19,43,19],[44,19,45,19],[46,19,47,19],[2,3,2,10],[35,1,35,21],[37,3,37,10],[37,11,37,17],[29,21,30,21],[31,21,32,21],[219,16,220,16],[249,1,251,1],[249,2,251,2],[249,4,249,5],[249,6,249,7],[249,19,251,19],[250,3,251,3],[250,5,251,5],[250,7,251,7],[250,10,251,10],[215,16,216,16],[249,11,249,13],[249,14,249,16],[214,19,216,19],[214,21,216,21],[215,17,216,17],[217,21,218,21],[217,16,218,16],[217,17,218,17],[217,19,218,19],[180,16,181,16],[179,19,181,19],[109,21,111,21],[110,3,111,3],[110,5,111,5],[110,7,111,7],[202,21,203,21],[214,1,216,1],[214,2,216,2],[214,4,214,5],[214,6,214,7],[215,7,216,7],[215,10,216,10],[215,13,216,13],[214,14,214,16],[210,1,210,21],[212,3,212,10],[212,11,212,17],[213,14,213,16],[213,11,213,13],[214,8,214,10],[214,11,214,13],[145,17,146,17],[179,1,181,1],[179,2,181,2],[179,4,179,5],[179,6,179,7],[180,7,181,7],[180,17,181,17],[179,8,179,10],[179,11,179,13],[179,14,179,16],[144,1,146,1],[144,2,146,2],[144,4,144,5],[144,6,144,7],[145,3,146,3],[145,5,146,5],[109,1,111,1],[109,2,111,2],[109,4,109,5],[109,6,109,7],[42,20,43,20],[44,20,45,20],[46,20,47,20],[48,20,49,20],[50,20,51,20],[52,20,53,20],[74,14,74,16],[74,19,76,19],[75,10,76,10],[75,13,76,13],[75,16,76,16],[75,17,76,17],[74,2,76,2],[74,4,74,5],[74,6,74,7],[75,3,76,3],[75,5,76,5],[75,7,76,7],[87,17,88,17],[83,17,84,17],[85,17,86,17],[91,10,92,10],[93,5,94,5],[93,7,94,7],[93,10,94,10],[93,13,94,13],[101,10,102,10],[101,13,102,13],[0,1,0,21],[39,2,41,2],[239,21,240,21],[241,21,242,21],[223,21,224,21],[225,21,226,21],[227,21,228,21],[229,21,230,21],[208,21,209,21],[74,1,76,1],[219,21,220,21],[221,21,222,21],[200,21,201,21],[254,21,255,21],[245,1,245,21],[247,3,247,10],[247,11,247,17],[213,4,213,5],[213,6,213,7],[213,8,213,10],[243,21,244,21],[252,21,253,21],[231,21,232,21],[233,21,234,21],[235,21,236,21],[237,21,238,21],[249,21,251,21],[184,21,185,21],[186,21,187,21],[188,21,189,21],[190,21,191,21],[204,21,205,21],[206,21,207,21],[192,21,193,21],[194,21,195,21],[196,21,197,21],[198,21,199,21],[173,21,174,21],[182,21,183,21],[179,21,181,21],[175,1,175,21],[177,3,177,10],[177,11,177,17],[178,14,178,16],[178,4,178,5],[180,10,181,10],[180,13,181,13],[161,21,162,21],[163,21,164,21],[165,21,166,21],[167,21,168,21],[169,21,170,21],[171,21,172,21],[161,10,162,10],[165,10,166,10],[163,5,164,5],[163,7,164,7],[163,10,164,10],[163,13,164,13],[169,10,170,10],[167,5,168,5],[167,7,168,7],[167,10,168,10],[167,13,168,13],[153,21,154,21],[155,21,156,21],[157,21,158,21],[159,21,160,21],[144,19,146,19],[145,10,146,10],[145,13,146,13],[145,16,146,16],[134,21,135,21],[136,21,137,21],[138,21,139,21],[147,21,148,21],[149,21,150,21],[151,21,152,21],[144,21,146,21],[140,1,140,21],[142,3,142,10],[142,11,142,17],[138,10,139,10],[136,5,137,5],[136,7,137,7],[136,10,137,10],[136,13,137,13],[149,10,150,10],[147,5,148,5],[147,7,148,7],[147,10,148,10],[147,13,148,13],[153,10,154,10],[151,5,152,5],[151,7,152,7],[151,10,152,10],[122,21,123,21],[124,21,125,21],[126,21,127,21],[128,21,129,21],[130,21,131,21],[132,21,133,21],[108,4,108,5],[108,6,108,7],[114,21,115,21],[116,21,117,21],[118,21,119,21],[120,21,121,21],[110,17,111,17],[109,8,109,10],[109,11,109,13],[109,14,109,16],[95,21,96,21],[97,21,98,21],[99,21,100,21],[101,21,102,21],[103,21,104,21],[112,21,113,21],[105,1,105,21],[107,3,107,10],[107,11,107,17],[108,14,108,16],[95,10,96,10],[99,10,100,10],[97,5,98,5],[97,7,98,7],[97,10,98,10],[97,13,98,13],[68,21,69,21],[77,21,78,21],[79,21,80,21],[81,21,82,21],[74,21,76,21],[70,1,70,21],[72,3,72,10],[72,11,72,17],[73,14,73,16],[73,4,73,5],[56,21,57,21],[58,21,59,21],[60,21,61,21],[62,21,63,21],[64,21,65,21],[66,21,67,21],[44,21,45,21],[46,21,47,21],[48,21,49,21],[50,21,51,21],[52,21,53,21],[54,21,55,21],[64,17,65,17],[66,17,67,17],[68,17,69,17],[77,17,78,17],[79,17,80,17],[81,17,82,17],[54,5,55,5],[54,7,55,7],[54,10,55,10],[54,13,55,13],[42,21,43,21],[39,21,41,21],[21,21,22,21],[23,21,24,21],[25,21,26,21],[27,21,28,21],[33,21,34,21],[52,19,53,19],[58,16,59,16],[4,21,6,21],[7,21,8,21],[9,21,10,21],[11,21,12,21],[13,21,14,21],[15,21,16,21],[17,21,18,21],[19,21,20,21],[48,19,49,19],[50,19,51,19],[33,19,34,19],[27,19,28,19],[29,19,30,19],[21,19,22,19],[21,16,22,16],[23,16,24,16],[21,17,22,17],[9,16,10,16],[11,16,12,16],[13,16,14,16],[15,16,16,16],[17,19,18,19],[19,19,20,19],[42,17,43,17],[46,10,47,10],[44,2,45,2],[46,2,47,2],[48,2,49,2],[50,2,51,2],[52,2,53,2],[52,10,53,10],[50,1,51,1],[52,1,53,1],[58,0,59,0],[58,1,59,1],[58,2,59,2],[58,3,59,3],[58,5,59,5],[58,7,59,7],[27,16,28,16],[29,16,30,16],[31,16,32,16],[40,16,41,16],[38,14,38,16],[25,16,26,16],[17,16,18,16],[19,16,20,16],[68,0,69,0],[60,16,61,16],[62,16,63,16],[64,16,65,16],[66,1,67,1],[66,2,67,2],[66,3,67,3],[48,0,49,0],[44,0,45,0],[46,0,47,0],[56,13,57,13],[56,16,57,16],[66,0,67,0],[52,17,53,17],[44,17,45,17],[46,17,47,17],[48,17,49,17],[50,17,51,17],[39,11,39,13],[39,14,39,16],[38,11,38,13],[21,13,22,13],[23,13,24,13],[25,13,26,13],[27,13,28,13],[29,13,30,13],[48,13,49,13],[52,7,53,7],[17,2,18,2],[39,19,41,19],[25,0,26,0],[27,0,28,0],[29,0,30,0],[31,0,32,0],[33,0,34,0],[42,0,43,0],[52,16,53,16],[7,0,8,0],[9,0,10,0],[11,0,12,0],[13,0,14,0],[15,0,16,0],[17,0,18,0],[19,0,20,0],[21,0,22,0],[23,0,24,0],[50,0,51,0],[52,0,53,0],[46,16,47,16],[48,16,49,16],[50,16,51,16],[44,16,45,16],[33,16,34,16],[42,16,43,16],[50,13,51,13],[52,13,53,13],[31,13,32,13],[33,13,34,13],[42,13,43,13],[44,13,45,13],[40,13,41,13],[15,13,16,13],[17,13,18,13],[19,13,20,13],[17,10,18,10],[19,10,20,10],[21,10,22,10],[33,10,34,10],[42,10,43,10],[44,10,45,10],[46,7,47,7],[40,7,41,7],[38,6,38,7],[48,7,49,7],[50,7,51,7],[27,7,28,7],[29,7,30,7],[31,7,32,7],[33,7,34,7],[42,7,43,7],[44,7,45,7],[39,6,39,7],[39,8,39,10],[15,10,16,10],[27,10,28,10],[19,2,20,2],[21,2,22,2],[42,2,43,2],[33,1,34,1],[42,1,43,1],[39,1,41,1],[44,1,45,1],[46,1,47,1],[48,1,49,1],[21,1,22,1],[23,1,24,1],[25,1,26,1],[27,1,28,1],[29,1,30,1],[31,1,32,1],[9,1,10,1],[11,1,12,1],[13,1,14,1],[15,1,16,1],[17,1,18,1],[19,1,20,1],[23,2,24,2],[25,2,26,2],[27,2,28,2],[15,2,16,2],[19,5,20,5],[21,5,22,5],[23,5,24,5],[25,5,26,5],[27,5,28,5],[29,5,30,5],[23,3,24,3],[25,3,26,3],[31,5,32,5],[33,5,34,5],[52,3,53,3],[31,3,32,3],[33,3,34,3],[42,3,43,3],[44,3,45,3],[46,3,47,3],[27,3,28,3],[29,3,30,3],[48,3,49,3],[46,5,47,5],[52,5,53,5],[42,5,43,5],[44,5,45,5],[38,4,38,5],[50,3,51,3],[40,3,41,3],[48,5,49,5],[50,5,51,5],[19,3,20,3],[21,3,22,3],[3,6,3,7],[7,2,8,2],[4,2,6,2],[3,14,3,16],[7,7,8,7],[7,10,8,10],[7,13,8,13],[7,16,8,16],[5,16,6,16],[5,3,6,3],[29,2,30,2],[31,2,32,2],[33,2,34,2],[3,4,3,5],[9,7,10,7],[11,7,12,7],[13,7,14,7],[15,7,16,7],[17,7,18,7],[31,10,32,10],[4,11,4,13],[9,5,10,5],[11,5,12,5],[13,5,14,5],[19,7,20,7],[21,7,22,7],[23,7,24,7],[25,7,26,7],[15,5,16,5],[17,5,18,5],[9,10,10,10],[11,10,12,10],[4,1,6,1],[4,19,6,19],[4,14,4,16],[4,4,4,5],[4,6,4,7],[4,8,4,10],[5,7,6,7],[5,10,6,10],[5,13,6,13],[5,17,6,17],[7,17,8,17],[9,17,10,17],[11,17,12,17],[13,17,14,17],[5,5,6,5],[7,5,8,5],[9,2,10,2],[11,2,12,2],[13,2,14,2],[9,19,10,19],[11,19,12,19],[13,19,14,19],[9,13,10,13],[11,13,12,13],[13,13,14,13],[13,10,14,10],[15,19,16,19],[7,3,8,3],[9,3,10,3],[11,3,12,3],[13,3,14,3],[15,3,16,3],[7,1,8,1],[54,0,55,0],[54,1,55,1],[54,2,55,2],[54,3,55,3],[54,16,55,16],[54,17,55,17],[54,19,55,19],[56,0,57,0],[56,1,57,1],[56,2,57,2],[56,3,57,3],[56,5,57,5],[56,7,57,7],[56,10,57,10],[56,17,57,17],[56,19,57,19],[17,3,18,3],[40,5,41,5],[38,8,38,10],[48,10,49,10],[50,10,51,10],[39,4,39,5],[7,19,8,19],[23,10,24,10],[25,10,26,10],[60,0,61,0],[60,1,61,1],[60,2,61,2],[60,3,61,3],[60,5,61,5],[60,7,61,7],[60,10,61,10],[60,13,61,13],[60,17,61,17],[60,19,61,19],[62,0,63,0],[62,1,63,1],[62,2,63,2],[62,3,63,3],[62,5,63,5],[62,7,63,7],[62,10,63,10],[62,13,63,13],[64,0,65,0],[64,1,65,1],[64,2,65,2],[64,3,65,3],[64,5,65,5],[64,7,65,7],[66,7,67,7],[66,10,67,10],[66,13,67,13],[62,17,63,17],[66,16,67,16],[62,19,63,19],[64,10,65,10],[64,13,65,13],[64,19,65,19],[66,19,67,19],[68,7,69,7],[68,10,69,10],[68,13,69,13],[68,16,69,16],[68,1,69,1],[68,2,69,2],[68,3,69,3],[68,5,69,5],[66,5,67,5],[68,19,69,19],[77,0,78,0],[77,1,78,1],[77,2,78,2],[77,3,78,3],[77,5,78,5],[77,7,78,7],[77,10,78,10],[77,13,78,13],[77,16,78,16],[77,19,78,19],[79,0,80,0],[79,1,80,1],[79,2,80,2],[79,3,80,3],[79,5,80,5],[79,7,80,7],[79,10,80,10],[79,13,80,13],[79,16,80,16],[79,19,80,19],[81,0,82,0],[81,1,82,1],[81,2,82,2],[81,3,82,3],[81,5,82,5],[81,7,82,7],[81,10,82,10],[81,13,82,13],[81,16,82,16],[81,19,82,19],[83,0,84,0],[83,1,84,1],[83,2,84,2],[83,3,84,3],[83,5,84,5],[83,7,84,7],[83,10,84,10],[83,13,84,13],[83,16,84,16],[83,19,84,19],[85,0,86,0],[85,1,86,1],[85,2,86,2],[85,3,86,3],[85,5,86,5],[85,7,86,7],[85,10,86,10],[85,13,86,13],[85,16,86,16],[85,19,86,19],[87,0,88,0],[87,1,88,1],[87,2,88,2],[87,3,88,3],[87,5,88,5],[87,7,88,7],[87,10,88,10],[87,13,88,13],[87,16,88,16],[87,19,88,19],[89,0,90,0],[89,1,90,1],[89,2,90,2],[89,3,90,3],[89,5,90,5],[89,7,90,7],[89,10,90,10],[91,0,92,0],[91,1,92,1],[91,2,92,2],[91,3,92,3],[91,5,92,5],[91,7,92,7],[91,13,92,13],[91,16,92,16],[91,17,92,17],[91,19,92,19],[89,16,90,16],[89,17,90,17],[89,19,90,19],[89,13,90,13],[93,0,94,0],[93,1,94,1],[93,2,94,2],[93,3,94,3],[95,0,96,0],[95,1,96,1],[95,2,96,2],[95,3,96,3],[95,5,96,5],[95,7,96,7],[95,13,96,13],[95,16,96,16],[95,17,96,17],[95,19,96,19],[93,16,94,16],[93,17,94,17],[93,19,94,19],[97,0,98,0],[97,1,98,1],[97,2,98,2],[97,3,98,3],[99,0,100,0],[99,1,100,1],[99,2,100,2],[99,3,100,3],[99,5,100,5],[99,7,100,7],[99,13,100,13],[99,16,100,16],[99,17,100,17],[99,19,100,19],[97,16,98,16],[97,17,98,17],[97,19,98,19],[101,0,102,0],[101,1,102,1],[101,2,102,2],[101,3,102,3],[103,19,104,19],[101,16,102,16],[101,17,102,17],[101,19,102,19],[103,0,104,0],[103,1,104,1],[103,2,104,2],[103,3,104,3],[101,5,102,5],[101,7,102,7],[114,10,115,10],[112,5,113,5],[112,7,113,7],[112,10,113,10],[112,13,113,13],[112,0,113,0],[112,1,113,1],[112,2,113,2],[112,3,113,3],[114,0,115,0],[114,1,115,1],[114,2,115,2],[114,3,115,3],[114,5,115,5],[114,7,115,7],[114,13,115,13],[114,16,115,16],[114,17,115,17],[114,19,115,19],[112,16,113,16],[112,17,113,17],[112,19,113,19],[118,10,119,10],[116,5,117,5],[116,7,117,7],[116,10,117,10],[116,13,117,13],[116,0,117,0],[116,1,117,1],[116,2,117,2],[116,3,117,3],[118,0,119,0],[118,1,119,1],[118,2,119,2],[118,3,119,3],[118,5,119,5],[118,7,119,7],[118,13,119,13],[118,16,119,16],[118,17,119,17],[118,19,119,19],[116,16,117,16],[116,17,117,17],[116,19,117,19],[126,19,127,19],[124,16,125,16],[124,17,125,17],[124,19,125,19],[122,10,123,10],[120,5,121,5],[120,7,121,7],[120,10,121,10],[120,13,121,13],[120,0,121,0],[120,1,121,1],[120,2,121,2],[120,3,121,3],[122,0,123,0],[122,1,123,1],[122,2,123,2],[122,3,123,3],[122,5,123,5],[122,7,123,7],[122,13,123,13],[122,16,123,16],[128,1,129,1],[128,2,129,2],[128,3,129,3],[130,0,131,0],[130,1,131,1],[130,2,131,2],[130,3,131,3],[130,5,131,5],[130,7,131,7],[130,13,131,13],[130,16,131,16],[122,17,123,17],[122,19,123,19],[120,16,121,16],[120,17,121,17],[120,19,121,19],[126,10,127,10],[124,5,125,5],[124,7,125,7],[124,10,125,10],[124,13,125,13],[124,0,125,0],[124,1,125,1],[124,2,125,2],[124,3,125,3],[126,0,127,0],[126,1,127,1],[126,2,127,2],[126,3,127,3],[126,5,127,5],[126,7,127,7],[126,13,127,13],[130,19,131,19],[128,16,129,16],[128,17,129,17],[128,19,129,19],[134,10,135,10],[132,5,133,5],[132,7,133,7],[132,10,133,10],[132,13,133,13],[132,0,133,0],[132,1,133,1],[132,2,133,2],[132,3,133,3],[134,0,135,0],[134,1,135,1],[134,2,135,2],[134,3,135,3],[134,5,135,5],[134,7,135,7],[134,13,135,13],[134,16,135,16],[134,17,135,17],[134,19,135,19],[132,16,133,16],[132,17,133,17],[132,19,133,19],[130,10,131,10],[128,5,129,5],[128,7,129,7],[128,10,129,10],[128,13,129,13],[128,0,129,0],[136,0,137,0],[136,1,137,1],[136,2,137,2],[136,3,137,3],[138,0,139,0],[138,1,139,1],[138,2,139,2],[138,3,139,3],[138,5,139,5],[138,7,139,7],[138,13,139,13],[138,16,139,16],[138,17,139,17],[138,19,139,19],[136,16,137,16],[136,17,137,17],[136,19,137,19],[147,0,148,0],[147,1,148,1],[147,2,148,2],[147,3,148,3],[149,0,150,0],[149,1,150,1],[149,2,150,2],[149,3,150,3],[149,5,150,5],[149,7,150,7],[149,13,150,13],[149,16,150,16],[149,17,150,17],[149,19,150,19],[147,16,148,16],[147,17,148,17],[147,19,148,19],[151,0,152,0],[151,1,152,1],[151,2,152,2],[151,3,152,3],[153,0,154,0],[153,1,154,1],[153,2,154,2],[153,3,154,3],[153,5,154,5],[153,7,154,7],[153,13,154,13],[153,16,154,16],[153,17,154,17],[153,19,154,19],[151,16,152,16],[151,17,152,17],[151,19,152,19],[155,0,156,0],[155,1,156,1],[155,2,156,2],[155,3,156,3],[157,0,158,0],[157,1,158,1],[157,2,158,2],[157,3,158,3],[157,5,158,5],[157,7,158,7],[157,13,158,13],[157,16,158,16],[157,17,158,17],[157,19,158,19],[155,16,156,16],[155,17,156,17],[155,19,156,19],[155,5,156,5],[155,7,156,7],[155,10,156,10],[155,13,156,13],[159,0,160,0],[159,1,160,1],[159,2,160,2],[159,3,160,3],[161,0,162,0],[161,1,162,1],[161,2,162,2],[161,3,162,3],[161,5,162,5],[161,7,162,7],[161,13,162,13],[161,16,162,16],[161,17,162,17],[161,19,162,19],[159,16,160,16],[159,17,160,17],[159,19,160,19],[159,5,160,5],[159,7,160,7],[163,0,164,0]],"merged_total":1406,"flags":["merged_cut"]}
[null,"Celkové výsledky - TISK"]
[]
[null,null,null,{"$f":"Start!$B$2","v":"Požární útoky "},null,null,null,null,null,null,null,{"$f":"Start!$F$3&\", \"&Start!$N$3","v":"18.05.2025, Kamenný Újezd"}]
[null,null,{"$f":"Start!$N$2","v":"starší"}]
[null," startovní číslo"," SDH",null," PÚ",null," Štafeta 4 x 60 m",null," Štafeta dvojic",null,null," 400 m štafeta CTIF",null,null," PÚ - CTIF",null,null,null,null," Celkový součet",null,"Pořadí"]
[null,null,null,null,"1.pokus","P.","1.pokus","P.","1.pokus","tr.body","P.","1.pokus","tr.body","P.","1.pokus","tr.body","P."]
[null,null,null,null,"2.pokus",null,"2.pokus",null,"2.pokus","tr.body",null,"2.pokus","tr.body",null,"2.pokus","tr.body"]
[{"$f":"IF(Start!E6=\"\",\"\",\"x\")","v":""},1,{"$f":"IF(Start!C6=\"\",\"\",Start!C6)","v":"Zbiroh"},null,{"$f":"IF($C$8=\"\",\"\",PÚ!$H$12)","v":100.58},{"$f":"IF($C$8=\"\",\"\",PÚ!$I$12)","v":8},{"$f":"IF($C$8=\"\",\"\",Št.4x60m!$H$12)","v":"DNS"},{"$f":"IF($C$8=\"\",\"\",Št.4x60m!$I$12)","v":0},{"$f":"IF($C$8=\"\",\"\",Št.dvojic!$U$12)","v":"DNS"},{"$f":"IF($C$8=\"\",\"\",\"(\"&SUM(Št.dvojic!$I$12:$T$12)&\")\")","v":"(0)"},{"$f":"IF($C$8=\"\",\"\",Št.dvojic!$V$12)","v":0},{"$f":"IF($C$8=\"\",\"\",Št.400mCTIF!$U$12)","v":"DNS"},{"$f":"IF($C$8=\"\",\"\",\"(\"&SUM(Št.400mCTIF!$I$12:$T$12)&\")\")","v":"(0)"},{"$f":"IF($C$8=\"\",\"\",Št.400mCTIF!$V$12)","v":0},{"$f":"IF($C$8=\"\",\"\",'PÚ CTIF'!$R$12)","v":"DNS"},{"$f":"IF($C$8=\"\",\"\",\"(\"&SUM('PÚ CTIF'!$I$12:$Q$12)&\")\")","v":"(0)"},{"$f":"IF($C$8=\"\",\"\",'PÚ CTIF'!$S$12)","v":0},null,null,{"$f":"IF(A8=\"x\",300,IF(C8=\"\",\"\",SUM(D8,F8,H8,K8,N8,Q8,R8)))","v":8},null,{"$f":"IF($A8=\"x\",\"x\",IF($C8=\"\",\"\",IF(VLOOKUP($B8,POM!$A$1:$K$100,11)=0,\"\",VLOOKUP($B8,POM!$A$1:$K$100,11))))","v":1}]
[null,null,null,null,{"$f":"IF($C$8=\"\",\"\",PÚ!$H$13)","v":"DNS"},null,{"$f":"IF($C$8=\"\",\"\",Št.4x60m!$H$13)","v":"DNS"},null,{"$f":"IF($C$8=\"\",\"\",Št.dvojic!$U$13)","v":"DNS"},{"$f":"IF($C$8=\"\",\"\",\"(\"&SUM(Št.dvojic!$I$13:$T$13)&\")\")","v":"(0)"},null,{"$f":"IF($C$8=\"\",\"\",Št.400mCTIF!$U$13)","v":"DNS"},{"$f":"IF($C$8=\"\",\"\",\"(\"&SUM(Št.400mCTIF!$I$13:$T$13)&\")\")","v":"(0)"},null,{"$f":"IF($C$8=\"\",\"\",'PÚ CTIF'!$R$13)","v":"DNS"},{"$f":"IF($C$8=\"\",\"\",\"(\"&SUM('PÚ CTIF'!$I$13:$Q$13)&\")\")","v":"(0)"}]
[{"$f":"IF(Start!E7=\"\",\"\",\"x\")","v":""},2,{"$f":"IF(Start!C7=\"\",\"\",Start!C7)","v":"Holoubkov"},null,{"$f":"IF($C$10=\"\",\"\",PÚ!$H$14)","v":145.4},{"$f":"IF($C$10=\"\",\"\",PÚ!$I$14)","v":5},{"$f":"IF($C$10=\"\",\"\",Št.4x60m!$H$14)","v":"DNS"},{"$f":"IF($C$10=\"\",\"\",Št.4x60m!$I$14)","v":0},{"$f":"IF($C$10=\"\",\"\",Št.dvojic!$U$14)","v":"DNS"},{"$f":"IF($C$10=\"\",\"\",\"(\"&SUM(Št.dvojic!$I$14:$T$14)&\")\")","v":"(0)"},{"$f":"IF($C$10=\"\",\"\",Št.dvojic!$V$14)","v":0},{"$f":"IF($C$10=\"\",\"\",Št.400mCTIF!$U$14)","v":"DNS"},{"$f":"IF($C$10=\"\",\"\",\"(\"&SUM(Št.400mCTIF!$I$14:$T$14)&\")\")","v":"(0)"},{"$f":"IF($C$10=\"\",\"\",Št.400mCTIF!$V$14)","v":0},{"$f":"IF($C$10=\"\",\"\",'PÚ CTIF'!$R$14)","v":"DNS"},{"$f":"IF($C$10=\"\",\"\",\"(\"&SUM('PÚ CTIF'!$I$14:$Q$14)&\")\")","v":"(0)"},{"$f":"IF($C$10=\"\",\"\",'PÚ CTIF'!$S$14)","v":0},null,null,{"$f":"IF(A10=\"x\",300,IF(C10=\"\",\"\",SUM(D10,F10,H10,K10,N10,Q10,R10)))","v":5},null,{"$f":"IF($A10=\"x\",\"x\",IF($C10=\"\",\"\",IF(VLOOKUP($B10,POM!$A$1:$K$100,11)=0,\"\",VLOOKUP($B10,POM!$A$1:$K$100,11))))","v":""}]
[null,null,null,null,{"$f":"IF($C$10=\"\",\"\",PÚ!$H$15)","v":55.77},null,{"$f":"IF($C$10=\"\",\"\",Št.4x60m!$H$15)","v":"DNS"},null,{"$f":"IF($C$10=\"\",\"\",Št.dvojic!$U$15)","v":"DNS"},{"$f":"IF($C$10=\"\",\"\",\"(\"&SUM(Št.dvojic!$I$15:$T$15)&\")\")","v":"(0)"},null,{"$f":"IF($C$10=\"\",\"\",Št.400mCTIF!$U$15)","v":"DNS"},{"$f":"IF($C$10=\"\",\"\",\"(\"&SUM(Št.400mCTIF!$I$15:$T$15)&\")\")","v":"(0)"},null,{"$f":"IF($C$10=\"\",\"\",'PÚ CTIF'!$R$15)","v":"DNS"},{"$f":"IF($C$10=\"\",\"\",\"(\"&SUM('PÚ CTIF'!$I$15:$Q$15)&\")\")","v":"(0)"}]
[{"$f":"IF(Start!E8=\"\",\"\",\"x\")","v":""},3,{"$f":"IF(Start!C8=\"\",\"\",Start!C8)","v":"Raková"},null,{"$f":"IF($C$12=\"\",\"\",PÚ!$H$16)","v":54.23},{"$f":"IF($C$12=\"\",\"\",PÚ!$I$16)","v":4},{"$f":"IF($C$12=\"\",\"\",Št.4x60m!$H$16)","v":"DNS"},{"$f":"IF($C$12=\"\",\"\",Št.4x60m!$I$16)","v":0},{"$f":"IF($C$12=\"\",\"\",Št.dvojic!$U$16)","v":"DNS"},{"$f":"IF($C$12=\"\",\"\",\"(\"&SUM(Št.dvojic!$I$16:$T$16)&\")\")","v":"(0)"},{"$f":"IF($C$12=\"\",\"\",Št.dvojic!$V$16)","v":0},{"$f":"IF($C$12=\"\",\"\",Št.400mCTIF!$U$16)","v":"DNS"},{"$f":"IF($C$12=\"\",\"\",\"(\"&SUM(Št.400mCTIF!$I$16:$T$16)&\")\")","v":"(0)"},{"$f":"IF($C$12=\"\",\"\",Št.400mCTIF!$V$16)","v":0},{"$f":"IF($C$12=\"\",\"\",'PÚ CTIF'!$R$16)","v":"DNS"},{"$f":"IF($C$12=\"\",\"\",\"(\"&SUM('PÚ CTIF'!$I$16:$Q$16)&\")\")","v":"(0)"},{"$f":"IF($C$12=\"\",\"\",'PÚ CTIF'!$S$16)","v":0},null,null,{"$f":"IF(A12=\"x\",300,IF(C12=\"\",\"\",SUM(D12,F12,H12,K12,N12,Q12,R12)))","v":4},null,{"$f":"IF($A12=\"x\",\"x\",IF($C12=\"\",\"\",IF(VLOOKUP($B12,POM!$A$1:$K$100,11)=0,\"\",VLOOKUP($B12,POM!$A$1:$K$100,11))))","v":""}]
[null,null,null,null,{"$f":"IF($C$12=\"\",\"\",PÚ!$H$17)","v":34.299999999999997},null,{"$f":"IF($C$12=\"\",\"\",Št.4x60m!$H$17)","v":"DNS"},null,{"$f":"IF($C$12=\"\",\"\",Št.dvojic!$U$17)","v":"DNS"},{"$f":"IF($C$12=\"\",\"\",\"(\"&SUM(Št.dvojic!$I$17:$T$17)&\")\")","v":"(0)"},null,{"$f":"IF($C$12=\"\",\"\",Št.400mCTIF!$U$17)","v":"DNS"},{"$f":"IF($C$12=\"\",\"\",\"(\"&SUM(Št.400mCTIF!$I$17:$T$17)&\")\")","v":"(0)"},null,{"$f":"IF($C$12=\"\",\"\",'PÚ CTIF'!$R$17)","v":"DNS"},{"$f":"IF($C$12=\"\",\"\",\"(\"&SUM('PÚ CTIF'!$I$17:$Q$17)&\")\")","v":"(0)"}]
[{"$f":"IF(Start!E9=\"\",\"\",\"x\")","v":""},4,{"$f":"IF(Start!C9=\"\",\"\",Start!C9)","v":"Osek"},null,{"$f":"IF($C$14=\"\",\"\",PÚ!$H$18)","v":33.94},{"$f":"IF($C$14=\"\",\"\",PÚ!$I$18)","v":1},{"$f":"IF($C$14=\"\",\"\",Št.4x60m!$H$18)","v":"DNS"},{"$f":"IF($C$14=\"\",\"\",Št.4x60m!$I$18)","v":0},{"$f":"IF($C$14=\"\",\"\",Št.dvojic!$U$18)","v":"DNS"},{"$f":"IF($C$14=\"\",\"\",\"(\"&SUM(Št.dvojic!$I$18:$T$18)&\")\")","v":"(0)"},{"$f":"IF($C$14=\"\",\"\",Št.dvojic!$V$18)","v":0},{"$f":"IF($C$14=\"\",\"\",Št.400mCTIF!$U$18)","v":"DNS"},{"$f":"IF($C$14=\"\",\"\",\"(\"&SUM(Št.400mCTIF!$I$18:$T$18)&\")\")","v":"(0)"},{"$f":"IF($C$14=\"\",\"\",Št.400mCTIF!$V$18)","v":0},{"$f":"IF($C$14=\"\",\"\",'PÚ CTIF'!$R$18)","v":"DNS"},{"$f":"IF($C$14=\"\",\"\",\"(\"&SUM('PÚ CTIF'!$I$18:$Q$18)&\")\")","v":"(0)"},{"$f":"IF($C$14=\"\",\"\",'PÚ CTIF'!$S$18)","v":0},null,null,{"$f":"IF(A14=\"x\",300,IF(C14=\"\",\"\",SUM(D14,F14,H14,K14,N14,Q14,R14)))","v":1},null,{"$f":"IF($A14=\"x\",\"x\",IF($C14=\"\",\"\",IF(VLOOKUP($B14,POM!$A$1:$K$100,11)=0,\"\",VLOOKUP($B14,POM!$A$1:$K$100,11))))","v":""}]
[null,null,null,null,{"$f":"IF($C$14=\"\",\"\",PÚ!$H$19)","v":26.44},null,{"$f":"IF($C$14=\"\",\"\",Št.4x60m!$H$19)","v":"DNS"},null,{"$f":"IF($C$14=\"\",\"\",Št.dvojic!$U$19)","v":"DNS"},{"$f":"IF($C$14=\"\",\"\",\"(\"&SUM(Št.dvojic!$I$19:$T$19)&\")\")","v":"(0)"},null,{"$f":"IF($C$14=\"\",\"\",Št.400mCTIF!$U$19)","v":"DNS"},{"$f":"IF($C$14=\"\",\"\",\"(\"&SUM(Št.400mCTIF!$I$19:$T$19)&\")\")","v":"(0)"},null,{"$f":"IF($C$14=\"\",\"\",'PÚ CTIF'!$R$19)","v":"DNS"},{"$f":"IF($C$14=\"\",\"\",\"(\"&SUM('PÚ CTIF'!$I$19:$Q$19)&\")\")","v":"(0)"}]
[{"$f":"IF(Start!E10=\"\",\"\",\"x\")","v":""},5,{"$f":"IF(Start!C10=\"\",\"\",Start!C10)","v":"Lhota pod Radčem"},null,{"$f":"IF($C$16=\"\",\"\",PÚ!$H$20)","v":114.11},{"$f":"IF($C$16=\"\",\"\",PÚ!$I$20)","v":6},{"$f":"IF($C$16=\"\",\"\",Št.4x60m!$H$20)","v":"DNS"},{"$f":"IF($C$16=\"\",\"\",Št.4x60m!$I$20)","v":0},{"$f":"IF($C$16=\"\",\"\",Št.dvojic!$U$20)","v":"DNS"},{"$f":"IF($C$16=\"\",\"\",\"(\"&SUM(Št.dvojic!$I$20:$T$20)&\")\")","v":"(0)"},{"$f":"IF($C$16=\"\",\"\",Št.dvojic!$V$20)","v":0},{"$f":"IF($C$16=\"\",\"\",Št.400mCTIF!$U$20)","v":"DNS"},{"$f":"IF($C$16=\"\",\"\",\"(\"&SUM(Št.400mCTIF!$I$20:$T$20)&\")\")","v":"(0)"},{"$f":"IF($C$16=\"\",\"\",Št.400mCTIF!$V$20)","v":0},{"$f":"IF($C$16=\"\",\"\",'PÚ CTIF'!$R$20)","v":"DNS"},{"$f":"IF($C$16=\"\",\"\",\"(\"&SUM('PÚ CTIF'!$I$20:$Q$20)&\")\")","v":"(0)"},{"$f":"IF($C$16=\"\",\"\",'PÚ CTIF'!$S$20)","v":0},null,null,{"$f":"IF(A16=\"x\",300,IF(C16=\"\",\"\",SUM(D16,F16,H16,K16,N16,Q16,R16)))","v":6},null,{"$f":"IF($A16=\"x\",\"x\",IF($C16=\"\",\"\",IF(VLOOKUP($B16,POM!$A$1:$K$100,11)=0,\"\",VLOOKUP($B16,POM!$A$1:$K$100,11))))","v":""}]
[null,null,null,null,{"$f":"IF($C$16=\"\",\"\",PÚ!$H$21)","v":56.8},null,{"$f":"IF($C$16=\"\",\"\",Št.4x60m!$H$21)","v":"DNS"},null,{"$f":"IF($C$16=\"\",\"\",Št.dvojic!$U$21)","v":"DNS"},{"$f":"IF($C$16=\"\",\"\",\"(\"&SUM(Št.dvojic!$I$21:$T$21)&\")\")","v":"(0)"},null,{"$f":"IF($C$16=\"\",\"\",Št.400mCTIF!$U$21)","v":"DNS"},{"$f":"IF($C$16=\"\",\"\",\"(\"&SUM(Št.400mCTIF!$I$21:$T$21)&\")\")","v":"(0)"},null,{"$f":"IF($C$16=\"\",\"\",'PÚ CTIF'!$R$21)","v":"DNS"},{"$f":"IF($C$16=\"\",\"\",\"(\"&SUM('PÚ CTIF'!$I$21:$Q$21)&\")\")","v":"(0)"}]
[{"$f":"IF(Start!E11=\"\",\"\",\"x\")","v":""},6,{"$f":"IF(Start!C11=\"\",\"\",Start!C11)","v":"Dobřív"},null,{"$f":"IF($C$18=\"\",\"\",PÚ!$H$22)","v":35.65},{"$f":"IF($C$18=\"\",\"\",PÚ!$I$22)","v":3},{"$f":"IF($C$18=\"\",\"\",Št.4x60m!$H$22)","v":"DNS"},{"$f":"IF($C$18=\"\",\"\",Št.4x60m!$I$22)","v":0},{"$f":"IF($C$18=\"\",\"\",Št.dvojic!$U$22)","v":"DNS"},{"$f":"IF($C$18=\"\",\"\",\"(\"&SUM(Št.dvojic!$I$22:$T$22)&\")\")","v":"(0)"},{"$f":"IF($C$18=\"\",\"\",Št.dvojic!$V$22)","v":0},{"$f":"IF($C$18=\"\",\"\",Št.400mCTIF!$U$22)","v":"DNS"},{"$f":"IF($C$18=\"\",\"\",\"(\"&SUM(Št.400mCTIF!$I$22:$T$22)&\")\")","v":"(0)"},{"$f":"IF($C$18=\"\",\"\",Št.400mCTIF!$V$22)","v":0},{"$f":"IF($C$18=\"\",\"\",'PÚ CTIF'!$R$22)","v":"DNS"},{"$f":"IF($C$18=\"\",\"\",\"(\"&SUM('PÚ CTIF'!$I$22:$Q$22)&\")\")","v":"(0)"},{"$f":"IF($C$18=\"\",\"\",'PÚ CTIF'!$S$22)","v":0},null,null,{"$f":"IF(A18=\"x\",300,IF(C18=\"\",\"\",SUM(D18,F18,H18,K18,N18,Q18,R18)))","v":3},null,{"$f":"IF($A18=\"x\",\"x\",IF($C18=\"\",\"\",IF(VLOOKUP($B18,POM!$A$1:$K$100,11)=0,\"\",VLOOKUP($B18,POM!$A$1:$K$100,11))))","v":""}]
[null,null,null,null,{"$f":"IF($C$18=\"\",\"\",PÚ!$H$23)","v":34.159999999999997},null,{"$f":"IF($C$18=\"\",\"\",Št.4x60m!$H$23)","v":"DNS"},null,{"$f":"IF($C$18=\"\",\"\",Št.dvojic!$U$23)","v":"DNS"},{"$f":"IF($C$18=\"\",\"\",\"(\"&SUM(Št.dvojic!$I$23:$T$23)&\")\")","v":"(0)"},null,{"$f":"IF($C$18=\"\",\"\",Št.400mCTIF!$U$23)","v":"DNS"},{"$f":"IF($C$18=\"\",\"\",\"(\"&SUM(Št.400mCTIF!$I$23:$T$23)&\")\")","v":"(0)"},null,{"$f":"IF($C$18=\"\",\"\",'PÚ CTIF'!$R$23)","v":"DNS"},{"$f":"IF($C$18=\"\",\"\",\"(\"&SUM('PÚ CTIF'!$I$23:$Q$23)&\")\")","v":"(0)"}]
[{"$f":"IF(Start!E12=\"\",\"\",\"x\")","v":""},7,{"$f":"IF(Start!C12=\"\",\"\",Start!C12)","v":"Mirošov"},null,{"$f":"IF($C$20=\"\",\"\",PÚ!$H$24)","v":68.58},{"$f":"IF($C$20=\"\",\"\",PÚ!$I$24)","v":7},{"$f":"IF($C$20=\"\",\"\",Št.4x60m!$H$24)","v":"DNS"},{"$f":"IF($C$20=\"\",\"\",Št.4x60m!$I$24)","v":0},{"$f":"IF($C$20=\"\",\"\",Št.dvojic!$U$24)","v":"DNS"},{"$f":"IF($C$20=\"\",\"\",\"(\"&SUM(Št.dvojic!$I$24:$T$24)&\")\")","v":"(0)"},{"$f":"IF($C$20=\"\",\"\",Št.dvojic!$V$24)","v":0},{"$f":"IF($C$20=\"\",\"\",Št.400mCTIF!$U$24)","v":"DNS"},{"$f":"IF($C$20=\"\",\"\",\"(\"&SUM(Št.400mCTIF!$I$24:$T$24)&\")\")","v":"(0)"},{"$f":"IF($C$20=\"\",\"\",Št.400mCTIF!$V$24)","v":0},{"$f":"IF($C$20=\"\",\"\",'PÚ CTIF'!$R$24)","v":"DNS"},{"$f":"IF($C$20=\"\",\"\",\"(\"&SUM('PÚ CTIF'!$I$24:$Q$24)&\")\")","v":"(0)"},{"$f":"IF($C$20=\"\",\"\",'PÚ CTIF'!$S$24)","v":0},null,null,{"$f":"IF(A20=\"x\",300,IF(C20=\"\",\"\",SUM(D20,F20,H20,K20,N20,Q20,R20)))","v":7},null,{"$f":"IF($A20=\"x\",\"x\",IF($C20=\"\",\"\",IF(VLOOKUP($B20,POM!$A$1:$K$100,11)=0,\"\",VLOOKUP($B20,POM!$A$1:$K$100,11))))","v":""}]
[null,null,null,null,{"$f":"IF($C$20=\"\",\"\",PÚ!$H$25)","v":"DNS"},null,{"$f":"IF($C$20=\"\",\"\",Št.4x60m!$H$25)","v":"DNS"},null,{"$f":"IF($C$20=\"\",\"\",Št.dvojic!$U$25)","v":"DNS"},{"$f":"IF($C$20=\"\",\"\",\"(\"&SUM(Št.dvojic!$I$25:$T$25)&\")\")","v":"(0)"},null,{"$f":"IF($C$20=\"\",\"\",Št.400mCTIF!$U$25)","v":"DNS"},{"$f":"IF($C$20=\"\",\"\",\"(\"&SUM(Št.400mCTIF!$I$25:$T$25)&\")\")","v":"(0)"},null,{"$f":"IF($C$20=\"\",\"\",'PÚ CTIF'!$R$25)","v":"DNS"},{"$f":"IF($C$20=\"\",\"\",\"(\"&SUM('PÚ CTIF'!$I$25:$Q$25)&\")\")","v":"(0)"}]
[{"$f":"IF(Start!E13=\"\",\"\",\"x\")","v":""},8,{"$f":"IF(Start!C13=\"\",\"\",Start!C13)","v":"Volduchy"},null,{"$f":"IF($C$22=\"\",\"\",PÚ!$H$26)","v":29.62},{"$f":"IF($C$22=\"\",\"\",PÚ!$I$26)","v":2},{"$f":"IF($C$22=\"\",\"\",Št.4x60m!$H$26)","v":"DNS"},{"$f":"IF($C$22=\"\",\"\",Št.4x60m!$I$26)","v":0},{"$f":"IF($C$22=\"\",\"\",Št.dvojic!$U$26)","v":"DNS"},{"$f":"IF($C$22=\"\",\"\",\"(\"&SUM(Št.dvojic!$I$26:$T$26)&\")\")","v":"(0)"},{"$f":"IF($C$22=\"\",\"\",Št.dvojic!$V$26)","v":0},{"$f":"IF($C$22=\"\",\"\",Št.400mCTIF!$U$26)","v":"DNS"},{"$f":"IF($C$22=\"\",\"\",\"(\"&SUM(Št.400mCTIF!$I$26:$T$26)&\")\")","v":"(0)"},{"$f":"IF($C$22=\"\",\"\",Št.400mCTIF!$V$26)","v":0},{"$f":"IF($C$22=\"\",\"\",'PÚ CTIF'!$R$26)","v":"DNS"},{"$f":"IF($C$22=\"\",\"\",\"(\"&SUM('PÚ CTIF'!$I$26:$Q$26)&\")\")","v":"(0)"},{"$f":"IF($C$22=\"\",\"\",'PÚ CTIF'!$S$26)","v":0},null,null,{"$f":"IF(A22=\"x\",300,IF(C22=\"\",\"\",SUM(D22,F22,H22,K22,N22,Q22,R22)))","v":2},null,{"$f":"IF($A22=\"x\",\"x\",IF($C22=\"\",\"\",IF(VLOOKUP($B22,POM!$A$1:$K$100,11)=0,\"\",VLOOKUP($B22,POM!$A$1:$K$100,11))))","v":""}]
[null,null,null,null,{"$f":"IF($C$22=\"\",\"\",PÚ!$H$27)","v":27.65},null,{"$f":"IF($C$22=\"\",\"\",Št.4x60m!$H$27)","v":"DNS"},null,{"$f":"IF($C$22=\"\",\"\",Št.dvojic!$U$27)","v":"DNS"},{"$f":"IF($C$22=\"\",\"\",\"(\"&SUM(Št.dvojic!$I$27:$T$27)&\")\")","v":"(0)"},null,{"$f":"IF($C$22=\"\",\"\",Št.400mCTIF!$U$27)","v":"DNS"},{"$f":"IF($C$22=\"\",\"\",\"(\"&SUM(Št.400mCTIF!$I$27:$T$27)&\")\")","v":"(0)"},null,{"$f":"IF($C$22=\"\",\"\",'PÚ CTIF'!$R$27)","v":"DNS"},{"$f":"IF($C$22=\"\",\"\",\"(\"&SUM('PÚ CTIF'!$I$27:$Q$27)&\")\")","v":"(0)"}]
[{"$f":"IF(Start!E14=\"\",\"\",\"x\")","v":""},9,{"$f":"IF(Start!C14=\"\",\"\",Start!C14)","v":""},null,{"$f":"IF($C$24=\"\",\"\",PÚ!$H$28)","v":""},{"$f":"IF($C$24=\"\",\"\",PÚ!$I$28)","v":""},{"$f":"IF($C$24=\"\",\"\",Št.4x60m!$H$28)","v":""},{"$f":"IF($C$24=\"\",\"\",Št.4x60m!$I$28)","v":""},{"$f":"IF($C$24=\"\",\"\",Št.dvojic!$U$28)","v":""},{"$f":"IF($C$24=\"\",\"\",\"(\"&SUM(Št.dvojic!$I$28:$T$28)&\")\")","v":""},{"$f":"IF($C$24=\"\",\"\",Št.dvojic!$V$28)","v":""},{"$f":"IF($C$24=\"\",\"\",Št.400mCTIF!$U$28)","v":""},{"$f":"IF($C$24=\"\",\"\",\"(\"&SUM(Št.400mCTIF!$I$28:$T$28)&\")\")","v":""},{"$f":"IF($C$24=\"\",\"\",Št.400mCTIF!$V$28)","v":""},{"$f":"IF($C$24=\"\",\"\",'PÚ CTIF'!$R$28)","v":""},{"$f":"IF($C$24=\"\",\"\",\"(\"&SUM('PÚ CTIF'!$I$28:$Q$28)&\")\")","v":""},{"$f":"IF($C$24=\"\",\"\",'PÚ CTIF'!$S$28)","v":""},null,null,{"$f":"IF(A24=\"x\",300,IF(C24=\"\",\"\",SUM(D24,F24,H24,K24,N24,Q24,R24)))","v":""},null,{"$f":"IF($A24=\"x\",\"x\",IF($C24=\"\",\"\",IF(VLOOKUP($B24,POM!$A$1:$K$100,11)=0,\"\",VLOOKUP($B24,POM!$A$1:$K$100,11))))","v":""}]
[null,null,null,null,{"$f":"IF($C$24=\"\",\"\",PÚ!$H$29)","v":""},null,{"$f":"IF($C$24=\"\",\"\",Št.4x60m!$H$29)","v":""},null,{"$f":"IF($C$24=\"\",\"\",Št.dvojic!$U$29)","v":""},{"$f":"IF($C$24=\"\",\"\",\"(\"&SUM(Št.dvojic!$I$29:$T$29)&\")\")","v":""},null,{"$f":"IF($C$24=\"\",\"\",Št.400mCTIF!$U$29)","v":""},{"$f":"IF($C$24=\"\",\"\",\"(\"&SUM(Št.400mCTIF!$I$29:$T$29)&\")\")","v":""},null,{"$f":"IF($C$24=\"\",\"\",'PÚ CTIF'!$R$29)","v":""},{"$f":"IF($C$24=\"\",\"\",\"(\"&SUM('PÚ CTIF'!$I$29:$Q$29)&\")\")","v":""}]
[{"$f":"IF(Start!E15=\"\",\"\",\"x\")","v":""},10,{"$f":"IF(Start!C15=\"\",\"\",Start!C15)","v":""},null,{"$f":"IF($C$26=\"\",\"\",PÚ!$H$30)","v":""},{"$f":"IF($C$26=\"\",\"\",PÚ!$I$30)","v":""},{"$f":"IF($C$26=\"\",\"\",Št.4x60m!$H$30)","v":""},{"$f":"IF($C$26=\"\",\"\",Št.4x60m!$I$30)","v":""},{"$f":"IF($C$26=\"\",\"\",Št.dvojic!$U$30)","v":""},{"$f":"IF($C$26=\"\",\"\",\"(\"&SUM(Št.dvojic!$I$30:$T$30)&\")\")","v":""},{"$f":"IF($C$26=\"\",\"\",Št.dvojic!$V$30)","v":""},{"$f":"IF($C$26=\"\",\"\",Št.400mCTIF!$U$30)","v":""},{"$f":"IF($C$26=\"\",\"\",\"(\"&SUM(Št.400mCTIF!$I$30:$T$30)&\")\")","v":""},{"$f":"IF($C$26=\"\",\"\",Št.400mCTIF!$V$30)","v":""},{"$f":"IF($C$26=\"\",\"\",'PÚ CTIF'!$R$30)","v":""},{"$f":"IF($C$26=\"\",\"\",\"(\"&SUM('PÚ CTIF'!$I$30:$Q$30)&\")\")","v":""},{"$f":"IF($C$26=\"\",\"\",'PÚ CTIF'!$S$30)","v":""},null,null,{"$f":"IF(A26=\"x\",300,IF(C26=\"\",\"\",SUM(D26,F26,H26,K26,N26,Q26,R26)))","v":""},null,{"$f":"IF($A26=\"x\",\"x\",IF($C26=\"\",\"\",IF(VLOOKUP($B26,POM!$A$1:$K$100,11)=0,\"\",VLOOKUP($B26,POM!$A$1:$K$100,11))))","v":""}]
[null,null,null,null,{"$f":"IF($C$26=\"\",\"\",PÚ!$H$31)","v":""},null,{"$f":"IF($C$26=\"\",\"\",Št.4x60m!$H$31)","v":""},null,{"$f":"IF($C$26=\"\",\"\",Št.dvojic!$U$31)","v":""},{"$f":"IF($C$26=\"\",\"\",\"(\"&SUM(Št.dvojic!$I$31:$T$31)&\")\")","v":""},null,{"$f":"IF($C$26=\"\",\"\",Št.400mCTIF!$U$31)","v":""},{"$f":"IF($C$26=\"\",\"\",\"(\"&SUM(Št.400mCTIF!$I$31:$T$31)&\")\")","v":""},null,{"$f":"IF($C$26=\"\",\"\",'PÚ CTIF'!$R$31)","v":""},{"$f":"IF($C$26=\"\",\"\",\"(\"&SUM('PÚ CTIF'!$I$31:$Q$31)&\")\")","v":""}]
[{"$f":"IF(Start!E16=\"\",\"\",\"x\")","v":""},11,{"$f":"IF(Start!C16=\"\",\"\",Start!C16)","v":""},null,{"$f":"IF($C$28=\"\",\"\",PÚ!$S$12)","v":""},{"$f":"IF($C$28=\"\",\"\",PÚ!$T12)","v":""},{"$f":"IF($C$28=\"\",\"\",Št.4x60m!$S$12)","v":""},{"$f":"IF($C$28=\"\",\"\",Št.4x60m!$T12)","v":""},{"$f":"IF($C$28=\"\",\"\",Št.dvojic!$U$43)","v":""},{"$f":"IF($C$28=\"\",\"\",\"(\"&SUM(Št.dvojic!$I$43:$T$43)&\")\")","v":""},{"$f":"IF($C$28=\"\",\"\",Št.dvojic!$V$43)","v":""},{"$f":"IF($C$28=\"\",\"\",Št.400mCTIF!$U$43)","v":""},{"$f":"IF($C$28=\"\",\"\",\"(\"&SUM(Št.400mCTIF!$I$43:$T$43)&\")\")","v":""},{"$f":"IF($C$28=\"\",\"\",Št.400mCTIF!$V$43)","v":""},{"$f":"IF($C$28=\"\",\"\",'PÚ CTIF'!$R$43)","v":""},{"$f":"IF($C$28=\"\",\"\",\"(\"&SUM('PÚ CTIF'!$I$43:$Q$43)&\")\")","v":""},{"$f":"IF($C$28=\"\",\"\",'PÚ CTIF'!$S$43)","v":""},null,null,{"$f":"IF(A28=\"x\",300,IF(C28=\"\",\"\",SUM(D28,F28,H28,K28,N28,Q28,R28)))","v":""},null,{"$f":"IF($A28=\"x\",\"x\",IF($C28=\"\",\"\",IF(VLOOKUP($B28,POM!$A$1:$K$100,11)=0,\"\",VLOOKUP($B28,POM!$A$1:$K$100,11))))","v":""}]
[null,null,null,null,{"$f":"IF($C$28=\"\",\"\",PÚ!$S$13)","v":""},null,{"$f":"IF($C$28=\"\",\"\",Št.4x60m!$S$13)","v":""},null,{"$f":"IF($C$28=\"\",\"\",Št.dvojic!$U$44)","v":""},{"$f":"IF($C$28=\"\",\"\",\"(\"&SUM(Št.dvojic!$I$44:$T$44)&\")\")","v":""},null,{"$f":"IF($C$28=\"\",\"\",Št.400mCTIF!$U$44)","v":""},{"$f":"IF($C$28=\"\",\"\",\"(\"&SUM(Št.400mCTIF!$I$44:$T$44)&\")\")","v":""},null,{"$f":"IF($C$28=\"\",\"\",'PÚ CTIF'!$R$44)","v":""},{"$f":"IF($C$28=\"\",\"\",\"(\"&SUM('PÚ CTIF'!$I$44:$Q$44)&\")\")","v":""}]
[{"$f":"IF(Start!E17=\"\",\"\",\"x\")","v":""},12,{"$f":"IF(Start!C17=\"\",\"\",Start!C17)","v":""},null,{"$f":"IF($C$30=\"\",\"\",PÚ!$S$14)","v":""},{"$f":"IF($C$30=\"\",\"\",PÚ!$T14)","v":""},{"$f":"IF($C$30=\"\",\"\",Št.4x60m!$S$14)","v":""},{"$f":"IF($C$30=\"\",\"\",Št.4x60m!$T14)","v":""},{"$f":"IF($C$30=\"\",\"\",Št.dvojic!$U$45)","v":""},{"$f":"IF($C$30=\"\",\"\",\"(\"&SUM(Št.dvojic!$I$45:$T$45)&\")\")","v":""},{"$f":"IF($C$30=\"\",\"\",Št.dvojic!$V$45)","v":""},{"$f":"IF($C$30=\"\",\"\",Št.400mCTIF!$U$45)","v":""},{"$f":"IF($C$30=\"\",\"\",\"(\"&SUM(Št.400mCTIF!$I$45:$T$45)&\")\")","v":""},{"$f":"IF($C$30=\"\",\"\",Št.400mCTIF!$V$45)","v":""},{"$f":"IF($C$30=\"\",\"\",'PÚ CTIF'!$R$45)","v":""},{"$f":"IF($C$30=\"\",\"\",\"(\"&SUM('PÚ CTIF'!$I$45:$Q$45)&\")\")","v":""},{"$f":"IF($C$30=\"\",\"\",'PÚ CTIF'!$S$45)","v":""},null,null,{"$f":"IF(A30=\"x\",300,IF(C30=\"\",\"\",SUM(D30,F30,H30,K30,N30,Q30,R30)))","v":""},null,{"$f":"IF($A30=\"x\",\"x\",IF($C30=\"\",\"\",IF(VLOOKUP($B30,POM!$A$1:$K$100,11)=0,\"\",VLOOKUP($B30,POM!$A$1:$K$100,11))))","v":""}]
[null,null,null,null,{"$f":"IF($C$30=\"\",\"\",PÚ!$S$15)","v":""},null,{"$f":"IF($C$30=\"\",\"\",Št.4x60m!$S$15)","v":""},null,{"$f":"IF($C$30=\"\",\"\",Št.dvojic!$U$46)","v":""},{"$f":"IF($C$30=\"\",\"\",\"(\"&SUM(Št.dvojic!$I$46:$T$46)&\")\")","v":""},null,{"$f":"IF($C$30=\"\",\"\",Št.400mCTIF!$U$46)","v":""},{"$f":"IF($C$30=\"\",\"\",\"(\"&SUM(Št.400mCTIF!$I$46:$T$46)&\")\")","v":""},null,{"$f":"IF($C$30=\"\",\"\",'PÚ CTIF'!$R$46)","v":""},{"$f":"IF($C$30=\"\",\"\",\"(\"&SUM('PÚ CTIF'!$I$46:$Q$46)&\")\")","v":""}]
[{"$f":"IF(Start!E18=\"\",\"\",\"x\")","v":""},13,{"$f":"IF(Start!C18=\"\",\"\",Start!C18)","v":""},null,{"$f":"IF($C$32=\"\",\"\",PÚ!$S$16)","v":""},{"$f":"IF($C$32=\"\",\"\",PÚ!$T16)","v":""},{"$f":"IF($C$32=\"\",\"\",Št.4x60m!$S$16)","v":""},{"$f":"IF($C$32=\"\",\"\",Št.4x60m!$T16)","v":""},{"$f":"IF($C$32=\"\",\"\",Št.dvojic!$U$47)","v":""},{"$f":"IF($C$32=\"\",\"\",\"(\"&SUM(Št.dvojic!$I$47:$T$47)&\")\")","v":""},{"$f":"IF($C$32=\"\",\"\",Št.dvojic!$V$47)","v":""},{"$f":"IF($C$32=\"\",\"\",Št.400mCTIF!$U$47)","v":""},{"$f":"IF($C$32=\"\",\"\",\"(\"&SUM(Št.400mCTIF!$I$47:$T$47)&\")\")","v":""},{"$f":"IF($C$32=\"\",\"\",Št.400mCTIF!$V$47)","v":""},{"$f":"IF($C$32=\"\",\"\",'PÚ CTIF'!$R$47)","v":""},{"$f":"IF($C$32=\"\",\"\",\"(\"&SUM('PÚ CTIF'!$I$47:$Q$47)&\")\")","v":""},{"$f":"IF($C$32=\"\",\"\",'PÚ CTIF'!$S$47)","v":""},null,null,{"$f":"IF(A32=\"x\",300,IF(C32=\"\",\"\",SUM(D32,F32,H32,K32,N32,Q32,R32)))","v":""},null,{"$f":"IF($A32=\"x\",\"x\",IF($C32=\"\",\"\",IF(VLOOKUP($B32,POM!$A$1:$K$100,11)=0,\"\",VLOOKUP($B32,POM!$A$1:$K$100,11))))","v":""}]
[null,null,null,null,{"$f":"IF($C$32=\"\",\"\",PÚ!$S$17)","v":""},null,{"$f":"IF($C$32=\"\",\"\",Št.4x60m!$S$17)","v":""},null,{"$f":"IF($C$32=\"\",\"\",Št.dvojic!$U$48)","v":""},{"$f":"IF($C$32=\"\",\"\",\"(\"&SUM(Št.dvojic!$I$48:$T$48)&\")\")","v":""},null,{"$f":"IF($C$32=\"\",\"\",Št.400mCTIF!$U$48)","v":""},{"$f":"IF($C$32=\"\",\"\",\"(\"&SUM(Št.400mCTIF!$I$48:$T$48)&\")\")","v":""},null,{"$f":"IF($C$32=\"\",\"\",'PÚ CTIF'!$R$48)","v":""},{"$f":"IF($C$32=\"\",\"\",\"(\"&SUM('PÚ CTIF'!$I$48:$Q$48)&\")\")","v":""}]
[{"$f":"IF(Start!E19=\"\",\"\",\"x\")","v":""},14,{"$f":"IF(Start!C19=\"\",\"\",Start!C19)","v":""},null,{"$f":"IF($C$34=\"\",\"\",PÚ!$S$18)","v":""},{"$f":"IF($C$34=\"\",\"\",PÚ!$T18)","v":""},{"$f":"IF($C$34=\"\",\"\",Št.4x60m!$S$18)","v":""},{"$f":"IF($C$34=\"\",\"\",Št.4x60m!$T18)","v":""},{"$f":"IF($C$34=\"\",\"\",Št.dvojic!$U$49)","v":""},{"$f":"IF($C$34=\"\",\"\",\"(\"&SUM(Št.dvojic!$I$49:$T$49)&\")\")","v":""},{"$f":"IF($C$34=\"\",\"\",Št.dvojic!$V$49)","v":""},{"$f":"IF($C$34=\"\",\"\",Št.400mCTIF!$U$49)","v":""},{"$f":"IF($C$34=\"\",\"\",\"(\"&SUM(Št.400mCTIF!$I$49:$T$49)&\")\")","v":""},{"$f":"IF($C$34=\"\",\"\",Št.400mCTIF!$V$49)","v":""},{"$f":"IF($C$34=\"\",\"\",'PÚ CTIF'!$R$49)","v":""},{"$f":"IF($C$34=\"\",\"\",\"(\"&SUM('PÚ CTIF'!$I$49:$Q$49)&\")\")","v":""},{"$f":"IF($C$34=\"\",\"\",'PÚ CTIF'!$S$49)","v":""},null,null,{"$f":"IF(A34=\"x\",300,IF(C34=\"\",\"\",SUM(D34,F34,H34,K34,N34,Q34,R34)))","v":""},null,{"$f":"IF($A34=\"x\",\"x\",IF($C34=\"\",\"\",IF(VLOOKUP($B34,POM!$A$1:$K$100,11)=0,\"\",VLOOKUP($B34,POM!$A$1:$K$100,11))))","v":""}]
[null,null,null,null,{"$f":"IF($C$34=\"\",\"\",PÚ!$S$19)","v":""},null,{"$f":"IF($C$34=\"\",\"\",Št.4x60m!$S$19)","v":""},null,{"$f":"IF($C$34=\"\",\"\",Št.dvojic!$U$50)","v":""},{"$f":"IF($C$34=\"\",\"\",\"(\"&SUM(Št.dvojic!$I$50:$T$50)&\")\")","v":""},null,{"$f":"IF($C$34=\"\",\"\",Št.400mCTIF!$U$50)","v":""},{"$f":"IF($C$34=\"\",\"\",\"(\"&SUM(Št.400mCTIF!$I$50:$T$50)&\")\")","v":""},null,{"$f":"IF($C$34=\"\",\"\",'PÚ CTIF'!$R$50)","v":""},{"$f":"IF($C$34=\"\",\"\",\"(\"&SUM('PÚ CTIF'!$I$50:$Q$50)&\")\")","v":""}]
[null,{"$f":"B1","v":"Celkové výsledky - TISK"}]
[]
[null,null,null,{"$f":"D3","v":"Požární útoky "},null,null,null,null,null,null,null,{"$f":"L3","v":"18.05.2025, Kamenný Újezd"}]
[null,null,{"$f":"Start!$N$2","v":"starší"}]
[null," startovní číslo"," SDH",null," PÚ",null," Štafeta 4 x 60 m",null," Štafeta dvojic",null,null," 400 m štafeta CTIF",null,null," PÚ - CTIF",null,null,null,null," Celkový součet",null,"Pořadí"]
[null,null,null,null,"1.pokus","P.","1.pokus","P.","1.pokus","tr.body","P.","1.pokus","tr.body","P.","1.pokus","tr.body","P."]
[null,null,null,null,"2.pokus",null,"2.pokus",null,"2.pokus","tr.body",null,"2.pokus","tr.body",null,"2.pokus","tr.body"]
[{"$f":"IF(Start!E20=\"\",\"\",\"x\")","v":""},15,{"$f":"IF(Start!C20=\"\",\"\",Start!C20)","v":""},null,{"$f":"IF($C$43=\"\",\"\",PÚ!$S$20)","v":""},{"$f":"IF($C$43=\"\",\"\",PÚ!$T20)","v":""},{"$f":"IF($C$43=\"\",\"\",Št.4x60m!$S$20)","v":""},{"$f":"IF($C$43=\"\",\"\",Št.4x60m!$T20)","v":""},{"$f":"IF($C$43=\"\",\"\",Št.dvojic!$U$51)","v":""},{"$f":"IF($C$43=\"\",\"\",\"(\"&SUM(Št.dvojic!$I$51:$T$51)&\")\")","v":""},{"$f":"IF($C$43=\"\",\"\",Št.dvojic!$V$51)","v":""},{"$f":"IF($C$43=\"\",\"\",Št.400mCTIF!$U$51)","v":""},{"$f":"IF($C$43=\"\",\"\",\"(\"&SUM(Št.400mCTIF!$I$51:$T$51)&\")\")","v":""},{"$f":"IF($C$43=\"\",\"\",Št.400mCTIF!$V$51)","v":""},{"$f":"IF($C$43=\"\",\"\",'PÚ CTIF'!$R$51)","v":""},{"$f":"IF($C$43=\"\",\"\",\"(\"&SUM('PÚ CTIF'!$I$51:$Q$51)&\")\")","v":""},{"$f":"IF($C$43=\"\",\"\",'PÚ CTIF'!$S$51)","v":""},null,null,{"$f":"IF(A43=\"x\",300,IF(C43=\"\",\"\",SUM(D43,F43,H43,K43,N43,Q43,R43)))","v":""},{"$f":"IF($A43=\"x\",\"x\",IF($C43=\"\",\"\",MATCH($C43,Výsledky!$N$7:$N$106,0)))","v":""},{"$f":"IF($A43=\"x\",\"x\",IF($C43=\"\",\"\",IF(VLOOKUP($B43,POM!$A$1:$K$100,11)=0,\"\",VLOOKUP($B43,POM!$A$1:$K$100,11))))","v":""}]
[null,null,null,null,{"$f":"IF($C$43=\"\",\"\",PÚ!$S$21)","v":""},null,{"$f":"IF($C$43=\"\",\"\",Št.4x60m!$S$21)","v":""},null,{"$f":"IF($C$43=\"\",\"\",Št.dvojic!$U$52)","v":""},{"$f":"IF($C$43=\"\",\"\",\"(\"&SUM(Št.dvojic!$I$52:$T$52)&\")\")","v":""},null,{"$f":"IF($C$43=\"\",\"\",Št.400mCTIF!$U$52)","v":""},{"$f":"IF($C$43=\"\",\"\",\"(\"&SUM(Št.400mCTIF!$I$52:$T$52)&\")\")","v":""},null,{"$f":"IF($C$43=\"\",\"\",'PÚ CTIF'!$R$52)","v":""},{"$f":"IF($C$43=\"\",\"\",\"(\"&SUM('PÚ CTIF'!$I$52:$Q$52)&\")\")","v":""}]
[{"$f":"IF(Start!E21=\"\",\"\",\"x\")","v":""},16,{"$f":"IF(Start!C21=\"\",\"\",Start!C21)","v":""},null,{"$f":"IF($C$45=\"\",\"\",PÚ!$S$22)","v":""},{"$f":"IF($C$45=\"\",\"\",PÚ!$T22)","v":""},{"$f":"IF($C$45=\"\",\"\",Št.4x60m!$S$22)","v":""},{"$f":"IF($C$45=\"\",\"\",Št.4x60m!$T22)","v":""},{"$f":"IF($C$45=\"\",\"\",Št.dvojic!$U$53)","v":""},{"$f":"IF($C$45=\"\",\"\",\"(\"&SUM(Št.dvojic!$I$53:$T$53)&\")\")","v":""},{"$f":"IF($C$45=\"\",\"\",Št.dvojic!$V$53)","v":""},{"$f":"IF($C$45=\"\",\"\",Št.400mCTIF!$U$53)","v":""},{"$f":"IF($C$45=\"\",\"\",\"(\"&SUM(Št.400mCTIF!$I$53:$T$53)&\")\")","v":""},{"$f":"IF($C$45=\"\",\"\",Št.400mCTIF!$V$53)","v":""},{"$f":"IF($C$45=\"\",\"\",'PÚ CTIF'!$R$53)","v":""},{"$f":"IF($C$45=\"\",\"\",\"(\"&SUM('PÚ CTIF'!$I$53:$Q$53)&\")\")","v":""},{"$f":"IF($C$45=\"\",\"\",'PÚ CTIF'!$S$53)","v":""},null,null,{"$f":"IF(A45=\"x\",300,IF(C45=\"\",\"\",SUM(D45,F45,H45,K45,N45,Q45,R45)))","v":""},{"$f":"IF($A45=\"x\",\"x\",IF($C45=\"\",\"\",MATCH($C45,Výsledky!$N$7:$N$106,0)))","v":""},{"$f":"IF($A45=\"x\",\"x\",IF($C45=\"\",\"\",IF(VLOOKUP($B45,POM!$A$1:$K$100,11)=0,\"\",VLOOKUP($B45,POM!$A$1:$K$100,11))))","v":""}]
[null,null,null,null,{"$f":"IF($C$45=\"\",\"\",PÚ!$S$23)","v":""},null,{"$f":"IF($C$45=\"\",\"\",Št.4x60m!$S$23)","v":""},null,{"$f":"IF($C$45=\"\",\"\",Št.dvojic!$U$54)","v":""},{"$f":"IF($C$45=\"\",\"\",\"(\"&SUM(Št.dvojic!$I$54:$T$54)&\")\")","v":""},null,{"$f":"IF($C$45=\"\",\"\",Št.400mCTIF!$U$54)","v":""},{"$f":"IF($C$45=\"\",\"\",\"(\"&SUM(Št.400mCTIF!$I$54:$T$54)&\")\")","v":""},null,{"$f":"IF($C$45=\"\",\"\",'PÚ CTIF'!$R$54)","v":""},{"$f":"IF($C$45=\"\",\"\",\"(\"&SUM('PÚ CTIF'!$I$54:$Q$54)&\")\")","v":""}]
[{"$f":"IF(Start!E22=\"\",\"\",\"x\")","v":""},17,{"$f":"IF(Start!C22=\"\",\"\",Start!C22)","v":""},null,{"$f":"IF($C$47=\"\",\"\",PÚ!$S$24)","v":""},{"$f":"IF($C$47=\"\",\"\",PÚ!$T24)","v":""},{"$f":"IF($C$47=\"\",\"\",Št.4x60m!$S$24)","v":""},{"$f":"IF($C$47=\"\",\"\",Št.4x60m!$T24)","v":""},{"$f":"IF($C$47=\"\",\"\",Št.dvojic!$U$55)","v":""},{"$f":"IF($C$47=\"\",\"\",\"(\"&SUM(Št.dvojic!$I$55:$T$55)&\")\")","v":""},{"$f":"IF($C$47=\"\",\"\",Št.dvojic!$V$55)","v":""},{"$f":"IF($C$47=\"\",\"\",Št.400mCTIF!$U$55)","v":""},{"$f":"IF($C$47=\"\",\"\",\"(\"&SUM(Št.400mCTIF!$I$55:$T$55)&\")\")","v":""},{"$f":"IF($C$47=\"\",\"\",Št.400mCTIF!$V$55)","v":""},{"$f":"IF($C$47=\"\",\"\",'PÚ CTIF'!$R$55)","v":""},{"$f":"IF($C$47=\"\",\"\",\"(\"&SUM('PÚ CTIF'!$I$55:$Q$55)&\")\")","v":""},{"$f":"IF($C$47=\"\",\"\",'PÚ CTIF'!$S$55)","v":""},null,null,{"$f":"IF(A47=\"x\",300,IF(C47=\"\",\"\",SUM(D47,F47,H47,K47,N47,Q47,R47)))","v":""},{"$f":"IF($A47=\"x\",\"x\",IF($C47=\"\",\"\",MATCH($C47,Výsledky!$N$7:$N$106,0)))","v":""},{"$f":"IF($A47=\"x\",\"x\",IF($C47=\"\",\"\",IF(VLOOKUP($B47,POM!$A$1:$K$100,11)=0,\"\",VLOOKUP($B47,POM!$A$1:$K$100,11))))","v":""}]
[null,null,null,null,{"$f":"IF($C$47=\"\",\"\",PÚ!$S$25)","v":""},null,{"$f":"IF($C$47=\"\",\"\",Št.4x60m!$S$25)","v":""},null,{"$f":"IF($C$47=\"\",\"\",Št.dvojic!$U$56)","v":""},{"$f":"IF($C$47=\"\",\"\",\"(\"&SUM(Št.dvojic!$I$56:$T$56)&\")\")","v":""},null,{"$f":"IF($C$47=\"\",\"\",Št.400mCTIF!$U$56)","v":""},{"$f":"IF($C$47=\"\",\"\",\"(\"&SUM(Št.400mCTIF!$I$56:$T$56)&\")\")","v":""},null,{"$f":"IF($C$47=\"\",\"\",'PÚ CTIF'!$R$56)","v":""},{"$f":"IF($C$47=\"\",\"\",\"(\"&SUM('PÚ CTIF'!$I$56:$Q$56)&\")\")","v":""}]
[{"$f":"IF(Start!E23=\"\",\"\",\"x\")","v":""},18,{"$f":"IF(Start!C23=\"\",\"\",Start!C23)","v":""},null,{"$f":"IF($C$49=\"\",\"\",PÚ!$S$26)","v":""},{"$f":"IF($C$49=\"\",\"\",PÚ!$T26)","v":""},{"$f":"IF($C$49=\"\",\"\",Št.4x60m!$S$26)","v":""},{"$f":"IF($C$49=\"\",\"\",Št.4x60m!$T26)","v":""},{"$f":"IF($C$49=\"\",\"\",Št.dvojic!$U$57)","v":""},{"$f":"IF($C$49=\"\",\"\",\"(\"&SUM(Št.dvojic!$I$57:$T$57)&\")\")","v":""},{"$f":"IF($C$49=\"\",\"\",Št.dvojic!$V$57)","v":""},{"$f":"IF($C$49=\"\",\"\",Št.400mCTIF!$U$57)","v":""},{"$f":"IF($C$49=\"\",\"\",\"(\"&SUM(Št.400mCTIF!$I$57:$T$57)&\")\")","v":""},{"$f":"IF($C$49=\"\",\"\",Št.400mCTIF!$V$57)","v":""},{"$f":"IF($C$49=\"\",\"\",'PÚ CTIF'!$R$57)","v":""},{"$f":"IF($C$49=\"\",\"\",\"(\"&SUM('PÚ CTIF'!$I$57:$Q$57)&\")\")","v":""},{"$f":"IF($C$49=\"\",\"\",'PÚ CTIF'!$S$57)","v":""},null,null,{"$f":"IF(A49=\"x\",300,IF(C49=\"\",\"\",SUM(D49,F49,H49,K49,N49,Q49,R49)))","v":""},{"$f":"IF($A49=\"x\",\"x\",IF($C49=\"\",\"\",MATCH($C49,Výsledky!$N$7:$N$106,0)))","v":""},{"$f":"IF($A49=\"x\",\"x\",IF($C49=\"\",\"\",IF(VLOOKUP($B49,POM!$A$1:$K$100,11)=0,\"\",VLOOKUP($B49,POM!$A$1:$K$100,11))))","v":""}]
[null,null,null,null,{"$f":"IF($C$49=\"\",\"\",PÚ!$S$27)","v":""},null,{"$f":"IF($C$49=\"\",\"\",Št.4x60m!$S$27)","v":""},null,{"$f":"IF($C$49=\"\",\"\",Št.dvojic!$U$58)","v":""},{"$f":"IF($C$49=\"\",\"\",\"(\"&SUM(Št.dvojic!$I$58:$T$58)&\")\")","v":""},null,{"$f":"IF($C$49=\"\",\"\",Št.400mCTIF!$U$58)","v":""},{"$f":"IF($C$49=\"\",\"\",\"(\"&SUM(Št.400mCTIF!$I$58:$T$58)&\")\")","v":""},null,{"$f":"IF($C$49=\"\",\"\",'PÚ CTIF'!$R$58)","v":""},{"$f":"IF($C$49=\"\",\"\",\"(\"&SUM('PÚ CTIF'!$I$58:$Q$58)&\")\")","v":""}]
[{"$f":"IF(Start!E24=\"\",\"\",\"x\")","v":""},19,{"$f":"IF(Start!C24=\"\",\"\",Start!C24)","v":""},null,{"$f":"IF($C$51=\"\",\"\",PÚ!$S$28)","v":""},{"$f":"IF($C$51=\"\",\"\",PÚ!$T28)","v":""},{"$f":"IF($C$51=\"\",\"\",Št.4x60m!$S$28)","v":""},{"$f":"IF($C$51=\"\",\"\",Št.4x60m!$T28)","v":""},{"$f":"IF($C$51=\"\",\"\",Št.dvojic!$U$59)","v":""},{"$f":"IF($C$51=\"\",\"\",\"(\"&SUM(Št.dvojic!$I$59:$T$59)&\")\")","v":""},{"$f":"IF($C$51=\"\",\"\",Št.dvojic!$V$59)","v":""},{"$f":"IF($C$51=\"\",\"\",Št.400mCTIF!$U$59)","v":""},{"$f":"IF($C$51=\"\",\"\",\"(\"&SUM(Št.400mCTIF!$I$59:$T$59)&\")\")","v":""},{"$f":"IF($C$51=\"\",\"\",Št.400mCTIF!$V$59)","v":""},{"$f":"IF($C$51=\"\",\"\",'PÚ CTIF'!$R$59)","v":""},{"$f":"IF($C$51=\"\",\"\",\"(\"&SUM('PÚ CTIF'!$I$59:$Q$59)&\")\")","v":""},{"$f":"IF($C$51=\"\",\"\",'PÚ CTIF'!$S$59)","v":""},null,null,{"$f":"IF(A51=\"x\",300,IF(C51=\"\",\"\",SUM(D51,F51,H51,K51,N51,Q51,R51)))","v":""},{"$f":"IF($A51=\"x\",\"x\",IF($C51=\"\",\"\",MATCH($C51,Výsledky!$N$7:$N$106,0)))","v":""},{"$f":"IF($A51=\"x\",\"x\",IF($C51=\"\",\"\",IF(VLOOKUP($B51,POM!$A$1:$K$100,11)=0,\"\",VLOOKUP($B51,POM!$A$1:$K$100,11))))","v":""}]
[null,null,null,null,{"$f":"IF($C$51=\"\",\"\",PÚ!$S$29)","v":""},null,{"$f":"IF($C$51=\"\",\"\",Št.4x60m!$S$29)","v":""},null,{"$f":"IF($C$51=\"\",\"\",Št.dvojic!$U$60)","v":""},{"$f":"IF($C$51=\"\",\"\",\"(\"&SUM(Št.dvojic!$I$60:$T$60)&\")\")","v":""},null,{"$f":"IF($C$51=\"\",\"\",Št.400mCTIF!$U$60)","v":""},{"$f":"IF($C$51=\"\",\"\",\"(\"&SUM(Št.400mCTIF!$I$60:$T$60)&\")\")","v":""},null,{"$f":"IF($C$51=\"\",\"\",'PÚ CTIF'!$R$60)","v":""},{"$f":"IF($C$51=\"\",\"\",\"(\"&SUM('PÚ CTIF'!$I$60:$Q$60)&\")\")","v":""}]
[{"$f":"IF(Start!E25=\"\",\"\",\"x\")","v":""},20,{"$f":"IF(Start!C25=\"\",\"\",Start!C25)","v":""},null,{"$f":"IF($C$53=\"\",\"\",PÚ!$S$30)","v":""},{"$f":"IF($C$53=\"\",\"\",PÚ!$T30)","v":""},{"$f":"IF($C$53=\"\",\"\",Št.4x60m!$S$30)","v":""},{"$f":"IF($C$53=\"\",\"\",Št.4x60m!$T30)","v":""},{"$f":"IF($C$53=\"\",\"\",Št.dvojic!$U$61)","v":""},{"$f":"IF($C$53=\"\",\"\",\"(\"&SUM(Št.dvojic!$I$61:$T$61)&\")\")","v":""},{"$f":"IF($C$53=\"\",\"\",Št.dvojic!$V$61)","v":""},{"$f":"IF($C$53=\"\",\"\",Št.400mCTIF!$U$61)","v":""},{"$f":"IF($C$53=\"\",\"\",\"(\"&SUM(Št.400mCTIF!$I$61:$T$61)&\")\")","v":""},{"$f":"IF($C$53=\"\",\"\",Št.400mCTIF!$V$61)","v":""},{"$f":"IF($C$53=\"\",\"\",'PÚ CTIF'!$R$61)","v":""},{"$f":"IF($C$53=\"\",\"\",\"(\"&SUM('PÚ CTIF'!$I$61:$Q$61)&\")\")","v":""},{"$f":"IF($C$53=\"\",\"\",'PÚ CTIF'!$S$61)","v":""},null,null,{"$f":"IF(A53=\"x\",300,IF(C53=\"\",\"\",SUM(D53,F53,H53,K53,N53,Q53,R53)))","v":""},{"$f":"IF($A53=\"x\",\"x\",IF($C53=\"\",\"\",MATCH($C53,Výsledky!$N$7:$N$106,0)))","v":""},{"$f":"IF($A53=\"x\",\"x\",IF($C53=\"\",\"\",IF(VLOOKUP($B53,POM!$A$1:$K$100,11)=0,\"\",VLOOKUP($B53,POM!$A$1:$K$100,11))))","v":""}]
[null,null,null,null,{"$f":"IF($C$53=\"\",\"\",PÚ!$S$31)","v":""},null,{"$f":"IF($C$53=\"\",\"\",Št.4x60m!$S$31)","v":""},null,{"$f":"IF($C$53=\"\",\"\",Št.dvojic!$U$62)","v":""},{"$f":"IF($C$53=\"\",\"\",\"(\"&SUM(Št.dvojic!$I$62:$T$62)&\")\")","v":""},null,{"$f":"IF($C$53=\"\",\"\",Št.400mCTIF!$U$62)","v":""},{"$f":"IF($C$53=\"\",\"\",\"(\"&SUM(Št.400mCTIF!$I$62:$T$62)&\")\")","v":""},null,{"$f":"IF($C$53=\"\",\"\",'PÚ CTIF'!$R$62)","v":""},{"$f":"IF($C$53=\"\",\"\",\"(\"&SUM('PÚ CTIF'!$I$62:$Q$62)&\")\")","v":""}]
[{"$f":"IF(Start!E26=\"\",\"\",\"x\")","v":""},21,{"$f":"IF(Start!C26=\"\",\"\",Start!C26)","v":""},null,{"$f":"IF($C$55=\"\",\"\",PÚ!$H$43)","v":""},{"$f":"IF($C$55=\"\",\"\",PÚ!$I$43)","v":""},{"$f":"IF($C$55=\"\",\"\",Št.4x60m!$H$43)","v":""},{"$f":"IF($C$55=\"\",\"\",Št.4x60m!$I$43)","v":""},{"$f":"IF($C$55=\"\",\"\",Št.dvojic!$U$74)","v":""},{"$f":"IF($C$55=\"\",\"\",\"(\"&SUM(Št.dvojic!$I$74:$T$74)&\")\")","v":""},{"$f":"IF($C$55=\"\",\"\",Št.dvojic!$V$74)","v":""},{"$f":"IF($C$55=\"\",\"\",Št.400mCTIF!$U$74)","v":""},{"$f":"IF($C$55=\"\",\"\",\"(\"&SUM(Št.400mCTIF!$I$74:$T$74)&\")\")","v":""},{"$f":"IF($C$55=\"\",\"\",Št.400mCTIF!$V$74)","v":""},{"$f":"IF($C$55=\"\",\"\",'PÚ CTIF'!$R$74)","v":""},{"$f":"IF($C$55=\"\",\"\",\"(\"&SUM('PÚ CTIF'!$I$74:$Q$74)&\")\")","v":""},{"$f":"IF($C$55=\"\",\"\",'PÚ CTIF'!$S$74)","v":""},null,null,{"$f":"IF(A55=\"x\",300,IF(C55=\"\",\"\",SUM(D55,F55,H55,K55,N55,Q55,R55)))","v":""},{"$f":"IF($A55=\"x\",\"x\",IF($C55=\"\",\"\",MATCH($C55,Výsledky!$N$7:$N$106,0)))","v":""},{"$f":"IF($A55=\"x\",\"x\",IF($C55=\"\",\"\",IF(VLOOKUP($B55,POM!$A$1:$K$100,11)=0,\"\",VLOOKUP($B55,POM!$A$1:$K$100,11))))","v":""}]
[null,null,null,null,{"$f":"IF($C$55=\"\",\"\",PÚ!$H$44)","v":""},null,{"$f":"IF($C$55=\"\",\"\",Št.4x60m!$H$44)","v":""},null,{"$f":"IF($C$55=\"\",\"\",Št.dvojic!$U$75)","v":""},{"$f":"IF($C$55=\"\",\"\",\"(\"&SUM(Št.dvojic!$I$75:$T$75)&\")\")","v":""},null,{"$f":"IF($C$55=\"\",\"\",Št.400mCTIF!$U$75)","v":""},{"$f":"IF($C$55=\"\",\"\",\"(\"&SUM(Št.400mCTIF!$I$75:$T$75)&\")\")","v":""},null,{"$f":"IF($C$55=\"\",\"\",'PÚ CTIF'!$R$75)","v":""},{"$f":"IF($C$55=\"\",\"\",\"(\"&SUM('PÚ CTIF'!$I$75:$Q$75)&\")\")","v":""}]
[{"$f":"IF(Start!E27=\"\",\"\",\"x\")","v":""},22,{"$f":"IF(Start!C27=\"\",\"\",Start!C27)","v":""},null,{"$f":"IF($C$57=\"\",\"\",PÚ!$H$45)","v":""},{"$f":"IF($C$57=\"\",\"\",PÚ!$I$45)","v":""},{"$f":"IF($C$57=\"\",\"\",Št.4x60m!$H$45)","v":""},{"$f":"IF($C$57=\"\",\"\",Št.4x60m!$I$45)","v":""},{"$f":"IF($C$57=\"\",\"\",Št.dvojic!$U$76)","v":""},{"$f":"IF($C$57=\"\",\"\",\"(\"&SUM(Št.dvojic!$I$76:$T$76)&\")\")","v":""},{"$f":"IF($C$57=\"\",\"\",Št.dvojic!$V$76)","v":""},{"$f":"IF($C$57=\"\",\"\",Št.400mCTIF!$U$76)","v":""},{"$f":"IF($C$57=\"\",\"\",\"(\"&SUM(Št.400mCTIF!$I$76:$T$76)&\")\")","v":""},{"$f":"IF($C$57=\"\",\"\",Št.400mCTIF!$V$76)","v":""},{"$f":"IF($C$57=\"\",\"\",'PÚ CTIF'!$R$76)","v":""},{"$f":"IF($C$57=\"\",\"\",\"(\"&SUM('PÚ CTIF'!$I$76:$Q$76)&\")\")","v":""},{"$f":"IF($C$57=\"\",\"\",'PÚ CTIF'!$S$76)","v":""},null,null,{"$f":"IF(A57=\"x\",300,IF(C57=\"\",\"\",SUM(D57,F57,H57,K57,N57,Q57,R57)))","v":""},{"$f":"IF($A57=\"x\",\"x\",IF($C57=\"\",\"\",MATCH($C57,Výsledky!$N$7:$N$106,0)))","v":""},{"$f":"IF($A57=\"x\",\"x\",IF($C57=\"\",\"\",IF(VLOOKUP($B57,POM!$A$1:$K$100,11)=0,\"\",VLOOKUP($B57,POM!$A$1:$K$100,11))))","v":""}]
[null,null,null,null,{"$f":"IF($C$57=\"\",\"\",PÚ!$H$46)","v":""},null,{"$f":"IF($C$57=\"\",\"\",Št.4x60m!$H$46)","v":""},null,{"$f":"IF($C$57=\"\",\"\",Št.dvojic!$U$77)","v":""},{"$f":"IF($C$57=\"\",\"\",\"(\"&SUM(Št.dvojic!$I$77:$T$77)&\")\")","v":""},null,{"$f":"IF($C$57=\"\",\"\",Št.400mCTIF!$U$77)","v":""},{"$f":"IF($C$57=\"\",\"\",\"(\"&SUM(Št.400mCTIF!$I$77:$T$77)&\")\")","v":""},null,{"$f":"IF($C$57=\"\",\"\",'PÚ CTIF'!$R$77)","v":""},{"$f":"IF($C$57=\"\",\"\",\"(\"&SUM('PÚ CTIF'!$I$77:$Q$77)&\")\")","v":""}]
[{"$f":"IF(Start!E28=\"\",\"\",\"x\")","v":""},23,{"$f":"IF(Start!C28=\"\",\"\",Start!C28)","v":""},null,{"$f":"IF($C$59=\"\",\"\",PÚ!$H$47)","v":""},{"$f":"IF($C$59=\"\",\"\",PÚ!$I$47)","v":""},{"$f":"IF($C$59=\"\",\"\",Št.4x60m!$H$47)","v":""},{"$f":"IF($C$59=\"\",\"\",Št.4x60m!$I$47)","v":""},{"$f":"IF($C$59=\"\",\"\",Št.dvojic!$U$78)","v":""},{"$f":"IF($C$59=\"\",\"\",\"(\"&SUM(Št.dvojic!$I$78:$T$78)&\")\")","v":""},{"$f":"IF($C$59=\"\",\"\",Št.dvojic!$V$78)","v":""},{"$f":"IF($C$59=\"\",\"\",Št.400mCTIF!$U$78)","v":""},{"$f":"IF($C$59=\"\",\"\",\"(\"&SUM(Št.400mCTIF!$I$78:$T$78)&\")\")","v":""},{"$f":"IF($C$59=\"\",\"\",Št.400mCTIF!$V$78)","v":""},{"$f":"IF($C$59=\"\",\"\",'PÚ CTIF'!$R$78)","v":""},{"$f":"IF($C$59=\"\",\"\",\"(\"&SUM('PÚ CTIF'!$I$78:$Q$78)&\")\")","v":""},{"$f":"IF($C$59=\"\",\"\",'PÚ CTIF'!$S$78)","v":""},null,null,{"$f":"IF(A59=\"x\",300,IF(C59=\"\",\"\",SUM(D59,F59,H59,K59,N59,Q59,R59)))","v":""},{"$f":"IF($A59=\"x\",\"x\",IF($C59=\"\",\"\",MATCH($C59,Výsledky!$N$7:$N$106,0)))","v":""},{"$f":"IF($A59=\"x\",\"x\",IF($C59=\"\",\"\",IF(VLOOKUP($B59,POM!$A$1:$K$100,11)=0,\"\",VLOOKUP($B59,POM!$A$1:$K$100,11))))","v":""}]
[null,null,null,null,{"$f":"IF($C$59=\"\",\"\",PÚ!$H$48)","v":""},null,{"$f":"IF($C$59=\"\",\"\",Št.4x60m!$H$48)","v":""},null,{"$f":"IF($C$59=\"\",\"\",Št.dvojic!$U$79)","v":""},{"$f":"IF($C$59=\"\",\"\",\"(\"&SUM(Št.dvojic!$I$79:$T$79)&\")\")","v":""},null,{"$f":"IF($C$59=\"\",\"\",Št.400mCTIF!$U$79)","v":""},{"$f":"IF($C$59=\"\",\"\",\"(\"&SUM(Št.400mCTIF!$I$79:$T$79)&\")\")","v":""},null,{"$f":"IF($C$59=\"\",\"\",'PÚ CTIF'!$R$79)","v":""},{"$f":"IF($C$59=\"\",\"\",\"(\"&SUM('PÚ CTIF'!$I$79:$Q$79)&\")\")","v":""}]
[{"$f":"IF(Start!E29=\"\",\"\",\"x\")","v":""},24,{"$f":"IF(Start!C29=\"\",\"\",Start!C29)","v":""},null,{"$f":"IF($C$61=\"\",\"\",PÚ!$H$49)","v":""},{"$f":"IF($C$61=\"\",\"\",PÚ!$I$49)","v":""},{"$f":"IF($C$61=\"\",\"\",Št.4x60m!$H$49)","v":""},{"$f":"IF($C$61=\"\",\"\",Št.4x60m!$I$49)","v":""},{"$f":"IF($C$61=\"\",\"\",Št.dvojic!$U$80)","v":""},{"$f":"IF($C$61=\"\",\"\",\"(\"&SUM(Št.dvojic!$I$80:$T$80)&\")\")","v":""},{"$f":"IF($C$61=\"\",\"\",Št.dvojic!$V$80)","v":""},{"$f":"IF($C$61=\"\",\"\",Št.400mCTIF!$U$80)","v":""},{"$f":"IF($C$61=\"\",\"\",\"(\"&SUM(Št.400mCTIF!$I$80:$T$80)&\")\")","v":""},{"$f":"IF($C$61=\"\",\"\",Št.400mCTIF!$V$80)","v":""},{"$f":"IF($C$61=\"\",\"\",'PÚ CTIF'!$R$80)","v":""},{"$f":"IF($C$61=\"\",\"\",\"(\"&SUM('PÚ CTIF'!$I$80:$Q$80)&\")\")","v":""},{"$f":"IF($C$61=\"\",\"\",'PÚ CTIF'!$S$80)","v":""},null,null,{"$f":"IF(A61=\"x\",300,IF(C61=\"\",\"\",SUM(D61,F61,H61,K61,N61,Q61,R61)))","v":""},{"$f":"IF($A61=\"x\",\"x\",IF($C61=\"\",\"\",MATCH($C61,Výsledky!$N$7:$N$106,0)))","v":""},{"$f":"IF($A61=\"x\",\"x\",IF($C61=\"\",\"\",IF(VLOOKUP($B61,POM!$A$1:$K$100,11)=0,\"\",VLOOKUP($B61,POM!$A$1:$K$100,11))))","v":""}]
[null,null,null,null,{"$f":"IF($C$61=\"\",\"\",PÚ!$H$50)","v":""},null,{"$f":"IF($C$61=\"\",\"\",Št.4x60m!$H$50)","v":""},null,{"$f":"IF($C$61=\"\",\"\",Št.dvojic!$U$81)","v":""},{"$f":"IF($C$61=\"\",\"\",\"(\"&SUM(Št.dvojic!$I$81:$T$81)&\")\")","v":""},null,{"$f":"IF($C$61=\"\",\"\",Št.400mCTIF!$U$81)","v":""},{"$f":"IF($C$61=\"\",\"\",\"(\"&SUM(Št.400mCTIF!$I$81:$T$81)&\")\")","v":""},null,{"$f":"IF($C$61=\"\",\"\",'PÚ CTIF'!$R$81)","v":""},{"$f":"IF($C$61=\"\",\"\",\"(\"&SUM('PÚ CTIF'!$I$81:$Q$81)&\")\")","v":""}]
[{"$f":"IF(Start!E30=\"\",\"\",\"x\")","v":""},25,{"$f":"IF(Start!C30=\"\",\"\",Start!C30)","v":""},null,{"$f":"IF($C$63=\"\",\"\",PÚ!$H$51)","v":""},{"$f":"IF($C$63=\"\",\"\",PÚ!$I$51)","v":""},{"$f":"IF($C$63=\"\",\"\",Št.4x60m!$H$51)","v":""},{"$f":"IF($C$63=\"\",\"\",Št.4x60m!$I$51)","v":""},{"$f":"IF($C$63=\"\",\"\",Št.dvojic!$U$82)","v":""},{"$f":"IF($C$63=\"\",\"\",\"(\"&SUM(Št.dvojic!$I$82:$T$82)&\")\")","v":""},{"$f":"IF($C$63=\"\",\"\",Št.dvojic!$V$82)","v":""},{"$f":"IF($C$63=\"\",\"\",Št.400mCTIF!$U$82)","v":""},{"$f":"IF($C$63=\"\",\"\",\"(\"&SUM(Št.400mCTIF!$I$82:$T$82)&\")\")","v":""},{"$f":"IF($C$63=\"\",\"\",Št.400mCTIF!$V$82)","v":""},{"$f":"IF($C$63=\"\",\"\",'PÚ CTIF'!$R$82)","v":""},{"$f":"IF($C$63=\"\",\"\",\"(\"&SUM('PÚ CTIF'!$I$82:$Q$82)&\")\")","v":""},{"$f":"IF($C$63=\"\",\"\",'PÚ CTIF'!$S$82)","v":""},null,null,{"$f":"IF(A63=\"x\",300,IF(C63=\"\",\"\",SUM(D63,F63,H63,K63,N63,Q63,R63)))","v":""},{"$f":"IF($A63=\"x\",\"x\",IF($C63=\"\",\"\",MATCH($C63,Výsledky!$N$7:$N$106,0)))","v":""},{"$f":"IF($A63=\"x\",\"x\",IF($C63=\"\",\"\",IF(VLOOKUP($B63,POM!$A$1:$K$100,11)=0,\"\",VLOOKUP($B63,POM!$A$1:$K$100,11))))","v":""}]
[null,null,null,null,{"$f":"IF($C$63=\"\",\"\",PÚ!$H$52)","v":""},null,{"$f":"IF($C$63=\"\",\"\",Št.4x60m!$H$52)","v":""},null,{"$f":"IF($C$63=\"\",\"\",Št.dvojic!$U$83)","v":""},{"$f":"IF($C$63=\"\",\"\",\"(\"&SUM(Št.dvojic!$I$83:$T$83)&\")\")","v":""},null,{"$f":"IF($C$63=\"\",\"\",Št.400mCTIF!$U$83)","v":""},{"$f":"IF($C$63=\"\",\"\",\"(\"&SUM(Št.400mCTIF!$I$83:$T$83)&\")\")","v":""},null,{"$f":"IF($C$63=\"\",\"\",'PÚ CTIF'!$R$83)","v":""},{"$f":"IF($C$63=\"\",\"\",\"(\"&SUM('PÚ CTIF'!$I$83:$Q$83)&\")\")","v":""}]
[{"$f":"IF(Start!I6=\"\",\"\",\"x\")","v":""},26,{"$f":"IF(Start!G6=\"\",\"\",Start!G6)","v":""},null,{"$f":"IF($C$65=\"\",\"\",PÚ!$H$53)","v":""},{"$f":"IF($C$65=\"\",\"\",PÚ!$I$53)","v":""},{"$f":"IF($C$65=\"\",\"\",Št.4x60m!$H$53)","v":""},{"$f":"IF($C$65=\"\",\"\",Št.4x60m!$I$53)","v":""},{"$f":"IF($C$65=\"\",\"\",Št.dvojic!$U$84)","v":""},{"$f":"IF($C$65=\"\",\"\",\"(\"&SUM(Št.dvojic!$I$84:$T$84)&\")\")","v":""},{"$f":"IF($C$65=\"\",\"\",Št.dvojic!$V$84)","v":""},{"$f":"IF($C$65=\"\",\"\",Št.400mCTIF!$U$84)","v":""},{"$f":"IF($C$65=\"\",\"\",\"(\"&SUM(Št.400mCTIF!$I$84:$T$84)&\")\")","v":""},{"$f":"IF($C$65=\"\",\"\",Št.400mCTIF!$V$84)","v":""},{"$f":"IF($C$65=\"\",\"\",'PÚ CTIF'!$R$84)","v":""},{"$f":"IF($C$65=\"\",\"\",\"(\"&SUM('PÚ CTIF'!$I$84:$Q$84)&\")\")","v":""},{"$f":"IF($C$65=\"\",\"\",'PÚ CTIF'!$S$84)","v":""},null,null,{"$f":"IF(A65=\"x\",300,IF(C65=\"\",\"\",SUM(D65,F65,H65,K65,N65,Q65,R65)))","v":""},{"$f":"IF($A65=\"x\",\"x\",IF($C65=\"\",\"\",MATCH($C65,Výsledky!$N$7:$N$106,0)))","v":""},{"$f":"IF($A65=\"x\",\"x\",IF($C65=\"\",\"\",IF(VLOOKUP($B65,POM!$A$1:$K$100,11)=0,\"\",VLOOKUP($B65,POM!$A$1:$K$100,11))))","v":""}]
[null,null,null,null,{"$f":"IF($C$65=\"\",\"\",PÚ!$H$54)","v":""},null,{"$f":"IF($C$65=\"\",\"\",Št.4x60m!$H$54)","v":""},null,{"$f":"IF($C$65=\"\",\"\",Št.dvojic!$U$85)","v":""},{"$f":"IF($C$65=\"\",\"\",\"(\"&SUM(Št.dvojic!$I$85:$T$85)&\")\")","v":""},null,{"$f":"IF($C$65=\"\",\"\",Št.400mCTIF!$U$85)","v":""},{"$f":"IF($C$65=\"\",\"\",\"(\"&SUM(Št.400mCTIF!$I$85:$T$85)&\")\")","v":""},null,{"$f":"IF($C$65=\"\",\"\",'PÚ CTIF'!$R$85)","v":""},{"$f":"IF($C$65=\"\",\"\",\"(\"&SUM('PÚ CTIF'!$I$85:$Q$85)&\")\")","v":""}]
[{"$f":"IF(Start!I7=\"\",\"\",\"x\")","v":""},27,{"$f":"IF(Start!G7=\"\",\"\",Start!G7)","v":""},null,{"$f":"IF($C$67=\"\",\"\",PÚ!$H$55)","v":""},{"$f":"IF($C$67=\"\",\"\",PÚ!$I$55)","v":""},{"$f":"IF($C$67=\"\",\"\",Št.4x60m!$H$55)","v":""},{"$f":"IF($C$67=\"\",\"\",Št.4x60m!$I$55)","v":""},{"$f":"IF($C$67=\"\",\"\",Št.dvojic!$U$86)","v":""},{"$f":"IF($C$67=\"\",\"\",\"(\"&SUM(Št.dvojic!$I$86:$T$86)&\")\")","v":""},{"$f":"IF($C$67=\"\",\"\",Št.dvojic!$V$86)","v":""},{"$f":"IF($C$67=\"\",\"\",Št.400mCTIF!$U$86)","v":""},{"$f":"IF($C$67=\"\",\"\",\"(\"&SUM(Št.400mCTIF!$I$86:$T$86)&\")\")","v":""},{"$f":"IF($C$67=\"\",\"\",Št.400mCTIF!$V$86)","v":""},{"$f":"IF($C$67=\"\",\"\",'PÚ CTIF'!$R$86)","v":""},{"$f":"IF($C$67=\"\",\"\",\"(\"&SUM('PÚ CTIF'!$I$86:$Q$86)&\")\")","v":""},{"$f":"IF($C$67=\"\",\"\",'PÚ CTIF'!$S$86)","v":""},null,null,{"$f":"IF(A67=\"x\",300,IF(C67=\"\",\"\",SUM(D67,F67,H67,K67,N67,Q67,R67)))","v":""},{"$f":"IF($A67=\"x\",\"x\",IF($C67=\"\",\"\",MATCH($C67,Výsledky!$N$7:$N$106,0)))","v":""},{"$f":"IF($A67=\"x\",\"x\",IF($C67=\"\",\"\",IF(VLOOKUP($B67,POM!$A$1:$K$100,11)=0,\"\",VLOOKUP($B67,POM!$A$1:$K$100,11))))","v":""}]
[null,null,null,null,{"$f":"IF($C$67=\"\",\"\",PÚ!$H$56)","v":""},null,{"$f":"IF($C$67=\"\",\"\",Št.4x60m!$H$56)","v":""},null,{"$f":"IF($C$67=\"\",\"\",Št.dvojic!$U$87)","v":""},{"$f":"IF($C$67=\"\",\"\",\"(\"&SUM(Št.dvojic!$I$87:$T$87)&\")\")","v":""},null,{"$f":"IF($C$67=\"\",\"\",Št.400mCTIF!$U$87)","v":""},{"$f":"IF($C$67=\"\",\"\",\"(\"&SUM(Št.400mCTIF!$I$87:$T$87)&\")\")","v":""},null,{"$f":"IF($C$67=\"\",\"\",'PÚ CTIF'!$R$87)","v":""},{"$f":"IF($C$67=\"\",\"\",\"(\"&SUM('PÚ CTIF'!$I$87:$Q$87)&\")\")","v":""}]
[{"$f":"IF(Start!I8=\"\",\"\",\"x\")","v":""},28,{"$f":"IF(Start!G8=\"\",\"\",Start!G8)","v":""},null,{"$f":"IF($C$69=\"\",\"\",PÚ!$H$57)","v":""},{"$f":"IF($C$69=\"\",\"\",PÚ!$I$57)","v":""},{"$f":"IF($C$69=\"\",\"\",Št.4x60m!$H$57)","v":""},{"$f":"IF($C$69=\"\",\"\",Št.4x60m!$I$57)","v":""},{"$f":"IF($C$69=\"\",\"\",Št.dvojic!$U$88)","v":""},{"$f":"IF($C$69=\"\",\"\",\"(\"&SUM(Št.dvojic!$I$88:$T$88)&\")\")","v":""},{"$f":"IF($C$69=\"\",\"\",Št.dvojic!$V$88)","v":""},{"$f":"IF($C$69=\"\",\"\",Št.400mCTIF!$U$88)","v":""},{"$f":"IF($C$69=\"\",\"\",\"(\"&SUM(Št.400mCTIF!$I$88:$T$88)&\")\")","v":""},{"$f":"IF($C$69=\"\",\"\",Št.400mCTIF!$V$88)","v":""},{"$f":"IF($C$69=\"\",\"\",'PÚ CTIF'!$R$88)","v":""},{"$f":"IF($C$69=\"\",\"\",\"(\"&SUM('PÚ CTIF'!$I$88:$Q$88)&\")\")","v":""},{"$f":"IF($C$69=\"\",\"\",'PÚ CTIF'!$S$88)","v":""},null,null,{"$f":"IF(A69=\"x\",300,IF(C69=\"\",\"\",SUM(D69,F69,H69,K69,N69,Q69,R69)))","v":""},{"$f":"IF($A69=\"x\",\"x\",IF($C69=\"\",\"\",MATCH($C69,Výsledky!$N$7:$N$106,0)))","v":""},{"$f":"IF($A69=\"x\",\"x\",IF($C69=\"\",\"\",IF(VLOOKUP($B69,POM!$A$1:$K$100,11)=0,\"\",VLOOKUP($B69,POM!$A$1:$K$100,11))))","v":""}]
[null,null,null,null,{"$f":"IF($C$69=\"\",\"\",PÚ!$H$58)","v":""},null,{"$f":"IF($C$69=\"\",\"\",Št.4x60m!$H$58)","v":""},null,{"$f":"IF($C$69=\"\",\"\",Št.dvojic!$U$89)","v":""},{"$f":"IF($C$69=\"\",\"\",\"(\"&SUM(Št.dvojic!$I$89:$T$89)&\")\")","v":""},null,{"$f":"IF($C$69=\"\",\"\",Št.400mCTIF!$U$89)","v":""},{"$f":"IF($C$69=\"\",\"\",\"(\"&SUM(Št.400mCTIF!$I$89:$T$89)&\")\")","v":""},null,{"$f":"IF($C$69=\"\",\"\",'PÚ CTIF'!$R$89)","v":""},{"$f":"IF($C$69=\"\",\"\",\"(\"&SUM('PÚ CTIF'!$I$89:$Q$89)&\")\")","v":""}]
[null,{"$f":"B36","v":"Celkové výsledky - TISK"}]
[]
[null,null,null,{"$f":"D38","v":"Požární útoky "},null,null,null,null,null,null,null,{"$f":"L38","v":"18.05.2025, Kamenný Újezd"}]
[null,null,{"$f":"Start!$N$2","v":"starší"}]
[null," startovní číslo"," SDH",null," PÚ",null," Štafeta 4 x 60 m",null," Štafeta dvojic",null,null," 400 m štafeta CTIF",null,null," PÚ - CTIF",null,null,null,null," Celkový součet",null,"Pořadí"]
[null,null,null,null,"1.pokus","P.","1.pokus","P.","1.pokus","tr.body","P.","1.pokus","tr.body","P.","1.pokus","tr.body","P."]
[null,null,null,null,"2.pokus",null,"2.pokus",null,"2.pokus","tr.body",null,"2.pokus","tr.body",null,"2.pokus","tr.body"]
[{"$f":"IF(Start!I9=\"\",\"\",\"x\")","v":""},29,{"$f":"IF(Start!G9=\"\",\"\",Start!G9)","v":""},null,{"$f":"IF($C$78=\"\",\"\",PÚ!$H$59)","v":""},{"$f":"IF($C$78=\"\",\"\",PÚ!$I$59)","v":""},{"$f":"IF($C$78=\"\",\"\",Št.4x60m!$H$59)","v":""},{"$f":"IF($C$78=\"\",\"\",Št.4x60m!$I$59)","v":""},{"$f":"IF($C$78=\"\",\"\",Št.dvojic!$U$90)","v":""},{"$f":"IF($C$78=\"\",\"\",\"(\"&SUM(Št.dvojic!$I$90:$T$90)&\")\")","v":""},{"$f":"IF($C$78=\"\",\"\",Št.dvojic!$V$90)","v":""},{"$f":"IF($C$78=\"\",\"\",Št.400mCTIF!$U$90)","v":""},{"$f":"IF($C$78=\"\",\"\",\"(\"&SUM(Št.400mCTIF!$I$90:$T$90)&\")\")","v":""},{"$f":"IF($C$78=\"\",\"\",Št.400mCTIF!$V$90)","v":""},{"$f":"IF($C$78=\"\",\"\",'PÚ CTIF'!$R$90)","v":""},{"$f":"IF($C$78=\"\",\"\",\"(\"&SUM('PÚ CTIF'!$I$90:$Q$90)&\")\")","v":""},{"$f":"IF($C$78=\"\",\"\",'PÚ CTIF'!$S$90)","v":""},null,null,{"$f":"IF(A78=\"x\",300,IF(C78=\"\",\"\",SUM(D78,F78,H78,K78,N78,Q78,R78)))","v":""},null,{"$f":"IF($A78=\"x\",\"x\",IF($C78=\"\",\"\",IF(VLOOKUP($B78,POM!$A$1:$K$100,11)=0,\"\",VLOOKUP($B78,POM!$A$1:$K$100,11))))","v":""}]
[null,null,null,null,{"$f":"IF($C$78=\"\",\"\",PÚ!$H$60)","v":""},null,{"$f":"IF($C$78=\"\",\"\",Št.4x60m!$H$60)","v":""},null,{"$f":"IF($C$78=\"\",\"\",Št.dvojic!$U$91)","v":""},{"$f":"IF($C$78=\"\",\"\",\"(\"&SUM(Št.dvojic!$I$91:$T$91)&\")\")","v":""},null,{"$f":"IF($C$78=\"\",\"\",Št.400mCTIF!$U$91)","v":""},{"$f":"IF($C$78=\"\",\"\",\"(\"&SUM(Št.400mCTIF!$I$91:$T$91)&\")\")","v":""},null,{"$f":"IF($C$78=\"\",\"\",'PÚ CTIF'!$R$91)","v":""},{"$f":"IF($C$78=\"\",\"\",\"(\"&SUM('PÚ CTIF'!$I$91:$Q$91)&\")\")","v":""}]
[{"$f":"IF(Start!I10=\"\",\"\",\"x\")","v":""},30,{"$f":"IF(Start!G10=\"\",\"\",Start!G10)","v":""},null,{"$f":"IF($C$80=\"\",\"\",PÚ!$H$61)","v":""},{"$f":"IF($C$80=\"\",\"\",PÚ!$I$61)","v":""},{"$f":"IF($C$80=\"\",\"\",Št.4x60m!$H$61)","v":""},{"$f":"IF($C$80=\"\",\"\",Št.4x60m!$I$61)","v":""},{"$f":"IF($C$80=\"\",\"\",Št.dvojic!$U$92)","v":""},{"$f":"IF($C$80=\"\",\"\",\"(\"&SUM(Št.dvojic!$I$92:$T$92)&\")\")","v":""},{"$f":"IF($C$80=\"\",\"\",Št.dvojic!$V$92)","v":""},{"$f":"IF($C$80=\"\",\"\",Št.400mCTIF!$U$92)","v":""},{"$f":"IF($C$80=\"\",\"\",\"(\"&SUM(Št.400mCTIF!$I$92:$T$92)&\")\")","v":""},{"$f":"IF($C$80=\"\",\"\",Št.400mCTIF!$V$92)","v":""},{"$f":"IF($C$80=\"\",\"\",'PÚ CTIF'!$R$92)","v":""},{"$f":"IF($C$80=\"\",\"\",\"(\"&SUM('PÚ CTIF'!$I$92:$Q$92)&\")\")","v":""},{"$f":"IF($C$80=\"\",\"\",'PÚ CTIF'!$S$92)","v":""},null,null,{"$f":"IF(A80=\"x\",300,IF(C80=\"\",\"\",SUM(D80,F80,H80,K80,N80,Q80,R80)))","v":""},null,{"$f":"IF($A80=\"x\",\"x\",IF($C80=\"\",\"\",IF(VLOOKUP($B80,POM!$A$1:$K$100,11)=0,\"\",VLOOKUP($B80,POM!$A$1:$K$100,11))))","v":""}]
[null,null,null,null,{"$f":"IF($C$80=\"\",\"\",PÚ!$H$62)","v":""},null,{"$f":"IF($C$80=\"\",\"\",Št.4x60m!$H$62)","v":""},null,{"$f":"IF($C$80=\"\",\"\",Št.dvojic!$U$93)","v":""},{"$f":"IF($C$80=\"\",\"\",\"(\"&SUM(Št.dvojic!$I$93:$T$93)&\")\")","v":""},null,{"$f":"IF($C$80=\"\",\"\",Št.400mCTIF!$U$93)","v":""},{"$f":"IF($C$80=\"\",\"\",\"(\"&SUM(Št.400mCTIF!$I$93:$T$93)&\")\")","v":""},null,{"$f":"IF($C$80=\"\",\"\",'PÚ CTIF'!$R$93)","v":""},{"$f":"IF($C$80=\"\",\"\",\"(\"&SUM('PÚ CTIF'!$I$93:$Q$93)&\")\")","v":""}]
[{"$f":"IF(Start!I11=\"\",\"\",\"x\")","v":""},31,{"$f":"IF(Start!G11=\"\",\"\",Start!G11)","v":""},null,{"$f":"IF($C$82=\"\",\"\",PÚ!$S$43)","v":""},{"$f":"IF($C$82=\"\",\"\",PÚ!$T43)","v":""},{"$f":"IF($C$82=\"\",\"\",Št.4x60m!$S$43)","v":""},{"$f":"IF($C$82=\"\",\"\",Št.4x60m!$T43)","v":""},{"$f":"IF($C$82=\"\",\"\",Št.dvojic!$U$105)","v":""},{"$f":"IF($C$82=\"\",\"\",\"(\"&SUM(Št.dvojic!$I$105:$T$105)&\")\")","v":""},{"$f":"IF($C$82=\"\",\"\",Št.dvojic!$V$105)","v":""},{"$f":"IF($C$82=\"\",\"\",Št.400mCTIF!$U$105)","v":""},{"$f":"IF($C$82=\"\",\"\",\"(\"&SUM(Št.400mCTIF!$I$105:$T$105)&\")\")","v":""},{"$f":"IF($C$82=\"\",\"\",Št.400mCTIF!$V$105)","v":""},{"$f":"IF($C$82=\"\",\"\",'PÚ CTIF'!$R$105)","v":""},{"$f":"IF($C$82=\"\",\"\",\"(\"&SUM('PÚ CTIF'!$I$105:$Q$105)&\")\")","v":""},{"$f":"IF($C$82=\"\",\"\",'PÚ CTIF'!$S$105)","v":""},null,null,{"$f":"IF(A82=\"x\",300,IF(C82=\"\",\"\",SUM(D82,F82,H82,K82,N82,Q82,R82)))","v":""},null,{"$f":"IF($A82=\"x\",\"x\",IF($C82=\"\",\"\",IF(VLOOKUP($B82,POM!$A$1:$K$100,11)=0,\"\",VLOOKUP($B82,POM!$A$1:$K$100,11))))","v":""}]
[null,null,null,null,{"$f":"IF($C$82=\"\",\"\",PÚ!$S$44)","v":""},null,{"$f":"IF($C$82=\"\",\"\",Št.4x60m!$S$44)","v":""},null,{"$f":"IF($C$82=\"\",\"\",Št.dvojic!$U$106)","v":""},{"$f":"IF($C$82=\"\",\"\",\"(\"&SUM(Št.dvojic!$I$106:$T$106)&\")\")","v":""},null,{"$f":"IF($C$82=\"\",\"\",Št.400mCTIF!$U$106)","v":""},{"$f":"IF($C$82=\"\",\"\",\"(\"&SUM(Št.400mCTIF!$I$106:$T$106)&\")\")","v":""},null,{"$f":"IF($C$82=\"\",\"\",'PÚ CTIF'!$R$106)","v":""},{"$f":"IF($C$82=\"\",\"\",\"(\"&SUM('PÚ CTIF'!$I$106:$Q$106)&\")\")","v":""}]
[{"$f":"IF(Start!I12=\"\",\"\",\"x\")","v":""},32,{"$f":"IF(Start!G12=\"\",\"\",Start!G12)","v":""},null,{"$f":"IF($C$84=\"\",\"\",PÚ!$S$45)","v":""},{"$f":"IF($C$84=\"\",\"\",PÚ!$T45)","v":""},{"$f":"IF($C$84=\"\",\"\",Št.4x60m!$S$45)","v":""},{"$f":"IF($C$84=\"\",\"\",Št.4x60m!$T45)","v":""},{"$f":"IF($C$84=\"\",\"\",Št.dvojic!$U$107)","v":""},{"$f":"IF($C$84=\"\",\"\",\"(\"&SUM(Št.dvojic!$I$107:$T$107)&\")\")","v":""},{"$f":"IF($C$84=\"\",\"\",Št.dvojic!$V$107)","v":""},{"$f":"IF($C$84=\"\",\"\",Št.400mCTIF!$U$107)","v":""},{"$f":"IF($C$84=\"\",\"\",\"(\"&SUM(Št.400mCTIF!$I$107:$T$107)&\")\")","v":""},{"$f":"IF($C$84=\"\",\"\",Št.400mCTIF!$V$107)","v":""},{"$f":"IF($C$84=\"\",\"\",'PÚ CTIF'!$R$107)","v":""},{"$f":"IF($C$84=\"\",\"\",\"(\"&SUM('PÚ CTIF'!$I$107:$Q$107)&\")\")","v":""},{"$f":"IF($C$84=\"\",\"\",'PÚ CTIF'!$S$107)","v":""},null,null,{"$f":"IF(A84=\"x\",300,IF(C84=\"\",\"\",SUM(D84,F84,H84,K84,N84,Q84,R84)))","v":""},null,{"$f":"IF($A84=\"x\",\"x\",IF($C84=\"\",\"\",IF(VLOOKUP($B84,POM!$A$1:$K$100,11)=0,\"\",VLOOKUP($B84,POM!$A$1:$K$100,11))))","v":""}]
[null,null,null,null,{"$f":"IF($C$84=\"\",\"\",PÚ!$S$46)","v":""},null,{"$f":"IF($C$84=\"\",\"\",Št.4x60m!$S$46)","v":""},null,{"$f":"IF($C$84=\"\",\"\",Št.dvojic!$U$108)","v":""},{"$f":"IF($C$84=\"\",\"\",\"(\"&SUM(Št.dvojic!$I$108:$T$108)&\")\")","v":""},null,{"$f":"IF($C$84=\"\",\"\",Št.400mCTIF!$U$108)","v":""},{"$f":"IF($C$84=\"\",\"\",\"(\"&SUM(Št.400mCTIF!$I$108:$T$108)&\")\")","v":""},null,{"$f":"IF($C$84=\"\",\"\",'PÚ CTIF'!$R$108)","v":""},{"$f":"IF($C$84=\"\",\"\",\"(\"&SUM('PÚ CTIF'!$I$108:$Q$108)&\")\")","v":""}]
[{"$f":"IF(Start!I13=\"\",\"\",\"x\")","v":""},33,{"$f":"IF(Start!G13=\"\",\"\",Start!G13)","v":""},null,{"$f":"IF($C$86=\"\",\"\",PÚ!$S$47)","v":""},{"$f":"IF($C$86=\"\",\"\",PÚ!$T47)","v":""},{"$f":"IF($C$86=\"\",\"\",Št.4x60m!$S$47)","v":""},{"$f":"IF($C$86=\"\",\"\",Št.4x60m!$T47)","v":""},{"$f":"IF($C$86=\"\",\"\",Št.dvojic!$U$109)","v":""},{"$f":"IF($C$86=\"\",\"\",\"(\"&SUM(Št.dvojic!$I$109:$T$109)&\")\")","v":""},{"$f":"IF($C$86=\"\",\"\",Št.dvojic!$V$109)","v":""},{"$f":"IF($C$86=\"\",\"\",Št.400mCTIF!$U$109)","v":""},{"$f":"IF($C$86=\"\",\"\",\"(\"&SUM(Št.400mCTIF!$I$109:$T$109)&\")\")","v":""},{"$f":"IF($C$86=\"\",\"\",Št.400mCTIF!$V$109)","v":""},{"$f":"IF($C$86=\"\",\"\",'PÚ CTIF'!$R$109)","v":""},{"$f":"IF($C$86=\"\",\"\",\"(\"&SUM('PÚ CTIF'!$I$109:$Q$109)&\")\")","v":""},{"$f":"IF($C$86=\"\",\"\",'PÚ CTIF'!$S$109)","v":""},null,null,{"$f":"IF(A86=\"x\",300,IF(C86=\"\",\"\",SUM(D86,F86,H86,K86,N86,Q86,R86)))","v":""},null,{"$f":"IF($A86=\"x\",\"x\",IF($C86=\"\",\"\",IF(VLOOKUP($B86,POM!$A$1:$K$100,11)=0,\"\",VLOOKUP($B86,POM!$A$1:$K$100,11))))","v":""}]
[null,null,null,null,{"$f":"IF($C$86=\"\",\"\",PÚ!$S$48)","v":""},null,{"$f":"IF($C$86=\"\",\"\",Št.4x60m!$S$48)","v":""},null,{"$f":"IF($C$86=\"\",\"\",Št.dvojic!$U$110)","v":""},{"$f":"IF($C$86=\"\",\"\",\"(\"&SUM(Št.dvojic!$I$110:$T$110)&\")\")","v":""},null,{"$f":"IF($C$86=\"\",\"\",Št.400mCTIF!$U$110)","v":""},{"$f":"IF($C$86=\"\",\"\",\"(\"&SUM(Št.400mCTIF!$I$110:$T$110)&\")\")","v":""},null,{"$f":"IF($C$86=\"\",\"\",'PÚ CTIF'!$R$110)","v":""},{"$f":"IF($C$86=\"\",\"\",\"(\"&SUM('PÚ CTIF'!$I$110:$Q$110)&\")\")","v":""}]
[{"$f":"IF(Start!I14=\"\",\"\",\"x\")","v":""},34,{"$f":"IF(Start!G14=\"\",\"\",Start!G14)","v":""},null,{"$f":"IF($C$88=\"\",\"\",PÚ!$S$49)","v":""},{"$f":"IF($C$88=\"\",\"\",PÚ!$T49)","v":""},{"$f":"IF($C$88=\"\",\"\",Št.4x60m!$S$49)","v":""},{"$f":"IF($C$88=\"\",\"\",Št.4x60m!$T49)","v":""},{"$f":"IF($C$88=\"\",\"\",Št.dvojic!$U$111)","v":""},{"$f":"IF($C$88=\"\",\"\",\"(\"&SUM(Št.dvojic!$I$111:$T$111)&\")\")","v":""},{"$f":"IF($C$88=\"\",\"\",Št.dvojic!$V$111)","v":""},{"$f":"IF($C$88=\"\",\"\",Št.400mCTIF!$U$111)","v":""},{"$f":"IF($C$88=\"\",\"\",\"(\"&SUM(Št.400mCTIF!$I$111:$T$111)&\")\")","v":""},{"$f":"IF($C$88=\"\",\"\",Št.400mCTIF!$V$111)","v":""},{"$f":"IF($C$88=\"\",\"\",'PÚ CTIF'!$R$111)","v":""},{"$f":"IF($C$88=\"\",\"\",\"(\"&SUM('PÚ CTIF'!$I$111:$Q$111)&\")\")","v":""},{"$f":"IF($C$88=\"\",\"\",'PÚ CTIF'!$S$111)","v":""},null,null,{"$f":"IF(A88=\"x\",300,IF(C88=\"\",\"\",SUM(D88,F88,H88,K88,N88,Q88,R88)))","v":""},null,{"$f":"IF($A88=\"x\",\"x\",IF($C88=\"\",\"\",IF(VLOOKUP($B88,POM!$A$1:$K$100,11)=0,\"\",VLOOKUP($B88,POM!$A$1:$K$100,11))))","v":""}]
[null,null,null,null,{"$f":"IF($C$88=\"\",\"\",PÚ!$S$50)","v":""},null,{"$f":"IF($C$88=\"\",\"\",Št.4x60m!$S$50)","v":""},null,{"$f":"IF($C$88=\"\",\"\",Št.dvojic!$U$112)","v":""},{"$f":"IF($C$88=\"\",\"\",\"(\"&SUM(Št.dvojic!$I$112:$T$112)&\")\")","v":""},null,{"$f":"IF($C$88=\"\",\"\",Št.400mCTIF!$U$112)","v":""},{"$f":"IF($C$88=\"\",\"\",\"(\"&SUM(Št.400mCTIF!$I$112:$T$112)&\")\")","v":""},null,{"$f":"IF($C$88=\"\",\"\",'PÚ CTIF'!$R$112)","v":""},{"$f":"IF($C$88=\"\",\"\",\"(\"&SUM('PÚ CTIF'!$I$112:$Q$112)&\")\")","v":""}]
[{"$f":"IF(Start!I15=\"\",\"\",\"x\")","v":""},35,{"$f":"IF(Start!G15=\"\",\"\",Start!G15)","v":""},null,{"$f":"IF($C$90=\"\",\"\",PÚ!$S$51)","v":""},{"$f":"IF($C$90=\"\",\"\",PÚ!$T51)","v":""},{"$f":"IF($C$90=\"\",\"\",Št.4x60m!$S$51)","v":""},{"$f":"IF($C$90=\"\",\"\",Št.4x60m!$T51)","v":""},{"$f":"IF($C$90=\"\",\"\",Št.dvojic!$U$113)","v":""},{"$f":"IF($C$90=\"\",\"\",\"(\"&SUM(Št.dvojic!$I$113:$T$113)&\")\")","v":""},{"$f":"IF($C$90=\"\",\"\",Št.dvojic!$V$113)","v":""},{"$f":"IF($C$90=\"\",\"\",Št.400mCTIF!$U$113)","v":""},{"$f":"IF($C$90=\"\",\"\",\"(\"&SUM(Št.400mCTIF!$I$113:$T$113)&\")\")","v":""},{"$f":"IF($C$90=\"\",\"\",Št.400mCTIF!$V$113)","v":""},{"$f":"IF($C$90=\"\",\"\",'PÚ CTIF'!$R$113)","v":""},{"$f":"IF($C$90=\"\",\"\",\"(\"&SUM('PÚ CTIF'!$I$113:$Q$113)&\")\")","v":""},{"$f":"IF($C$90=\"\",\"\",'PÚ CTIF'!$S$113)","v":""},null,null,{"$f":"IF(A90=\"x\",300,IF(C90=\"\",\"\",SUM(D90,F90,H90,K90,N90,Q90,R90)))","v":""},null,{"$f":"IF($A90=\"x\",\"x\",IF($C90=\"\",\"\",IF(VLOOKUP($B90,POM!$A$1:$K$100,11)=0,\"\",VLOOKUP($B90,POM!$A$1:$K$100,11))))","v":""}]
[null,null,null,null,{"$f":"IF($C$90=\"\",\"\",PÚ!$S$52)","v":""},null,{"$f":"IF($C$90=\"\",\"\",Št.4x60m!$S$52)","v":""},null,{"$f":"IF($C$90=\"\",\"\",Št.dvojic!$U$114)","v":""},{"$f":"IF($C$90=\"\",\"\",\"(\"&SUM(Št.dvojic!$I$114:$T$114)&\")\")","v":""},null,{"$f":"IF($C$90=\"\",\"\",Št.400mCTIF!$U$114)","v":""},{"$f":"IF($C$90=\"\",\"\",\"(\"&SUM(Št.400mCTIF!$I$114:$T$114)&\")\")","v":""},null,{"$f":"IF($C$90=\"\",\"\",'PÚ CTIF'!$R$114)","v":""},{"$f":"IF($C$90=\"\",\"\",\"(\"&SUM('PÚ CTIF'!$I$114:$Q$114)&\")\")","v":""}]
[{"$f":"IF(Start!I16=\"\",\"\",\"x\")","v":""},36,{"$f":"IF(Start!G16=\"\",\"\",Start!G16)","v":""},null,{"$f":"IF($C$92=\"\",\"\",PÚ!$S$53)","v":""},{"$f":"IF($C$92=\"\",\"\",PÚ!$T53)","v":""},{"$f":"IF($C$92=\"\",\"\",Št.4x60m!$S$53)","v":""},{"$f":"IF($C$92=\"\",\"\",Št.4x60m!$T53)","v":""},{"$f":"IF($C$92=\"\",\"\",Št.dvojic!$U$115)","v":""},{"$f":"IF($C$92=\"\",\"\",\"(\"&SUM(Št.dvojic!$I$115:$T$115)&\")\")","v":""},{"$f":"IF($C$92=\"\",\"\",Št.dvojic!$V$115)","v":""},{"$f":"IF($C$92=\"\",\"\",Št.400mCTIF!$U$115)","v":""},{"$f":"IF($C$92=\"\",\"\",\"(\"&SUM(Št.400mCTIF!$I$115:$T$115)&\")\")","v":""},{"$f":"IF($C$92=\"\",\"\",Št.400mCTIF!$V$115)","v":""},{"$f":"IF($C$92=\"\",\"\",'PÚ CTIF'!$R$115)","v":""},{"$f":"IF($C$92=\"\",\"\",\"(\"&SUM('PÚ CTIF'!$I$115:$Q$115)&\")\")","v":""},{"$f":"IF($C$92=\"\",\"\",'PÚ CTIF'!$S$115)","v":""},null,null,{"$f":"IF(A92=\"x\",300,IF(C92=\"\",\"\",SUM(D92,F92,H92,K92,N92,Q92,R92)))","v":""},null,{"$f":"IF($A92=\"x\",\"x\",IF($C92=\"\",\"\",IF(VLOOKUP($B92,POM!$A$1:$K$100,11)=0,\"\",VLOOKUP($B92,POM!$A$1:$K$100,11))))","v":""}]
[null,null,null,null,{"$f":"IF($C$92=\"\",\"\",PÚ!$S$54)","v":""},null,{"$f":"IF($C$92=\"\",\"\",Št.4x60m!$S$54)","v":""},null,{"$f":"IF($C$92=\"\",\"\",Št.dvojic!$U$116)","v":""},{"$f":"IF($C$92=\"\",\"\",\"(\"&SUM(Št.dvojic!$I$116:$T$116)&\")\")","v":""},null,{"$f":"IF($C$92=\"\",\"\",Št.400mCTIF!$U$116)","v":""},{"$f":"IF($C$92=\"\",\"\",\"(\"&SUM(Št.400mCTIF!$I$116:$T$116)&\")\")","v":""},null,{"$f":"IF($C$92=\"\",\"\",'PÚ CTIF'!$R$116)","v":""},{"$f":"IF($C$92=\"\",\"\",\"(\"&SUM('PÚ CTIF'!$I$116:$Q$116)&\")\")","v":""}]
[{"$f":"IF(Start!I17=\"\",\"\",\"x\")","v":""},37,{"$f":"IF(Start!G17=\"\",\"\",Start!G17)","v":""},null,{"$f":"IF($C$94=\"\",\"\",PÚ!$S$55)","v":""},{"$f":"IF($C$94=\"\",\"\",PÚ!$T55)","v":""},{"$f":"IF($C$94=\"\",\"\",Št.4x60m!$S$55)","v":""},{"$f":"IF($C$94=\"\",\"\",Št.4x60m!$T55)","v":""},{"$f":"IF($C$94=\"\",\"\",Št.dvojic!$U$117)","v":""},{"$f":"IF($C$94=\"\",\"\",\"(\"&SUM(Št.dvojic!$I$117:$T$117)&\")\")","v":""},{"$f":"IF($C$94=\"\",\"\",Št.dvojic!$V$117)","v":""},{"$f":"IF($C$94=\"\",\"\",Št.400mCTIF!$U$117)","v":""},{"$f":"IF($C$94=\"\",\"\",\"(\"&SUM(Št.400mCTIF!$I$117:$T$117)&\")\")","v":""},{"$f":"IF($C$94=\"\",\"\",Št.400mCTIF!$V$117)","v":""},{"$f":"IF($C$94=\"\",\"\",'PÚ CTIF'!$R$117)","v":""},{"$f":"IF($C$94=\"\",\"\",\"(\"&SUM('PÚ CTIF'!$I$117:$Q$117)&\")\")","v":""},{"$f":"IF($C$94=\"\",\"\",'PÚ CTIF'!$S$117)","v":""},null,null,{"$f":"IF(A94=\"x\",300,IF(C94=\"\",\"\",SUM(D94,F94,H94,K94,N94,Q94,R94)))","v":""},null,{"$f":"IF($A94=\"x\",\"x\",IF($C94=\"\",\"\",IF(VLOOKUP($B94,POM!$A$1:$K$100,11)=0,\"\",VLOOKUP($B94,POM!$A$1:$K$100,11))))","v":""}]
[null,null,null,null,{"$f":"IF($C$94=\"\",\"\",PÚ!$S$56)","v":""},null,{"$f":"IF($C$94=\"\",\"\",Št.4x60m!$S$56)","v":""},null,{"$f":"IF($C$94=\"\",\"\",Št.dvojic!$U$118)","v":""},{"$f":"IF($C$94=\"\",\"\",\"(\"&SUM(Št.dvojic!$I$118:$T$118)&\")\")","v":""},null,{"$f":"IF($C$94=\"\",\"\",Št.400mCTIF!$U$118)","v":""},{"$f":"IF($C$94=\"\",\"\",\"(\"&SUM(Št.400mCTIF!$I$118:$T$118)&\")\")","v":""},null,{"$f":"IF($C$94=\"\",\"\",'PÚ CTIF'!$R$118)","v":""},{"$f":"IF($C$94=\"\",\"\",\"(\"&SUM('PÚ CTIF'!$I$118:$Q$118)&\")\")","v":""}]
[{"$f":"IF(Start!I18=\"\",\"\",\"x\")","v":""},38,{"$f":"IF(Start!G18=\"\",\"\",Start!G18)","v":""},null,{"$f":"IF($C$96=\"\",\"\",PÚ!$S$57)","v":""},{"$f":"IF($C$96=\"\",\"\",PÚ!$T57)","v":""},{"$f":"IF($C$96=\"\",\"\",Št.4x60m!$S$57)","v":""},{"$f":"IF($C$96=\"\",\"\",Št.4x60m!$T57)","v":""},{"$f":"IF($C$96=\"\",\"\",Št.dvojic!$U$119)","v":""},{"$f":"IF($C$96=\"\",\"\",\"(\"&SUM(Št.dvojic!$I$119:$T$119)&\")\")","v":""},{"$f":"IF($C$96=\"\",\"\",Št.dvojic!$V$119)","v":""},{"$f":"IF($C$96=\"\",\"\",Št.400mCTIF!$U$119)","v":""},{"$f":"IF($C$96=\"\",\"\",\"(\"&SUM(Št.400mCTIF!$I$119:$T$119)&\")\")","v":""},{"$f":"IF($C$96=\"\",\"\",Št.400mCTIF!$V$119)","v":""},{"$f":"IF($C$96=\"\",\"\",'PÚ CTIF'!$R$119)","v":""},{"$f":"IF($C$96=\"\",\"\",\"(\"&SUM('PÚ CTIF'!$I$119:$Q$119)&\")\")","v":""},{"$f":"IF($C$96=\"\",\"\",'PÚ CTIF'!$S$119)","v":""},null,null,{"$f":"IF(A96=\"x\",300,IF(C96=\"\",\"\",SUM(D96,F96,H96,K96,N96,Q96,R96)))","v":""},null,{"$f":"IF($A96=\"x\",\"x\",IF($C96=\"\",\"\",IF(VLOOKUP($B96,POM!$A$1:$K$100,11)=0,\"\",VLOOKUP($B96,POM!$A$1:$K$100,11))))","v":""}]
[null,null,null,null,{"$f":"IF($C$96=\"\",\"\",PÚ!$S$58)","v":""},null,{"$f":"IF($C$96=\"\",\"\",Št.4x60m!$S$58)","v":""},null,{"$f":"IF($C$96=\"\",\"\",Št.dvojic!$U$120)","v":""},{"$f":"IF($C$96=\"\",\"\",\"(\"&SUM(Št.dvojic!$I$120:$T$120)&\")\")","v":""},null,{"$f":"IF($C$96=\"\",\"\",Št.400mCTIF!$U$120)","v":""},{"$f":"IF($C$96=\"\",\"\",\"(\"&SUM(Št.400mCTIF!$I$120:$T$120)&\")\")","v":""},null,{"$f":"IF($C$96=\"\",\"\",'PÚ CTIF'!$R$120)","v":""},{"$f":"IF($C$96=\"\",\"\",\"(\"&SUM('PÚ CTIF'!$I$120:$Q$120)&\")\")","v":""}]
[{"$f":"IF(Start!I19=\"\",\"\",\"x\")","v":""},39,{"$f":"IF(Start!G19=\"\",\"\",Start!G19)","v":""},null,{"$f":"IF($C$98=\"\",\"\",PÚ!$S$59)","v":""},{"$f":"IF($C$98=\"\",\"\",PÚ!$T59)","v":""},{"$f":"IF($C$98=\"\",\"\",Št.4x60m!$S$59)","v":""},{"$f":"IF($C$98=\"\",\"\",Št.4x60m!$T59)","v":""},{"$f":"IF($C$98=\"\",\"\",Št.dvojic!$U$121)","v":""},{"$f":"IF($C$98=\"\",\"\",\"(\"&SUM(Št.dvojic!$I$121:$T$121)&\")\")","v":""},{"$f":"IF($C$98=\"\",\"\",Št.dvojic!$V$121)","v":""},{"$f":"IF($C$98=\"\",\"\",Št.400mCTIF!$U$121)","v":""},{"$f":"IF($C$98=\"\",\"\",\"(\"&SUM(Št.400mCTIF!$I$121:$T$121)&\")\")","v":""},{"$f":"IF($C$98=\"\",\"\",Št.400mCTIF!$V$121)","v":""},{"$f":"IF($C$98=\"\",\"\",'PÚ CTIF'!$R$121)","v":""},{"$f":"IF($C$98=\"\",\"\",\"(\"&SUM('PÚ CTIF'!$I$121:$Q$121)&\")\")","v":""},{"$f":"IF($C$98=\"\",\"\",'PÚ CTIF'!$S$121)","v":""},null,null,{"$f":"IF(A98=\"x\",300,IF(C98=\"\",\"\",SUM(D98,F98,H98,K98,N98,Q98,R98)))","v":""},null,{"$f":"IF($A98=\"x\",\"x\",IF($C98=\"\",\"\",IF(VLOOKUP($B98,POM!$A$1:$K$100,11)=0,\"\",VLOOKUP($B98,POM!$A$1:$K$100,11))))","v":""}]
[null,null,null,null,{"$f":"IF($C$98=\"\",\"\",PÚ!$S$60)","v":""},null,{"$f":"IF($C$98=\"\",\"\",Št.4x60m!$S$60)","v":""},null,{"$f":"IF($C$98=\"\",\"\",Št.dvojic!$U$122)","v":""},{"$f":"IF($C$98=\"\",\"\",\"(\"&SUM(Št.dvojic!$I$122:$T$122)&\")\")","v":""},null,{"$f":"IF($C$98=\"\",\"\",Št.400mCTIF!$U$122)","v":""},{"$f":"IF($C$98=\"\",\"\",\"(\"&SUM(Št.400mCTIF!$I$122:$T$122)&\")\")","v":""},null,{"$f":"IF($C$98=\"\",\"\",'PÚ CTIF'!$R$122)","v":""},{"$f":"IF($C$98=\"\",\"\",\"(\"&SUM('PÚ CTIF'!$I$122:$Q$122)&\")\")","v":""}]
[{"$f":"IF(Start!I20=\"\",\"\",\"x\")","v":""},40,{"$f":"IF(Start!G20=\"\",\"\",Start!G20)","v":""},null,{"$f":"IF($C$100=\"\",\"\",PÚ!$S$61)","v":""},{"$f":"IF($C$100=\"\",\"\",PÚ!$T61)","v":""},{"$f":"IF($C$100=\"\",\"\",Št.4x60m!$S$61)","v":""},{"$f":"IF($C$100=\"\",\"\",Št.4x60m!$T61)","v":""},{"$f":"IF($C$100=\"\",\"\",Št.dvojic!$U$123)","v":""},{"$f":"IF($C$100=\"\",\"\",\"(\"&SUM(Št.dvojic!$I$123:$T$123)&\")\")","v":""},{"$f":"IF($C$100=\"\",\"\",Št.dvojic!$V$123)","v":""},{"$f":"IF($C$100=\"\",\"\",Št.400mCTIF!$U$123)","v":""},{"$f":"IF($C$100=\"\",\"\",\"(\"&SUM(Št.400mCTIF!$I$123:$T$123)&\")\")","v":""},{"$f":"IF($C$100=\"\",\"\",Št.400mCTIF!$V$123)","v":""},{"$f":"IF($C$100=\"\",\"\",'PÚ CTIF'!$R$123)","v":""},{"$f":"IF($C$100=\"\",\"\",\"(\"&SUM('PÚ CTIF'!$I$123:$Q$123)&\")\")","v":""},{"$f":"IF($C$100=\"\",\"\",'PÚ CTIF'!$S$123)","v":""},null,null,{"$f":"IF(A100=\"x\",300,IF(C100=\"\",\"\",SUM(D100,F100,H100,K100,N100,Q100,R100)))","v":""},null,{"$f":"IF($A100=\"x\",\"x\",IF($C100=\"\",\"\",IF(VLOOKUP($B100,POM!$A$1:$K$100,11)=0,\"\",VLOOKUP($B100,POM!$A$1:$K$100,11))))","v":""}]
[null,null,null,null,{"$f":"IF($C$100=\"\",\"\",PÚ!$S$62)","v":""},null,{"$f":"IF($C$100=\"\",\"\",Št.4x60m!$S$62)","v":""},null,{"$f":"IF($C$100=\"\",\"\",Št.dvojic!$U$124)","v":""},{"$f":"IF($C$100=\"\",\"\",\"(\"&SUM(Št.dvojic!$I$124:$T$124)&\")\")","v":""},null,{"$f":"IF($C$100=\"\",\"\",Št.400mCTIF!$U$124)","v":""},{"$f":"IF($C$100=\"\",\"\",\"(\"&SUM(Št.400mCTIF!$I$124:$T$124)&\")\")","v":""},null,{"$f":"IF($C$100=\"\",\"\",'PÚ CTIF'!$R$124)","v":""},{"$f":"IF($C$100=\"\",\"\",\"(\"&SUM('PÚ CTIF'!$I$124:$Q$124)&\")\")","v":""}]
[{"$f":"IF(Start!I21=\"\",\"\",\"x\")","v":""},41,{"$f":"IF(Start!G21=\"\",\"\",Start!G21)","v":""},null,{"$f":"IF($C$102=\"\",\"\",PÚ!$H$74)","v":""},{"$f":"IF($C$102=\"\",\"\",PÚ!$I$74)","v":""},{"$f":"IF($C$102=\"\",\"\",Št.4x60m!$H$74)","v":""},{"$f":"IF($C$102=\"\",\"\",Št.4x60m!$I$74)","v":""},{"$f":"IF($C$102=\"\",\"\",Št.dvojic!$U$136)","v":""},{"$f":"IF($C$102=\"\",\"\",\"(\"&SUM(Št.dvojic!$I$136:$T$136)&\")\")","v":""},{"$f":"IF($C$102=\"\",\"\",Št.dvojic!$V$136)","v":""},{"$f":"IF($C$102=\"\",\"\",Št.400mCTIF!$U$136)","v":""},{"$f":"IF($C$102=\"\",\"\",\"(\"&SUM(Št.400mCTIF!$I$136:$T$136)&\")\")","v":""},{"$f":"IF($C$102=\"\",\"\",Št.400mCTIF!$V$136)","v":""},{"$f":"IF($C$102=\"\",\"\",'PÚ CTIF'!$R$136)","v":""},{"$f":"IF($C$102=\"\",\"\",\"(\"&SUM('PÚ CTIF'!$I$136:$Q$136)&\")\")","v":""},{"$f":"IF($C$102=\"\",\"\",'PÚ CTIF'!$S$136)","v":""},null,null,{"$f":"IF(A102=\"x\",300,IF(C102=\"\",\"\",SUM(D102,F102,H102,K102,N102,Q102,R102)))","v":""},null,{"$f":"IF($A102=\"x\",\"x\",IF($C102=\"\",\"\",IF(VLOOKUP($B102,POM!$A$1:$K$100,11)=0,\"\",VLOOKUP($B102,POM!$A$1:$K$100,11))))","v":""}]
[null,null,null,null,{"$f":"IF($C$102=\"\",\"\",PÚ!$H$75)","v":""},null,{"$f":"IF($C$102=\"\",\"\",Št.4x60m!$H$75)","v":""},null,{"$f":"IF($C$102=\"\",\"\",Št.dvojic!$U$137)","v":""},{"$f":"IF($C$102=\"\",\"\",\"(\"&SUM(Št.dvojic!$I$137:$T$137)&\")\")","v":""},null,{"$f":"IF($C$102=\"\",\"\",Št.400mCTIF!$U$137)","v":""},{"$f":"IF($C$102=\"\",\"\",\"(\"&SUM(Št.400mCTIF!$I$137:$T$137)&\")\")","v":""},null,{"$f":"IF($C$102=\"\",\"\",'PÚ CTIF'!$R$137)","v":""},{"$f":"IF($C$102=\"\",\"\",\"(\"&SUM('PÚ CTIF'!$I$137:$Q$137)&\")\")","v":""}]
[{"$f":"IF(Start!I22=\"\",\"\",\"x\")","v":""},42,{"$f":"IF(Start!G22=\"\",\"\",Start!G22)","v":""},null,{"$f":"IF($C$104=\"\",\"\",PÚ!$H$76)","v":""},{"$f":"IF($C$104=\"\",\"\",PÚ!$I$76)","v":""},{"$f":"IF($C$104=\"\",\"\",Št.4x60m!$H$76)","v":""},{"$f":"IF($C$104=\"\",\"\",Št.4x60m!$I$76)","v":""},{"$f":"IF($C$104=\"\",\"\",Št.dvojic!$U$138)","v":""},{"$f":"IF($C$104=\"\",\"\",\"(\"&SUM(Št.dvojic!$I$138:$T$138)&\")\")","v":""},{"$f":"IF($C$104=\"\",\"\",Št.dvojic!$V$138)","v":""},{"$f":"IF($C$104=\"\",\"\",Št.400mCTIF!$U$138)","v":""},{"$f":"IF($C$104=\"\",\"\",\"(\"&SUM(Št.400mCTIF!$I$138:$T$138)&\")\")","v":""},{"$f":"IF($C$104=\"\",\"\",Št.400mCTIF!$V$138)","v":""},{"$f":"IF($C$104=\"\",\"\",'PÚ CTIF'!$R$138)","v":""},{"$f":"IF($C$104=\"\",\"\",\"(\"&SUM('PÚ CTIF'!$I$138:$Q$138)&\")\")","v":""},{"$f":"IF($C$104=\"\",\"\",'PÚ CTIF'!$S$138)","v":""},null,null,{"$f":"IF(A104=\"x\",300,IF(C104=\"\",\"\",SUM(D104,F104,H104,K104,N104,Q104,R104)))","v":""},null,{"$f":"IF($A104=\"x\",\"x\",IF($C104=\"\",\"\",IF(VLOOKUP($B104,POM!$A$1:$K$100,11)=0,\"\",VLOOKUP($B104,POM!$A$1:$K$100,11))))","v":""}]
[null,null,null,null,{"$f":"IF($C$104=\"\",\"\",PÚ!$H$77)","v":""},null,{"$f":"IF($C$104=\"\",\"\",Št.4x60m!$H$77)","v":""},null,{"$f":"IF($C$104=\"\",\"\",Št.dvojic!$U$139)","v":""},{"$f":"IF($C$104=\"\",\"\",\"(\"&SUM(Št.dvojic!$I$139:$T$139)&\")\")","v":""},null,{"$f":"IF($C$104=\"\",\"\",Št.400mCTIF!$U$139)","v":""},{"$f":"IF($C$104=\"\",\"\",\"(\"&SUM(Št.400mCTIF!$I$139:$T$139)&\")\")","v":""},null,{"$f":"IF($C$104=\"\",\"\",'PÚ CTIF'!$R$139)","v":""},{"$f":"IF($C$104=\"\",\"\",\"(\"&SUM('PÚ CTIF'!$I$139:$Q$139)&\")\")","v":""}]
[null,{"$f":"B71","v":"Celkové výsledky - TISK"}]
[]
[null,null,null,{"$f":"D73","v":"Požární útoky "},null,null,null,null,null,null,null,{"$f":"L73","v":"18.05.2025, Kamenný Újezd"}]
[null,null,{"$f":"Start!$N$2","v":"starší"}]
[null," startovní číslo"," SDH",null," PÚ",null," Štafeta 4 x 60 m",null," Štafeta dvojic",null,null," 400 m štafeta CTIF",null,null," PÚ - CTIF",null,null,null,null," Celkový součet",null,"Pořadí"]
[null,null,null,null,"1.pokus","P.","1.pokus","P.","1.pokus","tr.body","P.","1.pokus","tr.body","P.","1.pokus","tr.body","P."]
[null,null,null,null,"2.pokus",null,"2.pokus",null,"2.pokus","tr.body",null,"2.pokus","tr.body",null,"2.pokus","tr.body"]
[{"$f":"IF(Start!I23=\"\",\"\",\"x\")","v":""},43,{"$f":"IF(Start!G23=\"\",\"\",Start!G23)","v":""},null,{"$f":"IF($C$113=\"\",\"\",PÚ!$H$78)","v":""},{"$f":"IF($C$113=\"\",\"\",PÚ!$I$78)","v":""},{"$f":"IF($C$113=\"\",\"\",Št.4x60m!$H$78)","v":""},{"$f":"IF($C$113=\"\",\"\",Št.4x60m!$I$78)","v":""},{"$f":"IF($C$113=\"\",\"\",Št.dvojic!$U$140)","v":""},{"$f":"IF($C$113=\"\",\"\",\"(\"&SUM(Št.dvojic!$I$140:$T$140)&\")\")","v":""},{"$f":"IF($C$113=\"\",\"\",Št.dvojic!$V$140)","v":""},{"$f":"IF($C$113=\"\",\"\",Št.400mCTIF!$U$140)","v":""},{"$f":"IF($C$113=\"\",\"\",\"(\"&SUM(Št.400mCTIF!$I$140:$T$140)&\")\")","v":""},{"$f":"IF($C$113=\"\",\"\",Št.400mCTIF!$V$140)","v":""},{"$f":"IF($C$113=\"\",\"\",'PÚ CTIF'!$R$140)","v":""},{"$f":"IF($C$113=\"\",\"\",\"(\"&SUM('PÚ CTIF'!$I$140:$Q$140)&\")\")","v":""},{"$f":"IF($C$113=\"\",\"\",'PÚ CTIF'!$S$140)","v":""},null,null,{"$f":"IF(A113=\"x\",300,IF(C113=\"\",\"\",SUM(D113,F113,H113,K113,N113,Q113,R113)))","v":""},null,{"$f":"IF($A113=\"x\",\"x\",IF($C113=\"\",\"\",IF(VLOOKUP($B113,POM!$A$1:$K$100,11)=0,\"\",VLOOKUP($B113,POM!$A$1:$K$100,11))))","v":""}]
[null,null,null,null,{"$f":"IF($C$113=\"\",\"\",PÚ!$H$79)","v":""},null,{"$f":"IF($C$113=\"\",\"\",Št.4x60m!$H$79)","v":""},null,{"$f":"IF($C$113=\"\",\"\",Št.dvojic!$U$141)","v":""},{"$f":"IF($C$113=\"\",\"\",\"(\"&SUM(Št.dvojic!$I$141:$T$141)&\")\")","v":""},null,{"$f":"IF($C$113=\"\",\"\",Št.400mCTIF!$U$141)","v":""},{"$f":"IF($C$113=\"\",\"\",\"(\"&SUM(Št.400mCTIF!$I$141:$T$141)&\")\")","v":""},null,{"$f":"IF($C$113=\"\",\"\",'PÚ CTIF'!$R$141)","v":""},{"$f":"IF($C$113=\"\",\"\",\"(\"&SUM('PÚ CTIF'!$I$141:$Q$141)&\")\")","v":""}]
[{"$f":"IF(Start!I24=\"\",\"\",\"x\")","v":""},44,{"$f":"IF(Start!G24=\"\",\"\",Start!G24)","v":""},null,{"$f":"IF($C$115=\"\",\"\",PÚ!$H$80)","v":""},{"$f":"IF($C$115=\"\",\"\",PÚ!$I$80)","v":""},{"$f":"IF($C$115=\"\",\"\",Št.4x60m!$H$80)","v":""},{"$f":"IF($C$115=\"\",\"\",Št.4x60m!$I$80)","v":""},{"$f":"IF($C$115=\"\",\"\",Št.dvojic!$U$142)","v":""},{"$f":"IF($C$115=\"\",\"\",\"(\"&SUM(Št.dvojic!$I$142:$T$142)&\")\")","v":""},{"$f":"IF($C$115=\"\",\"\",Št.dvojic!$V$142)","v":""},{"$f":"IF($C$115=\"\",\"\",Št.400mCTIF!$U$142)","v":""},{"$f":"IF($C$115=\"\",\"\",\"(\"&SUM(Št.400mCTIF!$I$142:$T$142)&\")\")","v":""},{"$f":"IF($C$115=\"\",\"\",Št.400mCTIF!$V$142)","v":""},{"$f":"IF($C$115=\"\",\"\",'PÚ CTIF'!$R$142)","v":""},{"$f":"IF($C$115=\"\",\"\",\"(\"&SUM('PÚ CTIF'!$I$142:$Q$142)&\")\")","v":""},{"$f":"IF($C$115=\"\",\"\",'PÚ CTIF'!$S$142)","v":""},null,null,{"$f":"IF(A115=\"x\",300,IF(C115=\"\",\"\",SUM(D115,F115,H115,K115,N115,Q115,R115)))","v":""},null,{"$f":"IF($A115=\"x\",\"x\",IF($C115=\"\",\"\",IF(VLOOKUP($B115,POM!$A$1:$K$100,11)=0,\"\",VLOOKUP($B115,POM!$A$1:$K$100,11))))","v":""}]
[null,null,null,null,{"$f":"IF($C$115=\"\",\"\",PÚ!$H$81)","v":""},null,{"$f":"IF($C$115=\"\",\"\",Št.4x60m!$H$81)","v":""},null,{"$f":"IF($C$115=\"\",\"\",Št.dvojic!$U$143)","v":""},{"$f":"IF($C$115=\"\",\"\",\"(\"&SUM(Št.dvojic!$I$143:$T$143)&\")\")","v":""},null,{"$f":"IF($C$115=\"\",\"\",Št.400mCTIF!$U$143)","v":""},{"$f":"IF($C$115=\"\",\"\",\"(\"&SUM(Št.400mCTIF!$I$143:$T$143)&\")\")","v":""},null,{"$f":"IF($C$115=\"\",\"\",'PÚ CTIF'!$R$143)","v":""},{"$f":"IF($C$115=\"\",\"\",\"(\"&SUM('PÚ CTIF'!$I$143:$Q$143)&\")\")","v":""}]
[{"$f":"IF(Start!I25=\"\",\"\",\"x\")","v":""},45,{"$f":"IF(Start!G25=\"\",\"\",Start!G25)","v":""},null,{"$f":"IF($C$117=\"\",\"\",PÚ!$H$82)","v":""},{"$f":"IF($C$117=\"\",\"\",PÚ!$I$82)","v":""},{"$f":"IF($C$117=\"\",\"\",Št.4x60m!$H$82)","v":""},{"$f":"IF($C$117=\"\",\"\",Št.4x60m!$I$82)","v":""},{"$f":"IF($C$117=\"\",\"\",Št.dvojic!$U$144)","v":""},{"$f":"IF($C$117=\"\",\"\",\"(\"&SUM(Št.dvojic!$I$144:$T$144)&\")\")","v":""},{"$f":"IF($C$117=\"\",\"\",Št.dvojic!$V$144)","v":""},{"$f":"IF($C$117=\"\",\"\",Št.400mCTIF!$U$144)","v":""},{"$f":"IF($C$117=\"\",\"\",\"(\"&SUM(Št.400mCTIF!$I$144:$T$144)&\")\")","v":""},{"$f":"IF($C$117=\"\",\"\",Št.400mCTIF!$V$144)","v":""},{"$f":"IF($C$117=\"\",\"\",'PÚ CTIF'!$R$144)","v":""},{"$f":"IF($C$117=\"\",\"\",\"(\"&SUM('PÚ CTIF'!$I$144:$Q$144)&\")\")","v":""},{"$f":"IF($C$117=\"\",\"\",'PÚ CTIF'!$S$144)","v":""},null,null,{"$f":"IF(A117=\"x\",300,IF(C117=\"\",\"\",SUM(D117,F117,H117,K117,N117,Q117,R117)))","v":""},null,{"$f":"IF($A117=\"x\",\"x\",IF($C117=\"\",\"\",IF(VLOOKUP($B117,POM!$A$1:$K$100,11)=0,\"\",VLOOKUP($B117,POM!$A$1:$K$100,11))))","v":""}]
[null,null,null,null,{"$f":"IF($C$117=\"\",\"\",PÚ!$H$83)","v":""},null,{"$f":"IF($C$117=\"\",\"\",Št.4x60m!$H$83)","v":""},null,{"$f":"IF($C$117=\"\",\"\",Št.dvojic!$U$145)","v":""},{"$f":"IF($C$117=\"\",\"\",\"(\"&SUM(Št.dvojic!$I$145:$T$145)&\")\")","v":""},null,{"$f":"IF($C$117=\"\",\"\",Št.400mCTIF!$U$145)","v":""},{"$f":"IF($C$117=\"\",\"\",\"(\"&SUM(Št.400mCTIF!$I$145:$T$145)&\")\")","v":""},null,{"$f":"IF($C$117=\"\",\"\",'PÚ CTIF'!$R$145)","v":""},{"$f":"IF($C$117=\"\",\"\",\"(\"&SUM('PÚ CTIF'!$I$145:$Q$145)&\")\")","v":""}]
[{"$f":"IF(Start!I26=\"\",\"\",\"x\")","v":""},46,{"$f":"IF(Start!G26=\"\",\"\",Start!G26)","v":""},null,{"$f":"IF($C$119=\"\",\"\",PÚ!$H$84)","v":""},{"$f":"IF($C$119=\"\",\"\",PÚ!$I$84)","v":""},{"$f":"IF($C$119=\"\",\"\",Št.4x60m!$H$84)","v":""},{"$f":"IF($C$119=\"\",\"\",Št.4x60m!$I$84)","v":""},{"$f":"IF($C$119=\"\",\"\",Št.dvojic!$U$146)","v":""},{"$f":"IF($C$119=\"\",\"\",\"(\"&SUM(Št.dvojic!$I$146:$T$146)&\")\")","v":""},{"$f":"IF($C$119=\"\",\"\",Št.dvojic!$V$146)","v":""},{"$f":"IF($C$119=\"\",\"\",Št.400mCTIF!$U$146)","v":""},{"$f":"IF($C$119=\"\",\"\",\"(\"&SUM(Št.400mCTIF!$I$146:$T$146)&\")\")","v":""},{"$f":"IF($C$119=\"\",\"\",Št.400mCTIF!$V$146)","v":""},{"$f":"IF($C$119=\"\",\"\",'PÚ CTIF'!$R$146)","v":""},{"$f":"IF($C$119=\"\",\"\",\"(\"&SUM('PÚ CTIF'!$I$146:$Q$146)&\")\")","v":""},{"$f":"IF($C$119=\"\",\"\",'PÚ CTIF'!$S$146)","v":""},null,null,{"$f":"IF(A119=\"x\",300,IF(C119=\"\",\"\",SUM(D119,F119,H119,K119,N119,Q119,R119)))","v":""},null,{"$f":"IF($A119=\"x\",\"x\",IF($C119=\"\",\"\",IF(VLOOKUP($B119,POM!$A$1:$K$100,11)=0,\"\",VLOOKUP($B119,POM!$A$1:$K$100,11))))","v":""}]
[null,null,null,null,{"$f":"IF($C$119=\"\",\"\",PÚ!$H$85)","v":""},null,{"$f":"IF($C$119=\"\",\"\",Št.4x60m!$H$85)","v":""},null,{"$f":"IF($C$119=\"\",\"\",Št.dvojic!$U$147)","v":""},{"$f":"IF($C$119=\"\",\"\",\"(\"&SUM(Št.dvojic!$I$147:$T$147)&\")\")","v":""},null,{"$f":"IF($C$119=\"\",\"\",Št.400mCTIF!$U$147)","v":""},{"$f":"IF($C$119=\"\",\"\",\"(\"&SUM(Št.400mCTIF!$I$147:$T$147)&\")\")","v":""},null,{"$f":"IF($C$119=\"\",\"\",'PÚ CTIF'!$R$147)","v":""},{"$f":"IF($C$119=\"\",\"\",\"(\"&SUM('PÚ CTIF'!$I$147:$Q$147)&\")\")","v":""}]
[{"$f":"IF(Start!I27=\"\",\"\",\"x\")","v":""},47,{"$f":"IF(Start!G27=\"\",\"\",Start!G27)","v":""},null,{"$f":"IF($C$121=\"\",\"\",PÚ!$H$86)","v":""},{"$f":"IF($C$121=\"\",\"\",PÚ!$I$86)","v":""},{"$f":"IF($C$121=\"\",\"\",Št.4x60m!$H$86)","v":""},{"$f":"IF($C$121=\"\",\"\",Št.4x60m!$I$86)","v":""},{"$f":"IF($C$121=\"\",\"\",Št.dvojic!$U$148)","v":""},{"$f":"IF($C$121=\"\",\"\",\"(\"&SUM(Št.dvojic!$I$148:$T$148)&\")\")","v":""},{"$f":"IF($C$121=\"\",\"\",Št.dvojic!$V$148)","v":""},{"$f":"IF($C$121=\"\",\"\",Št.400mCTIF!$U$148)","v":""},{"$f":"IF($C$121=\"\",\"\",\"(\"&SUM(Št.400mCTIF!$I$148:$T$148)&\")\")","v":""},{"$f":"IF($C$121=\"\",\"\",Št.400mCTIF!$V$148)","v":""},{"$f":"IF($C$121=\"\",\"\",'PÚ CTIF'!$R$148)","v":""},{"$f":"IF($C$121=\"\",\"\",\"(\"&SUM('PÚ CTIF'!$I$148:$Q$148)&\")\")","v":""},{"$f":"IF($C$121=\"\",\"\",'PÚ CTIF'!$S$148)","v":""},null,null,{"$f":"IF(A121=\"x\",300,IF(C121=\"\",\"\",SUM(D121,F121,H121,K121,N121,Q121,R121)))","v":""},null,{"$f":"IF($A121=\"x\",\"x\",IF($C121=\"\",\"\",IF(VLOOKUP($B121,POM!$A$1:$K$100,11)=0,\"\",VLOOKUP($B121,POM!$A$1:$K$100,11))))","v":""}]
[null,null,null,null,{"$f":"IF($C$121=\"\",\"\",PÚ!$H$87)","v":""},null,{"$f":"IF($C$121=\"\",\"\",Št.4x60m!$H$87)","v":""},null,{"$f":"IF($C$121=\"\",\"\",Št.dvojic!$U$149)","v":""},{"$f":"IF($C$121=\"\",\"\",\"(\"&SUM(Št.dvojic!$I$149:$T$149)&\")\")","v":""},null,{"$f":"IF($C$121=\"\",\"\",Št.400mCTIF!$U$149)","v":""},{"$f":"IF($C$121=\"\",\"\",\"(\"&SUM(Št.400mCTIF!$I$149:$T$149)&\")\")","v":""},null,{"$f":"IF($C$121=\"\",\"\",'PÚ CTIF'!$R$149)","v":""},{"$f":"IF($C$121=\"\",\"\",\"(\"&SUM('PÚ CTIF'!$I$149:$Q$149)&\")\")","v":""}]
[{"$f":"IF(Start!I28=\"\",\"\",\"x\")","v":""},48,{"$f":"IF(Start!G28=\"\",\"\",Start!G28)","v":""},null,{"$f":"IF($C$123=\"\",\"\",PÚ!$H$88)","v":""},{"$f":"IF($C$123=\"\",\"\",PÚ!$I$88)","v":""},{"$f":"IF($C$123=\"\",\"\",Št.4x60m!$H$88)","v":""},{"$f":"IF($C$123=\"\",\"\",Št.4x60m!$I$88)","v":""},{"$f":"IF($C$123=\"\",\"\",Št.dvojic!$U$150)","v":""},{"$f":"IF($C$123=\"\",\"\",\"(\"&SUM(Št.dvojic!$I$150:$T$150)&\")\")","v":""},{"$f":"IF($C$123=\"\",\"\",Št.dvojic!$V$150)","v":""},{"$f":"IF($C$123=\"\",\"\",Št.400mCTIF!$U$150)","v":""},{"$f":"IF($C$123=\"\",\"\",\"(\"&SUM(Št.400mCTIF!$I$150:$T$150)&\")\")","v":""},{"$f":"IF($C$123=\"\",\"\",Št.400mCTIF!$V$150)","v":""},{"$f":"IF($C$123=\"\",\"\",'PÚ CTIF'!$R$150)","v":""},{"$f":"IF($C$123=\"\",\"\",\"(\"&SUM('PÚ CTIF'!$I$150:$Q$150)&\")\")","v":""},{"$f":"IF($C$123=\"\",\"\",'PÚ CTIF'!$S$150)","v":""},null,null,{"$f":"IF(A123=\"x\",300,IF(C123=\"\",\"\",SUM(D123,F123,H123,K123,N123,Q123,R123)))","v":""},null,{"$f":"IF($A123=\"x\",\"x\",IF($C123=\"\",\"\",IF(VLOOKUP($B123,POM!$A$1:$K$100,11)=0,\"\",VLOOKUP($B123,POM!$A$1:$K$100,11))))","v":""}]
[null,null,null,null,{"$f":"IF($C$123=\"\",\"\",PÚ!$H$89)","v":""},null,{"$f":"IF($C$123=\"\",\"\",Št.4x60m!$H$89)","v":""},null,{"$f":"IF($C$123=\"\",\"\",Št.dvojic!$U$151)","v":""},{"$f":"IF($C$123=\"\",\"\",\"(\"&SUM(Št.dvojic!$I$151:$T$151)&\")\")","v":""},null,{"$f":"IF($C$123=\"\",\"\",Št.400mCTIF!$U$151)","v":""},{"$f":"IF($C$123=\"\",\"\",\"(\"&SUM(Št.400mCTIF!$I$151:$T$151)&\")\")","v":""},null,{"$f":"IF($C$123=\"\",\"\",'PÚ CTIF'!$R$151)","v":""},{"$f":"IF($C$123=\"\",\"\",\"(\"&SUM('PÚ CTIF'!$I$151:$Q$151)&\")\")","v":""}]
[{"$f":"IF(Start!I29=\"\",\"\",\"x\")","v":""},49,{"$f":"IF(Start!G29=\"\",\"\",Start!G29)","v":""},null,{"$f":"IF($C$125=\"\",\"\",PÚ!$H$90)","v":""},{"$f":"IF($C$125=\"\",\"\",PÚ!$I$90)","v":""},{"$f":"IF($C$125=\"\",\"\",Št.4x60m!$H$90)","v":""},{"$f":"IF($C$125=\"\",\"\",Št.4x60m!$I$90)","v":""},{"$f":"IF($C$125=\"\",\"\",Št.dvojic!$U$152)","v":""},{"$f":"IF($C$125=\"\",\"\",\"(\"&SUM(Št.dvojic!$I$152:$T$152)&\")\")","v":""},{"$f":"IF($C$125=\"\",\"\",Št.dvojic!$V$152)","v":""},{"$f":"IF($C$125=\"\",\"\",Št.400mCTIF!$U$152)","v":""},{"$f":"IF($C$125=\"\",\"\",\"(\"&SUM(Št.400mCTIF!$I$152:$T$152)&\")\")","v":""},{"$f":"IF($C$125=\"\",\"\",Št.400mCTIF!$V$152)","v":""},{"$f":"IF($C$125=\"\",\"\",'PÚ CTIF'!$R$152)","v":""},{"$f":"IF($C$125=\"\",\"\",\"(\"&SUM('PÚ CTIF'!$I$152:$Q$152)&\")\")","v":""},{"$f":"IF($C$125=\"\",\"\",'PÚ CTIF'!$S$152)","v":""},null,null,{"$f":"IF(A125=\"x\",300,IF(C125=\"\",\"\",SUM(D125,F125,H125,K125,N125,Q125,R125)))","v":""},null,{"$f":"IF($A125=\"x\",\"x\",IF($C125=\"\",\"\",IF(VLOOKUP($B125,POM!$A$1:$K$100,11)=0,\"\",VLOOKUP($B125,POM!$A$1:$K$100,11))))","v":""}]
[null,null,null,null,{"$f":"IF($C$125=\"\",\"\",PÚ!$H$91)","v":""},null,{"$f":"IF($C$125=\"\",\"\",Št.4x60m!$H$91)","v":""},null,{"$f":"IF($C$125=\"\",\"\",Št.dvojic!$U$153)","v":""},{"$f":"IF($C$125=\"\",\"\",\"(\"&SUM(Št.dvojic!$I$153:$T$153)&\")\")","v":""},null,{"$f":"IF($C$125=\"\",\"\",Št.400mCTIF!$U$153)","v":""},{"$f":"IF($C$125=\"\",\"\",\"(\"&SUM(Št.400mCTIF!$I$153:$T$153)&\")\")","v":""},null,{"$f":"IF($C$125=\"\",\"\",'PÚ CTIF'!$R$153)","v":""},{"$f":"IF($C$125=\"\",\"\",\"(\"&SUM('PÚ CTIF'!$I$153:$Q$153)&\")\")","v":""}]
[{"$f":"IF(Start!I30=\"\",\"\",\"x\")","v":""},50,{"$f":"IF(Start!G30=\"\",\"\",Start!G30)","v":""},null,{"$f":"IF($C$127=\"\",\"\",PÚ!$H$92)","v":""},{"$f":"IF($C$127=\"\",\"\",PÚ!$I$92)","v":""},{"$f":"IF($C$127=\"\",\"\",Št.4x60m!$H$92)","v":""},{"$f":"IF($C$127=\"\",\"\",Št.4x60m!$I$92)","v":""},{"$f":"IF($C$127=\"\",\"\",Št.dvojic!$U$154)","v":""},{"$f":"IF($C$127=\"\",\"\",\"(\"&SUM(Št.dvojic!$I$154:$T$154)&\")\")","v":""},{"$f":"IF($C$127=\"\",\"\",Št.dvojic!$V$154)","v":""},{"$f":"IF($C$127=\"\",\"\",Št.400mCTIF!$U$154)","v":""},{"$f":"IF($C$127=\"\",\"\",\"(\"&SUM(Št.400mCTIF!$I$154:$T$154)&\")\")","v":""},{"$f":"IF($C$127=\"\",\"\",Št.400mCTIF!$V$154)","v":""},{"$f":"IF($C$127=\"\",\"\",'PÚ CTIF'!$R$154)","v":""},{"$f":"IF($C$127=\"\",\"\",\"(\"&SUM('PÚ CTIF'!$I$154:$Q$154)&\")\")","v":""},{"$f":"IF($C$127=\"\",\"\",'PÚ CTIF'!$S$154)","v":""},null,null,{"$f":"IF(A127=\"x\",300,IF(C127=\"\",\"\",SUM(D127,F127,H127,K127,N127,Q127,R127)))","v":""},null,{"$f":"IF($A127=\"x\",\"x\",IF($C127=\"\",\"\",IF(VLOOKUP($B127,POM!$A$1:$K$100,11)=0,\"\",VLOOKUP($B127,POM!$A$1:$K$100,11))))","v":""}]
[null,null,null,null,{"$f":"IF($C$127=\"\",\"\",PÚ!$H$93)","v":""},null,{"$f":"IF($C$127=\"\",\"\",Št.4x60m!$H$93)","v":""},null,{"$f":"IF($C$127=\"\",\"\",Št.dvojic!$U$155)","v":""},{"$f":"IF($C$127=\"\",\"\",\"(\"&SUM(Št.dvojic!$I$155:$T$155)&\")\")","v":""},null,{"$f":"IF($C$127=\"\",\"\",Št.400mCTIF!$U$155)","v":""},{"$f":"IF($C$127=\"\",\"\",\"(\"&SUM(Št.400mCTIF!$I$155:$T$155)&\")\")","v":""},null,{"$f":"IF($C$127=\"\",\"\",'PÚ CTIF'!$R$155)","v":""},{"$f":"IF($C$127=\"\",\"\",\"(\"&SUM('PÚ CTIF'!$I$155:$Q$155)&\")\")","v":""}]
[{"$f":"IF(Start!M6=\"\",\"\",\"x\")","v":""},51,{"$f":"IF(Start!K6=\"\",\"\",Start!K6)","v":""},null,{"$f":"IF($C$129=\"\",\"\",PÚ!$S$74)","v":""},{"$f":"IF($C$129=\"\",\"\",PÚ!$T74)","v":""},{"$f":"IF($C$129=\"\",\"\",Št.4x60m!$S$74)","v":""},{"$f":"IF($C$129=\"\",\"\",Št.4x60m!$T74)","v":""},{"$f":"IF($C$129=\"\",\"\",Št.dvojic!$U$167)","v":""},{"$f":"IF($C$129=\"\",\"\",\"(\"&SUM(Št.dvojic!$I$167:$T$167)&\")\")","v":""},{"$f":"IF($C$129=\"\",\"\",Št.dvojic!$V$167)","v":""},{"$f":"IF($C$129=\"\",\"\",Št.400mCTIF!$U$167)","v":""},{"$f":"IF($C$129=\"\",\"\",\"(\"&SUM(Št.400mCTIF!$I$167:$T$167)&\")\")","v":""},{"$f":"IF($C$129=\"\",\"\",Št.400mCTIF!$V$167)","v":""},{"$f":"IF($C$129=\"\",\"\",'PÚ CTIF'!$R$167)","v":""},{"$f":"IF($C$129=\"\",\"\",\"(\"&SUM('PÚ CTIF'!$I$167:$Q$167)&\")\")","v":""},{"$f":"IF($C$129=\"\",\"\",'PÚ CTIF'!$S$167)","v":""},null,null,{"$f":"IF(A129=\"x\",300,IF(C129=\"\",\"\",SUM(D129,F129,H129,K129,N129,Q129,R129)))","v":""},null,{"$f":"IF($A129=\"x\",\"x\",IF($C129=\"\",\"\",IF(VLOOKUP($B129,POM!$A$1:$K$100,11)=0,\"\",VLOOKUP($B129,POM!$A$1:$K$100,11))))","v":""}]
[null,null,null,null,{"$f":"IF($C$129=\"\",\"\",PÚ!$S$75)","v":""},null,{"$f":"IF($C$129=\"\",\"\",Št.4x60m!$S$75)","v":""},null,{"$f":"IF($C$129=\"\",\"\",Št.dvojic!$U$168)","v":""},{"$f":"IF($C$129=\"\",\"\",\"(\"&SUM(Št.dvojic!$I$168:$T$168)&\")\")","v":""},null,{"$f":"IF($C$129=\"\",\"\",Št.400mCTIF!$U$168)","v":""},{"$f":"IF($C$129=\"\",\"\",\"(\"&SUM(Št.400mCTIF!$I$168:$T$168)&\")\")","v":""},null,{"$f":"IF($C$129=\"\",\"\",'PÚ CTIF'!$R$168)","v":""},{"$f":"IF($C$129=\"\",\"\",\"(\"&SUM('PÚ CTIF'!$I$168:$Q$168)&\")\")","v":""}]
[{"$f":"IF(Start!M7=\"\",\"\",\"x\")","v":""},52,{"$f":"IF(Start!K7=\"\",\"\",Start!K7)","v":""},null,{"$f":"IF($C$131=\"\",\"\",PÚ!$S$76)","v":""},{"$f":"IF($C$131=\"\",\"\",PÚ!$T76)","v":""},{"$f":"IF($C$131=\"\",\"\",Št.4x60m!$S$76)","v":""},{"$f":"IF($C$131=\"\",\"\",Št.4x60m!$T76)","v":""},{"$f":"IF($C$131=\"\",\"\",Št.dvojic!$U$169)","v":""},{"$f":"IF($C$131=\"\",\"\",\"(\"&SUM(Št.dvojic!$I$169:$T$169)&\")\")","v":""},{"$f":"IF($C$131=\"\",\"\",Št.dvojic!$V$169)","v":""},{"$f":"IF($C$131=\"\",\"\",Št.400mCTIF!$U$169)","v":""},{"$f":"IF($C$131=\"\",\"\",\"(\"&SUM(Št.400mCTIF!$I$169:$T$169)&\")\")","v":""},{"$f":"IF($C$131=\"\",\"\",Št.400mCTIF!$V$169)","v":""},{"$f":"IF($C$131=\"\",\"\",'PÚ CTIF'!$R$169)","v":""},{"$f":"IF($C$131=\"\",\"\",\"(\"&SUM('PÚ CTIF'!$I$169:$Q$169)&\")\")","v":""},{"$f":"IF($C$131=\"\",\"\",'PÚ CTIF'!$S$169)","v":""},null,null,{"$f":"IF(A131=\"x\",300,IF(C131=\"\",\"\",SUM(D131,F131,H131,K131,N131,Q131,R131)))","v":""},null,{"$f":"IF($A131=\"x\",\"x\",IF($C131=\"\",\"\",IF(VLOOKUP($B131,POM!$A$1:$K$100,11)=0,\"\",VLOOKUP($B131,POM!$A$1:$K$100,11))))","v":""}]
[null,null,null,null,{"$f":"IF($C$131=\"\",\"\",PÚ!$S$77)","v":""},null,{"$f":"IF($C$131=\"\",\"\",Št.4x60m!$S$77)","v":""},null,{"$f":"IF($C$131=\"\",\"\",Št.dvojic!$U$170)","v":""},{"$f":"IF($C$131=\"\",\"\",\"(\"&SUM(Št.dvojic!$I$170:$T$170)&\")\")","v":""},null,{"$f":"IF($C$131=\"\",\"\",Št.400mCTIF!$U$170)","v":""},{"$f":"IF($C$131=\"\",\"\",\"(\"&SUM(Št.400mCTIF!$I$170:$T$170)&\")\")","v":""},null,{"$f":"IF($C$131=\"\",\"\",'PÚ CTIF'!$R$170)","v":""},{"$f":"IF($C$131=\"\",\"\",\"(\"&SUM('PÚ CTIF'!$I$170:$Q$170)&\")\")","v":""}]
[{"$f":"IF(Start!M8=\"\",\"\",\"x\")","v":""},53,{"$f":"IF(Start!K8=\"\",\"\",Start!K8)","v":""},null,{"$f":"IF($C$133=\"\",\"\",PÚ!$S$78)","v":""},{"$f":"IF($C$133=\"\",\"\",PÚ!$T78)","v":""},{"$f":"IF($C$133=\"\",\"\",Št.4x60m!$S$78)","v":""},{"$f":"IF($C$133=\"\",\"\",Št.4x60m!$T78)","v":""},{"$f":"IF($C$133=\"\",\"\",Št.dvojic!$U$171)","v":""},{"$f":"IF($C$133=\"\",\"\",\"(\"&SUM(Št.dvojic!$I$171:$T$171)&\")\")","v":""},{"$f":"IF($C$133=\"\",\"\",Št.dvojic!$V$171)","v":""},{"$f":"IF($C$133=\"\",\"\",Št.400mCTIF!$U$171)","v":""},{"$f":"IF($C$133=\"\",\"\",\"(\"&SUM(Št.400mCTIF!$I$171:$T$171)&\")\")","v":""},{"$f":"IF($C$133=\"\",\"\",Št.400mCTIF!$V$171)","v":""},{"$f":"IF($C$133=\"\",\"\",'PÚ CTIF'!$R$171)","v":""},{"$f":"IF($C$133=\"\",\"\",\"(\"&SUM('PÚ CTIF'!$I$171:$Q$171)&\")\")","v":""},{"$f":"IF($C$133=\"\",\"\",'PÚ CTIF'!$S$171)","v":""},null,null,{"$f":"IF(A133=\"x\",300,IF(C133=\"\",\"\",SUM(D133,F133,H133,K133,N133,Q133,R133)))","v":""},null,{"$f":"IF($A133=\"x\",\"x\",IF($C133=\"\",\"\",IF(VLOOKUP($B133,POM!$A$1:$K$100,11)=0,\"\",VLOOKUP($B133,POM!$A$1:$K$100,11))))","v":""}]
[null,null,null,null,{"$f":"IF($C$133=\"\",\"\",PÚ!$S$79)","v":""},null,{"$f":"IF($C$133=\"\",\"\",Št.4x60m!$S$79)","v":""},null,{"$f":"IF($C$133=\"\",\"\",Št.dvojic!$U$172)","v":""},{"$f":"IF($C$133=\"\",\"\",\"(\"&SUM(Št.dvojic!$I$172:$T$172)&\")\")","v":""},null,{"$f":"IF($C$133=\"\",\"\",Št.400mCTIF!$U$172)","v":""},{"$f":"IF($C$133=\"\",\"\",\"(\"&SUM(Št.400mCTIF!$I$172:$T$172)&\")\")","v":""},null,{"$f":"IF($C$133=\"\",\"\",'PÚ CTIF'!$R$172)","v":""},{"$f":"IF($C$133=\"\",\"\",\"(\"&SUM('PÚ CTIF'!$I$172:$Q$172)&\")\")","v":""}]
[{"$f":"IF(Start!M9=\"\",\"\",\"x\")","v":""},54,{"$f":"IF(Start!K9=\"\",\"\",Start!K9)","v":""},null,{"$f":"IF($C$135=\"\",\"\",PÚ!$S$80)","v":""},{"$f":"IF($C$135=\"\",\"\",PÚ!$T80)","v":""},{"$f":"IF($C$135=\"\",\"\",Št.4x60m!$S$80)","v":""},{"$f":"IF($C$135=\"\",\"\",Št.4x60m!$T80)","v":""},{"$f":"IF($C$135=\"\",\"\",Št.dvojic!$U$173)","v":""},{"$f":"IF($C$135=\"\",\"\",\"(\"&SUM(Št.dvojic!$I$173:$T$173)&\")\")","v":""},{"$f":"IF($C$135=\"\",\"\",Št.dvojic!$V$173)","v":""},{"$f":"IF($C$135=\"\",\"\",Št.400mCTIF!$U$173)","v":""},{"$f":"IF($C$135=\"\",\"\",\"(\"&SUM(Št.400mCTIF!$I$173:$T$173)&\")\")","v":""},{"$f":"IF($C$135=\"\",\"\",Št.400mCTIF!$V$173)","v":""},{"$f":"IF($C$135=\"\",\"\",'PÚ CTIF'!$R$173)","v":""},{"$f":"IF($C$135=\"\",\"\",\"(\"&SUM('PÚ CTIF'!$I$173:$Q$173)&\")\")","v":""},{"$f":"IF($C$135=\"\",\"\",'PÚ CTIF'!$S$173)","v":""},null,null,{"$f":"IF(A135=\"x\",300,IF(C135=\"\",\"\",SUM(D135,F135,H135,K135,N135,Q135,R135)))","v":""},null,{"$f":"IF($A135=\"x\",\"x\",IF($C135=\"\",\"\",IF(VLOOKUP($B135,POM!$A$1:$K$100,11)=0,\"\",VLOOKUP($B135,POM!$A$1:$K$100,11))))","v":""}]
[null,null,null,null,{"$f":"IF($C$135=\"\",\"\",PÚ!$S$81)","v":""},null,{"$f":"IF($C$135=\"\",\"\",Št.4x60m!$S$81)","v":""},null,{"$f":"IF($C$135=\"\",\"\",Št.dvojic!$U$174)","v":""},{"$f":"IF($C$135=\"\",\"\",\"(\"&SUM(Št.dvojic!$I$174:$T$174)&\")\")","v":""},null,{"$f":"IF($C$135=\"\",\"\",Št.400mCTIF!$U$174)","v":""},{"$f":"IF($C$135=\"\",\"\",\"(\"&SUM(Št.400mCTIF!$I$174:$T$174)&\")\")","v":""},null,{"$f":"IF($C$135=\"\",\"\",'PÚ CTIF'!$R$174)","v":""},{"$f":"IF($C$135=\"\",\"\",\"(\"&SUM('PÚ CTIF'!$I$174:$Q$174)&\")\")","v":""}]
[{"$f":"IF(Start!M10=\"\",\"\",\"x\")","v":""},55,{"$f":"IF(Start!K10=\"\",\"\",Start!K10)","v":""},null,{"$f":"IF($C$137=\"\",\"\",PÚ!$S$82)","v":""},{"$f":"IF($C$137=\"\",\"\",PÚ!$T82)","v":""},{"$f":"IF($C$137=\"\",\"\",Št.4x60m!$S$82)","v":""},{"$f":"IF($C$137=\"\",\"\",Št.4x60m!$T82)","v":""},{"$f":"IF($C$137=\"\",\"\",Št.dvojic!$U$175)","v":""},{"$f":"IF($C$137=\"\",\"\",\"(\"&SUM(Št.dvojic!$I$175:$T$175)&\")\")","v":""},{"$f":"IF($C$137=\"\",\"\",Št.dvojic!$V$175)","v":""},{"$f":"IF($C$137=\"\",\"\",Št.400mCTIF!$U$175)","v":""},{"$f":"IF($C$137=\"\",\"\",\"(\"&SUM(Št.400mCTIF!$I$175:$T$175)&\")\")","v":""},{"$f":"IF($C$137=\"\",\"\",Št.400mCTIF!$V$175)","v":""},{"$f":"IF($C$137=\"\",\"\",'PÚ CTIF'!$R$175)","v":""},{"$f":"IF($C$137=\"\",\"\",\"(\"&SUM('PÚ CTIF'!$I$175:$Q$175)&\")\")","v":""},{"$f":"IF($C$137=\"\",\"\",'PÚ CTIF'!$S$175)","v":""},null,null,{"$f":"IF(A137=\"x\",300,IF(C137=\"\",\"\",SUM(D137,F137,H137,K137,N137,Q137,R137)))","v":""},null,{"$f":"IF($A137=\"x\",\"x\",IF($C137=\"\",\"\",IF(VLOOKUP($B137,POM!$A$1:$K$100,11)=0,\"\",VLOOKUP($B137,POM!$A$1:$K$100,11))))","v":""}]
[null,null,null,null,{"$f":"IF($C$137=\"\",\"\",PÚ!$S$83)","v":""},null,{"$f":"IF($C$137=\"\",\"\",Št.4x60m!$S$83)","v":""},null,{"$f":"IF($C$137=\"\",\"\",Št.dvojic!$U$176)","v":""},{"$f":"IF($C$137=\"\",\"\",\"(\"&SUM(Št.dvojic!$I$176:$T$176)&\")\")","v":""},null,{"$f":"IF($C$137=\"\",\"\",Št.400mCTIF!$U$176)","v":""},{"$f":"IF($C$137=\"\",\"\",\"(\"&SUM(Št.400mCTIF!$I$176:$T$176)&\")\")","v":""},null,{"$f":"IF($C$137=\"\",\"\",'PÚ CTIF'!$R$176)","v":""},{"$f":"IF($C$137=\"\",\"\",\"(\"&SUM('PÚ CTIF'!$I$176:$Q$176)&\")\")","v":""}]
[{"$f":"IF(Start!M11=\"\",\"\",\"x\")","v":""},56,{"$f":"IF(Start!K11=\"\",\"\",Start!K11)","v":""},null,{"$f":"IF($C$139=\"\",\"\",PÚ!$S$84)","v":""},{"$f":"IF($C$139=\"\",\"\",PÚ!$T84)","v":""},{"$f":"IF($C$139=\"\",\"\",Št.4x60m!$S$84)","v":""},{"$f":"IF($C$139=\"\",\"\",Št.4x60m!$T84)","v":""},{"$f":"IF($C$139=\"\",\"\",Št.dvojic!$U$177)","v":""},{"$f":"IF($C$139=\"\",\"\",\"(\"&SUM(Št.dvojic!$I$177:$T$177)&\")\")","v":""},{"$f":"IF($C$139=\"\",\"\",Št.dvojic!$V$177)","v":""},{"$f":"IF($C$139=\"\",\"\",Št.400mCTIF!$U$177)","v":""},{"$f":"IF($C$139=\"\",\"\",\"(\"&SUM(Št.400mCTIF!$I$177:$T$177)&\")\")","v":""},{"$f":"IF($C$139=\"\",\"\",Št.400mCTIF!$V$177)","v":""},{"$f":"IF($C$139=\"\",\"\",'PÚ CTIF'!$R$177)","v":""},{"$f":"IF($C$139=\"\",\"\",\"(\"&SUM('PÚ CTIF'!$I$177:$Q$177)&\")\")","v":""},{"$f":"IF($C$139=\"\",\"\",'PÚ CTIF'!$S$177)","v":""},null,null,{"$f":"IF(A139=\"x\",300,IF(C139=\"\",\"\",SUM(D139,F139,H139,K139,N139,Q139,R139)))","v":""},null,{"$f":"IF($A139=\"x\",\"x\",IF($C139=\"\",\"\",IF(VLOOKUP($B139,POM!$A$1:$K$100,11)=0,\"\",VLOOKUP($B139,POM!$A$1:$K$100,11))))","v":""}]
[null,null,null,null,{"$f":"IF($C$139=\"\",\"\",PÚ!$S$85)","v":""},null,{"$f":"IF($C$139=\"\",\"\",Št.4x60m!$S$85)","v":""},null,{"$f":"IF($C$139=\"\",\"\",Št.dvojic!$U$178)","v":""},{"$f":"IF($C$139=\"\",\"\",\"(\"&SUM(Št.dvojic!$I$178:$T$178)&\")\")","v":""},null,{"$f":"IF($C$139=\"\",\"\",Št.400mCTIF!$U$178)","v":""},{"$f":"IF($C$139=\"\",\"\",\"(\"&SUM(Št.400mCTIF!$I$178:$T$178)&\")\")","v":""},null,{"$f":"IF($C$139=\"\",\"\",'PÚ CTIF'!$R$178)","v":""},{"$f":"IF($C$139=\"\",\"\",\"(\"&SUM('PÚ CTIF'!$I$178:$Q$178)&\")\")","v":""}]
[null,{"$f":"B106","v":"Celkové výsledky - TISK"}]
[]
[null,null,null,{"$f":"D108","v":"Požární útoky "},null,null,null,null,null,null,null,{"$f":"L108","v":"18.05.2025, Kamenný Újezd"}]
[null,null,{"$f":"Start!$N$2","v":"starší"}]
[null," startovní číslo"," SDH",null," PÚ",null," Štafeta 4 x 60 m",null," Štafeta dvojic",null,null," 400 m štafeta CTIF",null,null," PÚ - CTIF",null,null,null,null," Celkový součet",null,"Pořadí"]
[null,null,null,null,"1.pokus","P.","1.pokus","P.","1.pokus","tr.body","P.","1.pokus","tr.body","P.","1.pokus","tr.body","P."]
[null,null,null,null,"2.pokus",null,"2.pokus",null,"2.pokus","tr.body",null,"2.pokus","tr.body",null,"2.pokus","tr.body"]
[{"$f":"IF(Start!M12=\"\",\"\",\"x\")","v":""},57,{"$f":"IF(Start!K12=\"\",\"\",Start!K12)","v":""},null,{"$f":"IF($C$148=\"\",\"\",PÚ!$S$86)","v":""},{"$f":"IF($C$148=\"\",\"\",PÚ!$T86)","v":""},{"$f":"IF($C$148=\"\",\"\",Št.4x60m!$S$86)","v":""},{"$f":"IF($C$148=\"\",\"\",Št.4x60m!$T86)","v":""},{"$f":"IF($C$148=\"\",\"\",Št.dvojic!$U$179)","v":""},{"$f":"IF($C$148=\"\",\"\",\"(\"&SUM(Št.dvojic!$I$179:$T$179)&\")\")","v":""},{"$f":"IF($C$148=\"\",\"\",Št.dvojic!$V$179)","v":""},{"$f":"IF($C$148=\"\",\"\",Št.400mCTIF!$U$179)","v":""},{"$f":"IF($C$148=\"\",\"\",\"(\"&SUM(Št.400mCTIF!$I$179:$T$179)&\")\")","v":""},{"$f":"IF($C$148=\"\",\"\",Št.400mCTIF!$V$179)","v":""},{"$f":"IF($C$148=\"\",\"\",'PÚ CTIF'!$R$179)","v":""},{"$f":"IF($C$148=\"\",\"\",\"(\"&SUM('PÚ CTIF'!$I$179:$Q$179)&\")\")","v":""},{"$f":"IF($C$148=\"\",\"\",'PÚ CTIF'!$S$179)","v":""},null,null,{"$f":"IF(A148=\"x\",300,IF(C148=\"\",\"\",SUM(D148,F148,H148,K148,N148,Q148,R148)))","v":""},null,{"$f":"IF($A148=\"x\",\"x\",IF($C148=\"\",\"\",IF(VLOOKUP($B148,POM!$A$1:$K$100,11)=0,\"\",VLOOKUP($B148,POM!$A$1:$K$100,11))))","v":""}]
[null,null,null,null,{"$f":"IF($C$148=\"\",\"\",PÚ!$S$87)","v":""},null,{"$f":"IF($C$148=\"\",\"\",Št.4x60m!$S$87)","v":""},null,{"$f":"IF($C$148=\"\",\"\",Št.dvojic!$U$180)","v":""},{"$f":"IF($C$148=\"\",\"\",\"(\"&SUM(Št.dvojic!$I$180:$T$180)&\")\")","v":""},null,{"$f":"IF($C$148=\"\",\"\",Št.400mCTIF!$U$180)","v":""},{"$f":"IF($C$148=\"\",\"\",\"(\"&SUM(Št.400mCTIF!$I$180:$T$180)&\")\")","v":""},null,{"$f":"IF($C$148=\"\",\"\",'PÚ CTIF'!$R$180)","v":""},{"$f":"IF($C$148=\"\",\"\",\"(\"&SUM('PÚ CTIF'!$I$180:$Q$180)&\")\")","v":""}]
[{"$f":"IF(Start!M13=\"\",\"\",\"x\")","v":""},58,{"$f":"IF(Start!K13=\"\",\"\",Start!K13)","v":""},null,{"$f":"IF($C$150=\"\",\"\",PÚ!$S$88)","v":""},{"$f":"IF($C$150=\"\",\"\",PÚ!$T88)","v":""},{"$f":"IF($C$150=\"\",\"\",Št.4x60m!$S$88)","v":""},{"$f":"IF($C$150=\"\",\"\",Št.4x60m!$T88)","v":""},{"$f":"IF($C$150=\"\",\"\",Št.dvojic!$U$181)","v":""},{"$f":"IF($C$150=\"\",\"\",\"(\"&SUM(Št.dvojic!$I$181:$T$181)&\")\")","v":""},{"$f":"IF($C$150=\"\",\"\",Št.dvojic!$V$181)","v":""},{"$f":"IF($C$150=\"\",\"\",Št.400mCTIF!$U$181)","v":""},{"$f":"IF($C$150=\"\",\"\",\"(\"&SUM(Št.400mCTIF!$I$181:$T$181)&\")\")","v":""},{"$f":"IF($C$150=\"\",\"\",Št.400mCTIF!$V$181)","v":""},{"$f":"IF($C$150=\"\",\"\",'PÚ CTIF'!$R$181)","v":""},{"$f":"IF($C$150=\"\",\"\",\"(\"&SUM('PÚ CTIF'!$I$181:$Q$181)&\")\")","v":""},{"$f":"IF($C$150=\"\",\"\",'PÚ CTIF'!$S$181)","v":""},null,null,{"$f":"IF(A150=\"x\",300,IF(C150=\"\",\"\",SUM(D150,F150,H150,K150,N150,Q150,R150)))","v":""},null,{"$f":"IF($A150=\"x\",\"x\",IF($C150=\"\",\"\",IF(VLOOKUP($B150,POM!$A$1:$K$100,11)=0,\"\",VLOOKUP($B150,POM!$A$1:$K$100,11))))","v":""}]
[null,null,null,null,{"$f":"IF($C$150=\"\",\"\",PÚ!$S$89)","v":""},null,{"$f":"IF($C$150=\"\",\"\",Št.4x60m!$S$89)","v":""},null,{"$f":"IF($C$150=\"\",\"\",Št.dvojic!$U$182)","v":""},{"$f":"IF($C$150=\"\",\"\",\"(\"&SUM(Št.dvojic!$I$182:$T$182)&\")\")","v":""},null,{"$f":"IF($C$150=\"\",\"\",Št.400mCTIF!$U$182)","v":""},{"$f":"IF($C$150=\"\",\"\",\"(\"&SUM(Št.400mCTIF!$I$182:$T$182)&\")\")","v":""},null,{"$f":"IF($C$150=\"\",\"\",'PÚ CTIF'!$R$182)","v":""},{"$f":"IF($C$150=\"\",\"\",\"(\"&SUM('PÚ CTIF'!$I$182:$Q$182)&\")\")","v":""}]
[{"$f":"IF(Start!M14=\"\",\"\",\"x\")","v":""},59,{"$f":"IF(Start!K14=\"\",\"\",Start!K14)","v":""},null,{"$f":"IF($C$152=\"\",\"\",PÚ!$S$90)","v":""},{"$f":"IF($C$152=\"\",\"\",PÚ!$T90)","v":""},{"$f":"IF($C$152=\"\",\"\",Št.4x60m!$S$90)","v":""},{"$f":"IF($C$152=\"\",\"\",Št.4x60m!$T90)","v":""},{"$f":"IF($C$152=\"\",\"\",Št.dvojic!$U$183)","v":""},{"$f":"IF($C$152=\"\",\"\",\"(\"&SUM(Št.dvojic!$I$183:$T$183)&\")\")","v":""},{"$f":"IF($C$152=\"\",\"\",Št.dvojic!$V$183)","v":""},{"$f":"IF($C$152=\"\",\"\",Št.400mCTIF!$U$183)","v":""},{"$f":"IF($C$152=\"\",\"\",\"(\"&SUM(Št.400mCTIF!$I$183:$T$183)&\")\")","v":""},{"$f":"IF($C$152=\"\",\"\",Št.400mCTIF!$V$183)","v":""},{"$f":"IF($C$152=\"\",\"\",'PÚ CTIF'!$R$183)","v":""},{"$f":"IF($C$152=\"\",\"\",\"(\"&SUM('PÚ CTIF'!$I$183:$Q$183)&\")\")","v":""},{"$f":"IF($C$152=\"\",\"\",'PÚ CTIF'!$S$183)","v":""},null,null,{"$f":"IF(A152=\"x\",300,IF(C152=\"\",\"\",SUM(D152,F152,H152,K152,N152,Q152,R152)))","v":""},null,{"$f":"IF($A152=\"x\",\"x\",IF($C152=\"\",\"\",IF(VLOOKUP($B152,POM!$A$1:$K$100,11)=0,\"\",VLOOKUP($B152,POM!$A$1:$K$100,11))))","v":""}]
[null,null,null,null,{"$f":"IF($C$152=\"\",\"\",PÚ!$S$91)","v":""},null,{"$f":"IF($C$152=\"\",\"\",Št.4x60m!$S$91)","v":""},null,{"$f":"IF($C$152=\"\",\"\",Št.dvojic!$U$184)","v":""},{"$f":"IF($C$152=\"\",\"\",\"(\"&SUM(Št.dvojic!$I$184:$T$184)&\")\")","v":""},null,{"$f":"IF($C$152=\"\",\"\",Št.400mCTIF!$U$184)","v":""},{"$f":"IF($C$152=\"\",\"\",\"(\"&SUM(Št.400mCTIF!$I$184:$T$184)&\")\")","v":""},null,{"$f":"IF($C$152=\"\",\"\",'PÚ CTIF'!$R$184)","v":""},{"$f":"IF($C$152=\"\",\"\",\"(\"&SUM('PÚ CTIF'!$I$184:$Q$184)&\")\")","v":""}]
[{"$f":"IF(Start!M15=\"\",\"\",\"x\")","v":""},60,{"$f":"IF(Start!K15=\"\",\"\",Start!K15)","v":""},null,{"$f":"IF($C$154=\"\",\"\",PÚ!$S$92)","v":""},{"$f":"IF($C$154=\"\",\"\",PÚ!$T92)","v":""},{"$f":"IF($C$154=\"\",\"\",Št.4x60m!$S$92)","v":""},{"$f":"IF($C$154=\"\",\"\",Št.4x60m!$T92)","v":""},{"$f":"IF($C$154=\"\",\"\",Št.dvojic!$U$185)","v":""},{"$f":"IF($C$154=\"\",\"\",\"(\"&SUM(Št.dvojic!$I$185:$T$185)&\")\")","v":""},{"$f":"IF($C$154=\"\",\"\",Št.dvojic!$V$185)","v":""},{"$f":"IF($C$154=\"\",\"\",Št.400mCTIF!$U$185)","v":""},{"$f":"IF($C$154=\"\",\"\",\"(\"&SUM(Št.400mCTIF!$I$185:$T$185)&\")\")","v":""},{"$f":"IF($C$154=\"\",\"\",Št.400mCTIF!$V$185)","v":""},{"$f":"IF($C$154=\"\",\"\",'PÚ CTIF'!$R$185)","v":""},{"$f":"IF($C$154=\"\",\"\",\"(\"&SUM('PÚ CTIF'!$I$185:$Q$185)&\")\")","v":""},{"$f":"IF($C$154=\"\",\"\",'PÚ CTIF'!$S$185)","v":""},null,null,{"$f":"IF(A154=\"x\",300,IF(C154=\"\",\"\",SUM(D154,F154,H154,K154,N154,Q154,R154)))","v":""},null,{"$f":"IF($A154=\"x\",\"x\",IF($C154=\"\",\"\",IF(VLOOKUP($B154,POM!$A$1:$K$100,11)=0,\"\",VLOOKUP($B154,POM!$A$1:$K$100,11))))","v":""}]
[null,null,null,null,{"$f":"IF($C$154=\"\",\"\",PÚ!$S$93)","v":""},null,{"$f":"IF($C$154=\"\",\"\",Št.4x60m!$S$93)","v":""},null,{"$f":"IF($C$154=\"\",\"\",Št.dvojic!$U$186)","v":""},{"$f":"IF($C$154=\"\",\"\",\"(\"&SUM(Št.dvojic!$I$186:$T$186)&\")\")","v":""},null,{"$f":"IF($C$154=\"\",\"\",Št.400mCTIF!$U$186)","v":""},{"$f":"IF($C$154=\"\",\"\",\"(\"&SUM(Št.400mCTIF!$I$186:$T$186)&\")\")","v":""},null,{"$f":"IF($C$154=\"\",\"\",'PÚ CTIF'!$R$186)","v":""},{"$f":"IF($C$154=\"\",\"\",\"(\"&SUM('PÚ CTIF'!$I$186:$Q$186)&\")\")","v":""}]
[{"$f":"IF(Start!M16=\"\",\"\",\"x\")","v":""},61,{"$f":"IF(Start!K16=\"\",\"\",Start!K16)","v":""},null,{"$f":"IF($C$156=\"\",\"\",PÚ!$H$105)","v":""},{"$f":"IF($C$156=\"\",\"\",PÚ!$I$105)","v":""},{"$f":"IF($C$156=\"\",\"\",Št.4x60m!$H$105)","v":""},{"$f":"IF($C$156=\"\",\"\",Št.4x60m!$I$105)","v":""},{"$f":"IF($C$156=\"\",\"\",Št.dvojic!$U$198)","v":""},{"$f":"IF($C$156=\"\",\"\",\"(\"&SUM(Št.dvojic!$I$198:$T$198)&\")\")","v":""},{"$f":"IF($C$156=\"\",\"\",Št.dvojic!$V$198)","v":""},{"$f":"IF($C$156=\"\",\"\",Št.400mCTIF!$U$198)","v":""},{"$f":"IF($C$156=\"\",\"\",\"(\"&SUM(Št.400mCTIF!$I$198:$T$198)&\")\")","v":""},{"$f":"IF($C$156=\"\",\"\",Št.400mCTIF!$V$198)","v":""},{"$f":"IF($C$156=\"\",\"\",'PÚ CTIF'!$R$198)","v":""},{"$f":"IF($C$156=\"\",\"\",\"(\"&SUM('PÚ CTIF'!$I$198:$Q$198)&\")\")","v":""},{"$f":"IF($C$156=\"\",\"\",'PÚ CTIF'!$S$198)","v":""},null,null,{"$f":"IF(A156=\"x\",300,IF(C156=\"\",\"\",SUM(D156,F156,H156,K156,N156,Q156,R156)))","v":""},null,{"$f":"IF($A156=\"x\",\"x\",IF($C156=\"\",\"\",IF(VLOOKUP($B156,POM!$A$1:$K$100,11)=0,\"\",VLOOKUP($B156,POM!$A$1:$K$100,11))))","v":""}]
[null,null,null,null,{"$f":"IF($C$156=\"\",\"\",PÚ!$H$106)","v":""},null,{"$f":"IF($C$156=\"\",\"\",Št.4x60m!$H$106)","v":""},null,{"$f":"IF($C$156=\"\",\"\",Št.dvojic!$U$199)","v":""},{"$f":"IF($C$156=\"\",\"\",\"(\"&SUM(Št.dvojic!$I$199:$T$199)&\")\")","v":""},null,{"$f":"IF($C$156=\"\",\"\",Št.400mCTIF!$U$199)","v":""},{"$f":"IF($C$156=\"\",\"\",\"(\"&SUM(Št.400mCTIF!$I$199:$T$199)&\")\")","v":""},null,{"$f":"IF($C$156=\"\",\"\",'PÚ CTIF'!$R$199)","v":""},{"$f":"IF($C$156=\"\",\"\",\"(\"&SUM('PÚ CTIF'!$I$199:$Q$199)&\")\")","v":""}]
[{"$f":"IF(Start!M17=\"\",\"\",\"x\")","v":""},62,{"$f":"IF(Start!K17=\"\",\"\",Start!K17)","v":""},null,{"$f":"IF($C$158=\"\",\"\",PÚ!$H$107)","v":""},{"$f":"IF($C$158=\"\",\"\",PÚ!$I$107)","v":""},{"$f":"IF($C$158=\"\",\"\",Št.4x60m!$H$107)","v":""},{"$f":"IF($C$158=\"\",\"\",Št.4x60m!$I$107)","v":""},{"$f":"IF($C$158=\"\",\"\",Št.dvojic!$U$200)","v":""},{"$f":"IF($C$158=\"\",\"\",\"(\"&SUM(Št.dvojic!$I$200:$T$200)&\")\")","v":""},{"$f":"IF($C$158=\"\",\"\",Št.dvojic!$V$200)","v":""},{"$f":"IF($C$158=\"\",\"\",Št.400mCTIF!$U$200)","v":""},{"$f":"IF($C$158=\"\",\"\",\"(\"&SUM(Št.400mCTIF!$I$200:$T$200)&\")\")","v":""},{"$f":"IF($C$158=\"\",\"\",Št.400mCTIF!$V$200)","v":""},{"$f":"IF($C$158=\"\",\"\",'PÚ CTIF'!$R$200)","v":""},{"$f":"IF($C$158=\"\",\"\",\"(\"&SUM('PÚ CTIF'!$I$200:$Q$200)&\")\")","v":""},{"$f":"IF($C$158=\"\",\"\",'PÚ CTIF'!$S$200)","v":""},null,null,{"$f":"IF(A158=\"x\",300,IF(C158=\"\",\"\",SUM(D158,F158,H158,K158,N158,Q158,R158)))","v":""},null,{"$f":"IF($A158=\"x\",\"x\",IF($C158=\"\",\"\",IF(VLOOKUP($B158,POM!$A$1:$K$100,11)=0,\"\",VLOOKUP($B158,POM!$A$1:$K$100,11))))","v":""}]
[null,null,null,null,{"$f":"IF($C$158=\"\",\"\",PÚ!$H$108)","v":""},null,{"$f":"IF($C$158=\"\",\"\",Št.4x60m!$H$108)","v":""},null,{"$f":"IF($C$158=\"\",\"\",Št.dvojic!$U$201)","v":""},{"$f":"IF($C$158=\"\",\"\",\"(\"&SUM(Št.dvojic!$I$201:$T$201)&\")\")","v":""},null,{"$f":"IF($C$158=\"\",\"\",Št.400mCTIF!$U$201)","v":""},{"$f":"IF($C$158=\"\",\"\",\"(\"&SUM(Št.400mCTIF!$I$201:$T$201)&\")\")","v":""},null,{"$f":"IF($C$158=\"\",\"\",'PÚ CTIF'!$R$201)","v":""},{"$f":"IF($C$158=\"\",\"\",\"(\"&SUM('PÚ CTIF'!$I$201:$Q$201)&\")\")","v":""}]
[{"$f":"IF(Start!M18=\"\",\"\",\"x\")","v":""},63,{"$f":"IF(Start!K18=\"\",\"\",Start!K18)","v":""},null,{"$f":"IF($C$160=\"\",\"\",PÚ!$H$109)","v":""},{"$f":"IF($C$160=\"\",\"\",PÚ!$I$109)","v":""},{"$f":"IF($C$160=\"\",\"\",Št.4x60m!$H$109)","v":""},{"$f":"IF($C$160=\"\",\"\",Št.4x60m!$I$109)","v":""},{"$f":"IF($C$160=\"\",\"\",Št.dvojic!$U$202)","v":""},{"$f":"IF($C$160=\"\",\"\",\"(\"&SUM(Št.dvojic!$I$202:$T$202)&\")\")","v":""},{"$f":"IF($C$160=\"\",\"\",Št.dvojic!$V$202)","v":""},{"$f":"IF($C$160=\"\",\"\",Št.400mCTIF!$U$202)","v":""},{"$f":"IF($C$160=\"\",\"\",\"(\"&SUM(Št.400mCTIF!$I$202:$T$202)&\")\")","v":""},{"$f":"IF($C$160=\"\",\"\",Št.400mCTIF!$V$202)","v":""},{"$f":"IF($C$160=\"\",\"\",'PÚ CTIF'!$R$202)","v":""},{"$f":"IF($C$160=\"\",\"\",\"(\"&SUM('PÚ CTIF'!$I$202:$Q$202)&\")\")","v":""},{"$f":"IF($C$160=\"\",\"\",'PÚ CTIF'!$S$202)","v":""},null,null,{"$f":"IF(A160=\"x\",300,IF(C160=\"\",\"\",SUM(D160,F160,H160,K160,N160,Q160,R160)))","v":""},null,{"$f":"IF($A160=\"x\",\"x\",IF($C160=\"\",\"\",IF(VLOOKUP($B160,POM!$A$1:$K$100,11)=0,\"\",VLOOKUP($B160,POM!$A$1:$K$100,11))))","v":""}]
[null,null,null,null,{"$f":"IF($C$160=\"\",\"\",PÚ!$H$110)","v":""},null,{"$f":"IF($C$160=\"\",\"\",Št.4x60m!$H$110)","v":""},null,{"$f":"IF($C$160=\"\",\"\",Št.dvojic!$U$203)","v":""},{"$f":"IF($C$160=\"\",\"\",\"(\"&SUM(Št.dvojic!$I$203:$T$203)&\")\")","v":""},null,{"$f":"IF($C$160=\"\",\"\",Št.400mCTIF!$U$203)","v":""},{"$f":"IF($C$160=\"\",\"\",\"(\"&SUM(Št.400mCTIF!$I$203:$T$203)&\")\")","v":""},null,{"$f":"IF($C$160=\"\",\"\",'PÚ CTIF'!$R$203)","v":""},{"$f":"IF($C$160=\"\",\"\",\"(\"&SUM('PÚ CTIF'!$I$203:$Q$203)&\")\")","v":""}]
[{"$f":"IF(Start!M19=\"\",\"\",\"x\")","v":""},64,{"$f":"IF(Start!K19=\"\",\"\",Start!K19)","v":""},null,{"$f":"IF($C$162=\"\",\"\",PÚ!$H$111)","v":""},{"$f":"IF($C$162=\"\",\"\",PÚ!$I$111)","v":""},{"$f":"IF($C$162=\"\",\"\",Št.4x60m!$H$111)","v":""},{"$f":"IF($C$162=\"\",\"\",Št.4x60m!$I$111)","v":""},{"$f":"IF($C$162=\"\",\"\",Št.dvojic!$U$204)","v":""},{"$f":"IF($C$162=\"\",\"\",\"(\"&SUM(Št.dvojic!$I$204:$T$204)&\")\")","v":""},{"$f":"IF($C$162=\"\",\"\",Št.dvojic!$V$204)","v":""},{"$f":"IF($C$162=\"\",\"\",Št.400mCTIF!$U$204)","v":""},{"$f":"IF($C$162=\"\",\"\",\"(\"&SUM(Št.400mCTIF!$I$204:$T$204)&\")\")","v":""},{"$f":"IF($C$162=\"\",\"\",Št.400mCTIF!$V$204)","v":""},{"$f":"IF($C$162=\"\",\"\",'PÚ CTIF'!$R$204)","v":""},{"$f":"IF($C$162=\"\",\"\",\"(\"&SUM('PÚ CTIF'!$I$204:$Q$204)&\")\")","v":""},{"$f":"IF($C$162=\"\",\"\",'PÚ CTIF'!$S$204)","v":""},null,null,{"$f":"IF(A162=\"x\",300,IF(C162=\"\",\"\",SUM(D162,F162,H162,K162,N162,Q162,R162)))","v":""},null,{"$f":"IF($A162=\"x\",\"x\",IF($C162=\"\",\"\",IF(VLOOKUP($B162,POM!$A$1:$K$100,11)=0,\"\",VLOOKUP($B162,POM!$A$1:$K$100,11))))","v":""}]
[null,null,null,null,{"$f":"IF($C$162=\"\",\"\",PÚ!$H$112)","v":""},null,{"$f":"IF($C$162=\"\",\"\",Št.4x60m!$H$112)","v":""},null,{"$f":"IF($C$162=\"\",\"\",Št.dvojic!$U$205)","v":""},{"$f":"IF($C$162=\"\",\"\",\"(\"&SUM(Št.dvojic!$I$205:$T$205)&\")\")","v":""},null,{"$f":"IF($C$162=\"\",\"\",Št.400mCTIF!$U$205)","v":""},{"$f":"IF($C$162=\"\",\"\",\"(\"&SUM(Št.400mCTIF!$I$205:$T$205)&\")\")","v":""},null,{"$f":"IF($C$162=\"\",\"\",'PÚ CTIF'!$R$205)","v":""},{"$f":"IF($C$162=\"\",\"\",\"(\"&SUM('PÚ CTIF'!$I$205:$Q$205)&\")\")","v":""}]
[{"$f":"IF(Start!M20=\"\",\"\",\"x\")","v":""},65,{"$f":"IF(Start!K20=\"\",\"\",Start!K20)","v":""},null,{"$f":"IF($C$164=\"\",\"\",PÚ!$H$113)","v":""},{"$f":"IF($C$164=\"\",\"\",PÚ!$I$113)","v":""},{"$f":"IF($C$164=\"\",\"\",Št.4x60m!$H$113)","v":""},{"$f":"IF($C$164=\"\",\"\",Št.4x60m!$I$113)","v":""},{"$f":"IF($C$164=\"\",\"\",Št.dvojic!$U$206)","v":""},{"$f":"IF($C$164=\"\",\"\",\"(\"&SUM(Št.dvojic!$I$206:$T$206)&\")\")","v":""},{"$f":"IF($C$164=\"\",\"\",Št.dvojic!$V$206)","v":""},{"$f":"IF($C$164=\"\",\"\",Št.400mCTIF!$U$206)","v":""},{"$f":"IF($C$164=\"\",\"\",\"(\"&SUM(Št.400mCTIF!$I$206:$T$206)&\")\")","v":""},{"$f":"IF($C$164=\"\",\"\",Št.400mCTIF!$V$206)","v":""},{"$f":"IF($C$164=\"\",\"\",'PÚ CTIF'!$R$206)","v":""},{"$f":"IF($C$164=\"\",\"\",\"(\"&SUM('PÚ CTIF'!$I$206:$Q$206)&\")\")","v":""},{"$f":"IF($C$164=\"\",\"\",'PÚ CTIF'!$S$206)","v":""},null,null,{"$f":"IF(A164=\"x\",300,IF(C164=\"\",\"\",SUM(D164,F164,H164,K164,N164,Q164,R164)))","v":""},null,{"$f":"IF($A164=\"x\",\"x\",IF($C164=\"\",\"\",IF(VLOOKUP($B164,POM!$A$1:$K$100,11)=0,\"\",VLOOKUP($B164,POM!$A$1:$K$100,11))))","v":""}]
[null,null,null,null,{"$f":"IF($C$164=\"\",\"\",PÚ!$H$114)","v":""},null,{"$f":"IF($C$164=\"\",\"\",Št.4x60m!$H$114)","v":""},null,{"$f":"IF($C$164=\"\",\"\",Št.dvojic!$U$207)","v":""},{"$f":"IF($C$164=\"\",\"\",\"(\"&SUM(Št.dvojic!$I$207:$T$207)&\")\")","v":""},null,{"$f":"IF($C$164=\"\",\"\",Št.400mCTIF!$U$207)","v":""},{"$f":"IF($C$164=\"\",\"\",\"(\"&SUM(Št.400mCTIF!$I$207:$T$207)&\")\")","v":""},null,{"$f":"IF($C$164=\"\",\"\",'PÚ CTIF'!$R$207)","v":""},{"$f":"IF($C$164=\"\",\"\",\"(\"&SUM('PÚ CTIF'!$I$207:$Q$207)&\")\")","v":""}]
[{"$f":"IF(Start!M21=\"\",\"\",\"x\")","v":""},66,{"$f":"IF(Start!K21=\"\",\"\",Start!K21)","v":""},null,{"$f":"IF($C$166=\"\",\"\",PÚ!$H$115)","v":""},{"$f":"IF($C$166=\"\",\"\",PÚ!$I$115)","v":""},{"$f":"IF($C$166=\"\",\"\",Št.4x60m!$H$115)","v":""},{"$f":"IF($C$166=\"\",\"\",Št.4x60m!$I$115)","v":""},{"$f":"IF($C$166=\"\",\"\",Št.dvojic!$U$208)","v":""},{"$f":"IF($C$166=\"\",\"\",\"(\"&SUM(Št.dvojic!$I$208:$T$208)&\")\")","v":""},{"$f":"IF($C$166=\"\",\"\",Št.dvojic!$V$208)","v":""},{"$f":"IF($C$166=\"\",\"\",Št.400mCTIF!$U$208)","v":""},{"$f":"IF($C$166=\"\",\"\",\"(\"&SUM(Št.400mCTIF!$I$208:$T$208)&\")\")","v":""},{"$f":"IF($C$166=\"\",\"\",Št.400mCTIF!$V$208)","v":""},{"$f":"IF($C$166=\"\",\"\",'PÚ CTIF'!$R$208)","v":""},{"$f":"IF($C$166=\"\",\"\",\"(\"&SUM('PÚ CTIF'!$I$208:$Q$208)&\")\")","v":""},{"$f":"IF($C$166=\"\",\"\",'PÚ CTIF'!$S$208)","v":""},null,null,{"$f":"IF(A166=\"x\",300,IF(C166=\"\",\"\",SUM(D166,F166,H166,K166,N166,Q166,R166)))","v":""},null,{"$f":"IF($A166=\"x\",\"x\",IF($C166=\"\",\"\",IF(VLOOKUP($B166,POM!$A$1:$K$100,11)=0,\"\",VLOOKUP($B166,POM!$A$1:$K$100,11))))","v":""}]
[null,null,null,null,{"$f":"IF($C$166=\"\",\"\",PÚ!$H$116)","v":""},null,{"$f":"IF($C$166=\"\",\"\",Št.4x60m!$H$116)","v":""},null,{"$f":"IF($C$166=\"\",\"\",Št.dvojic!$U$209)","v":""},{"$f":"IF($C$166=\"\",\"\",\"(\"&SUM(Št.dvojic!$I$209:$T$209)&\")\")","v":""},null,{"$f":"IF($C$166=\"\",\"\",Št.400mCTIF!$U$209)","v":""},{"$f":"IF($C$166=\"\",\"\",\"(\"&SUM(Št.400mCTIF!$I$209:$T$209)&\")\")","v":""},null,{"$f":"IF($C$166=\"\",\"\",'PÚ CTIF'!$R$209)","v":""},{"$f":"IF($C$166=\"\",\"\",\"(\"&SUM('PÚ CTIF'!$I$209:$Q$209)&\")\")","v":""}]
[{"$f":"IF(Start!M22=\"\",\"\",\"x\")","v":""},67,{"$f":"IF(Start!K22=\"\",\"\",Start!K22)","v":""},null,{"$f":"IF($C$168=\"\",\"\",PÚ!$H$117)","v":""},{"$f":"IF($C$168=\"\",\"\",PÚ!$I$117)","v":""},{"$f":"IF($C$168=\"\",\"\",Št.4x60m!$H$117)","v":""},{"$f":"IF($C$168=\"\",\"\",Št.4x60m!$I$117)","v":""},{"$f":"IF($C$168=\"\",\"\",Št.dvojic!$U$210)","v":""},{"$f":"IF($C$168=\"\",\"\",\"(\"&SUM(Št.dvojic!$I$210:$T$210)&\")\")","v":""},{"$f":"IF($C$168=\"\",\"\",Št.dvojic!$V$210)","v":""},{"$f":"IF($C$168=\"\",\"\",Št.400mCTIF!$U$210)","v":""},{"$f":"IF($C$168=\"\",\"\",\"(\"&SUM(Št.400mCTIF!$I$210:$T$210)&\")\")","v":""},{"$f":"IF($C$168=\"\",\"\",Št.400mCTIF!$V$210)","v":""},{"$f":"IF($C$168=\"\",\"\",'PÚ CTIF'!$R$210)","v":""},{"$f":"IF($C$168=\"\",\"\",\"(\"&SUM('PÚ CTIF'!$I$210:$Q$210)&\")\")","v":""},{"$f":"IF($C$168=\"\",\"\",'PÚ CTIF'!$S$210)","v":""},null,null,{"$f":"IF(A168=\"x\",300,IF(C168=\"\",\"\",SUM(D168,F168,H168,K168,N168,Q168,R168)))","v":""},null,{"$f":"IF($A168=\"x\",\"x\",IF($C168=\"\",\"\",IF(VLOOKUP($B168,POM!$A$1:$K$100,11)=0,\"\",VLOOKUP($B168,POM!$A$1:$K$100,11))))","v":""}]
[null,null,null,null,{"$f":"IF($C$168=\"\",\"\",PÚ!$H$118)","v":""},null,{"$f":"IF($C$168=\"\",\"\",Št.4x60m!$H$118)","v":""},null,{"$f":"IF($C$168=\"\",\"\",Št.dvojic!$U$211)","v":""},{"$f":"IF($C$168=\"\",\"\",\"(\"&SUM(Št.dvojic!$I$211:$T$211)&\")\")","v":""},null,{"$f":"IF($C$168=\"\",\"\",Št.400mCTIF!$U$211)","v":""},{"$f":"IF($C$168=\"\",\"\",\"(\"&SUM(Št.400mCTIF!$I$211:$T$211)&\")\")","v":""},null,{"$f":"IF($C$168=\"\",\"\",'PÚ CTIF'!$R$211)","v":""},{"$f":"IF($C$168=\"\",\"\",\"(\"&SUM('PÚ CTIF'!$I$211:$Q$211)&\")\")","v":""}]
[{"$f":"IF(Start!M23=\"\",\"\",\"x\")","v":""},68,{"$f":"IF(Start!K23=\"\",\"\",Start!K23)","v":""},null,{"$f":"IF($C$170=\"\",\"\",PÚ!$H$119)","v":""},{"$f":"IF($C$170=\"\",\"\",PÚ!$I$119)","v":""},{"$f":"IF($C$170=\"\",\"\",Št.4x60m!$H$119)","v":""},{"$f":"IF($C$170=\"\",\"\",Št.4x60m!$I$119)","v":""},{"$f":"IF($C$170=\"\",\"\",Št.dvojic!$U$212)","v":""},{"$f":"IF($C$170=\"\",\"\",\"(\"&SUM(Št.dvojic!$I$212:$T$212)&\")\")","v":""},{"$f":"IF($C$170=\"\",\"\",Št.dvojic!$V$212)","v":""},{"$f":"IF($C$170=\"\",\"\",Št.400mCTIF!$U$212)","v":""},{"$f":"IF($C$170=\"\",\"\",\"(\"&SUM(Št.400mCTIF!$I$212:$T$212)&\")\")","v":""},{"$f":"IF($C$170=\"\",\"\",Št.400mCTIF!$V$212)","v":""},{"$f":"IF($C$170=\"\",\"\",'PÚ CTIF'!$R$212)","v":""},{"$f":"IF($C$170=\"\",\"\",\"(\"&SUM('PÚ CTIF'!$I$212:$Q$212)&\")\")","v":""},{"$f":"IF($C$170=\"\",\"\",'PÚ CTIF'!$S$212)","v":""},null,null,{"$f":"IF(A170=\"x\",300,IF(C170=\"\",\"\",SUM(D170,F170,H170,K170,N170,Q170,R170)))","v":""},null,{"$f":"IF($A170=\"x\",\"x\",IF($C170=\"\",\"\",IF(VLOOKUP($B170,POM!$A$1:$K$100,11)=0,\"\",VLOOKUP($B170,POM!$A$1:$K$100,11))))","v":""}]
[null,null,null,null,{"$f":"IF($C$170=\"\",\"\",PÚ!$H$120)","v":""},null,{"$f":"IF($C$170=\"\",\"\",Št.4x60m!$H$120)","v":""},null,{"$f":"IF($C$170=\"\",\"\",Št.dvojic!$U$213)","v":""},{"$f":"IF($C$170=\"\",\"\",\"(\"&SUM(Št.dvojic!$I$213:$T$213)&\")\")","v":""},null,{"$f":"IF($C$170=\"\",\"\",Št.400mCTIF!$U$213)","v":""},{"$f":"IF($C$170=\"\",\"\",\"(\"&SUM(Št.400mCTIF!$I$213:$T$213)&\")\")","v":""},null,{"$f":"IF($C$170=\"\",\"\",'PÚ CTIF'!$R$213)","v":""},{"$f":"IF($C$170=\"\",\"\",\"(\"&SUM('PÚ CTIF'!$I$213:$Q$213)&\")\")","v":""}]
[{"$f":"IF(Start!M24=\"\",\"\",\"x\")","v":""},69,{"$f":"IF(Start!K24=\"\",\"\",Start!K24)","v":""},null,{"$f":"IF($C$172=\"\",\"\",PÚ!$H$121)","v":""},{"$f":"IF($C$172=\"\",\"\",PÚ!$I$121)","v":""},{"$f":"IF($C$172=\"\",\"\",Št.4x60m!$H$121)","v":""},{"$f":"IF($C$172=\"\",\"\",Št.4x60m!$I$121)","v":""},{"$f":"IF($C$172=\"\",\"\",Št.dvojic!$U$214)","v":""},{"$f":"IF($C$172=\"\",\"\",\"(\"&SUM(Št.dvojic!$I$214:$T$214)&\")\")","v":""},{"$f":"IF($C$172=\"\",\"\",Št.dvojic!$V$214)","v":""},{"$f":"IF($C$172=\"\",\"\",Št.400mCTIF!$U$214)","v":""},{"$f":"IF($C$172=\"\",\"\",\"(\"&SUM(Št.400mCTIF!$I$214:$T$214)&\")\")","v":""},{"$f":"IF($C$172=\"\",\"\",Št.400mCTIF!$V$214)","v":""},{"$f":"IF($C$172=\"\",\"\",'PÚ CTIF'!$R$214)","v":""},{"$f":"IF($C$172=\"\",\"\",\"(\"&SUM('PÚ CTIF'!$I$214:$Q$214)&\")\")","v":""},{"$f":"IF($C$172=\"\",\"\",'PÚ CTIF'!$S$214)","v":""},null,null,{"$f":"IF(A172=\"x\",300,IF(C172=\"\",\"\",SUM(D172,F172,H172,K172,N172,Q172,R172)))","v":""},null,{"$f":"IF($A172=\"x\",\"x\",IF($C172=\"\",\"\",IF(VLOOKUP($B172,POM!$A$1:$K$100,11)=0,\"\",VLOOKUP($B172,POM!$A$1:$K$100,11))))","v":""}]
[null,null,null,null,{"$f":"IF($C$172=\"\",\"\",PÚ!$H$122)","v":""},null,{"$f":"IF($C$172=\"\",\"\",Št.4x60m!$H$122)","v":""},null,{"$f":"IF($C$172=\"\",\"\",Št.dvojic!$U$215)","v":""},{"$f":"IF($C$172=\"\",\"\",\"(\"&SUM(Št.dvojic!$I$215:$T$215)&\")\")","v":""},null,{"$f":"IF($C$172=\"\",\"\",Št.400mCTIF!$U$215)","v":""},{"$f":"IF($C$172=\"\",\"\",\"(\"&SUM(Št.400mCTIF!$I$215:$T$215)&\")\")","v":""},null,{"$f":"IF($C$172=\"\",\"\",'PÚ CTIF'!$R$215)","v":""},{"$f":"IF($C$172=\"\",\"\",\"(\"&SUM('PÚ CTIF'!$I$215:$Q$215)&\")\")","v":""}]
[{"$f":"IF(Start!M25=\"\",\"\",\"x\")","v":""},70,{"$f":"IF(Start!K25=\"\",\"\",Start!K25)","v":""},null,{"$f":"IF($C$174=\"\",\"\",PÚ!$H$123)","v":""},{"$f":"IF($C$174=\"\",\"\",PÚ!$I$123)","v":""},{"$f":"IF($C$174=\"\",\"\",Št.4x60m!$H$123)","v":""},{"$f":"IF($C$174=\"\",\"\",Št.4x60m!$I$123)","v":""},{"$f":"IF($C$174=\"\",\"\",Št.dvojic!$U$216)","v":""},{"$f":"IF($C$174=\"\",\"\",\"(\"&SUM(Št.dvojic!$I$216:$T$216)&\")\")","v":""},{"$f":"IF($C$174=\"\",\"\",Št.dvojic!$V$216)","v":""},{"$f":"IF($C$174=\"\",\"\",Št.400mCTIF!$U$216)","v":""},{"$f":"IF($C$174=\"\",\"\",\"(\"&SUM(Št.400mCTIF!$I$216:$T$216)&\")\")","v":""},{"$f":"IF($C$174=\"\",\"\",Št.400mCTIF!$V$216)","v":""},{"$f":"IF($C$174=\"\",\"\",'PÚ CTIF'!$R$216)","v":""},{"$f":"IF($C$174=\"\",\"\",\"(\"&SUM('PÚ CTIF'!$I$216:$Q$216)&\")\")","v":""},{"$f":"IF($C$174=\"\",\"\",'PÚ CTIF'!$S$216)","v":""},null,null,{"$f":"IF(A174=\"x\",300,IF(C174=\"\",\"\",SUM(D174,F174,H174,K174,N174,Q174,R174)))","v":""},null,{"$f":"IF($A174=\"x\",\"x\",IF($C174=\"\",\"\",IF(VLOOKUP($B174,POM!$A$1:$K$100,11)=0,\"\",VLOOKUP($B174,POM!$A$1:$K$100,11))))","v":""}]
[null,null,null,null,{"$f":"IF($C$174=\"\",\"\",PÚ!$H$124)","v":""},null,{"$f":"IF($C$174=\"\",\"\",Št.4x60m!$H$124)","v":""},null,{"$f":"IF($C$174=\"\",\"\",Št.dvojic!$U$217)","v":""},{"$f":"IF($C$174=\"\",\"\",\"(\"&SUM(Št.dvojic!$I$217:$T$217)&\")\")","v":""},null,{"$f":"IF($C$174=\"\",\"\",Št.400mCTIF!$U$217)","v":""},{"$f":"IF($C$174=\"\",\"\",\"(\"&SUM(Št.400mCTIF!$I$217:$T$217)&\")\")","v":""},null,{"$f":"IF($C$174=\"\",\"\",'PÚ CTIF'!$R$217)","v":""},{"$f":"IF($C$174=\"\",\"\",\"(\"&SUM('PÚ CTIF'!$I$217:$Q$217)&\")\")","v":""}]
[null,{"$f":"B141","v":"Celkové výsledky - TISK"}]
[]
[null,null,null,{"$f":"D143","v":"Požární útoky "},null,null,null,null,null,null,null,{"$f":"L143","v":"18.05.2025, Kamenný Újezd"}]
[null,null,{"$f":"Start!$N$2","v":"starší"}]
[null," startovní číslo"," SDH",null," PÚ",null," Štafeta 4 x 60 m",null," Štafeta dvojic",null,null," 400 m štafeta CTIF",null,null," PÚ - CTIF",null,null,null,null," Celkový součet",null,"Pořadí"]
[null,null,null,null,"1.pokus","P.","1.pokus","P.","1.pokus","tr.body","P.","1.pokus","tr.body","P.","1.pokus","tr.body","P."]
[null,null,null,null,"2.pokus",null,"2.pokus",null,"2.pokus","tr.body",null,"2.pokus","tr.body",null,"2.pokus","tr.body"]
[{"$f":"IF(Start!M26=\"\",\"\",\"x\")","v":""},71,{"$f":"IF(Start!K26=\"\",\"\",Start!K26)","v":""},null,{"$f":"IF($C$183=\"\",\"\",PÚ!$S$105)","v":""},{"$f":"IF($C$183=\"\",\"\",PÚ!$T105)","v":""},{"$f":"IF($C$183=\"\",\"\",Št.4x60m!$S$105)","v":""},{"$f":"IF($C$183=\"\",\"\",Št.4x60m!$T105)","v":""},{"$f":"IF($C$183=\"\",\"\",Št.dvojic!$U$229)","v":""},{"$f":"IF($C$183=\"\",\"\",\"(\"&SUM(Št.dvojic!$I$229:$T$229)&\")\")","v":""},{"$f":"IF($C$183=\"\",\"\",Št.dvojic!$V$229)","v":""},{"$f":"IF($C$183=\"\",\"\",Št.400mCTIF!$U$229)","v":""},{"$f":"IF($C$183=\"\",\"\",\"(\"&SUM(Št.400mCTIF!$I$229:$T$229)&\")\")","v":""},{"$f":"IF($C$183=\"\",\"\",Št.400mCTIF!$V$229)","v":""},{"$f":"IF($C$183=\"\",\"\",'PÚ CTIF'!$R$229)","v":""},{"$f":"IF($C$183=\"\",\"\",\"(\"&SUM('PÚ CTIF'!$I$229:$Q$229)&\")\")","v":""},{"$f":"IF($C$183=\"\",\"\",'PÚ CTIF'!$S$229)","v":""},null,null,{"$f":"IF(A183=\"x\",300,IF(C183=\"\",\"\",SUM(D183,F183,H183,K183,N183,Q183,R183)))","v":""},null,{"$f":"IF($A183=\"x\",\"x\",IF($C183=\"\",\"\",IF(VLOOKUP($B183,POM!$A$1:$K$100,11)=0,\"\",VLOOKUP($B183,POM!$A$1:$K$100,11))))","v":""}]
[null,null,null,null,{"$f":"IF($C$183=\"\",\"\",PÚ!$S$106)","v":""},null,{"$f":"IF($C$183=\"\",\"\",Št.4x60m!$S$106)","v":""},null,{"$f":"IF($C$183=\"\",\"\",Št.dvojic!$U$230)","v":""},{"$f":"IF($C$183=\"\",\"\",\"(\"&SUM(Št.dvojic!$I$230:$T$230)&\")\")","v":""},null,{"$f":"IF($C$183=\"\",\"\",Št.400mCTIF!$U$230)","v":""},{"$f":"IF($C$183=\"\",\"\",\"(\"&SUM(Št.400mCTIF!$I$230:$T$230)&\")\")","v":""},null,{"$f":"IF($C$183=\"\",\"\",'PÚ CTIF'!$R$230)","v":""},{"$f":"IF($C$183=\"\",\"\",\"(\"&SUM('PÚ CTIF'!$I$230:$Q$230)&\")\")","v":""}]
[{"$f":"IF(Start!M27=\"\",\"\",\"x\")","v":""},72,{"$f":"IF(Start!K27=\"\",\"\",Start!K27)","v":""},null,{"$f":"IF($C$185=\"\",\"\",PÚ!$S$107)","v":""},{"$f":"IF($C$185=\"\",\"\",PÚ!$T107)","v":""},{"$f":"IF($C$185=\"\",\"\",Št.4x60m!$S$107)","v":""},{"$f":"IF($C$185=\"\",\"\",Št.4x60m!$T107)","v":""},{"$f":"IF($C$185=\"\",\"\",Št.dvojic!$U$231)","v":""},{"$f":"IF($C$185=\"\",\"\",\"(\"&SUM(Št.dvojic!$I$231:$T$231)&\")\")","v":""},{"$f":"IF($C$185=\"\",\"\",Št.dvojic!$V$231)","v":""},{"$f":"IF($C$185=\"\",\"\",Št.400mCTIF!$U$231)","v":""},{"$f":"IF($C$185=\"\",\"\",\"(\"&SUM(Št.400mCTIF!$I$231:$T$231)&\")\")","v":""},{"$f":"IF($C$185=\"\",\"\",Št.400mCTIF!$V$231)","v":""},{"$f":"IF($C$185=\"\",\"\",'PÚ CTIF'!$R$231)","v":""},{"$f":"IF($C$185=\"\",\"\",\"(\"&SUM('PÚ CTIF'!$I$231:$Q$231)&\")\")","v":""},{"$f":"IF($C$185=\"\",\"\",'PÚ CTIF'!$S$231)","v":""},null,null,{"$f":"IF(A185=\"x\",300,IF(C185=\"\",\"\",SUM(D185,F185,H185,K185,N185,Q185,R185)))","v":""},null,{"$f":"IF($A185=\"x\",\"x\",IF($C185=\"\",\"\",IF(VLOOKUP($B185,POM!$A$1:$K$100,11)=0,\"\",VLOOKUP($B185,POM!$A$1:$K$100,11))))","v":""}]
[null,null,null,null,{"$f":"IF($C$185=\"\",\"\",PÚ!$S$108)","v":""},null,{"$f":"IF($C$185=\"\",\"\",Št.4x60m!$S$108)","v":""},null,{"$f":"IF($C$185=\"\",\"\",Št.dvojic!$U$232)","v":""},{"$f":"IF($C$185=\"\",\"\",\"(\"&SUM(Št.dvojic!$I$232:$T$232)&\")\")","v":""},null,{"$f":"IF($C$185=\"\",\"\",Št.400mCTIF!$U$232)","v":""},{"$f":"IF($C$185=\"\",\"\",\"(\"&SUM(Št.400mCTIF!$I$232:$T$232)&\")\")","v":""},null,{"$f":"IF($C$185=\"\",\"\",'PÚ CTIF'!$R$232)","v":""},{"$f":"IF($C$185=\"\",\"\",\"(\"&SUM('PÚ CTIF'!$I$232:$Q$232)&\")\")","v":""}]
[{"$f":"IF(Start!M28=\"\",\"\",\"x\")","v":""},73,{"$f":"IF(Start!K28=\"\",\"\",Start!K28)","v":""},null,{"$f":"IF($C$187=\"\",\"\",PÚ!$S$109)","v":""},{"$f":"IF($C$187=\"\",\"\",PÚ!$T109)","v":""},{"$f":"IF($C$187=\"\",\"\",Št.4x60m!$S$109)","v":""},{"$f":"IF($C$187=\"\",\"\",Št.4x60m!$T109)","v":""},{"$f":"IF($C$187=\"\",\"\",Št.dvojic!$U$233)","v":""},{"$f":"IF($C$187=\"\",\"\",\"(\"&SUM(Št.dvojic!$I$233:$T$233)&\")\")","v":""},{"$f":"IF($C$187=\"\",\"\",Št.dvojic!$V$233)","v":""},{"$f":"IF($C$187=\"\",\"\",Št.400mCTIF!$U$233)","v":""},{"$f":"IF($C$187=\"\",\"\",\"(\"&SUM(Št.400mCTIF!$I$233:$T$233)&\")\")","v":""},{"$f":"IF($C$187=\"\",\"\",Št.400mCTIF!$V$233)","v":""},{"$f":"IF($C$187=\"\",\"\",'PÚ CTIF'!$R$233)","v":""},{"$f":"IF($C$187=\"\",\"\",\"(\"&SUM('PÚ CTIF'!$I$233:$Q$233)&\")\")","v":""},{"$f":"IF($C$187=\"\",\"\",'PÚ CTIF'!$S$233)","v":""},null,null,{"$f":"IF(A187=\"x\",300,IF(C187=\"\",\"\",SUM(D187,F187,H187,K187,N187,Q187,R187)))","v":""},null,{"$f":"IF($A187=\"x\",\"x\",IF($C187=\"\",\"\",IF(VLOOKUP($B187,POM!$A$1:$K$100,11)=0,\"\",VLOOKUP($B187,POM!$A$1:$K$100,11))))","v":""}]
[null,null,null,null,{"$f":"IF($C$187=\"\",\"\",PÚ!$S$110)","v":""},null,{"$f":"IF($C$187=\"\",\"\",Št.4x60m!$S$110)","v":""},null,{"$f":"IF($C$187=\"\",\"\",Št.dvojic!$U$234)","v":""},{"$f":"IF($C$187=\"\",\"\",\"(\"&SUM(Št.dvojic!$I$234:$T$234)&\")\")","v":""},null,{"$f":"IF($C$187=\"\",\"\",Št.400mCTIF!$U$234)","v":""},{"$f":"IF($C$187=\"\",\"\",\"(\"&SUM(Št.400mCTIF!$I$234:$T$234)&\")\")","v":""},null,{"$f":"IF($C$187=\"\",\"\",'PÚ CTIF'!$R$234)","v":""},{"$f":"IF($C$187=\"\",\"\",\"(\"&SUM('PÚ CTIF'!$I$234:$Q$234)&\")\")","v":""}]
[{"$f":"IF(Start!M29=\"\",\"\",\"x\")","v":""},74,{"$f":"IF(Start!K29=\"\",\"\",Start!K29)","v":""},null,{"$f":"IF($C$189=\"\",\"\",PÚ!$S$111)","v":""},{"$f":"IF($C$189=\"\",\"\",PÚ!$T111)","v":""},{"$f":"IF($C$189=\"\",\"\",Št.4x60m!$S$111)","v":""},{"$f":"IF($C$189=\"\",\"\",Št.4x60m!$T111)","v":""},{"$f":"IF($C$189=\"\",\"\",Št.dvojic!$U$235)","v":""},{"$f":"IF($C$189=\"\",\"\",\"(\"&SUM(Št.dvojic!$I$235:$T$235)&\")\")","v":""},{"$f":"IF($C$189=\"\",\"\",Št.dvojic!$V$235)","v":""},{"$f":"IF($C$189=\"\",\"\",Št.400mCTIF!$U$235)","v":""},{"$f":"IF($C$189=\"\",\"\",\"(\"&SUM(Št.400mCTIF!$I$235:$T$235)&\")\")","v":""},{"$f":"IF($C$189=\"\",\"\",Št.400mCTIF!$V$235)","v":""},{"$f":"IF($C$189=\"\",\"\",'PÚ CTIF'!$R$235)","v":""},{"$f":"IF($C$189=\"\",\"\",\"(\"&SUM('PÚ CTIF'!$I$235:$Q$235)&\")\")","v":""},{"$f":"IF($C$189=\"\",\"\",'PÚ CTIF'!$S$235)","v":""},null,null,{"$f":"IF(A189=\"x\",300,IF(C189=\"\",\"\",SUM(D189,F189,H189,K189,N189,Q189,R189)))","v":""},null,{"$f":"IF($A189=\"x\",\"x\",IF($C189=\"\",\"\",IF(VLOOKUP($B189,POM!$A$1:$K$100,11)=0,\"\",VLOOKUP($B189,POM!$A$1:$K$100,11))))","v":""}]
[null,null,null,null,{"$f":"IF($C$189=\"\",\"\",PÚ!$S$112)","v":""},null,{"$f":"IF($C$189=\"\",\"\",Št.4x60m!$S$112)","v":""},null,{"$f":"IF($C$189=\"\",\"\",Št.dvojic!$U$236)","v":""},{"$f":"IF($C$189=\"\",\"\",\"(\"&SUM(Št.dvojic!$I$236:$T$236)&\")\")","v":""},null,{"$f":"IF($C$189=\"\",\"\",Št.400mCTIF!$U$236)","v":""},{"$f":"IF($C$189=\"\",\"\",\"(\"&SUM(Št.400mCTIF!$I$236:$T$236)&\")\")","v":""},null,{"$f":"IF($C$189=\"\",\"\",'PÚ CTIF'!$R$236)","v":""},{"$f":"IF($C$189=\"\",\"\",\"(\"&SUM('PÚ CTIF'!$I$236:$Q$236)&\")\")","v":""}]
[{"$f":"IF(Start!M30=\"\",\"\",\"x\")","v":""},75,{"$f":"IF(Start!K30=\"\",\"\",Start!K30)","v":""},null,{"$f":"IF($C$191=\"\",\"\",PÚ!$S$113)","v":""},{"$f":"IF($C$191=\"\",\"\",PÚ!$T113)","v":""},{"$f":"IF($C$191=\"\",\"\",Št.4x60m!$S$113)","v":""},{"$f":"IF($C$191=\"\",\"\",Št.4x60m!$T113)","v":""},{"$f":"IF($C$191=\"\",\"\",Št.dvojic!$U$237)","v":""},{"$f":"IF($C$191=\"\",\"\",\"(\"&SUM(Št.dvojic!$I$237:$T$237)&\")\")","v":""},{"$f":"IF($C$191=\"\",\"\",Št.dvojic!$V$237)","v":""},{"$f":"IF($C$191=\"\",\"\",Št.400mCTIF!$U$237)","v":""},{"$f":"IF($C$191=\"\",\"\",\"(\"&SUM(Št.400mCTIF!$I$237:$T$237)&\")\")","v":""},{"$f":"IF($C$191=\"\",\"\",Št.400mCTIF!$V$237)","v":""},{"$f":"IF($C$191=\"\",\"\",'PÚ CTIF'!$R$237)","v":""},{"$f":"IF($C$191=\"\",\"\",\"(\"&SUM('PÚ CTIF'!$I$237:$Q$237)&\")\")","v":""},{"$f":"IF($C$191=\"\",\"\",'PÚ CTIF'!$S$237)","v":""},null,null,{"$f":"IF(A191=\"x\",300,IF(C191=\"\",\"\",SUM(D191,F191,H191,K191,N191,Q191,R191)))","v":""},null,{"$f":"IF($A191=\"x\",\"x\",IF($C191=\"\",\"\",IF(VLOOKUP($B191,POM!$A$1:$K$100,11)=0,\"\",VLOOKUP($B191,POM!$A$1:$K$100,11))))","v":""}]
[null,null,null,null,{"$f":"IF($C$191=\"\",\"\",PÚ!$S$114)","v":""},null,{"$f":"IF($C$191=\"\",\"\",Št.4x60m!$S$114)","v":""},null,{"$f":"IF($C$191=\"\",\"\",Št.dvojic!$U$238)","v":""},{"$f":"IF($C$191=\"\",\"\",\"(\"&SUM(Št.dvojic!$I$238:$T$238)&\")\")","v":""},null,{"$f":"IF($C$191=\"\",\"\",Št.400mCTIF!$U$238)","v":""},{"$f":"IF($C$191=\"\",\"\",\"(\"&SUM(Št.400mCTIF!$I$238:$T$238)&\")\")","v":""},null,{"$f":"IF($C$191=\"\",\"\",'PÚ CTIF'!$R$238)","v":""},{"$f":"IF($C$191=\"\",\"\",\"(\"&SUM('PÚ CTIF'!$I$238:$Q$238)&\")\")","v":""}]
[{"$f":"IF(Start!Q6=\"\",\"\",\"x\")","v":""},76,{"$f":"IF(Start!O6=\"\",\"\",Start!O6)","v":""},null,{"$f":"IF($C$193=\"\",\"\",PÚ!$S$115)","v":""},{"$f":"IF($C$193=\"\",\"\",PÚ!$T115)","v":""},{"$f":"IF($C$193=\"\",\"\",Št.4x60m!$S$115)","v":""},{"$f":"IF($C$193=\"\",\"\",Št.4x60m!$T115)","v":""},{"$f":"IF($C$193=\"\",\"\",Št.dvojic!$U$239)","v":""},{"$f":"IF($C$193=\"\",\"\",\"(\"&SUM(Št.dvojic!$I$239:$T$239)&\")\")","v":""},{"$f":"IF($C$193=\"\",\"\",Št.dvojic!$V$239)","v":""},{"$f":"IF($C$193=\"\",\"\",Št.400mCTIF!$U$239)","v":""},{"$f":"IF($C$193=\"\",\"\",\"(\"&SUM(Št.400mCTIF!$I$239:$T$239)&\")\")","v":""},{"$f":"IF($C$193=\"\",\"\",Št.400mCTIF!$V$239)","v":""},{"$f":"IF($C$193=\"\",\"\",'PÚ CTIF'!$R$239)","v":""},{"$f":"IF($C$193=\"\",\"\",\"(\"&SUM('PÚ CTIF'!$I$239:$Q$239)&\")\")","v":""},{"$f":"IF($C$193=\"\",\"\",'PÚ CTIF'!$S$239)","v":""},null,null,{"$f":"IF(A193=\"x\",300,IF(C193=\"\",\"\",SUM(D193,F193,H193,K193,N193,Q193,R193)))","v":""},null,{"$f":"IF($A193=\"x\",\"x\",IF($C193=\"\",\"\",IF(VLOOKUP($B193,POM!$A$1:$K$100,11)=0,\"\",VLOOKUP($B193,POM!$A$1:$K$100,11))))","v":""}]
[null,null,null,null,{"$f":"IF($C$193=\"\",\"\",PÚ!$S$116)","v":""},null,{"$f":"IF($C$193=\"\",\"\",Št.4x60m!$S$116)","v":""},null,{"$f":"IF($C$193=\"\",\"\",Št.dvojic!$U$240)","v":""},{"$f":"IF($C$193=\"\",\"\",\"(\"&SUM(Št.dvojic!$I$240:$T$240)&\")\")","v":""},null,{"$f":"IF($C$193=\"\",\"\",Št.400mCTIF!$U$240)","v":""},{"$f":"IF($C$193=\"\",\"\",\"(\"&SUM(Št.400mCTIF!$I$240:$T$240)&\")\")","v":""},null,{"$f":"IF($C$193=\"\",\"\",'PÚ CTIF'!$R$240)","v":""},{"$f":"IF($C$193=\"\",\"\",\"(\"&SUM('PÚ CTIF'!$I$240:$Q$240)&\")\")","v":""}]
[{"$f":"IF(Start!Q7=\"\",\"\",\"x\")","v":""},77,{"$f":"IF(Start!O7=\"\",\"\",Start!O7)","v":""},null,{"$f":"IF($C$195=\"\",\"\",PÚ!$S$117)","v":""},{"$f":"IF($C$195=\"\",\"\",PÚ!$T117)","v":""},{"$f":"IF($C$195=\"\",\"\",Št.4x60m!$S$117)","v":""},{"$f":"IF($C$195=\"\",\"\",Št.4x60m!$T117)","v":""},{"$f":"IF($C$195=\"\",\"\",Št.dvojic!$U$241)","v":""},{"$f":"IF($C$195=\"\",\"\",\"(\"&SUM(Št.dvojic!$I$241:$T$241)&\")\")","v":""},{"$f":"IF($C$195=\"\",\"\",Št.dvojic!$V$241)","v":""},{"$f":"IF($C$195=\"\",\"\",Št.400mCTIF!$U$241)","v":""},{"$f":"IF($C$195=\"\",\"\",\"(\"&SUM(Št.400mCTIF!$I$241:$T$241)&\")\")","v":""},{"$f":"IF($C$195=\"\",\"\",Št.400mCTIF!$V$241)","v":""},{"$f":"IF($C$195=\"\",\"\",'PÚ CTIF'!$R$241)","v":""},{"$f":"IF($C$195=\"\",\"\",\"(\"&SUM('PÚ CTIF'!$I$241:$Q$241)&\")\")","v":""},{"$f":"IF($C$195=\"\",\"\",'PÚ CTIF'!$S$241)","v":""},null,null,{"$f":"IF(A195=\"x\",300,IF(C195=\"\",\"\",SUM(D195,F195,H195,K195,N195,Q195,R195)))","v":""},null,{"$f":"IF($A195=\"x\",\"x\",IF($C195=\"\",\"\",IF(VLOOKUP($B195,POM!$A$1:$K$100,11)=0,\"\",VLOOKUP($B195,POM!$A$1:$K$100,11))))","v":""}]
[null,null,null,null,{"$f":"IF($C$195=\"\",\"\",PÚ!$S$118)","v":""},null,{"$f":"IF($C$195=\"\",\"\",Št.4x60m!$S$118)","v":""},null,{"$f":"IF($C$195=\"\",\"\",Št.dvojic!$U$242)","v":""},{"$f":"IF($C$195=\"\",\"\",\"(\"&SUM(Št.dvojic!$I$242:$T$242)&\")\")","v":""},null,{"$f":"IF($C$195=\"\",\"\",Št.400mCTIF!$U$242)","v":""},{"$f":"IF($C$195=\"\",\"\",\"(\"&SUM(Št.400mCTIF!$I$242:$T$242)&\")\")","v":""},null,{"$f":"IF($C$195=\"\",\"\",'PÚ CTIF'!$R$242)","v":""},{"$f":"IF($C$195=\"\",\"\",\"(\"&SUM('PÚ CTIF'!$I$242:$Q$242)&\")\")","v":""}]
[{"$f":"IF(Start!Q8=\"\",\"\",\"x\")","v":""},78,{"$f":"IF(Start!O8=\"\",\"\",Start!O8)","v":""},null,{"$f":"IF($C$197=\"\",\"\",PÚ!$S$119)","v":""},{"$f":"IF($C$197=\"\",\"\",PÚ!$T119)","v":""},{"$f":"IF($C$197=\"\",\"\",Št.4x60m!$S$119)","v":""},{"$f":"IF($C$197=\"\",\"\",Št.4x60m!$T119)","v":""},{"$f":"IF($C$197=\"\",\"\",Št.dvojic!$U$243)","v":""},{"$f":"IF($C$197=\"\",\"\",\"(\"&SUM(Št.dvojic!$I$243:$T$243)&\")\")","v":""},{"$f":"IF($C$197=\"\",\"\",Št.dvojic!$V$243)","v":""},{"$f":"IF($C$197=\"\",\"\",Št.400mCTIF!$U$243)","v":""},{"$f":"IF($C$197=\"\",\"\",\"(\"&SUM(Št.400mCTIF!$I$243:$T$243)&\")\")","v":""},{"$f":"IF($C$197=\"\",\"\",Št.400mCTIF!$V$243)","v":""},{"$f":"IF($C$197=\"\",\"\",'PÚ CTIF'!$R$243)","v":""},{"$f":"IF($C$197=\"\",\"\",\"(\"&SUM('PÚ CTIF'!$I$243:$Q$243)&\")\")","v":""},{"$f":"IF($C$197=\"\",\"\",'PÚ CTIF'!$S$243)","v":""},null,null,{"$f":"IF(A197=\"x\",300,IF(C197=\"\",\"\",SUM(D197,F197,H197,K197,N197,Q197,R197)))","v":""},null,{"$f":"IF($A197=\"x\",\"x\",IF($C197=\"\",\"\",IF(VLOOKUP($B197,POM!$A$1:$K$100,11)=0,\"\",VLOOKUP($B197,POM!$A$1:$K$100,11))))","v":""}]
[null,null,null,null,{"$f":"IF($C$197=\"\",\"\",PÚ!$S$120)","v":""},null,{"$f":"IF($C$197=\"\",\"\",Št.4x60m!$S$120)","v":""},null,{"$f":"IF($C$197=\"\",\"\",Št.dvojic!$U$244)","v":""},{"$f":"IF($C$197=\"\",\"\",\"(\"&SUM(Št.dvojic!$I$244:$T$244)&\")\")","v":""},null,{"$f":"IF($C$197=\"\",\"\",Št.400mCTIF!$U$244)","v":""},{"$f":"IF($C$197=\"\",\"\",\"(\"&SUM(Št.400mCTIF!$I$244:$T$244)&\")\")","v":""},null,{"$f":"IF($C$197=\"\",\"\",'PÚ CTIF'!$R$244)","v":""},{"$f":"IF($C$197=\"\",\"\",\"(\"&SUM('PÚ CTIF'!$I$244:$Q$244)&\")\")","v":""}]
[{"$f":"IF(Start!Q9=\"\",\"\",\"x\")","v":""},79,{"$f":"IF(Start!O9=\"\",\"\",Start!O9)","v":""},null,{"$f":"IF($C$199=\"\",\"\",PÚ!$S$121)","v":""},{"$f":"IF($C$199=\"\",\"\",PÚ!$T121)","v":""},{"$f":"IF($C$199=\"\",\"\",Št.4x60m!$S$121)","v":""},{"$f":"IF($C$199=\"\",\"\",Št.4x60m!$T121)","v":""},{"$f":"IF($C$199=\"\",\"\",Št.dvojic!$U$245)","v":""},{"$f":"IF($C$199=\"\",\"\",\"(\"&SUM(Št.dvojic!$I$245:$T$245)&\")\")","v":""},{"$f":"IF($C$199=\"\",\"\",Št.dvojic!$V$245)","v":""},{"$f":"IF($C$199=\"\",\"\",Št.400mCTIF!$U$245)","v":""},{"$f":"IF($C$199=\"\",\"\",\"(\"&SUM(Št.400mCTIF!$I$245:$T$245)&\")\")","v":""},{"$f":"IF($C$199=\"\",\"\",Št.400mCTIF!$V$245)","v":""},{"$f":"IF($C$199=\"\",\"\",'PÚ CTIF'!$R$245)","v":""},{"$f":"IF($C$199=\"\",\"\",\"(\"&SUM('PÚ CTIF'!$I$245:$Q$245)&\")\")","v":""},{"$f":"IF($C$199=\"\",\"\",'PÚ CTIF'!$S$245)","v":""},null,null,{"$f":"IF(A199=\"x\",300,IF(C199=\"\",\"\",SUM(D199,F199,H199,K199,N199,Q199,R199)))","v":""},null,{"$f":"IF($A199=\"x\",\"x\",IF($C199=\"\",\"\",IF(VLOOKUP($B199,POM!$A$1:$K$100,11)=0,\"\",VLOOKUP($B199,POM!$A$1:$K$100,11))))","v":""}]
[null,null,null,null,{"$f":"IF($C$199=\"\",\"\",PÚ!$S$122)","v":""},null,{"$f":"IF($C$199=\"\",\"\",Št.4x60m!$S$122)","v":""},null,{"$f":"IF($C$199=\"\",\"\",Št.dvojic!$U$246)","v":""},{"$f":"IF($C$199=\"\",\"\",\"(\"&SUM(Št.dvojic!$I$246:$T$246)&\")\")","v":""},null,{"$f":"IF($C$199=\"\",\"\",Št.400mCTIF!$U$246)","v":""},{"$f":"IF($C$199=\"\",\"\",\"(\"&SUM(Št.400mCTIF!$I$246:$T$246)&\")\")","v":""},null,{"$f":"IF($C$199=\"\",\"\",'PÚ CTIF'!$R$246)","v":""},{"$f":"IF($C$199=\"\",\"\",\"(\"&SUM('PÚ CTIF'!$I$246:$Q$246)&\")\")","v":""}]
[{"$f":"IF(Start!Q10=\"\",\"\",\"x\")","v":""},80,{"$f":"IF(Start!O10=\"\",\"\",Start!O10)","v":""},null,{"$f":"IF($C$201=\"\",\"\",PÚ!$S$123)","v":""},{"$f":"IF($C$201=\"\",\"\",PÚ!$T123)","v":""},{"$f":"IF($C$201=\"\",\"\",Št.4x60m!$S$123)","v":""},{"$f":"IF($C$201=\"\",\"\",Št.4x60m!$T123)","v":""},{"$f":"IF($C$201=\"\",\"\",Št.dvojic!$U$247)","v":""},{"$f":"IF($C$201=\"\",\"\",\"(\"&SUM(Št.dvojic!$I$247:$T$247)&\")\")","v":""},{"$f":"IF($C$201=\"\",\"\",Št.dvojic!$V$247)","v":""},{"$f":"IF($C$201=\"\",\"\",Št.400mCTIF!$U$247)","v":""},{"$f":"IF($C$201=\"\",\"\",\"(\"&SUM(Št.400mCTIF!$I$247:$T$247)&\")\")","v":""},{"$f":"IF($C$201=\"\",\"\",Št.400mCTIF!$V$247)","v":""},{"$f":"IF($C$201=\"\",\"\",'PÚ CTIF'!$R$247)","v":""},{"$f":"IF($C$201=\"\",\"\",\"(\"&SUM('PÚ CTIF'!$I$247:$Q$247)&\")\")","v":""},{"$f":"IF($C$201=\"\",\"\",'PÚ CTIF'!$S$247)","v":""},null,null,{"$f":"IF(A201=\"x\",300,IF(C201=\"\",\"\",SUM(D201,F201,H201,K201,N201,Q201,R201)))","v":""},null,{"$f":"IF($A201=\"x\",\"x\",IF($C201=\"\",\"\",IF(VLOOKUP($B201,POM!$A$1:$K$100,11)=0,\"\",VLOOKUP($B201,POM!$A$1:$K$100,11))))","v":""}]
[null,null,null,null,{"$f":"IF($C$201=\"\",\"\",PÚ!$S$124)","v":""},null,{"$f":"IF($C$201=\"\",\"\",Št.4x60m!$S$124)","v":""},null,{"$f":"IF($C$201=\"\",\"\",Št.dvojic!$U$248)","v":""},{"$f":"IF($C$201=\"\",\"\",\"(\"&SUM(Št.dvojic!$I$248:$T$248)&\")\")","v":""},null,{"$f":"IF($C$201=\"\",\"\",Št.400mCTIF!$U$248)","v":""},{"$f":"IF($C$201=\"\",\"\",\"(\"&SUM(Št.400mCTIF!$I$248:$T$248)&\")\")","v":""},null,{"$f":"IF($C$201=\"\",\"\",'PÚ CTIF'!$R$248)","v":""},{"$f":"IF($C$201=\"\",\"\",\"(\"&SUM('PÚ CTIF'!$I$248:$Q$248)&\")\")","v":""}]
[{"$f":"IF(Start!Q11=\"\",\"\",\"x\")","v":""},81,{"$f":"IF(Start!O11=\"\",\"\",Start!O11)","v":""},null,{"$f":"IF($C$203=\"\",\"\",PÚ!$H$136)","v":""},{"$f":"IF($C$203=\"\",\"\",PÚ!$I$136)","v":""},{"$f":"IF($C$203=\"\",\"\",Št.4x60m!$H$136)","v":""},{"$f":"IF($C$203=\"\",\"\",Št.4x60m!$I$136)","v":""},{"$f":"IF($C$203=\"\",\"\",Št.dvojic!$U$260)","v":""},{"$f":"IF($C$203=\"\",\"\",\"(\"&SUM(Št.dvojic!$I$260:$T$260)&\")\")","v":""},{"$f":"IF($C$203=\"\",\"\",Št.dvojic!$V$260)","v":""},{"$f":"IF($C$203=\"\",\"\",Št.400mCTIF!$U$260)","v":""},{"$f":"IF($C$203=\"\",\"\",\"(\"&SUM(Št.400mCTIF!$I$260:$T$260)&\")\")","v":""},{"$f":"IF($C$203=\"\",\"\",Št.400mCTIF!$V$260)","v":""},{"$f":"IF($C$203=\"\",\"\",'PÚ CTIF'!$R$260)","v":""},{"$f":"IF($C$203=\"\",\"\",\"(\"&SUM('PÚ CTIF'!$I$260:$Q$260)&\")\")","v":""},{"$f":"IF($C$203=\"\",\"\",'PÚ CTIF'!$S$260)","v":""},null,null,{"$f":"IF(A203=\"x\",300,IF(C203=\"\",\"\",SUM(D203,F203,H203,K203,N203,Q203,R203)))","v":""},null,{"$f":"IF($A203=\"x\",\"x\",IF($C203=\"\",\"\",IF(VLOOKUP($B203,POM!$A$1:$K$100,11)=0,\"\",VLOOKUP($B203,POM!$A$1:$K$100,11))))","v":""}]
[null,null,null,null,{"$f":"IF($C$203=\"\",\"\",PÚ!$H$137)","v":""},null,{"$f":"IF($C$203=\"\",\"\",Št.4x60m!$H$137)","v":""},null,{"$f":"IF($C$203=\"\",\"\",Št.dvojic!$U$261)","v":""},{"$f":"IF($C$203=\"\",\"\",\"(\"&SUM(Št.dvojic!$I$261:$T$261)&\")\")","v":""},null,{"$f":"IF($C$203=\"\",\"\",Št.400mCTIF!$U$261)","v":""},{"$f":"IF($C$203=\"\",\"\",\"(\"&SUM(Št.400mCTIF!$I$261:$T$261)&\")\")","v":""},null,{"$f":"IF($C$203=\"\",\"\",'PÚ CTIF'!$R$261)","v":""},{"$f":"IF($C$203=\"\",\"\",\"(\"&SUM('PÚ CTIF'!$I$261:$Q$261)&\")\")","v":""}]
[{"$f":"IF(Start!Q12=\"\",\"\",\"x\")","v":""},82,{"$f":"IF(Start!O12=\"\",\"\",Start!O12)","v":""},null,{"$f":"IF($C$205=\"\",\"\",PÚ!$H$138)","v":""},{"$f":"IF($C$205=\"\",\"\",PÚ!$I$138)","v":""},{"$f":"IF($C$205=\"\",\"\",Št.4x60m!$H$138)","v":""},{"$f":"IF($C$205=\"\",\"\",Št.4x60m!$I$138)","v":""},{"$f":"IF($C$205=\"\",\"\",Št.dvojic!$U$262)","v":""},{"$f":"IF($C$205=\"\",\"\",\"(\"&SUM(Št.dvojic!$I$262:$T$262)&\")\")","v":""},{"$f":"IF($C$205=\"\",\"\",Št.dvojic!$V$262)","v":""},{"$f":"IF($C$205=\"\",\"\",Št.400mCTIF!$U$262)","v":""},{"$f":"IF($C$205=\"\",\"\",\"(\"&SUM(Št.400mCTIF!$I$262:$T$262)&\")\")","v":""},{"$f":"IF($C$205=\"\",\"\",Št.400mCTIF!$V$262)","v":""},{"$f":"IF($C$205=\"\",\"\",'PÚ CTIF'!$R$262)","v":""},{"$f":"IF($C$205=\"\",\"\",\"(\"&SUM('PÚ CTIF'!$I$262:$Q$262)&\")\")","v":""},{"$f":"IF($C$205=\"\",\"\",'PÚ CTIF'!$S$262)","v":""},null,null,{"$f":"IF(A205=\"x\",300,IF(C205=\"\",\"\",SUM(D205,F205,H205,K205,N205,Q205,R205)))","v":""},null,{"$f":"IF($A205=\"x\",\"x\",IF($C205=\"\",\"\",IF(VLOOKUP($B205,POM!$A$1:$K$100,11)=0,\"\",VLOOKUP($B205,POM!$A$1:$K$100,11))))","v":""}]
[null,null,null,null,{"$f":"IF($C$205=\"\",\"\",PÚ!$H$139)","v":""},null,{"$f":"IF($C$205=\"\",\"\",Št.4x60m!$H$139)","v":""},null,{"$f":"IF($C$205=\"\",\"\",Št.dvojic!$U$263)","v":""},{"$f":"IF($C$205=\"\",\"\",\"(\"&SUM(Št.dvojic!$I$263:$T$263)&\")\")","v":""},null,{"$f":"IF($C$205=\"\",\"\",Št.400mCTIF!$U$263)","v":""},{"$f":"IF($C$205=\"\",\"\",\"(\"&SUM(Št.400mCTIF!$I$263:$T$263)&\")\")","v":""},null,{"$f":"IF($C$205=\"\",\"\",'PÚ CTIF'!$R$263)","v":""},{"$f":"IF($C$205=\"\",\"\",\"(\"&SUM('PÚ CTIF'!$I$263:$Q$263)&\")\")","v":""}]
[{"$f":"IF(Start!Q13=\"\",\"\",\"x\")","v":""},83,{"$f":"IF(Start!O13=\"\",\"\",Start!O13)","v":""},null,{"$f":"IF($C$207=\"\",\"\",PÚ!$H$140)","v":""},{"$f":"IF($C$207=\"\",\"\",PÚ!$I$140)","v":""},{"$f":"IF($C$207=\"\",\"\",Št.4x60m!$H$140)","v":""},{"$f":"IF($C$207=\"\",\"\",Št.4x60m!$I$140)","v":""},{"$f":"IF($C$207=\"\",\"\",Št.dvojic!$U$264)","v":""},{"$f":"IF($C$207=\"\",\"\",\"(\"&SUM(Št.dvojic!$I$264:$T$264)&\")\")","v":""},{"$f":"IF($C$207=\"\",\"\",Št.dvojic!$V$264)","v":""},{"$f":"IF($C$207=\"\",\"\",Št.400mCTIF!$U$264)","v":""},{"$f":"IF($C$207=\"\",\"\",\"(\"&SUM(Št.400mCTIF!$I$264:$T$264)&\")\")","v":""},{"$f":"IF($C$207=\"\",\"\",Št.400mCTIF!$V$264)","v":""},{"$f":"IF($C$207=\"\",\"\",'PÚ CTIF'!$R$264)","v":""},{"$f":"IF($C$207=\"\",\"\",\"(\"&SUM('PÚ CTIF'!$I$264:$Q$264)&\")\")","v":""},{"$f":"IF($C$207=\"\",\"\",'PÚ CTIF'!$S$264)","v":""},null,null,{"$f":"IF(A207=\"x\",300,IF(C207=\"\",\"\",SUM(D207,F207,H207,K207,N207,Q207,R207)))","v":""},null,{"$f":"IF($A207=\"x\",\"x\",IF($C207=\"\",\"\",IF(VLOOKUP($B207,POM!$A$1:$K$100,11)=0,\"\",VLOOKUP($B207,POM!$A$1:$K$100,11))))","v":""}]
[null,null,null,null,{"$f":"IF($C$207=\"\",\"\",PÚ!$H$141)","v":""},null,{"$f":"IF($C$207=\"\",\"\",Št.4x60m!$H$141)","v":""},null,{"$f":"IF($C$207=\"\",\"\",Št.dvojic!$U$265)","v":""},{"$f":"IF($C$207=\"\",\"\",\"(\"&SUM(Št.dvojic!$I$265:$T$265)&\")\")","v":""},null,{"$f":"IF($C$207=\"\",\"\",Št.400mCTIF!$U$265)","v":""},{"$f":"IF($C$207=\"\",\"\",\"(\"&SUM(Št.400mCTIF!$I$265:$T$265)&\")\")","v":""},null,{"$f":"IF($C$207=\"\",\"\",'PÚ CTIF'!$R$265)","v":""},{"$f":"IF($C$207=\"\",\"\",\"(\"&SUM('PÚ CTIF'!$I$265:$Q$265)&\")\")","v":""}]
[{"$f":"IF(Start!Q14=\"\",\"\",\"x\")","v":""},84,{"$f":"IF(Start!O14=\"\",\"\",Start!O14)","v":""},null,{"$f":"IF($C$209=\"\",\"\",PÚ!$H$142)","v":""},{"$f":"IF($C$209=\"\",\"\",PÚ!$I$142)","v":""},{"$f":"IF($C$209=\"\",\"\",Št.4x60m!$H$142)","v":""},{"$f":"IF($C$209=\"\",\"\",Št.4x60m!$I$142)","v":""},{"$f":"IF($C$209=\"\",\"\",Št.dvojic!$U$266)","v":""},{"$f":"IF($C$209=\"\",\"\",\"(\"&SUM(Št.dvojic!$I$266:$T$266)&\")\")","v":""},{"$f":"IF($C$209=\"\",\"\",Št.dvojic!$V$266)","v":""},{"$f":"IF($C$209=\"\",\"\",Št.400mCTIF!$U$266)","v":""},{"$f":"IF($C$209=\"\",\"\",\"(\"&SUM(Št.400mCTIF!$I$266:$T$266)&\")\")","v":""},{"$f":"IF($C$209=\"\",\"\",Št.400mCTIF!$V$266)","v":""},{"$f":"IF($C$209=\"\",\"\",'PÚ CTIF'!$R$266)","v":""},{"$f":"IF($C$209=\"\",\"\",\"(\"&SUM('PÚ CTIF'!$I$266:$Q$266)&\")\")","v":""},{"$f":"IF($C$209=\"\",\"\",'PÚ CTIF'!$S$266)","v":""},null,null,{"$f":"IF(A209=\"x\",300,IF(C209=\"\",\"\",SUM(D209,F209,H209,K209,N209,Q209,R209)))","v":""},null,{"$f":"IF($A209=\"x\",\"x\",IF($C209=\"\",\"\",IF(VLOOKUP($B209,POM!$A$1:$K$100,11)=0,\"\",VLOOKUP($B209,POM!$A$1:$K$100,11))))","v":""}]
[null,null,null,null,{"$f":"IF($C$209=\"\",\"\",PÚ!$H$143)","v":""},null,{"$f":"IF($C$209=\"\",\"\",Št.4x60m!$H$143)","v":""},null,{"$f":"IF($C$209=\"\",\"\",Št.dvojic!$U$267)","v":""},{"$f":"IF($C$209=\"\",\"\",\"(\"&SUM(Št.dvojic!$I$267:$T$267)&\")\")","v":""},null,{"$f":"IF($C$209=\"\",\"\",Št.400mCTIF!$U$267)","v":""},{"$f":"IF($C$209=\"\",\"\",\"(\"&SUM(Št.400mCTIF!$I$267:$T$267)&\")\")","v":""},null,{"$f":"IF($C$209=\"\",\"\",'PÚ CTIF'!$R$267)","v":""},{"$f":"IF($C$209=\"\",\"\",\"(\"&SUM('PÚ CTIF'!$I$267:$Q$267)&\")\")","v":""}]
[null,{"$f":"B176","v":"Celkové výsledky - TISK"}]
[]
[null,null,null,{"$f":"D178","v":"Požární útoky "},null,null,null,null,null,null,null,{"$f":"L178","v":"18.05.2025, Kamenný Újezd"}]
[null,null,{"$f":"Start!$N$2","v":"starší"}]
[null," startovní číslo"," SDH",null," PÚ",null," Štafeta 4 x 60 m",null," Štafeta dvojic",null,null," 400 m štafeta CTIF",null,null," PÚ - CTIF",null,null,null,null," Celkový součet",null,"Pořadí"]
[null,null,null,null,"1.pokus","P.","1.pokus","P.","1.pokus","tr.body","P.","1.pokus","tr.body","P.","1.pokus","tr.body","P."]
[null,null,null,null,"2.pokus",null,"2.pokus",null,"2.pokus","tr.body",null,"2.pokus","tr.body",null,"2.pokus","tr.body"]
[{"$f":"IF(Start!Q15=\"\",\"\",\"x\")","v":""},85,{"$f":"IF(Start!O15=\"\",\"\",Start!O15)","v":""},null,{"$f":"IF($C$218=\"\",\"\",PÚ!$H$144)","v":""},{"$f":"IF($C$218=\"\",\"\",PÚ!$I$144)","v":""},{"$f":"IF($C$218=\"\",\"\",Št.4x60m!$H$144)","v":""},{"$f":"IF($C$218=\"\",\"\",Št.4x60m!$I$144)","v":""},{"$f":"IF($C$218=\"\",\"\",Št.dvojic!$U$268)","v":""},{"$f":"IF($C$218=\"\",\"\",\"(\"&SUM(Št.dvojic!$I$268:$T$268)&\")\")","v":""},{"$f":"IF($C$218=\"\",\"\",Št.dvojic!$V$268)","v":""},{"$f":"IF($C$218=\"\",\"\",Št.400mCTIF!$U$268)","v":""},{"$f":"IF($C$218=\"\",\"\",\"(\"&SUM(Št.400mCTIF!$I$268:$T$268)&\")\")","v":""},{"$f":"IF($C$218=\"\",\"\",Št.400mCTIF!$V$268)","v":""},{"$f":"IF($C$218=\"\",\"\",'PÚ CTIF'!$R$268)","v":""},{"$f":"IF($C$218=\"\",\"\",\"(\"&SUM('PÚ CTIF'!$I$268:$Q$268)&\")\")","v":""},{"$f":"IF($C$218=\"\",\"\",'PÚ CTIF'!$S$268)","v":""},null,null,{"$f":"IF(A218=\"x\",300,IF(C218=\"\",\"\",SUM(D218,F218,H218,K218,N218,Q218,R218)))","v":""},null,{"$f":"IF($A218=\"x\",\"x\",IF($C218=\"\",\"\",IF(VLOOKUP($B218,POM!$A$1:$K$100,11)=0,\"\",VLOOKUP($B218,POM!$A$1:$K$100,11))))","v":""}]
[null,null,null,null,{"$f":"IF($C$218=\"\",\"\",PÚ!$H$145)","v":""},null,{"$f":"IF($C$218=\"\",\"\",Št.4x60m!$H$145)","v":""},null,{"$f":"IF($C$218=\"\",\"\",Št.dvojic!$U$269)","v":""},{"$f":"IF($C$218=\"\",\"\",\"(\"&SUM(Št.dvojic!$I$269:$T$269)&\")\")","v":""},null,{"$f":"IF($C$218=\"\",\"\",Št.400mCTIF!$U$269)","v":""},{"$f":"IF($C$218=\"\",\"\",\"(\"&SUM(Št.400mCTIF!$I$269:$T$269)&\")\")","v":""},null,{"$f":"IF($C$218=\"\",\"\",'PÚ CTIF'!$R$269)","v":""},{"$f":"IF($C$218=\"\",\"\",\"(\"&SUM('PÚ CTIF'!$I$269:$Q$269)&\")\")","v":""}]
[{"$f":"IF(Start!Q16=\"\",\"\",\"x\")","v":""},86,{"$f":"IF(Start!O16=\"\",\"\",Start!O16)","v":""},null,{"$f":"IF($C$220=\"\",\"\",PÚ!$H$146)","v":""},{"$f":"IF($C$220=\"\",\"\",PÚ!$I$146)","v":""},{"$f":"IF($C$220=\"\",\"\",Št.4x60m!$H$146)","v":""},{"$f":"IF($C$220=\"\",\"\",Št.4x60m!$I$146)","v":""},{"$f":"IF($C$220=\"\",\"\",Št.dvojic!$U$270)","v":""},{"$f":"IF($C$220=\"\",\"\",\"(\"&SUM(Št.dvojic!$I$270:$T$270)&\")\")","v":""},{"$f":"IF($C$220=\"\",\"\",Št.dvojic!$V$270)","v":""},{"$f":"IF($C$220=\"\",\"\",Št.400mCTIF!$U$270)","v":""},{"$f":"IF($C$220=\"\",\"\",\"(\"&SUM(Št.400mCTIF!$I$270:$T$270)&\")\")","v":""},{"$f":"IF($C$220=\"\",\"\",Št.400mCTIF!$V$270)","v":""},{"$f":"IF($C$220=\"\",\"\",'PÚ CTIF'!$R$270)","v":""},{"$f":"IF($C$220=\"\",\"\",\"(\"&SUM('PÚ CTIF'!$I$270:$Q$270)&\")\")","v":""},{"$f":"IF($C$220=\"\",\"\",'PÚ CTIF'!$S$270)","v":""},null,null,{"$f":"IF(A220=\"x\",300,IF(C220=\"\",\"\",SUM(D220,F220,H220,K220,N220,Q220,R220)))","v":""},null,{"$f":"IF($A220=\"x\",\"x\",IF($C220=\"\",\"\",IF(VLOOKUP($B220,POM!$A$1:$K$100,11)=0,\"\",VLOOKUP($B220,POM!$A$1:$K$100,11))))","v":""}]
[null,null,null,null,{"$f":"IF($C$220=\"\",\"\",PÚ!$H$147)","v":""},null,{"$f":"IF($C$220=\"\",\"\",Št.4x60m!$H$147)","v":""},null,{"$f":"IF($C$220=\"\",\"\",Št.dvojic!$U$271)","v":""},{"$f":"IF($C$220=\"\",\"\",\"(\"&SUM(Št.dvojic!$I$271:$T$271)&\")\")","v":""},null,{"$f":"IF($C$220=\"\",\"\",Št.400mCTIF!$U$271)","v":""},{"$f":"IF($C$220=\"\",\"\",\"(\"&SUM(Št.400mCTIF!$I$271:$T$271)&\")\")","v":""},null,{"$f":"IF($C$220=\"\",\"\",'PÚ CTIF'!$R$271)","v":""},{"$f":"IF($C$220=\"\",\"\",\"(\"&SUM('PÚ CTIF'!$I$271:$Q$271)&\")\")","v":""}]
[{"$f":"IF(Start!Q17=\"\",\"\",\"x\")","v":""},87,{"$f":"IF(Start!O17=\"\",\"\",Start!O17)","v":""},null,{"$f":"IF($C$222=\"\",\"\",PÚ!$H$148)","v":""},{"$f":"IF($C$222=\"\",\"\",PÚ!$I$148)","v":""},{"$f":"IF($C$222=\"\",\"\",Št.4x60m!$H$148)","v":""},{"$f":"IF($C$222=\"\",\"\",Št.4x60m!$I$148)","v":""},{"$f":"IF($C$222=\"\",\"\",Št.dvojic!$U$272)","v":""},{"$f":"IF($C$222=\"\",\"\",\"(\"&SUM(Št.dvojic!$I$272:$T$272)&\")\")","v":""},{"$f":"IF($C$222=\"\",\"\",Št.dvojic!$V$272)","v":""},{"$f":"IF($C$222=\"\",\"\",Št.400mCTIF!$U$272)","v":""},{"$f":"IF($C$222=\"\",\"\",\"(\"&SUM(Št.400mCTIF!$I$272:$T$272)&\")\")","v":""},{"$f":"IF($C$222=\"\",\"\",Št.400mCTIF!$V$272)","v":""},{"$f":"IF($C$222=\"\",\"\",'PÚ CTIF'!$R$272)","v":""},{"$f":"IF($C$222=\"\",\"\",\"(\"&SUM('PÚ CTIF'!$I$272:$Q$272)&\")\")","v":""},{"$f":"IF($C$222=\"\",\"\",'PÚ CTIF'!$S$272)","v":""},null,null,{"$f":"IF(A222=\"x\",300,IF(C222=\"\",\"\",SUM(D222,F222,H222,K222,N222,Q222,R222)))","v":""},null,{"$f":"IF($A222=\"x\",\"x\",IF($C222=\"\",\"\",IF(VLOOKUP($B222,POM!$A$1:$K$100,11)=0,\"\",VLOOKUP($B222,POM!$A$1:$K$100,11))))","v":""}]
[null,null,null,null,{"$f":"IF($C$222=\"\",\"\",PÚ!$H$149)","v":""},null,{"$f":"IF($C$222=\"\",\"\",Št.4x60m!$H$149)","v":""},null,{"$f":"IF($C$222=\"\",\"\",Št.dvojic!$U$273)","v":""},{"$f":"IF($C$222=\"\",\"\",\"(\"&SUM(Št.dvojic!$I$273:$T$273)&\")\")","v":""},null,{"$f":"IF($C$222=\"\",\"\",Št.400mCTIF!$U$273)","v":""},{"$f":"IF($C$222=\"\",\"\",\"(\"&SUM(Št.400mCTIF!$I$273:$T$273)&\")\")","v":""},null,{"$f":"IF($C$222=\"\",\"\",'PÚ CTIF'!$R$273)","v":""},{"$f":"IF($C$222=\"\",\"\",\"(\"&SUM('PÚ CTIF'!$I$273:$Q$273)&\")\")","v":""}]
[{"$f":"IF(Start!Q18=\"\",\"\",\"x\")","v":""},88,{"$f":"IF(Start!O18=\"\",\"\",Start!O18)","v":""},null,{"$f":"IF($C$224=\"\",\"\",PÚ!$H$150)","v":""},{"$f":"IF($C$224=\"\",\"\",PÚ!$I$150)","v":""},{"$f":"IF($C$224=\"\",\"\",Št.4x60m!$H$150)","v":""},{"$f":"IF($C$224=\"\",\"\",Št.4x60m!$I$150)","v":""},{"$f":"IF($C$224=\"\",\"\",Št.dvojic!$U$274)","v":""},{"$f":"IF($C$224=\"\",\"\",\"(\"&SUM(Št.dvojic!$I$274:$T$274)&\")\")","v":""},{"$f":"IF($C$224=\"\",\"\",Št.dvojic!$V$274)","v":""},{"$f":"IF($C$224=\"\",\"\",Št.400mCTIF!$U$274)","v":""},{"$f":"IF($C$224=\"\",\"\",\"(\"&SUM(Št.400mCTIF!$I$274:$T$274)&\")\")","v":""},{"$f":"IF($C$224=\"\",\"\",Št.400mCTIF!$V$274)","v":""},{"$f":"IF($C$224=\"\",\"\",'PÚ CTIF'!$R$274)","v":""},{"$f":"IF($C$224=\"\",\"\",\"(\"&SUM('PÚ CTIF'!$I$274:$Q$274)&\")\")","v":""},{"$f":"IF($C$224=\"\",\"\",'PÚ CTIF'!$S$274)","v":""},null,null,{"$f":"IF(A224=\"x\",300,IF(C224=\"\",\"\",SUM(D224,F224,H224,K224,N224,Q224,R224)))","v":""},null,{"$f":"IF($A224=\"x\",\"x\",IF($C224=\"\",\"\",IF(VLOOKUP($B224,POM!$A$1:$K$100,11)=0,\"\",VLOOKUP($B224,POM!$A$1:$K$100,11))))","v":""}]
[null,null,null,null,{"$f":"IF($C$224=\"\",\"\",PÚ!$H$151)","v":""},null,{"$f":"IF($C$224=\"\",\"\",Št.4x60m!$H$151)","v":""},null,{"$f":"IF($C$224=\"\",\"\",Št.dvojic!$U$275)","v":""},{"$f":"IF($C$224=\"\",\"\",\"(\"&SUM(Št.dvojic!$I$275:$T$275)&\")\")","v":""},null,{"$f":"IF($C$224=\"\",\"\",Št.400mCTIF!$U$275)","v":""},{"$f":"IF($C$224=\"\",\"\",\"(\"&SUM(Št.400mCTIF!$I$275:$T$275)&\")\")","v":""},null,{"$f":"IF($C$224=\"\",\"\",'PÚ CTIF'!$R$275)","v":""},{"$f":"IF($C$224=\"\",\"\",\"(\"&SUM('PÚ CTIF'!$I$275:$Q$275)&\")\")","v":""}]
[{"$f":"IF(Start!Q19=\"\",\"\",\"x\")","v":""},89,{"$f":"IF(Start!O19=\"\",\"\",Start!O19)","v":""},null,{"$f":"IF($C$226=\"\",\"\",PÚ!$H$152)","v":""},{"$f":"IF($C$226=\"\",\"\",PÚ!$I$152)","v":""},{"$f":"IF($C$226=\"\",\"\",Št.4x60m!$H$152)","v":""},{"$f":"IF($C$226=\"\",\"\",Št.4x60m!$I$152)","v":""},{"$f":"IF($C$226=\"\",\"\",Št.dvojic!$U$276)","v":""},{"$f":"IF($C$226=\"\",\"\",\"(\"&SUM(Št.dvojic!$I$276:$T$276)&\")\")","v":""},{"$f":"IF($C$226=\"\",\"\",Št.dvojic!$V$276)","v":""},{"$f":"IF($C$226=\"\",\"\",Št.400mCTIF!$U$276)","v":""},{"$f":"IF($C$226=\"\",\"\",\"(\"&SUM(Št.400mCTIF!$I$276:$T$276)&\")\")","v":""},{"$f":"IF($C$226=\"\",\"\",Št.400mCTIF!$V$276)","v":""},{"$f":"IF($C$226=\"\",\"\",'PÚ CTIF'!$R$276)","v":""},{"$f":"IF($C$226=\"\",\"\",\"(\"&SUM('PÚ CTIF'!$I$276:$Q$276)&\")\")","v":""},{"$f":"IF($C$226=\"\",\"\",'PÚ CTIF'!$S$276)","v":""},null,null,{"$f":"IF(A226=\"x\",300,IF(C226=\"\",\"\",SUM(D226,F226,H226,K226,N226,Q226,R226)))","v":""},null,{"$f":"IF($A226=\"x\",\"x\",IF($C226=\"\",\"\",IF(VLOOKUP($B226,POM!$A$1:$K$100,11)=0,\"\",VLOOKUP($B226,POM!$A$1:$K$100,11))))","v":""}]
[null,null,null,null,{"$f":"IF($C$226=\"\",\"\",PÚ!$H$153)","v":""},null,{"$f":"IF($C$226=\"\",\"\",Št.4x60m!$H$153)","v":""},null,{"$f":"IF($C$226=\"\",\"\",Št.dvojic!$U$277)","v":""},{"$f":"IF($C$226=\"\",\"\",\"(\"&SUM(Št.dvojic!$I$277:$T$277)&\")\")","v":""},null,{"$f":"IF($C$226=\"\",\"\",Št.400mCTIF!$U$277)","v":""},{"$f":"IF($C$226=\"\",\"\",\"(\"&SUM(Št.400mCTIF!$I$277:$T$277)&\")\")","v":""},null,{"$f":"IF($C$226=\"\",\"\",'PÚ CTIF'!$R$277)","v":""},{"$f":"IF($C$226=\"\",\"\",\"(\"&SUM('PÚ CTIF'!$I$277:$Q$277)&\")\")","v":""}]
[{"$f":"IF(Start!Q20=\"\",\"\",\"x\")","v":""},90,{"$f":"IF(Start!O20=\"\",\"\",Start!O20)","v":""},null,{"$f":"IF($C$228=\"\",\"\",PÚ!$H$154)","v":""},{"$f":"IF($C$228=\"\",\"\",PÚ!$I$154)","v":""},{"$f":"IF($C$228=\"\",\"\",Št.4x60m!$H$154)","v":""},{"$f":"IF($C$228=\"\",\"\",Št.4x60m!$I$154)","v":""},{"$f":"IF($C$228=\"\",\"\",Št.dvojic!$U$278)","v":""},{"$f":"IF($C$228=\"\",\"\",\"(\"&SUM(Št.dvojic!$I$278:$T$278)&\")\")","v":""},{"$f":"IF($C$228=\"\",\"\",Št.dvojic!$V$278)","v":""},{"$f":"IF($C$228=\"\",\"\",Št.400mCTIF!$U$278)","v":""},{"$f":"IF($C$228=\"\",\"\",\"(\"&SUM(Št.400mCTIF!$I$278:$T$278)&\")\")","v":""},{"$f":"IF($C$228=\"\",\"\",Št.400mCTIF!$V$278)","v":""},{"$f":"IF($C$228=\"\",\"\",'PÚ CTIF'!$R$278)","v":""},{"$f":"IF($C$228=\"\",\"\",\"(\"&SUM('PÚ CTIF'!$I$278:$Q$278)&\")\")","v":""},{"$f":"IF($C$228=\"\",\"\",'PÚ CTIF'!$S$278)","v":""},null,null,{"$f":"IF(A228=\"x\",300,IF(C228=\"\",\"\",SUM(D228,F228,H228,K228,N228,Q228,R228)))","v":""},null,{"$f":"IF($A228=\"x\",\"x\",IF($C228=\"\",\"\",IF(VLOOKUP($B228,POM!$A$1:$K$100,11)=0,\"\",VLOOKUP($B228,POM!$A$1:$K$100,11))))","v":""}]
[null,null,null,null,{"$f":"IF($C$228=\"\",\"\",PÚ!$H$155)","v":""},null,{"$f":"IF($C$228=\"\",\"\",Št.4x60m!$H$155)","v":""},null,{"$f":"IF($C$228=\"\",\"\",Št.dvojic!$U$279)","v":""},{"$f":"IF($C$228=\"\",\"\",\"(\"&SUM(Št.dvojic!$I$279:$T$279)&\")\")","v":""},null,{"$f":"IF($C$228=\"\",\"\",Št.400mCTIF!$U$279)","v":""},{"$f":"IF($C$228=\"\",\"\",\"(\"&SUM(Št.400mCTIF!$I$279:$T$279)&\")\")","v":""},null,{"$f":"IF($C$228=\"\",\"\",'PÚ CTIF'!$R$279)","v":""},{"$f":"IF($C$228=\"\",\"\",\"(\"&SUM('PÚ CTIF'!$I$279:$Q$279)&\")\")","v":""}]
[{"$f":"IF(Start!Q21=\"\",\"\",\"x\")","v":""},91,{"$f":"IF(Start!O21=\"\",\"\",Start!O21)","v":""},null,{"$f":"IF($C$230=\"\",\"\",PÚ!$S$136)","v":""},{"$f":"IF($C$230=\"\",\"\",PÚ!$T136)","v":""},{"$f":"IF($C$230=\"\",\"\",Št.4x60m!$S$136)","v":""},{"$f":"IF($C$230=\"\",\"\",Št.4x60m!$T136)","v":""},{"$f":"IF($C$230=\"\",\"\",Št.dvojic!$U$291)","v":""},{"$f":"IF($C$230=\"\",\"\",\"(\"&SUM(Št.dvojic!$I$291:$T$291)&\")\")","v":""},{"$f":"IF($C$230=\"\",\"\",Št.dvojic!$V$291)","v":""},{"$f":"IF($C$230=\"\",\"\",Št.400mCTIF!$U$291)","v":""},{"$f":"IF($C$230=\"\",\"\",\"(\"&SUM(Št.400mCTIF!$I$291:$T$291)&\")\")","v":""},{"$f":"IF($C$230=\"\",\"\",Št.400mCTIF!$V$291)","v":""},{"$f":"IF($C$230=\"\",\"\",'PÚ CTIF'!$R$291)","v":""},{"$f":"IF($C$230=\"\",\"\",\"(\"&SUM('PÚ CTIF'!$I$291:$Q$291)&\")\")","v":""},{"$f":"IF($C$230=\"\",\"\",'PÚ CTIF'!$S$291)","v":""},null,null,{"$f":"IF(A230=\"x\",300,IF(C230=\"\",\"\",SUM(D230,F230,H230,K230,N230,Q230,R230)))","v":""},null,{"$f":"IF($A230=\"x\",\"x\",IF($C230=\"\",\"\",IF(VLOOKUP($B230,POM!$A$1:$K$100,11)=0,\"\",VLOOKUP($B230,POM!$A$1:$K$100,11))))","v":""}]
[null,null,null,null,{"$f":"IF($C$230=\"\",\"\",PÚ!$S$137)","v":""},null,{"$f":"IF($C$230=\"\",\"\",Št.4x60m!$S$137)","v":""},null,{"$f":"IF($C$230=\"\",\"\",Št.dvojic!$U$292)","v":""},{"$f":"IF($C$230=\"\",\"\",\"(\"&SUM(Št.dvojic!$I$292:$T$292)&\")\")","v":""},null,{"$f":"IF($C$230=\"\",\"\",Št.400mCTIF!$U$292)","v":""},{"$f":"IF($C$230=\"\",\"\",\"(\"&SUM(Št.400mCTIF!$I$292:$T$292)&\")\")","v":""},null,{"$f":"IF($C$230=\"\",\"\",'PÚ CTIF'!$R$292)","v":""},{"$f":"IF($C$230=\"\",\"\",\"(\"&SUM('PÚ CTIF'!$I$292:$Q$292)&\")\")","v":""}]
[{"$f":"IF(Start!Q22=\"\",\"\",\"x\")","v":""},92,{"$f":"IF(Start!O22=\"\",\"\",Start!O22)","v":""},null,{"$f":"IF($C$232=\"\",\"\",PÚ!$S$138)","v":""},{"$f":"IF($C$232=\"\",\"\",PÚ!$T138)","v":""},{"$f":"IF($C$232=\"\",\"\",Št.4x60m!$S$138)","v":""},{"$f":"IF($C$232=\"\",\"\",Št.4x60m!$T138)","v":""},{"$f":"IF($C$232=\"\",\"\",Št.dvojic!$U$293)","v":""},{"$f":"IF($C$232=\"\",\"\",\"(\"&SUM(Št.dvojic!$I$293:$T$293)&\")\")","v":""},{"$f":"IF($C$232=\"\",\"\",Št.dvojic!$V$293)","v":""},{"$f":"IF($C$232=\"\",\"\",Št.400mCTIF!$U$293)","v":""},{"$f":"IF($C$232=\"\",\"\",\"(\"&SUM(Št.400mCTIF!$I$293:$T$293)&\")\")","v":""},{"$f":"IF($C$232=\"\",\"\",Št.400mCTIF!$V$293)","v":""},{"$f":"IF($C$232=\"\",\"\",'PÚ CTIF'!$R$293)","v":""},{"$f":"IF($C$232=\"\",\"\",\"(\"&SUM('PÚ CTIF'!$I$293:$Q$293)&\")\")","v":""},{"$f":"IF($C$232=\"\",\"\",'PÚ CTIF'!$S$293)","v":""},null,null,{"$f":"IF(A232=\"x\",300,IF(C232=\"\",\"\",SUM(D232,F232,H232,K232,N232,Q232,R232)))","v":""},null,{"$f":"IF($A232=\"x\",\"x\",IF($C232=\"\",\"\",IF(VLOOKUP($B232,POM!$A$1:$K$100,11)=0,\"\",VLOOKUP($B232,POM!$A$1:$K$100,11))))","v":""}]
[null,null,null,null,{"$f":"IF($C$232=\"\",\"\",PÚ!$S$139)","v":""},null,{"$f":"IF($C$232=\"\",\"\",Št.4x60m!$S$139)","v":""},null,{"$f":"IF($C$232=\"\",\"\",Št.dvojic!$U$294)","v":""},{"$f":"IF($C$232=\"\",\"\",\"(\"&SUM(Št.dvojic!$I$294:$T$294)&\")\")","v":""},null,{"$f":"IF($C$232=\"\",\"\",Št.400mCTIF!$U$294)","v":""},{"$f":"IF($C$232=\"\",\"\",\"(\"&SUM(Št.400mCTIF!$I$294:$T$294)&\")\")","v":""},null,{"$f":"IF($C$232=\"\",\"\",'PÚ CTIF'!$R$294)","v":""},{"$f":"IF($C$232=\"\",\"\",\"(\"&SUM('PÚ CTIF'!$I$294:$Q$294)&\")\")","v":""}]
[{"$f":"IF(Start!Q23=\"\",\"\",\"x\")","v":""},93,{"$f":"IF(Start!O23=\"\",\"\",Start!O23)","v":""},null,{"$f":"IF($C$234=\"\",\"\",PÚ!$S$140)","v":""},{"$f":"IF($C$234=\"\",\"\",PÚ!$T140)","v":""},{"$f":"IF($C$234=\"\",\"\",Št.4x60m!$S$140)","v":""},{"$f":"IF($C$234=\"\",\"\",Št.4x60m!$T140)","v":""},{"$f":"IF($C$234=\"\",\"\",Št.dvojic!$U$295)","v":""},{"$f":"IF($C$234=\"\",\"\",\"(\"&SUM(Št.dvojic!$I$295:$T$295)&\")\")","v":""},{"$f":"IF($C$234=\"\",\"\",Št.dvojic!$V$295)","v":""},{"$f":"IF($C$234=\"\",\"\",Št.400mCTIF!$U$295)","v":""},{"$f":"IF($C$234=\"\",\"\",\"(\"&SUM(Št.400mCTIF!$I$295:$T$295)&\")\")","v":""},{"$f":"IF($C$234=\"\",\"\",Št.400mCTIF!$V$295)","v":""},{"$f":"IF($C$234=\"\",\"\",'PÚ CTIF'!$R$295)","v":""},{"$f":"IF($C$234=\"\",\"\",\"(\"&SUM('PÚ CTIF'!$I$295:$Q$295)&\")\")","v":""},{"$f":"IF($C$234=\"\",\"\",'PÚ CTIF'!$S$295)","v":""},null,null,{"$f":"IF(A234=\"x\",300,IF(C234=\"\",\"\",SUM(D234,F234,H234,K234,N234,Q234,R234)))","v":""},null,{"$f":"IF($A234=\"x\",\"x\",IF($C234=\"\",\"\",IF(VLOOKUP($B234,POM!$A$1:$K$100,11)=0,\"\",VLOOKUP($B234,POM!$A$1:$K$100,11))))","v":""}]
[null,null,null,null,{"$f":"IF($C$234=\"\",\"\",PÚ!$S$141)","v":""},null,{"$f":"IF($C$234=\"\",\"\",Št.4x60m!$S$141)","v":""},null,{"$f":"IF($C$234=\"\",\"\",Št.dvojic!$U$296)","v":""},{"$f":"IF($C$234=\"\",\"\",\"(\"&SUM(Št.dvojic!$I$296:$T$296)&\")\")","v":""},null,{"$f":"IF($C$234=\"\",\"\",Št.400mCTIF!$U$296)","v":""},{"$f":"IF($C$234=\"\",\"\",\"(\"&SUM(Št.400mCTIF!$I$296:$T$296)&\")\")","v":""},null,{"$f":"IF($C$234=\"\",\"\",'PÚ CTIF'!$R$296)","v":""},{"$f":"IF($C$234=\"\",\"\",\"(\"&SUM('PÚ CTIF'!$I$296:$Q$296)&\")\")","v":""}]
[{"$f":"IF(Start!Q24=\"\",\"\",\"x\")","v":""},94,{"$f":"IF(Start!O24=\"\",\"\",Start!O24)","v":""},null,{"$f":"IF($C$236=\"\",\"\",PÚ!$S$142)","v":""},{"$f":"IF($C$236=\"\",\"\",PÚ!$T142)","v":""},{"$f":"IF($C$236=\"\",\"\",Št.4x60m!$S$142)","v":""},{"$f":"IF($C$236=\"\",\"\",Št.4x60m!$T142)","v":""},{"$f":"IF($C$236=\"\",\"\",Št.dvojic!$U$297)","v":""},{"$f":"IF($C$236=\"\",\"\",\"(\"&SUM(Št.dvojic!$I$297:$T$297)&\")\")","v":""},{"$f":"IF($C$236=\"\",\"\",Št.dvojic!$V$297)","v":""},{"$f":"IF($C$236=\"\",\"\",Št.400mCTIF!$U$297)","v":""},{"$f":"IF($C$236=\"\",\"\",\"(\"&SUM(Št.400mCTIF!$I$297:$T$297)&\")\")","v":""},{"$f":"IF($C$236=\"\",\"\",Št.400mCTIF!$V$297)","v":""},{"$f":"IF($C$236=\"\",\"\",'PÚ CTIF'!$R$297)","v":""},{"$f":"IF($C$236=\"\",\"\",\"(\"&SUM('PÚ CTIF'!$I$297:$Q$297)&\")\")","v":""},{"$f":"IF($C$236=\"\",\"\",'PÚ CTIF'!$S$297)","v":""},null,null,{"$f":"IF(A236=\"x\",300,IF(C236=\"\",\"\",SUM(D236,F236,H236,K236,N236,Q236,R236)))","v":""},null,{"$f":"IF($A236=\"x\",\"x\",IF($C236=\"\",\"\",IF(VLOOKUP($B236,POM!$A$1:$K$100,11)=0,\"\",VLOOKUP($B236,POM!$A$1:$K$100,11))))","v":""}]
[null,null,null,null,{"$f":"IF($C$236=\"\",\"\",PÚ!$S$143)","v":""},null,{"$f":"IF($C$236=\"\",\"\",Št.4x60m!$S$143)","v":""},null,{"$f":"IF($C$236=\"\",\"\",Št.dvojic!$U$298)","v":""},{"$f":"IF($C$236=\"\",\"\",\"(\"&SUM(Št.dvojic!$I$298:$T$298)&\")\")","v":""},null,{"$f":"IF($C$236=\"\",\"\",Št.400mCTIF!$U$298)","v":""},{"$f":"IF($C$236=\"\",\"\",\"(\"&SUM(Št.400mCTIF!$I$298:$T$298)&\")\")","v":""},null,{"$f":"IF($C$236=\"\",\"\",'PÚ CTIF'!$R$298)","v":""},{"$f":"IF($C$236=\"\",\"\",\"(\"&SUM('PÚ CTIF'!$I$298:$Q$298)&\")\")","v":""}]
[{"$f":"IF(Start!Q25=\"\",\"\",\"x\")","v":""},95,{"$f":"IF(Start!O25=\"\",\"\",Start!O25)","v":""},null,{"$f":"IF($C$238=\"\",\"\",PÚ!$S$144)","v":""},{"$f":"IF($C$238=\"\",\"\",PÚ!$T144)","v":""},{"$f":"IF($C$238=\"\",\"\",Št.4x60m!$S$144)","v":""},{"$f":"IF($C$238=\"\",\"\",Št.4x60m!$T144)","v":""},{"$f":"IF($C$238=\"\",\"\",Št.dvojic!$U$299)","v":""},{"$f":"IF($C$238=\"\",\"\",\"(\"&SUM(Št.dvojic!$I$299:$T$299)&\")\")","v":""},{"$f":"IF($C$238=\"\",\"\",Št.dvojic!$V$299)","v":""},{"$f":"IF($C$238=\"\",\"\",Št.400mCTIF!$U$299)","v":""},{"$f":"IF($C$238=\"\",\"\",\"(\"&SUM(Št.400mCTIF!$I$299:$T$299)&\")\")","v":""},{"$f":"IF($C$238=\"\",\"\",Št.400mCTIF!$V$299)","v":""},{"$f":"IF($C$238=\"\",\"\",'PÚ CTIF'!$R$299)","v":""},{"$f":"IF($C$238=\"\",\"\",\"(\"&SUM('PÚ CTIF'!$I$299:$Q$299)&\")\")","v":""},{"$f":"IF($C$238=\"\",\"\",'PÚ CTIF'!$S$299)","v":""},null,null,{"$f":"IF(A238=\"x\",300,IF(C238=\"\",\"\",SUM(D238,F238,H238,K238,N238,Q238,R238)))","v":""},null,{"$f":"IF($A238=\"x\",\"x\",IF($C238=\"\",\"\",IF(VLOOKUP($B238,POM!$A$1:$K$100,11)=0,\"\",VLOOKUP($B238,POM!$A$1:$K$100,11))))","v":""}]
[null,null,null,null,{"$f":"IF($C$238=\"\",\"\",PÚ!$S$145)","v":""},null,{"$f":"IF($C$238=\"\",\"\",Št.4x60m!$S$145)","v":""},null,{"$f":"IF($C$238=\"\",\"\",Št.dvojic!$U$300)","v":""},{"$f":"IF($C$238=\"\",\"\",\"(\"&SUM(Št.dvojic!$I$300:$T$300)&\")\")","v":""},null,{"$f":"IF($C$238=\"\",\"\",Št.400mCTIF!$U$300)","v":""},{"$f":"IF($C$238=\"\",\"\",\"(\"&SUM(Št.400mCTIF!$I$300:$T$300)&\")\")","v":""},null,{"$f":"IF($C$238=\"\",\"\",'PÚ CTIF'!$R$300)","v":""},{"$f":"IF($C$238=\"\",\"\",\"(\"&SUM('PÚ CTIF'!$I$300:$Q$300)&\")\")","v":""}]
[{"$f":"IF(Start!Q26=\"\",\"\",\"x\")","v":""},96,{"$f":"IF(Start!O26=\"\",\"\",Start!O26)","v":""},null,{"$f":"IF($C$240=\"\",\"\",PÚ!$S$146)","v":""},{"$f":"IF($C$240=\"\",\"\",PÚ!$T146)","v":""},{"$f":"IF($C$240=\"\",\"\",Št.4x60m!$S$146)","v":""},{"$f":"IF($C$240=\"\",\"\",Št.4x60m!$T146)","v":""},{"$f":"IF($C$240=\"\",\"\",Št.dvojic!$U$301)","v":""},{"$f":"IF($C$240=\"\",\"\",\"(\"&SUM(Št.dvojic!$I$301:$T$301)&\")\")","v":""},{"$f":"IF($C$240=\"\",\"\",Št.dvojic!$V$301)","v":""},{"$f":"IF($C$240=\"\",\"\",Št.400mCTIF!$U$301)","v":""},{"$f":"IF($C$240=\"\",\"\",\"(\"&SUM(Št.400mCTIF!$I$301:$T$301)&\")\")","v":""},{"$f":"IF($C$240=\"\",\"\",Št.400mCTIF!$V$301)","v":""},{"$f":"IF($C$240=\"\",\"\",'PÚ CTIF'!$R$301)","v":""},{"$f":"IF($C$240=\"\",\"\",\"(\"&SUM('PÚ CTIF'!$I$301:$Q$301)&\")\")","v":""},{"$f":"IF($C$240=\"\",\"\",'PÚ CTIF'!$S$301)","v":""},null,null,{"$f":"IF(A240=\"x\",300,IF(C240=\"\",\"\",SUM(D240,F240,H240,K240,N240,Q240,R240)))","v":""},null,{"$f":"IF($A240=\"x\",\"x\",IF($C240=\"\",\"\",IF(VLOOKUP($B240,POM!$A$1:$K$100,11)=0,\"\",VLOOKUP($B240,POM!$A$1:$K$100,11))))","v":""}]
[null,null,null,null,{"$f":"IF($C$240=\"\",\"\",PÚ!$S$147)","v":""},null,{"$f":"IF($C$240=\"\",\"\",Št.4x60m!$S$147)","v":""},null,{"$f":"IF($C$240=\"\",\"\",Št.dvojic!$U$302)","v":""},{"$f":"IF($C$240=\"\",\"\",\"(\"&SUM(Št.dvojic!$I$302:$T$302)&\")\")","v":""},null,{"$f":"IF($C$240=\"\",\"\",Št.400mCTIF!$U$302)","v":""},{"$f":"IF($C$240=\"\",\"\",\"(\"&SUM(Št.400mCTIF!$I$302:$T$302)&\")\")","v":""},null,{"$f":"IF($C$240=\"\",\"\",'PÚ CTIF'!$R$302)","v":""},{"$f":"IF($C$240=\"\",\"\",\"(\"&SUM('PÚ CTIF'!$I$302:$Q$302)&\")\")","v":""}]
[{"$f":"IF(Start!Q27=\"\",\"\",\"x\")","v":""},97,{"$f":"IF(Start!O27=\"\",\"\",Start!O27)","v":""},null,{"$f":"IF($C$242=\"\",\"\",PÚ!$S$148)","v":""},{"$f":"IF($C$242=\"\",\"\",PÚ!$T148)","v":""},{"$f":"IF($C$242=\"\",\"\",Št.4x60m!$S$148)","v":""},{"$f":"IF($C$242=\"\",\"\",Št.4x60m!$T148)","v":""},{"$f":"IF($C$242=\"\",\"\",Št.dvojic!$U$303)","v":""},{"$f":"IF($C$242=\"\",\"\",\"(\"&SUM(Št.dvojic!$I$303:$T$303)&\")\")","v":""},{"$f":"IF($C$242=\"\",\"\",Št.dvojic!$V$303)","v":""},{"$f":"IF($C$242=\"\",\"\",Št.400mCTIF!$U$303)","v":""},{"$f":"IF($C$242=\"\",\"\",\"(\"&SUM(Št.400mCTIF!$I$303:$T$303)&\")\")","v":""},{"$f":"IF($C$242=\"\",\"\",Št.400mCTIF!$V$303)","v":""},{"$f":"IF($C$242=\"\",\"\",'PÚ CTIF'!$R$303)","v":""},{"$f":"IF($C$242=\"\",\"\",\"(\"&SUM('PÚ CTIF'!$I$303:$Q$303)&\")\")","v":""},{"$f":"IF($C$242=\"\",\"\",'PÚ CTIF'!$S$303)","v":""},null,null,{"$f":"IF(A242=\"x\",300,IF(C242=\"\",\"\",SUM(D242,F242,H242,K242,N242,Q242,R242)))","v":""},null,{"$f":"IF($A242=\"x\",\"x\",IF($C242=\"\",\"\",IF(VLOOKUP($B242,POM!$A$1:$K$100,11)=0,\"\",VLOOKUP($B242,POM!$A$1:$K$100,11))))","v":""}]
[null,null,null,null,{"$f":"IF($C$242=\"\",\"\",PÚ!$S$149)","v":""},null,{"$f":"IF($C$242=\"\",\"\",Št.4x60m!$S$149)","v":""},null,{"$f":"IF($C$242=\"\",\"\",Št.dvojic!$U$304)","v":""},{"$f":"IF($C$242=\"\",\"\",\"(\"&SUM(Št.dvojic!$I$304:$T$304)&\")\")","v":""},null,{"$f":"IF($C$242=\"\",\"\",Št.400mCTIF!$U$304)","v":""},{"$f":"IF($C$242=\"\",\"\",\"(\"&SUM(Št.400mCTIF!$I$304:$T$304)&\")\")","v":""},null,{"$f":"IF($C$242=\"\",\"\",'PÚ CTIF'!$R$304)","v":""},{"$f":"IF($C$242=\"\",\"\",\"(\"&SUM('PÚ CTIF'!$I$304:$Q$304)&\")\")","v":""}]
[{"$f":"IF(Start!Q28=\"\",\"\",\"x\")","v":""},98,{"$f":"IF(Start!O28=\"\",\"\",Start!O28)","v":""},null,{"$f":"IF($C$244=\"\",\"\",PÚ!$S$150)","v":""},{"$f":"IF($C$244=\"\",\"\",PÚ!$T150)","v":""},{"$f":"IF($C$244=\"\",\"\",Št.4x60m!$S$150)","v":""},{"$f":"IF($C$244=\"\",\"\",Št.4x60m!$T150)","v":""},{"$f":"IF($C$244=\"\",\"\",Št.dvojic!$U$305)","v":""},{"$f":"IF($C$244=\"\",\"\",\"(\"&SUM(Št.dvojic!$I$305:$T$305)&\")\")","v":""},{"$f":"IF($C$244=\"\",\"\",Št.dvojic!$V$305)","v":""},{"$f":"IF($C$244=\"\",\"\",Št.400mCTIF!$U$305)","v":""},{"$f":"IF($C$244=\"\",\"\",\"(\"&SUM(Št.400mCTIF!$I$305:$T$305)&\")\")","v":""},{"$f":"IF($C$244=\"\",\"\",Št.400mCTIF!$V$305)","v":""},{"$f":"IF($C$244=\"\",\"\",'PÚ CTIF'!$R$305)","v":""},{"$f":"IF($C$244=\"\",\"\",\"(\"&SUM('PÚ CTIF'!$I$305:$Q$305)&\")\")","v":""},{"$f":"IF($C$244=\"\",\"\",'PÚ CTIF'!$S$305)","v":""},null,null,{"$f":"IF(A244=\"x\",300,IF(C244=\"\",\"\",SUM(D244,F244,H244,K244,N244,Q244,R244)))","v":""},null,{"$f":"IF($A244=\"x\",\"x\",IF($C244=\"\",\"\",IF(VLOOKUP($B244,POM!$A$1:$K$100,11)=0,\"\",VLOOKUP($B244,POM!$A$1:$K$100,11))))","v":""}]
[null,null,null,null,{"$f":"IF($C$244=\"\",\"\",PÚ!$S$151)","v":""},null,{"$f":"IF($C$244=\"\",\"\",Št.4x60m!$S$151)","v":""},null,{"$f":"IF($C$244=\"\",\"\",Št.dvojic!$U$306)","v":""},{"$f":"IF($C$244=\"\",\"\",\"(\"&SUM(Št.dvojic!$I$306:$T$306)&\")\")","v":""},null,{"$f":"IF($C$244=\"\",\"\",Št.400mCTIF!$U$306)","v":""},{"$f":"IF($C$244=\"\",\"\",\"(\"&SUM(Št.400mCTIF!$I$306:$T$306)&\")\")","v":""},null,{"$f":"IF($C$244=\"\",\"\",'PÚ CTIF'!$R$306)","v":""},{"$f":"IF($C$244=\"\",\"\",\"(\"&SUM('PÚ CTIF'!$I$306:$Q$306)&\")\")","v":""}]
[null,{"$f":"B211","v":"Celkové výsledky - TISK"}]
[]
[null,null,null,{"$f":"D213","v":"Požární útoky "},null,null,null,null,null,null,null,{"$f":"L213","v":"18.05.2025, Kamenný Újezd"}]
[null,null,{"$f":"Start!$N$2","v":"starší"}]
[null," startovní číslo"," SDH",null," PÚ",null," Štafeta 4 x 60 m",null," Štafeta dvojic",null,null," 400 m štafeta CTIF",null,null," PÚ - CTIF",null,null,null,null," Celkový součet",null,"Pořadí"]
[null,null,null,null,"1.pokus","P.","1.pokus","P.","1.pokus","tr.body","P.","1.pokus","tr.body","P.","1.pokus","tr.body","P."]
[null,null,null,null,"2.pokus",null,"2.pokus",null,"2.pokus","tr.body",null,"2.pokus","tr.body",null,"2.pokus","tr.body"]
[{"$f":"IF(Start!Q29=\"\",\"\",\"x\")","v":""},99,{"$f":"IF(Start!O29=\"\",\"\",Start!O29)","v":""},null,{"$f":"IF($C$253=\"\",\"\",PÚ!$S$152)","v":""},{"$f":"IF($C$253=\"\",\"\",PÚ!$T152)","v":""},{"$f":"IF($C$253=\"\",\"\",Št.4x60m!$S$152)","v":""},{"$f":"IF($C$253=\"\",\"\",Št.4x60m!$T152)","v":""},{"$f":"IF($C$253=\"\",\"\",Št.dvojic!$U$307)","v":""},{"$f":"IF($C$253=\"\",\"\",\"(\"&SUM(Št.dvojic!$I$307:$T$307)&\")\")","v":""},{"$f":"IF($C$253=\"\",\"\",Št.dvojic!$V$307)","v":""},{"$f":"IF($C$253=\"\",\"\",Št.400mCTIF!$U$307)","v":""},{"$f":"IF($C$253=\"\",\"\",\"(\"&SUM(Št.400mCTIF!$I$307:$T$307)&\")\")","v":""},{"$f":"IF($C$253=\"\",\"\",Št.400mCTIF!$V$307)","v":""},{"$f":"IF($C$253=\"\",\"\",'PÚ CTIF'!$R$307)","v":""},{"$f":"IF($C$253=\"\",\"\",\"(\"&SUM('PÚ CTIF'!$I$307:$Q$307)&\")\")","v":""},{"$f":"IF($C$253=\"\",\"\",'PÚ CTIF'!$S$307)","v":""},null,null,{"$f":"IF(A253=\"x\",300,IF(C253=\"\",\"\",SUM(D253,F253,H253,K253,N253,Q253,R253)))","v":""},null,{"$f":"IF($A253=\"x\",\"x\",IF($C253=\"\",\"\",IF(VLOOKUP($B253,POM!$A$1:$K$100,11)=0,\"\",VLOOKUP($B253,POM!$A$1:$K$100,11))))","v":""}]
[null,null,null,null,{"$f":"IF($C$253=\"\",\"\",PÚ!$S$153)","v":""},null,{"$f":"IF($C$253=\"\",\"\",Št.4x60m!$S$153)","v":""},null,{"$f":"IF($C$253=\"\",\"\",Št.dvojic!$U$308)","v":""},{"$f":"IF($C$253=\"\",\"\",\"(\"&SUM(Št.dvojic!$I$308:$T$308)&\")\")","v":""},null,{"$f":"IF($C$253=\"\",\"\",Št.400mCTIF!$U$308)","v":""},{"$f":"IF($C$253=\"\",\"\",\"(\"&SUM(Št.400mCTIF!$I$308:$T$308)&\")\")","v":""},null,{"$f":"IF($C$253=\"\",\"\",'PÚ CTIF'!$R$308)","v":""},{"$f":"IF($C$253=\"\",\"\",\"(\"&SUM('PÚ CTIF'!$I$308:$Q$308)&\")\")","v":""}]
[{"$f":"IF(Start!Q30=\"\",\"\",\"x\")","v":""},100,{"$f":"IF(Start!O30=\"\",\"\",Start!O30)","v":""},null,{"$f":"IF($C$255=\"\",\"\",PÚ!$S$154)","v":""},{"$f":"IF($C$255=\"\",\"\",PÚ!$T154)","v":""},{"$f":"IF($C$255=\"\",\"\",Št.4x60m!$S$154)","v":""},{"$f":"IF($C$255=\"\",\"\",Št.4x60m!$T154)","v":""},{"$f":"IF($C$255=\"\",\"\",Št.dvojic!$U$309)","v":""},{"$f":"IF($C$255=\"\",\"\",\"(\"&SUM(Št.dvojic!$I$309:$T$309)&\")\")","v":""},{"$f":"IF($C$255=\"\",\"\",Št.dvojic!$V$309)","v":""},{"$f":"IF($C$255=\"\",\"\",Št.400mCTIF!$U$309)","v":""},{"$f":"IF($C$255=\"\",\"\",\"(\"&SUM(Št.400mCTIF!$I$309:$T$309)&\")\")","v":""},{"$f":"IF($C$255=\"\",\"\",Št.400mCTIF!$V$309)","v":""},{"$f":"IF($C$255=\"\",\"\",'PÚ CTIF'!$R$309)","v":""},{"$f":"IF($C$255=\"\",\"\",\"(\"&SUM('PÚ CTIF'!$I$309:$Q$309)&\")\")","v":""},{"$f":"IF($C$255=\"\",\"\",'PÚ CTIF'!$S$309)","v":""},null,null,{"$f":"IF(A255=\"x\",300,IF(C255=\"\",\"\",SUM(D255,F255,H255,K255,N255,Q255,R255)))","v":""},null,{"$f":"IF($A255=\"x\",\"x\",IF($C255=\"\",\"\",IF(VLOOKUP($B255,POM!$A$1:$K$100,11)=0,\"\",VLOOKUP($B255,POM!$A$1:$K$100,11))))","v":""}]
[null,null,null,null,{"$f":"IF($C$255=\"\",\"\",PÚ!$S$155)","v":""},null,{"$f":"IF($C$255=\"\",\"\",Št.4x60m!$S$155)","v":""},null,{"$f":"IF($C$255=\"\",\"\",Št.dvojic!$U$310)","v":""},{"$f":"IF($C$255=\"\",\"\",\"(\"&SUM(Št.dvojic!$I$310:$T$310)&\")\")","v":""},null,{"$f":"IF($C$255=\"\",\"\",Št.400mCTIF!$U$310)","v":""},{"$f":"IF($C$255=\"\",\"\",\"(\"&SUM(Št.400mCTIF!$I$310:$T$310)&\")\")","v":""},null,{"$f":"IF($C$255=\"\",\"\",'PÚ CTIF'!$R$310)","v":""},{"$f":"IF($C$255=\"\",\"\",\"(\"&SUM('PÚ CTIF'!$I$310:$Q$310)&\")\")","v":""}]